{"text_format":"1","workbook":"xlsx","n_sheets":13,"sheets":["Prognosunderlag","Administration","Data","Blad 1 Totala intäkter","Blad 2 Indata","Blad 3 Inkomstutjämning","Blad 4 Kostnadsutjämning","Blad 5 Strukturbidrag","Blad 6 Befolkningsförändringar","Blad 7 Statsbidrag","Blad 8 Periodisering","Blad9 Egen uppräkningsfaktor","Länskoder"],"not_rendered":{"charts":6,"images":0,"macros":0,"external_links":0,"defined_names":34,"comments":2,"pivot_tables":0},"unopened":[],"bounds":{"document_bytes":16777216,"sheet_cells":100000,"rows_first":2000,"rows_last":500,"rows_between":2000,"halvings":0,"cell_chars":16384,"cell_head_chars":4096},"cells_cut":0,"cells_raw":0,"read":"whole","date_system":"1900"}

{"sheet":"Prognosunderlag","index":0,"n_rows":67,"n_cols":10,"rows_kept":67,"cut":false,"hidden":false,"merged":[]}
["Prognosunderlag Regioner 2024-2031",null,{"$f":"'Blad 2 Indata'!A2","v":""},null,null,null,null,null,null,"2024-02-26"]
["Från Cirkulär 24:16",{"$f":"IF(B1>0,\" \",\"Skriv in länets kod i cellen B1\")","v":"Skriv in länets kod i cellen B1"}]
["Belopp i tkr",null,{"$f":"'Blad 1 Totala intäkter'!B9","v":2024},{"$f":"'Blad 1 Totala intäkter'!C9","v":2025},{"$f":"'Blad 1 Totala intäkter'!D9","v":2026},{"$f":"'Blad 1 Totala intäkter'!E9","v":2027},{"$f":"'Blad 1 Totala intäkter'!F9","v":2028},{"$f":"'Blad 1 Totala intäkter'!G9","v":2029},{"$f":"'Blad 1 Totala intäkter'!H9","v":2030},{"$f":"'Blad 1 Totala intäkter'!I9","v":2031}]
["Skatteintäkter",null,{"$f":"'Blad 1 Totala intäkter'!B12","v":0},{"$f":"'Blad 1 Totala intäkter'!C12","v":0},{"$f":"'Blad 1 Totala intäkter'!D12","v":0},{"$f":"'Blad 1 Totala intäkter'!E12","v":0},{"$f":"'Blad 1 Totala intäkter'!F12","v":0},{"$f":"'Blad 1 Totala intäkter'!G12","v":0},{"$f":"'Blad 1 Totala intäkter'!H12","v":0},{"$f":"'Blad 1 Totala intäkter'!I12","v":0}]
["Inkomstutjämning",null,{"$f":"'Blad 1 Totala intäkter'!B14","v":0},{"$f":"'Blad 1 Totala intäkter'!C14","v":0},{"$f":"'Blad 1 Totala intäkter'!D14","v":0},{"$f":"'Blad 1 Totala intäkter'!E14","v":0},{"$f":"'Blad 1 Totala intäkter'!F14","v":0},{"$f":"'Blad 1 Totala intäkter'!G14","v":0},{"$f":"'Blad 1 Totala intäkter'!H14","v":0},{"$f":"'Blad 1 Totala intäkter'!I14","v":0}]
["Kostnadsutjämning",null,{"$f":"'Blad 1 Totala intäkter'!B16","v":0},{"$f":"'Blad 1 Totala intäkter'!C16","v":0},{"$f":"'Blad 1 Totala intäkter'!D16","v":0},{"$f":"'Blad 1 Totala intäkter'!E16","v":0},{"$f":"'Blad 1 Totala intäkter'!F16","v":0},{"$f":"'Blad 1 Totala intäkter'!G16","v":0},{"$f":"'Blad 1 Totala intäkter'!H16","v":0},{"$f":"'Blad 1 Totala intäkter'!I16","v":0}]
["Regleringspost",null,{"$f":"'Blad 1 Totala intäkter'!B18","v":0},{"$f":"'Blad 1 Totala intäkter'!C18","v":0},{"$f":"'Blad 1 Totala intäkter'!D18","v":0},{"$f":"'Blad 1 Totala intäkter'!E18","v":0},{"$f":"'Blad 1 Totala intäkter'!F18","v":0},{"$f":"'Blad 1 Totala intäkter'!G18","v":0},{"$f":"'Blad 1 Totala intäkter'!H18","v":0},{"$f":"'Blad 1 Totala intäkter'!I18","v":0}]
["Strukturbidrag",null,{"$f":"'Blad 1 Totala intäkter'!B20","v":0},{"$f":"'Blad 1 Totala intäkter'!C20","v":0},{"$f":"'Blad 1 Totala intäkter'!D20","v":0},{"$f":"'Blad 1 Totala intäkter'!E20","v":0},{"$f":"'Blad 1 Totala intäkter'!F20","v":0},{"$f":"'Blad 1 Totala intäkter'!G20","v":0},{"$f":"'Blad 1 Totala intäkter'!H20","v":0},{"$f":"'Blad 1 Totala intäkter'!I20","v":0}]
["Införandebidrag",null,{"$f":"'Blad 1 Totala intäkter'!B22","v":0},{"$f":"'Blad 1 Totala intäkter'!C22","v":0},{"$f":"'Blad 1 Totala intäkter'!D22","v":0},{"$f":"'Blad 1 Totala intäkter'!E22","v":0},{"$f":"'Blad 1 Totala intäkter'!F22","v":0},{"$f":"'Blad 1 Totala intäkter'!G22","v":0},{"$f":"'Blad 1 Totala intäkter'!H22","v":0},{"$f":"'Blad 1 Totala intäkter'!I22","v":0}]
["Summa intäkter",null,{"$f":"'Blad 1 Totala intäkter'!B24","v":0},{"$f":"'Blad 1 Totala intäkter'!C24","v":0},{"$f":"'Blad 1 Totala intäkter'!D24","v":0},{"$f":"'Blad 1 Totala intäkter'!E24","v":0},{"$f":"'Blad 1 Totala intäkter'!F24","v":0},{"$f":"'Blad 1 Totala intäkter'!G24","v":0},{"$f":"'Blad 1 Totala intäkter'!H24","v":0},{"$f":"'Blad 1 Totala intäkter'!I24","v":0}]
[{"$f":"'Blad 1 Totala intäkter'!A26","v":"Slutavräkning 2023 korrigering"},null,{"$f":"'Blad 1 Totala intäkter'!B26","v":0},{"$f":"'Blad 1 Totala intäkter'!C26","v":0},{"$f":"'Blad 1 Totala intäkter'!D26","v":0},{"$f":"'Blad 1 Totala intäkter'!E26","v":0},{"$f":"'Blad 1 Totala intäkter'!F26","v":0},{"$f":"'Blad 1 Totala intäkter'!G26","v":0},{"$f":"'Blad 1 Totala intäkter'!H26","v":0},{"$f":"'Blad 1 Totala intäkter'!I26","v":0}]
[{"$f":"'Blad 1 Totala intäkter'!A28","v":"Slutavräkning 2024"},null,{"$f":"'Blad 1 Totala intäkter'!B28","v":0},{"$f":"'Blad 1 Totala intäkter'!C28","v":0},{"$f":"'Blad 1 Totala intäkter'!D28","v":0},{"$f":"'Blad 1 Totala intäkter'!E28","v":0},{"$f":"'Blad 1 Totala intäkter'!F28","v":0},{"$f":"'Blad 1 Totala intäkter'!G28","v":0},{"$f":"'Blad 1 Totala intäkter'!H28","v":0},{"$f":"'Blad 1 Totala intäkter'!I28","v":0}]
[{"$f":"'Blad 1 Totala intäkter'!A30","v":"Slutavräkning 2025"},null,{"$f":"'Blad 1 Totala intäkter'!B30","v":0},{"$f":"'Blad 1 Totala intäkter'!C30","v":0},{"$f":"'Blad 1 Totala intäkter'!D30","v":0},{"$f":"'Blad 1 Totala intäkter'!E30","v":0},{"$f":"'Blad 1 Totala intäkter'!F30","v":0},{"$f":"'Blad 1 Totala intäkter'!G30","v":0},{"$f":"'Blad 1 Totala intäkter'!H30","v":0},{"$f":"'Blad 1 Totala intäkter'!I30","v":0}]
["Summa intäkter (inkl. avräkning)",null,{"$f":"'Blad 1 Totala intäkter'!B32","v":0},{"$f":"'Blad 1 Totala intäkter'!C32","v":0},{"$f":"'Blad 1 Totala intäkter'!D32","v":0},{"$f":"'Blad 1 Totala intäkter'!E32","v":0},{"$f":"'Blad 1 Totala intäkter'!F32","v":0},{"$f":"'Blad 1 Totala intäkter'!G32","v":0},{"$f":"'Blad 1 Totala intäkter'!H32","v":0},{"$f":"'Blad 1 Totala intäkter'!I32","v":0}]
["Varav summa skatteintäkter",null,{"$f":"'Blad 1 Totala intäkter'!B34","v":0},{"$f":"'Blad 1 Totala intäkter'!C34","v":0},{"$f":"'Blad 1 Totala intäkter'!D34","v":0},{"$f":"'Blad 1 Totala intäkter'!E34","v":0},{"$f":"'Blad 1 Totala intäkter'!F34","v":0},{"$f":"'Blad 1 Totala intäkter'!G34","v":0},{"$f":"'Blad 1 Totala intäkter'!H34","v":0},{"$f":"'Blad 1 Totala intäkter'!I34","v":0}]
[]
["Kronor per invånare",null,{"$f":"C3","v":2024},2025,2026,2027,2028,2029,2030,2031]
["Skatteintäkter",null,{"$f":"'Blad 1 Totala intäkter'!K12","v":0},{"$f":"'Blad 1 Totala intäkter'!L12","v":0},{"$f":"'Blad 1 Totala intäkter'!M12","v":0},{"$f":"'Blad 1 Totala intäkter'!N12","v":0},{"$f":"'Blad 1 Totala intäkter'!O12","v":0},{"$f":"'Blad 1 Totala intäkter'!P12","v":0},{"$f":"'Blad 1 Totala intäkter'!Q12","v":0},{"$f":"'Blad 1 Totala intäkter'!R12","v":0}]
["Inkomstutjämning",null,{"$f":"'Blad 1 Totala intäkter'!K14","v":0},{"$f":"'Blad 1 Totala intäkter'!L14","v":0},{"$f":"'Blad 1 Totala intäkter'!M14","v":0},{"$f":"'Blad 1 Totala intäkter'!N14","v":0},{"$f":"'Blad 1 Totala intäkter'!O14","v":0},{"$f":"'Blad 1 Totala intäkter'!P14","v":0},{"$f":"'Blad 1 Totala intäkter'!Q14","v":0},{"$f":"'Blad 1 Totala intäkter'!R14","v":0}]
["Kostnadsutjämning",null,{"$f":"'Blad 1 Totala intäkter'!K16","v":-82},{"$f":"'Blad 1 Totala intäkter'!L16","v":-77.838918910032348},{"$f":"'Blad 1 Totala intäkter'!M16","v":-76.215341112535256},{"$f":"'Blad 1 Totala intäkter'!N16","v":-74.969757579311761},{"$f":"'Blad 1 Totala intäkter'!O16","v":-77.136189429224927},{"$f":"'Blad 1 Totala intäkter'!P16","v":-71.005874329700106},{"$f":"'Blad 1 Totala intäkter'!Q16","v":-65.119398062935161},{"$f":"'Blad 1 Totala intäkter'!R16","v":-59.551657746434863}]
["Regleringspost",null,{"$f":"'Blad 1 Totala intäkter'!K18","v":729.5538912803022},{"$f":"'Blad 1 Totala intäkter'!L18","v":367.19526176193921},{"$f":"'Blad 1 Totala intäkter'!M18","v":216.51160753792848},{"$f":"'Blad 1 Totala intäkter'!N18","v":55.392828991016692},{"$f":"'Blad 1 Totala intäkter'!O18","v":-119.56756236438756},{"$f":"'Blad 1 Totala intäkter'!P18","v":-299.69402917933638},{"$f":"'Blad 1 Totala intäkter'!Q18","v":-481.19127765074404},{"$f":"'Blad 1 Totala intäkter'!R18","v":-653.26245090563168}]
["Strukturbidrag",null,{"$f":"'Blad 1 Totala intäkter'!K20","v":0},{"$f":"'Blad 1 Totala intäkter'!L20","v":0},{"$f":"'Blad 1 Totala intäkter'!M20","v":0},{"$f":"'Blad 1 Totala intäkter'!N20","v":0},{"$f":"'Blad 1 Totala intäkter'!O20","v":0},{"$f":"'Blad 1 Totala intäkter'!P20","v":0},{"$f":"'Blad 1 Totala intäkter'!Q20","v":0},{"$f":"'Blad 1 Totala intäkter'!R20","v":0}]
["Införandebidrag",null,{"$f":"'Blad 1 Totala intäkter'!K22","v":0},{"$f":"'Blad 1 Totala intäkter'!L22","v":0},{"$f":"'Blad 1 Totala intäkter'!M22","v":0},{"$f":"'Blad 1 Totala intäkter'!N22","v":0},{"$f":"'Blad 1 Totala intäkter'!O22","v":0},{"$f":"'Blad 1 Totala intäkter'!P22","v":0},{"$f":"'Blad 1 Totala intäkter'!Q22","v":0},{"$f":"'Blad 1 Totala intäkter'!R22","v":0}]
["Summa intäkter",null,{"$f":"'Blad 1 Totala intäkter'!K24","v":647.5538912803022},{"$f":"'Blad 1 Totala intäkter'!L24","v":289.35634285190685},{"$f":"'Blad 1 Totala intäkter'!M24","v":140.29626642539324},{"$f":"'Blad 1 Totala intäkter'!N24","v":-19.576928588295068},{"$f":"'Blad 1 Totala intäkter'!O24","v":-196.70375179361247},{"$f":"'Blad 1 Totala intäkter'!P24","v":-370.69990350903652},{"$f":"'Blad 1 Totala intäkter'!Q24","v":-546.31067571367919},{"$f":"'Blad 1 Totala intäkter'!R24","v":-712.81410865206658}]
[{"$f":"A11","v":"Slutavräkning 2023 korrigering"},null,{"$f":"'Blad 1 Totala intäkter'!K26","v":0},{"$f":"'Blad 1 Totala intäkter'!L26","v":0},{"$f":"'Blad 1 Totala intäkter'!M26","v":0},{"$f":"'Blad 1 Totala intäkter'!N26","v":0},{"$f":"'Blad 1 Totala intäkter'!O26","v":0},{"$f":"'Blad 1 Totala intäkter'!P26","v":0},{"$f":"'Blad 1 Totala intäkter'!Q26","v":0},{"$f":"'Blad 1 Totala intäkter'!R26","v":0}]
[{"$f":"A12","v":"Slutavräkning 2024"},null,{"$f":"'Blad 1 Totala intäkter'!K28","v":0},{"$f":"'Blad 1 Totala intäkter'!L28","v":-4.6409986964590644E-9},{"$f":"'Blad 1 Totala intäkter'!M28","v":0},{"$f":"'Blad 1 Totala intäkter'!N28","v":0},{"$f":"'Blad 1 Totala intäkter'!O28","v":0},{"$f":"'Blad 1 Totala intäkter'!P28","v":0},{"$f":"'Blad 1 Totala intäkter'!Q28","v":0},{"$f":"'Blad 1 Totala intäkter'!R28","v":0}]
[{"$f":"A13","v":"Slutavräkning 2025"},null,{"$f":"'Blad 1 Totala intäkter'!K30","v":0},{"$f":"'Blad 1 Totala intäkter'!L30","v":0},{"$f":"'Blad 1 Totala intäkter'!M30","v":0},{"$f":"'Blad 1 Totala intäkter'!N30","v":0},{"$f":"'Blad 1 Totala intäkter'!O30","v":0},{"$f":"'Blad 1 Totala intäkter'!P30","v":0},{"$f":"'Blad 1 Totala intäkter'!Q30","v":0},{"$f":"'Blad 1 Totala intäkter'!R30","v":0}]
["Summa intäkter (inkl. avräkning)",null,{"$f":"'Blad 1 Totala intäkter'!K32","v":647.5538912803022},{"$f":"'Blad 1 Totala intäkter'!L32","v":289.35634284726586},{"$f":"'Blad 1 Totala intäkter'!M32","v":140.29626642539324},{"$f":"'Blad 1 Totala intäkter'!N32","v":-19.576928588295068},{"$f":"'Blad 1 Totala intäkter'!O32","v":-196.70375179361247},{"$f":"'Blad 1 Totala intäkter'!P32","v":-370.69990350903652},{"$f":"'Blad 1 Totala intäkter'!Q32","v":-546.31067571367919},{"$f":"'Blad 1 Totala intäkter'!R32","v":-712.81410865206658}]
["Varav summa skatteintäkter",null,{"$f":"'Blad 1 Totala intäkter'!K34","v":0},{"$f":"'Blad 1 Totala intäkter'!L34","v":-4.6409986964590644E-9},{"$f":"'Blad 1 Totala intäkter'!M34","v":0},{"$f":"'Blad 1 Totala intäkter'!N34","v":0},{"$f":"'Blad 1 Totala intäkter'!O34","v":0},{"$f":"'Blad 1 Totala intäkter'!P34","v":0},{"$f":"'Blad 1 Totala intäkter'!Q34","v":0},{"$f":"'Blad 1 Totala intäkter'!R34","v":0}]
[]
[]
["Basuppgifter",{"$f":"C32-1","v":2023},{"$f":"C3","v":2024},2025,2026,2027,2028,2029,2030,2031]
["Uppräkningsfaktorer"]
[{"$f":"'Blad 2 Indata'!A7","v":"Fastställt för 2024"},{"$f":"'Blad 2 Indata'!B7","v":4.5999999999999996},{"$f":"'Blad 2 Indata'!C7","v":3.3},null," "]
[{"$f":"'Blad 2 Indata'!A8","v":"Fastställt för 2025"},null,{"$f":"'Blad 2 Indata'!C8","v":0},{"$f":"'Blad 2 Indata'!D8","v":0}]
["Sveriges Kommuner och Regioners prognos",{"$f":"'Blad 2 Indata'!B9","v":5.0626851060251665},{"$f":"'Blad 2 Indata'!C9","v":2.730090120902795},{"$f":"'Blad 2 Indata'!D9","v":4.8677870568163861},{"$f":"'Blad 2 Indata'!E9","v":4.1621836122576861},{"$f":"'Blad 2 Indata'!F9","v":4.0149033704721226},{"$f":"'Blad 2 Indata'!G9","v":4.082761123581724},{"$f":"'Blad 2 Indata'!H9","v":4.0820799830627141},{"$f":"'Blad 2 Indata'!I9","v":3.9778387341976806},{"$f":"'Blad 2 Indata'!J9","v":3.6633313430403325}]
[]
["Antal invånare den 1.11 året innan"]
["Antal invånare i riket ",{"$f":"'Blad 2 Indata'!B28","v":10514719},{"$f":"'Blad 2 Indata'!C28","v":10557682},{"$f":"'Blad 2 Indata'!D28","v":10614874},{"$f":"'Blad 2 Indata'!E28","v":10669403},{"$f":"'Blad 2 Indata'!F28","v":10721197},{"$f":"'Blad 2 Indata'!G28","v":10767844},{"$f":"'Blad 2 Indata'!H28","v":10814845},{"$f":"'Blad 2 Indata'!I28","v":10861959},{"$f":"'Blad 2 Indata'!J28","v":10909347}]
["Förändring i riket i procent",null,null,{"$f":"'Blad 2 Indata'!D27","v":0.54170981849993205},{"$f":"'Blad 2 Indata'!E27","v":0.51370369539949323},{"$f":"'Blad 2 Indata'!F27","v":0.48544421838785168},{"$f":"'Blad 2 Indata'!G27","v":0.43509134287897144},{"$f":"'Blad 2 Indata'!H27","v":0.43649406510718392},{"$f":"'Blad 2 Indata'!I27","v":0.43564193476651775},{"$f":"'Blad 2 Indata'!J27","v":0.43627489295439248}]
["Antal invånare i länet enligt trend",{"$f":"'Blad 2 Indata'!B32","v":0},{"$f":"'Blad 2 Indata'!C32","v":0},{"$f":"'Blad 2 Indata'!D32","v":0},{"$f":"'Blad 2 Indata'!E32","v":0},{"$f":"'Blad 2 Indata'!F32","v":0},{"$f":"'Blad 2 Indata'!G32","v":0},{"$f":"'Blad 2 Indata'!H32","v":0},{"$f":"'Blad 2 Indata'!I32","v":0},{"$f":"'Blad 2 Indata'!J32","v":0}]
[]
[{"$f":"'Blad 2 Indata'!A20","v":"Skatteunderlag inkomstår 2022 och 2023"}]
["Riket, miljoner kr",{"$f":"'Blad 2 Indata'!B21","v":2645513.4868999999},{"$f":"'Blad 2 Indata'!C21","v":0}]
["Länet, tkr",{"$f":"'Blad 2 Indata'!B22","v":0},{"$f":"'Blad 2 Indata'!C22","v":0}]
[]
["Skattesatser"]
["Länets skattesats",null,{"$f":"'Blad 2 Indata'!C63","v":0},{"$f":"'Blad 2 Indata'!D63","v":0},{"$f":"'Blad 2 Indata'!E63","v":0},{"$f":"'Blad 2 Indata'!F63","v":0},{"$f":"'Blad 2 Indata'!G63","v":0},{"$f":"'Blad 2 Indata'!H63","v":0},{"$f":"'Blad 2 Indata'!I63","v":0},{"$f":"'Blad 2 Indata'!J63","v":0}]
["Länsvis skattesats avgift 85%/bidrag 90%",null,{"$f":"'Blad 3 Inkomstutjämning'!C37","v":0},{"$f":"'Blad 3 Inkomstutjämning'!D37","v":0},{"$f":"'Blad 3 Inkomstutjämning'!E37","v":0},{"$f":"'Blad 3 Inkomstutjämning'!F37","v":0},{"$f":"'Blad 3 Inkomstutjämning'!G37","v":0},{"$f":"'Blad 3 Inkomstutjämning'!H37","v":0},{"$f":"'Blad 3 Inkomstutjämning'!I37","v":0},{"$f":"'Blad 3 Inkomstutjämning'!J37","v":0}]
[]
["Inkomstutjämning"]
["Medelskattekraft i riket, fastställd",{"$f":"'Blad 3 Inkomstutjämning'!B16","v":260928},{"$f":"'Blad 3 Inkomstutjämning'!C16","v":270753},{"$f":"'Blad 3 Inkomstutjämning'!D16","v":0}]
["Medelskattekraft i riket, prognos",{"$f":"'Blad 3 Inkomstutjämning'!B17","v":264339},{"$f":"'Blad 3 Inkomstutjämning'!C17","v":270450},{"$f":"'Blad 3 Inkomstutjämning'!D17","v":282087},{"$f":"'Blad 3 Inkomstutjämning'!E17","v":292327},{"$f":"'Blad 3 Inkomstutjämning'!F17","v":302594},{"$f":"'Blad 3 Inkomstutjämning'!G17","v":313584},{"$f":"'Blad 3 Inkomstutjämning'!H17","v":324966},{"$f":"'Blad 3 Inkomstutjämning'!I17","v":336427},{"$f":"'Blad 3 Inkomstutjämning'!J17","v":347237}]
["Garanterad skattekraft, riket",null,{"$f":"'Blad 3 Inkomstutjämning'!C19","v":311365.94999999995},{"$f":"'Blad 3 Inkomstutjämning'!D19","v":324400.05},{"$f":"'Blad 3 Inkomstutjämning'!E19","v":336176.05},{"$f":"'Blad 3 Inkomstutjämning'!F19","v":347983.1},{"$f":"'Blad 3 Inkomstutjämning'!G19","v":360621.6},{"$f":"'Blad 3 Inkomstutjämning'!H19","v":373710.89999999997},{"$f":"'Blad 3 Inkomstutjämning'!I19","v":386891.05},{"$f":"'Blad 3 Inkomstutjämning'!J19","v":399322.55}]
["Uppräknat skatteunderlag kommunen, tkr",null,{"$f":"'Blad 3 Inkomstutjämning'!C24","v":0},{"$f":"'Blad 3 Inkomstutjämning'!D24","v":0},{"$f":"'Blad 3 Inkomstutjämning'!E24","v":0},{"$f":"'Blad 3 Inkomstutjämning'!F24","v":0},{"$f":"'Blad 3 Inkomstutjämning'!G24","v":0},{"$f":"'Blad 3 Inkomstutjämning'!H24","v":0},{"$f":"'Blad 3 Inkomstutjämning'!I24","v":0},{"$f":"'Blad 3 Inkomstutjämning'!J24","v":0}]
["Garanterat skatteunderlag, tkr",null,{"$f":"'Blad 3 Inkomstutjämning'!C27","v":0},{"$f":"'Blad 3 Inkomstutjämning'!D27","v":0},{"$f":"'Blad 3 Inkomstutjämning'!E27","v":0},{"$f":"'Blad 3 Inkomstutjämning'!F27","v":0},{"$f":"'Blad 3 Inkomstutjämning'!G27","v":0},{"$f":"'Blad 3 Inkomstutjämning'!H27","v":0},{"$f":"'Blad 3 Inkomstutjämning'!I27","v":0},{"$f":"'Blad 3 Inkomstutjämning'!J27","v":0}]
["Underlag för inkomstutjämning",null,{"$f":"'Blad 3 Inkomstutjämning'!C30","v":0},{"$f":"'Blad 3 Inkomstutjämning'!D30","v":0},{"$f":"'Blad 3 Inkomstutjämning'!E30","v":0},{"$f":"'Blad 3 Inkomstutjämning'!F30","v":0},{"$f":"'Blad 3 Inkomstutjämning'!G30","v":0},{"$f":"'Blad 3 Inkomstutjämning'!H30","v":0},{"$f":"'Blad 3 Inkomstutjämning'!I30","v":0},{"$f":"'Blad 3 Inkomstutjämning'!J30","v":0}]
[]
["Prognos av regleringsbidrag/avgift "]
["Anslag kommunalek. utj.",{"$f":"'Blad 2 Indata'!B35","v":43847.606},{"$f":"'Blad 2 Indata'!C35","v":48694.896000000001},{"$f":"'Blad 2 Indata'!D35","v":46854.896000000001},{"$f":"'Blad 2 Indata'!E35","v":47039.896000000001},{"$f":"'Blad 2 Indata'!F35","v":47099.896000000001},{"$f":"'Blad 2 Indata'!G35","v":47099.896000000001},{"$f":"'Blad 2 Indata'!H35","v":47099.896000000001},{"$f":"'Blad 2 Indata'!I35","v":47099.896000000001},{"$f":"'Blad 2 Indata'!J35","v":47099.896000000001}]
["Inkomstutjämningsbidrag, netto",{"$f":"'Blad 2 Indata'!B38","v":38852.324439999997},{"$f":"'Blad 2 Indata'!C38","v":40488.033217999997},{"$f":"'Blad 2 Indata'!D38","v":42410.183501},{"$f":"'Blad 2 Indata'!E38","v":44182.732468000002},{"$f":"'Blad 2 Indata'!F38","v":45958.929727000002},{"$f":"'Blad 2 Indata'!G38","v":47840.594687999997},{"$f":"'Blad 2 Indata'!H38","v":49794.553271999997},{"$f":"'Blad 2 Indata'!I38","v":51780.396284000002},{"$f":"'Blad 2 Indata'!J38","v":53680.689978000002}]
["Kostnadsutjämning, netto",{"$f":"'Blad 2 Indata'!B42","v":-40.033424000000196},{"$f":"'Blad 2 Indata'!C42","v":-42.227944000000207},{"$f":"'Blad 2 Indata'!D42","v":0},{"$f":"'Blad 2 Indata'!E42","v":0},{"$f":"'Blad 2 Indata'!F42","v":0},{"$f":"'Blad 2 Indata'!G42","v":0},{"$f":"'Blad 2 Indata'!H42","v":0},{"$f":"'Blad 2 Indata'!I42","v":0},{"$f":"'Blad 2 Indata'!J42","v":0}]
["Strukturbidrag",{"$f":"'Blad 2 Indata'!B45","v":547.02631599999995},{"$f":"'Blad 2 Indata'!C45","v":546.69273999999996},{"$f":"'Blad 2 Indata'!D45","v":546.98106199999995},{"$f":"'Blad 2 Indata'!E45","v":547.11393699999996},{"$f":"'Blad 2 Indata'!F45","v":547.088841},{"$f":"'Blad 2 Indata'!G45","v":546.78617099999997},{"$f":"'Blad 2 Indata'!H45","v":546.48720100000003},{"$f":"'Blad 2 Indata'!I45","v":546.17964500000005},{"$f":"'Blad 2 Indata'!J45","v":545.87278100000003}]
["Införandebidrag",{"$f":"'Blad 2 Indata'!B48","v":0},{"$f":"'Blad 2 Indata'!C48","v":0},{"$f":"'Blad 2 Indata'!D48","v":0},{"$f":"'Blad 2 Indata'!E48","v":0},{"$f":"'Blad 2 Indata'!F48","v":0},{"$f":"'Blad 2 Indata'!G48","v":0},{"$f":"'Blad 2 Indata'!H48","v":0},{"$f":"'Blad 2 Indata'!I48","v":0},{"$f":"'Blad 2 Indata'!J48","v":0}]
["Regleringsbidrag/avgift"]
["Miljoner kronor",{"$f":"'Blad 2 Indata'!B51","v":4488.2886680000011},{"$f":"'Blad 2 Indata'!C51","v":7702.3979860000036},{"$f":"'Blad 2 Indata'!D51","v":3897.7314370000022},{"$f":"'Blad 2 Indata'!E51","v":2310.0495949999968},{"$f":"'Blad 2 Indata'!F51","v":593.87743200000114},{"$f":"'Blad 2 Indata'!G51","v":-1287.4848589999965},{"$f":"'Blad 2 Indata'!H51","v":-3241.1444730000003},{"$f":"'Blad 2 Indata'!I51","v":-5226.6799289999981},{"$f":"'Blad 2 Indata'!J51","v":-7126.6667589999997}]
["Kronor per invånare",{"$f":"'Blad 2 Indata'!B52","v":426.85769044327299},{"$f":"'Blad 2 Indata'!C52","v":729.5538912803022},{"$f":"'Blad 2 Indata'!D52","v":367.19526176193921},{"$f":"'Blad 2 Indata'!E52","v":216.51160753792848},{"$f":"'Blad 2 Indata'!F52","v":55.392828991016692},{"$f":"'Blad 2 Indata'!G52","v":-119.56756236438756},{"$f":"'Blad 2 Indata'!H52","v":-299.69402917933638},{"$f":"'Blad 2 Indata'!I52","v":-481.19127765074404},{"$f":"'Blad 2 Indata'!J52","v":-653.26245090563168}]

{"sheet":"Administration","index":1,"n_rows":11,"n_cols":3,"rows_kept":11,"cut":false,"hidden":true,"merged":[]}
[]
["Datum för senaste dataöverföring"]
["2024-02-22T13:42:00"]
["Finlnamn senaste överföringen"]
["G:\\Avd ekonomi & styrning\\EkAnalys\\Gemens_kataloger_EkAnalys\\Finspec\\Modellen Skatter och bidrag\\2024\\Regioner\\Uppdateringsfiler\\Uppdateringsfil-01-24 ny.xlsm"]
[]
["Från Cirkulär","Datum","Denna lista fylls på automatiskt varje gång du uppdaterar"]
["24:16","2024-02-26","Skatteunderlagsprognos (Blad 2, rad 9)"]
[null,null,"LPI (blad 2, rad 59)"]
[null,null,"Justering statsbidrag pga skatteväxling"]
[null,null,"Befolkning per 31/12  (Blad 2, rad 75)"]

{"sheet":"Data","index":2,"n_rows":23,"n_cols":117,"rows_kept":23,"cut":false,"hidden":true,"merged":[]}
[1,2,3,4,5,6,7,8,9,10,11,12,13,14,15,16,17,18,19,20,21,22,23,24,25,26,27,28,29,30,31,32,33,34,35,36,37,38,39,40,41,42,43,44,45,46,47,48,49,50,51,52,53,54,55,56,57,58,59,60,61,62,63,64,65,66,67,{"$f":"BO1+1","v":68},{"$f":"BP1+1","v":69},70,71,72,73,74,75,76,77,78,79,80,81,82,83,84,85,86,87,88,89,90,91,92,93,94,95,96,97,98,99,100,101,102,103,104,105,{"$f":"DA1+1","v":106},107,108,109,110,111,112,113,114,115,116,117]
["Länskod","Län","Beskattningsutfall inkomstår 2022","Beskattningsutfall inkomstår 2023","Inv 1 november 22","Inv 1 november 23","Inv 1 november 24","Inv 1 november 25","Inv 1 november 26","Inv 1 november 27","Utdeb 23","Utdeb 24","Länsvis utdeb 90% 2024","Länsvis utdeb 85% 2024",null,"Kostnadsutjämning 24, exklusive befolkning","Kostnadsutjämning 25","Inv 1 november 24 Trend","Inv 1 november 25 Trend","Inv 1 november 26 Trend","Inv 1 november 27 Trend","Utdeb 25","Totalt 1 november 18","Totalt 1 november 19","Totalt 1 november 20","Totalt 1 november 21","Totalt 1 november 22","Def befolkning 24","Därav hälso sjukv 24",null,null,"Kollektivtrafik 24","Def befolkning 25","Därav hälso sjukv 25",null,null,"Kollektivtrafik 25 def siffror avrundade",null,"Utdeb 2025","Länsvis utdeb 90% 2025","Länsvis utdeb 85% 2025",null,"Beskattningsutfall inkomstår 2021","Länsvis utdeb 90% 2023","Länsvis utdeb 85% 2023",null,null,null,null,null,null,null,null,"Struktur enl SCB exkl särsk","Kostnadsutjämn ev nytt införandebidrag 2023","Kostnadsutjämn ev nytt införandebidrag 2024","Kostnadsutjämn ev nytt införandebidrag 2025","Kostnadsutjämn ev nytt införandebidrag 2026","Kostnadsutjämn ev nytt införandebidrag 2027","Kostnadsutjämn ev nytt införandebidrag 2028","Kostnadsutjämn ev nytt införandebidrag 2029","Justering anslag 2023 vid värdesäkring fyll i BK2",null,null,null,null,null,"Inv 1 november 28, trend","Inv 1 november 29, trend","Inv 1 november 30, trend","Inv 1 november 31, trend","Inv 1 november 32, trend","Inv 1 november 33, trend","Inv 1 november 34, trend","Inv 1 november 35, trend","Inv 1 november 36, trend","Inv 1 november 37, trend","Inv 1 november 38, trend","Inv 1 november 39, trend","Inv 1 november 40, trend","Inv 1 november 41, trend","Inv 1 november 42, trend","Inv 1 november 43, trend","Inv 1 november 44, trend","Inv 1 november 45, trend","Inv 1 november 46, trend","Inv 1 november 28, riks","Inv 1 november 29, riks","Inv 1 november 30, riks","Inv 1 november 31, riks","Inv 1 november 32, riks","Inv 1 november 33, riks","Inv 1 november 34, riks","Inv 1 november 35, riks","Inv 1 november 36, riks","Inv 1 november 37, riks","Inv 1 november 38, riks","Inv 1 november 39, riks","Inv 1 november 40, riks","Inv 1 november 41, riks","Inv 1 november 42, riks","Inv 1 november 43, riks","Inv 1 november 44, riks","Inv 1 november 45, riks","Inv 1 november 46, riks","Befolkning 31/12 2012","Befolkning 31/12 2013","Befolkning 31/12 2014","Befolkning 31/12 2015","Befolkning 31/12 2016","Befolkning 31/12 2017","Befolkning 31/12 2018","Befolkning 31/12 2021","Befolkning 31/12 2022","Befolkning 31/12 2023",2020,2021]
[1,"Stockholm",738729512300,null,2437158,2455914,2469218,2481902,2493949,2504802,12.08,12.38,10.030000000000001,9.51,null,-1174,null,2478047,2499642,2520674,2540568,null,2339640,2374550,2391841,2411859,2437158,261,-2655,null,null,1481,null,null,null,null,null,null,12.38,10.030000000000001,9.51,null,693346765800,10.030000000000001,9.51,null,null,null,null,null,null,null,null,0,null,null,null,null,null,null,null,null,null,null,null,null,null,2560612,2580750,2601020,2621110,2640938,2660612,2680251,2699872,2719508,2739220,2759052,2779058,2799252,2819622,2840178,2860918,2881803,2902824,null,2515735,2526695,2537718,2548502,2558969,2569227,2579393,2589485,2599535,2609603,2619730,2629968,2640328,2650799,2661389,2672096,2682882,2693739,null,2127006,2163042,2198044,2231439,2269060,2308143,2344124,2415139,2440027,2454821]
[3,"Uppsala",98047898100,null,400070,404714,406906,408996,410982,412769,11.71,11.71,9.94,9.42,null,-1215,null,410067,415369,420614,425705,null,375240,383044,388076,394154,400070,506,-685,null,null,-530,null,null,null,null,null,null,11.71,9.94,9.42,null,92547135500,9.94,9.42,null,null,null,null,null,null,null,null,0,null,null,null,null,null,null,null,null,null,null,null,null,null,430856,436059,441320,446587,451845,457113,462411,467742,473112,478532,484010,489556,495173,500860,506619,512450,518347,524309,null,414571,416377,418194,419971,421696,423387,425062,426725,428381,430040,431709,433396,435103,436828,438573,440337,442114,443903,null,341977,345481,348942,354164,361373,368971,376354,395026,400682,404589]
[4,"Södermanland",67899505600,null,302473,302310,303946,305507,306989,308328,10.83,10.83,9.2100000000000009,8.6900000000000013,null,990,null,302751,303103,303365,303471,null,294042,297169,299329,301382,302473,0,1624,null,null,-634,null,null,null,null,null,null,10.83,9.2100000000000009,8.6900000000000013,null,64295809300,9.2100000000000009,8.6900000000000013,null,null,null,null,null,null,null,null,0,null,null,null,null,null,null,null,null,null,null,null,null,null,303576,303673,303767,303822,303829,303801,303753,303686,303605,303517,303426,303338,303255,303175,303099,303027,302954,302880,null,309674,311023,312380,313707,314995,316258,317509,318751,319988,321227,322474,323734,325009,326298,327602,328920,330248,331584,null,274723,277569,280666,283712,288097,291341,294695,301801,302566,301944]
[5,"Östergötland",110523421200,null,471797,472660,475221,477663,479981,482068,11.55,11.55,10.15,9.6300000000000008,null,-370,null,474238,475681,476987,478049,null,460860,465214,467276,469445,471797,0,341,null,null,-711,null,null,null,null,null,null,11.55,10.15,9.6300000000000008,null,105061893900,10.15,9.6300000000000008,null,null,null,null,null,null,null,null,0,null,null,null,null,null,null,null,null,null,null,null,null,null,479112,480165,481216,482207,483123,483986,484817,485620,486402,487173,487941,488716,489500,490290,491088,491893,492698,493502,null,484172,486281,488403,490478,492492,494466,496423,498365,500299,502237,504186,506156,508150,510165,512203,514264,516340,518429,null,433784,437848,442105,445661,452105,457496,461583,469704,471912,472298]
[6,"Jönköping",85347087200,null,368963,369201,371201,373108,374920,376550,11.76,11.76,9.9400000000000013,9.42,null,-66,null,370358,371409,372352,373104,null,360388,363351,364953,366840,368963,0,729,null,null,-795,null,null,null,null,null,null,11.76,9.9400000000000013,9.42,null,81094591800,9.9400000000000013,9.42,null,null,null,null,null,null,null,null,0,null,null,null,null,null,null,null,null,null,null,null,null,null,373857,374602,375345,376041,376678,377273,377844,378393,378925,379448,379969,380495,381027,381564,382107,382655,383203,383749,null,378194,379842,381499,383120,384694,386236,387764,389281,390792,392306,393828,395367,396924,398498,400090,401700,403321,404953,null,339116,341235,344262,347837,352735,357237,360825,367064,369113,368856]
[7,"Kronoberg",45951168000,null,204257,204028,205133,206186,207188,208089,12,12,9.31,8.7899999999999991,null,87,null,204406,204724,204981,205132,null,199397,201290,202247,203243,204257,0,947,null,null,-860,null,null,null,null,null,null,12,9.31,8.7899999999999991,null,43674905400,9.31,8.7899999999999991,null,null,null,null,null,null,null,null,230,null,null,null,null,null,null,null,null,null,null,null,null,null,205283,205429,205573,205690,205775,205837,205885,205920,205945,205965,205984,206005,206029,206055,206084,206116,206147,206177,null,208997,209907,210823,211719,212589,213441,214286,215124,215959,216795,217636,218487,219348,220218,221098,221987,222883,223785,null,185887,187156,189128,191369,194628,197519,199886,203340,204335,203686]
[8,"Kalmar",54944361900,null,247791,247063,248400,249675,250887,251981,11.86,11.86,8.7200000000000006,8.1999999999999993,null,2258,null,247081,247026,246897,246640,null,244514,245415,246033,246989,247791,0,3032,null,null,-774,null,null,null,null,null,null,11.86,8.7200000000000006,8.1999999999999993,null,52443846400,8.7200000000000006,8.1999999999999993,null,null,null,null,null,null,null,null,0,null,null,null,null,null,null,null,null,null,null,null,null,null,246383,246120,245855,245559,245224,244862,244484,244091,243688,243279,242869,242462,242060,241661,241266,240874,240482,240090,null,253081,254184,255293,256378,257431,258463,259486,260501,261512,262525,263544,264574,265616,266669,267734,268811,269896,270988,null,233548,233874,235598,237679,242301,243536,244670,247175,247711,246667]
[9,"Gotland",13253562500,null,61167,61093,61424,61740,62040,62310,11.35,11.35,9.48,8.9499999999999993,null,3014,null,61149,61187,61207,61195,null,59126,59636,60050,60972,61167,0,4294,null,null,-1280,null,null,null,null,null,null,11.35,9.48,8.9499999999999993,null,12461503100,9.48,8.9499999999999993,null,null,null,null,null,null,null,null,1426,null,null,null,null,null,null,null,null,null,null,null,null,null,61183,61169,61155,61133,61101,61062,61019,60972,60922,60871,60820,60769,60719,60670,60622,60575,60527,60479,null,62582,62855,63129,63397,63657,63912,64165,64416,64666,64916,65168,65423,65681,65941,66204,66470,66738,67008,null,57241,57161,57255,57391,58003,58595,59249,61001,61173,61029]
[10,"Blekinge",36016842000,null,158876,158226,159083,159900,160677,161375,12.04,12.04,9.9699999999999989,9.4499999999999993,null,1423,null,157828,157385,156897,156329,null,159698,159748,159227,158999,158876,0,2244,null,null,-821,null,null,null,null,null,null,12.04,9.9699999999999989,9.4499999999999993,null,34473909900,9.9699999999999989,9.4499999999999993,null,null,null,null,null,null,null,null,501,null,null,null,null,null,null,null,null,null,null,null,null,null,155763,155195,154627,154042,153435,152813,152183,151546,150905,150263,149622,148986,148355,147728,147105,146487,145871,145257,null,162079,162785,163495,164190,164864,165525,166180,166830,167477,168126,168778,169438,170105,170780,171462,172152,172847,173546,null,152315,152757,154157,156253,158453,159371,159684,158937,158740,157973]
[12,"Skåne",329132672800,null,1413080,1422288,1429995,1437344,1444319,1450601,11.18,11.18,9.3800000000000008,8.86,null,-422,null,1432954,1443274,1453235,1462508,null,1360112,1376659,1388910,1400973,1413080,0,-424,null,null,2,null,null,null,null,null,null,11.18,9.3800000000000008,8.86,null,311628985500,9.3800000000000008,8.86,null,null,null,null,null,null,null,null,0,null,null,null,null,null,null,null,null,null,null,null,null,null,1471836,1481187,1490582,1499843,1508923,1517884,1526795,1535666,1544515,1553377,1562277,1571246,1580290,1589403,1598589,1607848,1617157,1626511,null,1456933,1463280,1469664,1475909,1481971,1487912,1493799,1499644,1505464,1511295,1517160,1523089,1529089,1535153,1541286,1547487,1553733,1560020,null,1263088,1274069,1288908,1303627,1324565,1344689,1362164,1402425,1414324,1421781]
[13,"Halland",84868520600,null,342658,343989,345851,347628,349316,350837,11.4,11.4,9.7999999999999989,9.2799999999999994,null,-134,null,346023,347966,349816,351494,null,328853,333202,336440,339903,342658,62,470,null,null,-604,null,null,null,null,null,null,11.4,9.7999999999999989,9.2799999999999994,null,80133784100,9.7999999999999989,9.2799999999999994,null,null,null,null,null,null,null,null,0,null,null,null,null,null,null,null,null,null,null,null,null,null,353179,354863,356552,358202,359803,361370,362919,364453,365976,367497,369021,370555,372101,373658,375226,376805,378390,379980,null,352368,353903,355447,356957,358423,359860,361284,362698,364106,365516,366934,368368,369819,371286,372769,374269,375780,377301,null,304116,306840,310665,314784,320333,324825,329352,340243,342805,343746]
[14,"Västra Götaland",438859736500,null,1757225,1767641,1777217,1786344,1795017,1802829,11.48,11.48,9.67,9.15,null,-394,null,1779797,1791507,1802757,1813139,null,1707536,1724529,1734344,1743304,1757225,0,-410,null,null,16,null,null,null,null,null,null,11.48,9.67,9.15,null,414054642800,9.67,9.15,null,null,null,null,null,null,null,null,0,null,null,null,null,null,null,null,null,null,null,null,null,null,1823576,1834028,1844521,1854834,1864910,1874827,1884669,1894448,1904187,1913930,1923706,1933554,1943482,1953482,1963559,1973712,1983913,1994155,null,1810698,1818586,1826520,1834282,1841816,1849200,1856517,1863781,1871015,1878261,1885550,1892919,1900376,1907912,1915534,1923240,1931003,1938817,null,1600447,1615084,1632012,1648682,1671783,1690782,1709814,1744859,1758656,1767016]
[17,"Värmland",62868645800,null,283951,283661,285199,286665,288057,289308,11.68,11.68,9.1100000000000012,8.59,null,2020,null,283885,284025,284081,283990,null,281305,282342,282906,283169,283951,0,2661,null,null,-641,null,null,null,null,null,null,11.68,9.1100000000000012,8.59,null,59733799800,9.1100000000000012,8.59,null,null,null,null,null,null,null,null,0,null,null,null,null,null,null,null,null,null,null,null,null,null,283898,283799,283697,283558,283375,283160,282926,282675,282411,282140,281867,281597,281332,281070,280812,280558,280303,280047,null,290571,291837,293110,294356,295565,296750,297924,299090,300251,301414,302584,303767,304964,306173,307396,308633,309879,311133,null,273080,273815,274691,275904,279334,280399,281482,283196,283976,283548]
[18,"Örebro",70099103500,null,307656,308413,310084,311676,313188,314553,11.55,12.3,10.08,9.56,null,249,null,309255,310008,310670,311172,null,301890,304634,305715,306688,307656,0,932,null,null,-683,null,null,null,null,null,null,12.3,10.08,9.56,null,66569050200,10.08,9.56,null,null,null,null,null,null,null,null,0,null,null,null,null,null,null,null,null,null,null,null,null,null,311674,312169,312662,313115,313519,313888,314236,314565,314880,315188,315493,315802,316116,316434,316756,317082,317408,317732,null,315926,317302,318686,320040,321354,322642,323919,325186,326448,327712,328984,330270,331571,332886,334216,335561,336916,338279,null,283113,285395,288150,291012,294941,298907,302252,306792,307772,308116]
[19,"Västmanland",65808779400,null,280584,280965,282488,283939,285317,286557,10.88,10.88,8.89,8.370000000000001,null,291,null,282072,283099,284045,284847,null,273495,275634,277228,278721,280584,0,979,null,null,-688,null,null,null,null,null,null,10.88,8.89,8.370000000000001,null,62344887700,8.89,8.370000000000001,null,null,null,null,null,null,null,null,0,null,null,null,null,null,null,null,null,null,null,null,null,null,285651,286450,287248,288011,288730,289418,290088,290742,291384,292020,292655,293295,293941,294591,295246,295907,296568,297229,null,287808,289062,290323,291557,292754,293928,295091,296246,297396,298548,299707,300878,302063,303261,304472,305697,306931,308173,null,256224,259054,261703,264276,267629,271095,273929,278967,280713,280813]
[20,"Dalarna",64577554300,null,288343,287451,289007,290492,291902,293173,11.63,11.64,9.57,9.0500000000000007,null,2497,null,287073,286610,286063,285369,null,287014,287795,287681,288164,288343,0,3143,null,null,-646,null,null,null,null,null,null,11.64,9.57,9.0500000000000007,null,61634176500,9.56,9.0400000000000009,null,null,null,null,null,null,null,null,0,null,null,null,null,null,null,null,null,null,null,null,null,null,284676,283978,283279,282545,281768,280961,280138,279300,278451,277598,276746,275899,275059,274224,273396,272573,271752,270932,null,294453,295736,297026,298288,299513,300714,301904,303085,304261,305439,306624,307822,309035,310261,311500,312753,314015,315286,null,276555,277349,278903,281028,284531,286165,287191,288387,288310,287253]
[21,"Gävleborg",65051375300,null,287431,286085,287635,289113,290516,291780,11.51,11.51,9.77,9.25,null,1759,null,285173,284180,283106,281890,null,286399,287333,287631,287873,287431,0,2599,null,null,-840,null,null,null,null,null,null,11.51,9.77,9.25,null,62306894800,9.77,9.25,null,null,null,null,null,null,null,null,0,null,null,null,null,null,null,null,null,null,null,null,null,null,280678,279465,278254,277013,275734,274429,273112,271785,270451,269117,267788,266468,265159,263859,262569,261288,260013,258743,null,293054,294331,295615,296871,298090,299285,300469,301645,302816,303989,305169,306362,307569,308789,310023,311270,312526,313791,null,276637,277970,279991,281815,284586,285637,286547,287767,287334,285642]
[22,"Västernorrland",56664236600,null,243334,242343,243656,244908,246097,247168,11.29,11.29,8.0399999999999991,7.5200000000000005,null,1791,null,241389,240368,239280,238074,null,245376,245380,244663,244223,243334,0,2746,null,null,-955,null,null,null,null,null,null,11.29,8.0399999999999991,7.5200000000000005,null,54358079800,8.0399999999999991,7.5200000000000005,null,null,null,null,null,null,null,null,0,null,null,null,null,null,null,null,null,null,null,null,null,null,236873,235673,234476,233255,232004,230733,229454,228168,226878,225590,224308,223035,221773,220520,219277,218044,216818,215597,null,248247,249328,250416,251480,252513,253525,254528,255524,256516,257509,258508,259518,260540,261573,262618,263675,264739,265810,null,241981,242156,243061,243897,245572,245968,245453,244193,243265,242148]
[23,"Jämtland",29396356800,null,132484,132466,133184,133869,134520,135103,11.7,11.7,8.91,8.39,null,2302,null,132732,132960,133148,133268,null,130046,130697,131064,131914,132484,0,3062,null,null,-760,null,null,null,null,null,null,11.7,8.91,8.39,null,27689423900,8.91,8.39,null,null,null,null,null,null,null,null,784,null,null,null,null,null,null,null,null,null,null,null,null,null,133387,133503,133618,133716,133793,133854,133906,133950,133988,134023,134057,134092,134129,134168,134208,134250,134292,134333,null,135693,136284,136879,137461,138026,138579,139127,139671,140213,140756,141302,141854,142413,142978,143549,144127,144709,145295,null,126201,126461,126765,127376,128673,129806,130280,132054,132670,132572]
[24,"Västerbotten",65185171000,null,276136,278518,280028,281466,282834,284063,11.35,11.35,8.5300000000000011,8.0100000000000016,null,492,null,280510,282433,284284,286000,null,269954,271621,273220,274533,276136,0,1476,null,null,-984,null,null,null,null,null,null,11.35,8.5300000000000011,8.0100000000000016,null,61388192800,8.5300000000000011,8.0100000000000016,null,null,null,null,null,null,null,null,242,null,null,null,null,null,null,null,null,null,null,null,null,null,287725,289453,291189,292897,294569,296216,297852,299479,301101,302724,304354,305996,307651,309319,311000,312694,314396,316106,null,285303,286546,287796,289019,290206,291369,292522,293667,294807,295949,297097,298258,299433,300620,301821,303035,304258,305489,null,260217,261112,262362,263378,265881,268465,270154,274563,276295,278729]
[25,"Norrbotten",62287975500,null,249285,248653,249998,251282,252502,253603,11.34,11.34,8.629999999999999,8.11,null,3059,null,248086,247447,246736,245900,null,250424,250230,249649,249752,249285,0,3920,null,null,-861,null,null,null,null,null,null,11.34,8.629999999999999,8.11,null,59165957800,8.629999999999999,8.11,null,null,null,null,null,null,null,null,652,null,null,null,null,null,null,null,null,null,null,null,null,null,245066,244229,243392,242527,241627,240702,239765,238817,237861,236904,235948,234999,234057,233121,232192,231270,230351,229434,null,254710,255820,256936,258028,259088,260127,261156,262178,263196,264215,265240,266277,267326,268386,269458,270542,271634,272733,null,248637,249436,249987,249733,250570,251295,250497,249693,249177,248480]

{"sheet":"Blad 1 Totala intäkter","index":3,"n_rows":34,"n_cols":223,"rows_kept":34,"cut":false,"hidden":true,"merged":[]}
["Totala intäkter",{"$f":"'Blad 2 Indata'!A2","v":""}]
[{"$f":"TODAY()","v":"2024-02-23"}]
["Rikets skatteunderlag","Eget skatteunderlag",null,"Antal invånare",null,"Skattesats",null,"Statsbidrag"]
[{"$f":"IF('Blad 2 Indata'!$M$3=1,\"SKR\",\"Egen prognos\")","v":"SKR"},{"$f":"IF('Blad 2 Indata'!$O$3=1,\"Riksprognos\",\"Egen prognos\")","v":"Egen prognos"},null,{"$f":"IF('Blad 2 Indata'!$O$4=1,\"Riksprognos\",\"Egen prognos\")","v":"Riksprognos"}]
[]
[]
[{"$f":"IF(AND('Blad 2 Indata'!U3=2,SUM('Blad 2 Indata'!D62:F62)<>0),\"Förändrad skattesats, %\",\" \")","v":" "},null,{"$f":"IF(AND('Blad 2 Indata'!$U$3=2,'Blad 2 Indata'!D62<>0),'Blad 2 Indata'!D62,\" \")","v":" "},{"$f":"IF(AND('Blad 2 Indata'!$U$3=2,'Blad 2 Indata'!E62<>0),'Blad 2 Indata'!E62,\" \")","v":" "},{"$f":"IF(AND('Blad 2 Indata'!$U$3=2,'Blad 2 Indata'!F62<>0),'Blad 2 Indata'!F62,\" \")","v":" "},{"$f":"IF(AND('Blad 2 Indata'!$U$3=2,'Blad 2 Indata'!G62<>0),'Blad 2 Indata'!G62,\" \")","v":" "},{"$f":"IF(AND('Blad 2 Indata'!$U$3=2,'Blad 2 Indata'!H62<>0),'Blad 2 Indata'!H62,\" \")","v":" "},{"$f":"IF(AND('Blad 2 Indata'!$U$3=2,'Blad 2 Indata'!I62<>0),'Blad 2 Indata'!I62,\" \")","v":" "},{"$f":"IF(AND('Blad 2 Indata'!$U$3=2,'Blad 2 Indata'!J62<>0),'Blad 2 Indata'!J62,\" \")","v":" "}]
[]
[null,2024,{"$f":"B9+1","v":2025},2026,2027,2028,2029,2030,2031,null,{"$f":"B9","v":2024},{"$f":"K9+1","v":2025},2026,2027,2028,2029,2030,2031]
[null,"tkr","tkr","tkr","tkr","tkr","tkr","tkr","tkr",null,"kr/inv","kr/inv","kr/inv","kr/inv","kr/inv","kr/inv","kr/inv","kr/inv"]
[]
["Skatteintäkter",{"$f":"ROUND('Blad 3 Inkomstutjämning'!C24*1000*'Blad 2 Indata'!C63/100,0)/1000","v":0},{"$f":"ROUND('Blad 3 Inkomstutjämning'!D24*1000*'Blad 2 Indata'!D63/100,0)/1000","v":0},{"$f":"ROUND('Blad 3 Inkomstutjämning'!E24*1000*'Blad 2 Indata'!E63/100,0)/1000","v":0},{"$f":"ROUND('Blad 3 Inkomstutjämning'!F24*1000*'Blad 2 Indata'!F63/100,0)/1000","v":0},{"$f":"ROUND('Blad 3 Inkomstutjämning'!G24*1000*'Blad 2 Indata'!G63/100,0)/1000","v":0},{"$f":"ROUND('Blad 3 Inkomstutjämning'!H24*1000*'Blad 2 Indata'!H63/100,0)/1000","v":0},{"$f":"ROUND('Blad 3 Inkomstutjämning'!I24*1000*'Blad 2 Indata'!I63/100,0)/1000","v":0},{"$f":"ROUND('Blad 3 Inkomstutjämning'!J24*1000*'Blad 2 Indata'!J63/100,0)/1000","v":0},null,{"$f":"IF(ISERROR(B12*1000/'Blad 2 Indata'!C32),0,(B12*1000/'Blad 2 Indata'!C32))","v":0},{"$f":"IF(ISERROR(C12/IF('Blad 2 Indata'!$O$4=1,'Blad 2 Indata'!D32/1000,'Blad 2 Indata'!D33/1000)),0,(C12/IF('Blad 2 Indata'!$O$4=1,'Blad 2 Indata'!D32/1000,'Blad 2 Indata'!D33/1000)))","v":0},{"$f":"IF(ISERROR(D12/IF('Blad 2 Indata'!$O$4=1,'Blad 2 Indata'!E32/1000,'Blad 2 Indata'!E33/1000)),0,(D12/IF('Blad 2 Indata'!$O$4=1,'Blad 2 Indata'!E32/1000,'Blad 2 Indata'!E33/1000)))","v":0},{"$f":"IF(ISERROR(E12/IF('Blad 2 Indata'!$O$4=1,'Blad 2 Indata'!F32/1000,'Blad 2 Indata'!F33/1000)),0,(E12/IF('Blad 2 Indata'!$O$4=1,'Blad 2 Indata'!F32/1000,'Blad 2 Indata'!F33/1000)))","v":0},{"$f":"IF(ISERROR(F12/IF('Blad 2 Indata'!$O$4=1,'Blad 2 Indata'!G32/1000,'Blad 2 Indata'!G33/1000)),0,(F12/IF('Blad 2 Indata'!$O$4=1,'Blad 2 Indata'!G32/1000,'Blad 2 Indata'!G33/1000)))","v":0},{"$f":"IF(ISERROR(G12/IF('Blad 2 Indata'!$O$4=1,'Blad 2 Indata'!H32/1000,'Blad 2 Indata'!H33/1000)),0,(G12/IF('Blad 2 Indata'!$O$4=1,'Blad 2 Indata'!H32/1000,'Blad 2 Indata'!H33/1000)))","v":0},{"$f":"IF(ISERROR(H12/IF('Blad 2 Indata'!$O$4=1,'Blad 2 Indata'!I32/1000,'Blad 2 Indata'!I33/1000)),0,(H12/IF('Blad 2 Indata'!$O$4=1,'Blad 2 Indata'!I32/1000,'Blad 2 Indata'!I33/1000)))","v":0},{"$f":"IF(ISERROR(I12/IF('Blad 2 Indata'!$O$4=1,'Blad 2 Indata'!J32/1000,'Blad 2 Indata'!J33/1000)),0,(I12/IF('Blad 2 Indata'!$O$4=1,'Blad 2 Indata'!J32/1000,'Blad 2 Indata'!J33/1000)))","v":0}]
[]
["Inkomstutjämning",{"$f":"'Blad 3 Inkomstutjämning'!C41+'Blad 3 Inkomstutjämning'!C45","v":0},{"$f":"'Blad 3 Inkomstutjämning'!D41+'Blad 3 Inkomstutjämning'!D45","v":0},{"$f":"'Blad 3 Inkomstutjämning'!E41+'Blad 3 Inkomstutjämning'!E45","v":0},{"$f":"'Blad 3 Inkomstutjämning'!F41+'Blad 3 Inkomstutjämning'!F45","v":0},{"$f":"'Blad 3 Inkomstutjämning'!G41+'Blad 3 Inkomstutjämning'!G45","v":0},{"$f":"'Blad 3 Inkomstutjämning'!H41+'Blad 3 Inkomstutjämning'!H45","v":0},{"$f":"'Blad 3 Inkomstutjämning'!I41+'Blad 3 Inkomstutjämning'!I45","v":0},{"$f":"'Blad 3 Inkomstutjämning'!J41+'Blad 3 Inkomstutjämning'!J45","v":0},null,{"$f":"'Blad 3 Inkomstutjämning'!C40+'Blad 3 Inkomstutjämning'!C44","v":0},{"$f":"'Blad 3 Inkomstutjämning'!D40+'Blad 3 Inkomstutjämning'!D44","v":0},{"$f":"'Blad 3 Inkomstutjämning'!E40+'Blad 3 Inkomstutjämning'!E44","v":0},{"$f":"'Blad 3 Inkomstutjämning'!F40+'Blad 3 Inkomstutjämning'!F44","v":0},{"$f":"'Blad 3 Inkomstutjämning'!G40+'Blad 3 Inkomstutjämning'!G44","v":0},{"$f":"'Blad 3 Inkomstutjämning'!H40+'Blad 3 Inkomstutjämning'!H44","v":0},{"$f":"'Blad 3 Inkomstutjämning'!I40+'Blad 3 Inkomstutjämning'!I44","v":0},{"$f":"'Blad 3 Inkomstutjämning'!J40+'Blad 3 Inkomstutjämning'!J44","v":0}]
[]
["Kostnadsutjämning",{"$f":"K16*'Blad 2 Indata'!C32/1000","v":0},{"$f":"L16*IF('Blad 2 Indata'!$O$4=1,'Blad 2 Indata'!D32/1000,'Blad 2 Indata'!D33/1000)","v":0},{"$f":"M16*IF('Blad 2 Indata'!$O$4=1,'Blad 2 Indata'!E32/1000,'Blad 2 Indata'!E33/1000)","v":0},{"$f":"N16*IF('Blad 2 Indata'!$O$4=1,'Blad 2 Indata'!F32/1000,'Blad 2 Indata'!F33/1000)","v":0},{"$f":"O16*IF('Blad 2 Indata'!$O$4=1,'Blad 2 Indata'!G32/1000,'Blad 2 Indata'!G33/1000)","v":0},{"$f":"P16*IF('Blad 2 Indata'!$O$4=1,'Blad 2 Indata'!H32/1000,'Blad 2 Indata'!H33/1000)","v":0},{"$f":"Q16*IF('Blad 2 Indata'!$O$4=1,'Blad 2 Indata'!I32/1000,'Blad 2 Indata'!I33/1000)","v":0},{"$f":"R16*IF('Blad 2 Indata'!$O$4=1,'Blad 2 Indata'!J32/1000,'Blad 2 Indata'!J33/1000)","v":0},null,{"$f":"'Blad 4 Kostnadsutjämning'!B6","v":-82},{"$f":"IF(ISERROR('Blad 4 Kostnadsutjämning'!C6),0,('Blad 4 Kostnadsutjämning'!C6))","v":-77.838918910032348},{"$f":"IF(ISERROR('Blad 4 Kostnadsutjämning'!D6),0,('Blad 4 Kostnadsutjämning'!D6))","v":-76.215341112535256},{"$f":"IF(ISERROR('Blad 4 Kostnadsutjämning'!E6),0,('Blad 4 Kostnadsutjämning'!E6))","v":-74.969757579311761},{"$f":"IF(ISERROR('Blad 4 Kostnadsutjämning'!F6),0,('Blad 4 Kostnadsutjämning'!F6))","v":-77.136189429224927},{"$f":"IF(ISERROR('Blad 4 Kostnadsutjämning'!G6),0,('Blad 4 Kostnadsutjämning'!G6))","v":-71.005874329700106},{"$f":"IF(ISERROR('Blad 4 Kostnadsutjämning'!H6),0,('Blad 4 Kostnadsutjämning'!H6))","v":-65.119398062935161},{"$f":"IF(ISERROR('Blad 4 Kostnadsutjämning'!I6),0,('Blad 4 Kostnadsutjämning'!I6))","v":-59.551657746434863}]
[]
["Regleringspost",{"$f":"K18*'Blad 2 Indata'!C32/1000","v":0},{"$f":"L18*IF('Blad 2 Indata'!$O$4=1,'Blad 2 Indata'!D32/1000,'Blad 2 Indata'!D33/1000)","v":0},{"$f":"M18*IF('Blad 2 Indata'!$O$4=1,'Blad 2 Indata'!E32/1000,'Blad 2 Indata'!E33/1000)","v":0},{"$f":"N18*IF('Blad 2 Indata'!$O$4=1,'Blad 2 Indata'!F32/1000,'Blad 2 Indata'!F33/1000)","v":0},{"$f":"O18*IF('Blad 2 Indata'!$O$4=1,'Blad 2 Indata'!G32/1000,'Blad 2 Indata'!G33/1000)","v":0},{"$f":"P18*IF('Blad 2 Indata'!$O$4=1,'Blad 2 Indata'!H32/1000,'Blad 2 Indata'!H33/1000)","v":0},{"$f":"Q18*IF('Blad 2 Indata'!$O$4=1,'Blad 2 Indata'!I32/1000,'Blad 2 Indata'!I33/1000)","v":0},{"$f":"R18*IF('Blad 2 Indata'!$O$4=1,'Blad 2 Indata'!J32/1000,'Blad 2 Indata'!J33/1000)","v":0},null,{"$f":"'Blad 2 Indata'!C52","v":729.5538912803022},{"$f":"'Blad 2 Indata'!D52","v":367.19526176193921},{"$f":"'Blad 2 Indata'!E52","v":216.51160753792848},{"$f":"IF('Blad 2 Indata'!$V$3=1,'Blad 2 Indata'!F52,'Blad 2 Indata'!F53)","v":55.392828991016692},{"$f":"IF('Blad 2 Indata'!$V$3=1,'Blad 2 Indata'!G52,'Blad 2 Indata'!G53)","v":-119.56756236438756},{"$f":"IF('Blad 2 Indata'!$V$3=1,'Blad 2 Indata'!H52,'Blad 2 Indata'!H53)","v":-299.69402917933638},{"$f":"IF('Blad 2 Indata'!$V$3=1,'Blad 2 Indata'!I52,'Blad 2 Indata'!I53)","v":-481.19127765074404},{"$f":"IF('Blad 2 Indata'!$V$3=1,'Blad 2 Indata'!J52,'Blad 2 Indata'!J53)","v":-653.26245090563168}]
[]
["Strukturbidrag",{"$f":"K20*'Blad 2 Indata'!C32/1000","v":0},{"$f":"L20*IF('Blad 2 Indata'!$O$4=1,'Blad 2 Indata'!D32/1000,'Blad 2 Indata'!D33/1000)","v":0},{"$f":"M20*IF('Blad 2 Indata'!$O$4=1,'Blad 2 Indata'!E32/1000,'Blad 2 Indata'!E33/1000)","v":0},{"$f":"N20*IF('Blad 2 Indata'!$O$4=1,'Blad 2 Indata'!F32/1000,'Blad 2 Indata'!F33/1000)","v":0},{"$f":"O20*IF('Blad 2 Indata'!$O$4=1,'Blad 2 Indata'!G32/1000,'Blad 2 Indata'!G33/1000)","v":0},{"$f":"P20*IF('Blad 2 Indata'!$O$4=1,'Blad 2 Indata'!H32/1000,'Blad 2 Indata'!H33/1000)","v":0},{"$f":"Q20*IF('Blad 2 Indata'!$O$4=1,'Blad 2 Indata'!I32/1000,'Blad 2 Indata'!I33/1000)","v":0},{"$f":"R20*IF('Blad 2 Indata'!$O$4=1,'Blad 2 Indata'!J32/1000,'Blad 2 Indata'!J33/1000)","v":0},null,{"$f":"'Blad 5 Strukturbidrag'!E7","v":0},{"$f":"'Blad 5 Strukturbidrag'!F7","v":0},{"$f":"'Blad 5 Strukturbidrag'!G7","v":0},{"$f":"'Blad 5 Strukturbidrag'!H7","v":0},{"$f":"'Blad 5 Strukturbidrag'!I7","v":0},{"$f":"'Blad 5 Strukturbidrag'!J7","v":0},{"$f":"'Blad 5 Strukturbidrag'!K7","v":0},{"$f":"'Blad 5 Strukturbidrag'!L7","v":0},{"$f":"#REF!","v":{"$error":"#REF!"}},{"$f":"S20","v":{"$error":"#REF!"}},{"$error":"#REF!"},{"$error":"#REF!"},{"$error":"#REF!"},{"$error":"#REF!"},{"$error":"#REF!"},{"$error":"#REF!"},{"$error":"#REF!"},{"$error":"#REF!"},{"$error":"#REF!"},{"$error":"#REF!"},{"$error":"#REF!"},{"$error":"#REF!"},{"$error":"#REF!"},{"$error":"#REF!"},{"$error":"#REF!"},{"$error":"#REF!"},{"$error":"#REF!"},{"$error":"#REF!"},{"$error":"#REF!"},{"$error":"#REF!"},{"$error":"#REF!"},{"$error":"#REF!"},{"$error":"#REF!"},{"$error":"#REF!"},{"$error":"#REF!"},{"$error":"#REF!"},{"$error":"#REF!"},{"$error":"#REF!"},{"$error":"#REF!"},{"$error":"#REF!"},{"$error":"#REF!"},{"$error":"#REF!"},{"$error":"#REF!"},{"$error":"#REF!"},{"$error":"#REF!"},{"$error":"#REF!"},{"$error":"#REF!"},{"$error":"#REF!"},{"$error":"#REF!"},{"$error":"#REF!"},{"$error":"#REF!"},{"$error":"#REF!"},{"$error":"#REF!"},{"$error":"#REF!"},{"$error":"#REF!"},{"$error":"#REF!"},{"$error":"#REF!"},{"$error":"#REF!"},{"$error":"#REF!"},{"$f":"BQ20","v":{"$error":"#REF!"}},{"$error":"#REF!"},{"$error":"#REF!"},{"$error":"#REF!"},{"$error":"#REF!"},{"$error":"#REF!"},{"$error":"#REF!"},{"$error":"#REF!"},{"$error":"#REF!"},{"$error":"#REF!"},{"$error":"#REF!"},{"$error":"#REF!"},{"$error":"#REF!"},{"$error":"#REF!"},{"$error":"#REF!"},{"$error":"#REF!"},{"$error":"#REF!"},{"$error":"#REF!"},{"$error":"#REF!"},{"$error":"#REF!"},{"$error":"#REF!"},{"$error":"#REF!"},{"$error":"#REF!"},{"$error":"#REF!"},{"$error":"#REF!"},{"$error":"#REF!"},{"$error":"#REF!"},{"$error":"#REF!"},{"$error":"#REF!"},{"$error":"#REF!"},{"$error":"#REF!"},{"$error":"#REF!"},{"$error":"#REF!"},{"$error":"#REF!"},{"$error":"#REF!"},{"$error":"#REF!"},{"$error":"#REF!"},{"$error":"#REF!"},{"$error":"#REF!"},{"$error":"#REF!"},{"$error":"#REF!"},{"$error":"#REF!"},{"$error":"#REF!"},{"$error":"#REF!"},{"$error":"#REF!"},{"$error":"#REF!"},{"$error":"#REF!"},{"$error":"#REF!"},{"$error":"#REF!"},{"$error":"#REF!"},{"$error":"#REF!"},{"$error":"#REF!"},{"$error":"#REF!"},{"$error":"#REF!"},{"$error":"#REF!"},{"$error":"#REF!"},{"$error":"#REF!"},{"$error":"#REF!"},{"$error":"#REF!"},{"$error":"#REF!"},{"$error":"#REF!"},{"$error":"#REF!"},{"$error":"#REF!"},{"$error":"#REF!"},{"$f":"EC20","v":{"$error":"#REF!"}},{"$error":"#REF!"},{"$error":"#REF!"},{"$error":"#REF!"},{"$error":"#REF!"},{"$error":"#REF!"},{"$error":"#REF!"},{"$error":"#REF!"},{"$error":"#REF!"},{"$error":"#REF!"},{"$error":"#REF!"},{"$error":"#REF!"},{"$error":"#REF!"},{"$error":"#REF!"},{"$error":"#REF!"},{"$error":"#REF!"},{"$error":"#REF!"},{"$error":"#REF!"},{"$error":"#REF!"},{"$error":"#REF!"},{"$error":"#REF!"},{"$error":"#REF!"},{"$error":"#REF!"},{"$error":"#REF!"},{"$error":"#REF!"},{"$error":"#REF!"},{"$error":"#REF!"},{"$error":"#REF!"},{"$error":"#REF!"},{"$error":"#REF!"},{"$error":"#REF!"},{"$error":"#REF!"},{"$error":"#REF!"},{"$error":"#REF!"},{"$error":"#REF!"},{"$error":"#REF!"},{"$error":"#REF!"},{"$error":"#REF!"},{"$error":"#REF!"},{"$error":"#REF!"},{"$error":"#REF!"},{"$error":"#REF!"},{"$error":"#REF!"},{"$error":"#REF!"},{"$error":"#REF!"},{"$error":"#REF!"},{"$error":"#REF!"},{"$error":"#REF!"},{"$error":"#REF!"},{"$error":"#REF!"},{"$error":"#REF!"},{"$error":"#REF!"},{"$error":"#REF!"},{"$error":"#REF!"},{"$error":"#REF!"},{"$error":"#REF!"},{"$error":"#REF!"},{"$error":"#REF!"},{"$error":"#REF!"},{"$error":"#REF!"},{"$error":"#REF!"},{"$error":"#REF!"},{"$error":"#REF!"},{"$error":"#REF!"},{"$f":"GO20","v":{"$error":"#REF!"}},{"$error":"#REF!"},{"$error":"#REF!"},{"$error":"#REF!"},{"$error":"#REF!"},{"$error":"#REF!"},{"$error":"#REF!"},{"$error":"#REF!"},{"$error":"#REF!"},{"$error":"#REF!"},{"$error":"#REF!"},{"$error":"#REF!"},{"$error":"#REF!"},{"$error":"#REF!"},{"$error":"#REF!"},{"$error":"#REF!"},{"$error":"#REF!"},{"$error":"#REF!"},{"$error":"#REF!"},{"$error":"#REF!"},{"$error":"#REF!"},{"$error":"#REF!"},{"$error":"#REF!"},{"$error":"#REF!"},{"$error":"#REF!"},{"$error":"#REF!"}]
[]
["Införandebidrag",{"$f":"K22*'Blad 2 Indata'!C32/1000","v":0},{"$f":"L22*IF('Blad 2 Indata'!$O$4=1,'Blad 2 Indata'!D32/1000,'Blad 2 Indata'!D33/1000)","v":0},{"$f":"M22*IF('Blad 2 Indata'!$O$4=1,'Blad 2 Indata'!E32/1000,'Blad 2 Indata'!E33/1000)","v":0},{"$f":"N22*IF('Blad 2 Indata'!$O$4=1,'Blad 2 Indata'!F32/1000,'Blad 2 Indata'!F33/1000)","v":0},{"$f":"O22*IF('Blad 2 Indata'!$O$4=1,'Blad 2 Indata'!G32/1000,'Blad 2 Indata'!G33/1000)","v":0},{"$f":"P22*IF('Blad 2 Indata'!$O$4=1,'Blad 2 Indata'!H32/1000,'Blad 2 Indata'!H33/1000)","v":0},{"$f":"Q22*IF('Blad 2 Indata'!$O$4=1,'Blad 2 Indata'!I32/1000,'Blad 2 Indata'!I33/1000)","v":0},{"$f":"R22*IF('Blad 2 Indata'!$O$4=1,'Blad 2 Indata'!J32/1000,'Blad 2 Indata'!J33/1000)","v":0},null,{"$f":"'Blad 5 Strukturbidrag'!E13","v":0},{"$f":"'Blad 5 Strukturbidrag'!F13","v":0},{"$f":"'Blad 5 Strukturbidrag'!G13","v":0},{"$f":"'Blad 5 Strukturbidrag'!H13","v":0},{"$f":"'Blad 5 Strukturbidrag'!I13","v":0},{"$f":"'Blad 5 Strukturbidrag'!J13","v":0},{"$f":"'Blad 5 Strukturbidrag'!K13","v":0},{"$f":"'Blad 5 Strukturbidrag'!L13","v":0},{"$f":"'Blad 5 Strukturbidrag'!#REF!","v":{"$error":"#REF!"}},{"$f":"'Blad 5 Strukturbidrag'!#REF!","v":{"$error":"#REF!"}},{"$f":"'Blad 5 Strukturbidrag'!#REF!","v":{"$error":"#REF!"}},{"$f":"'Blad 5 Strukturbidrag'!#REF!","v":{"$error":"#REF!"}},{"$f":"'Blad 5 Strukturbidrag'!#REF!","v":{"$error":"#REF!"}},{"$f":"'Blad 5 Strukturbidrag'!#REF!","v":{"$error":"#REF!"}},{"$f":"'Blad 5 Strukturbidrag'!#REF!","v":{"$error":"#REF!"}},{"$f":"'Blad 5 Strukturbidrag'!#REF!","v":{"$error":"#REF!"}},{"$f":"'Blad 5 Strukturbidrag'!#REF!","v":{"$error":"#REF!"}},{"$f":"'Blad 5 Strukturbidrag'!#REF!","v":{"$error":"#REF!"}},{"$f":"'Blad 5 Strukturbidrag'!#REF!","v":{"$error":"#REF!"}},{"$f":"'Blad 5 Strukturbidrag'!#REF!","v":{"$error":"#REF!"}},{"$f":"'Blad 5 Strukturbidrag'!#REF!","v":{"$error":"#REF!"}},{"$f":"'Blad 5 Strukturbidrag'!#REF!","v":{"$error":"#REF!"}},{"$f":"'Blad 5 Strukturbidrag'!#REF!","v":{"$error":"#REF!"}},{"$f":"'Blad 5 Strukturbidrag'!#REF!","v":{"$error":"#REF!"}},{"$f":"'Blad 5 Strukturbidrag'!#REF!","v":{"$error":"#REF!"}},{"$f":"'Blad 5 Strukturbidrag'!#REF!","v":{"$error":"#REF!"}},{"$f":"'Blad 5 Strukturbidrag'!#REF!","v":{"$error":"#REF!"}},{"$f":"'Blad 5 Strukturbidrag'!#REF!","v":{"$error":"#REF!"}},{"$f":"'Blad 5 Strukturbidrag'!#REF!","v":{"$error":"#REF!"}},{"$f":"'Blad 5 Strukturbidrag'!#REF!","v":{"$error":"#REF!"}},{"$f":"'Blad 5 Strukturbidrag'!#REF!","v":{"$error":"#REF!"}},{"$f":"'Blad 5 Strukturbidrag'!#REF!","v":{"$error":"#REF!"}},{"$f":"'Blad 5 Strukturbidrag'!#REF!","v":{"$error":"#REF!"}},{"$f":"'Blad 5 Strukturbidrag'!#REF!","v":{"$error":"#REF!"}},{"$f":"'Blad 5 Strukturbidrag'!#REF!","v":{"$error":"#REF!"}},{"$f":"'Blad 5 Strukturbidrag'!#REF!","v":{"$error":"#REF!"}},{"$f":"'Blad 5 Strukturbidrag'!#REF!","v":{"$error":"#REF!"}},{"$f":"'Blad 5 Strukturbidrag'!#REF!","v":{"$error":"#REF!"}},{"$f":"'Blad 5 Strukturbidrag'!#REF!","v":{"$error":"#REF!"}},{"$f":"'Blad 5 Strukturbidrag'!#REF!","v":{"$error":"#REF!"}},{"$f":"'Blad 5 Strukturbidrag'!#REF!","v":{"$error":"#REF!"}},{"$f":"'Blad 5 Strukturbidrag'!#REF!","v":{"$error":"#REF!"}},{"$f":"'Blad 5 Strukturbidrag'!#REF!","v":{"$error":"#REF!"}},{"$f":"'Blad 5 Strukturbidrag'!#REF!","v":{"$error":"#REF!"}},{"$f":"'Blad 5 Strukturbidrag'!#REF!","v":{"$error":"#REF!"}},{"$f":"'Blad 5 Strukturbidrag'!#REF!","v":{"$error":"#REF!"}},{"$f":"'Blad 5 Strukturbidrag'!#REF!","v":{"$error":"#REF!"}},{"$f":"'Blad 5 Strukturbidrag'!#REF!","v":{"$error":"#REF!"}},{"$f":"'Blad 5 Strukturbidrag'!#REF!","v":{"$error":"#REF!"}},{"$f":"'Blad 5 Strukturbidrag'!#REF!","v":{"$error":"#REF!"}},{"$f":"'Blad 5 Strukturbidrag'!#REF!","v":{"$error":"#REF!"}},{"$f":"'Blad 5 Strukturbidrag'!#REF!","v":{"$error":"#REF!"}},{"$f":"'Blad 5 Strukturbidrag'!#REF!","v":{"$error":"#REF!"}},{"$f":"'Blad 5 Strukturbidrag'!#REF!","v":{"$error":"#REF!"}},{"$f":"'Blad 5 Strukturbidrag'!#REF!","v":{"$error":"#REF!"}},{"$f":"'Blad 5 Strukturbidrag'!#REF!","v":{"$error":"#REF!"}},{"$f":"'Blad 5 Strukturbidrag'!#REF!","v":{"$error":"#REF!"}},{"$f":"'Blad 5 Strukturbidrag'!#REF!","v":{"$error":"#REF!"}},{"$f":"'Blad 5 Strukturbidrag'!#REF!","v":{"$error":"#REF!"}},{"$f":"'Blad 5 Strukturbidrag'!#REF!","v":{"$error":"#REF!"}},{"$f":"'Blad 5 Strukturbidrag'!#REF!","v":{"$error":"#REF!"}},{"$f":"'Blad 5 Strukturbidrag'!#REF!","v":{"$error":"#REF!"}},{"$f":"'Blad 5 Strukturbidrag'!#REF!","v":{"$error":"#REF!"}},{"$f":"'Blad 5 Strukturbidrag'!#REF!","v":{"$error":"#REF!"}},{"$f":"'Blad 5 Strukturbidrag'!#REF!","v":{"$error":"#REF!"}},{"$f":"'Blad 5 Strukturbidrag'!#REF!","v":{"$error":"#REF!"}},{"$f":"'Blad 5 Strukturbidrag'!#REF!","v":{"$error":"#REF!"}},{"$f":"'Blad 5 Strukturbidrag'!#REF!","v":{"$error":"#REF!"}},{"$f":"'Blad 5 Strukturbidrag'!#REF!","v":{"$error":"#REF!"}},{"$f":"'Blad 5 Strukturbidrag'!#REF!","v":{"$error":"#REF!"}},{"$f":"'Blad 5 Strukturbidrag'!#REF!","v":{"$error":"#REF!"}},{"$f":"'Blad 5 Strukturbidrag'!#REF!","v":{"$error":"#REF!"}},{"$f":"'Blad 5 Strukturbidrag'!#REF!","v":{"$error":"#REF!"}},{"$f":"'Blad 5 Strukturbidrag'!#REF!","v":{"$error":"#REF!"}},{"$f":"'Blad 5 Strukturbidrag'!#REF!","v":{"$error":"#REF!"}},{"$f":"'Blad 5 Strukturbidrag'!#REF!","v":{"$error":"#REF!"}},{"$f":"'Blad 5 Strukturbidrag'!#REF!","v":{"$error":"#REF!"}},{"$f":"'Blad 5 Strukturbidrag'!#REF!","v":{"$error":"#REF!"}},{"$f":"'Blad 5 Strukturbidrag'!#REF!","v":{"$error":"#REF!"}},{"$f":"'Blad 5 Strukturbidrag'!#REF!","v":{"$error":"#REF!"}},{"$f":"'Blad 5 Strukturbidrag'!#REF!","v":{"$error":"#REF!"}},{"$f":"'Blad 5 Strukturbidrag'!#REF!","v":{"$error":"#REF!"}},{"$f":"'Blad 5 Strukturbidrag'!#REF!","v":{"$error":"#REF!"}},{"$f":"'Blad 5 Strukturbidrag'!#REF!","v":{"$error":"#REF!"}},{"$f":"'Blad 5 Strukturbidrag'!#REF!","v":{"$error":"#REF!"}},{"$f":"'Blad 5 Strukturbidrag'!#REF!","v":{"$error":"#REF!"}},{"$f":"'Blad 5 Strukturbidrag'!#REF!","v":{"$error":"#REF!"}},{"$f":"'Blad 5 Strukturbidrag'!#REF!","v":{"$error":"#REF!"}},{"$f":"'Blad 5 Strukturbidrag'!#REF!","v":{"$error":"#REF!"}},{"$f":"'Blad 5 Strukturbidrag'!#REF!","v":{"$error":"#REF!"}},{"$f":"'Blad 5 Strukturbidrag'!#REF!","v":{"$error":"#REF!"}},{"$f":"'Blad 5 Strukturbidrag'!#REF!","v":{"$error":"#REF!"}},{"$f":"'Blad 5 Strukturbidrag'!#REF!","v":{"$error":"#REF!"}},{"$f":"'Blad 5 Strukturbidrag'!#REF!","v":{"$error":"#REF!"}},{"$f":"'Blad 5 Strukturbidrag'!#REF!","v":{"$error":"#REF!"}},{"$f":"'Blad 5 Strukturbidrag'!#REF!","v":{"$error":"#REF!"}},{"$f":"'Blad 5 Strukturbidrag'!#REF!","v":{"$error":"#REF!"}},{"$f":"'Blad 5 Strukturbidrag'!#REF!","v":{"$error":"#REF!"}},{"$f":"'Blad 5 Strukturbidrag'!#REF!","v":{"$error":"#REF!"}},{"$f":"'Blad 5 Strukturbidrag'!#REF!","v":{"$error":"#REF!"}},{"$f":"'Blad 5 Strukturbidrag'!#REF!","v":{"$error":"#REF!"}},{"$f":"'Blad 5 Strukturbidrag'!#REF!","v":{"$error":"#REF!"}},{"$f":"'Blad 5 Strukturbidrag'!#REF!","v":{"$error":"#REF!"}},{"$f":"'Blad 5 Strukturbidrag'!#REF!","v":{"$error":"#REF!"}},{"$f":"'Blad 5 Strukturbidrag'!#REF!","v":{"$error":"#REF!"}},{"$f":"'Blad 5 Strukturbidrag'!#REF!","v":{"$error":"#REF!"}},{"$f":"'Blad 5 Strukturbidrag'!#REF!","v":{"$error":"#REF!"}},{"$f":"'Blad 5 Strukturbidrag'!#REF!","v":{"$error":"#REF!"}},{"$f":"'Blad 5 Strukturbidrag'!#REF!","v":{"$error":"#REF!"}},{"$f":"'Blad 5 Strukturbidrag'!#REF!","v":{"$error":"#REF!"}},{"$f":"'Blad 5 Strukturbidrag'!#REF!","v":{"$error":"#REF!"}},{"$f":"'Blad 5 Strukturbidrag'!#REF!","v":{"$error":"#REF!"}},{"$f":"'Blad 5 Strukturbidrag'!#REF!","v":{"$error":"#REF!"}},{"$f":"'Blad 5 Strukturbidrag'!#REF!","v":{"$error":"#REF!"}},{"$f":"'Blad 5 Strukturbidrag'!#REF!","v":{"$error":"#REF!"}},{"$f":"'Blad 5 Strukturbidrag'!#REF!","v":{"$error":"#REF!"}},{"$f":"'Blad 5 Strukturbidrag'!#REF!","v":{"$error":"#REF!"}},{"$f":"'Blad 5 Strukturbidrag'!#REF!","v":{"$error":"#REF!"}},{"$f":"'Blad 5 Strukturbidrag'!#REF!","v":{"$error":"#REF!"}},{"$f":"'Blad 5 Strukturbidrag'!#REF!","v":{"$error":"#REF!"}},{"$f":"'Blad 5 Strukturbidrag'!#REF!","v":{"$error":"#REF!"}},{"$f":"'Blad 5 Strukturbidrag'!#REF!","v":{"$error":"#REF!"}},{"$f":"'Blad 5 Strukturbidrag'!#REF!","v":{"$error":"#REF!"}},{"$f":"'Blad 5 Strukturbidrag'!#REF!","v":{"$error":"#REF!"}},{"$f":"'Blad 5 Strukturbidrag'!#REF!","v":{"$error":"#REF!"}},{"$f":"'Blad 5 Strukturbidrag'!#REF!","v":{"$error":"#REF!"}},{"$f":"'Blad 5 Strukturbidrag'!#REF!","v":{"$error":"#REF!"}},{"$f":"'Blad 5 Strukturbidrag'!#REF!","v":{"$error":"#REF!"}},{"$f":"'Blad 5 Strukturbidrag'!#REF!","v":{"$error":"#REF!"}},{"$f":"'Blad 5 Strukturbidrag'!#REF!","v":{"$error":"#REF!"}},{"$f":"'Blad 5 Strukturbidrag'!#REF!","v":{"$error":"#REF!"}},{"$f":"'Blad 5 Strukturbidrag'!#REF!","v":{"$error":"#REF!"}},{"$f":"'Blad 5 Strukturbidrag'!#REF!","v":{"$error":"#REF!"}},{"$f":"'Blad 5 Strukturbidrag'!#REF!","v":{"$error":"#REF!"}},{"$f":"'Blad 5 Strukturbidrag'!#REF!","v":{"$error":"#REF!"}},{"$f":"'Blad 5 Strukturbidrag'!#REF!","v":{"$error":"#REF!"}},{"$f":"'Blad 5 Strukturbidrag'!#REF!","v":{"$error":"#REF!"}},{"$f":"'Blad 5 Strukturbidrag'!#REF!","v":{"$error":"#REF!"}},{"$f":"'Blad 5 Strukturbidrag'!#REF!","v":{"$error":"#REF!"}},{"$f":"'Blad 5 Strukturbidrag'!#REF!","v":{"$error":"#REF!"}},{"$f":"'Blad 5 Strukturbidrag'!#REF!","v":{"$error":"#REF!"}},{"$f":"'Blad 5 Strukturbidrag'!#REF!","v":{"$error":"#REF!"}},{"$f":"'Blad 5 Strukturbidrag'!#REF!","v":{"$error":"#REF!"}},{"$f":"'Blad 5 Strukturbidrag'!#REF!","v":{"$error":"#REF!"}},{"$f":"'Blad 5 Strukturbidrag'!#REF!","v":{"$error":"#REF!"}},{"$f":"'Blad 5 Strukturbidrag'!#REF!","v":{"$error":"#REF!"}},{"$f":"'Blad 5 Strukturbidrag'!#REF!","v":{"$error":"#REF!"}},{"$f":"'Blad 5 Strukturbidrag'!#REF!","v":{"$error":"#REF!"}},{"$f":"'Blad 5 Strukturbidrag'!#REF!","v":{"$error":"#REF!"}},{"$f":"'Blad 5 Strukturbidrag'!#REF!","v":{"$error":"#REF!"}},{"$f":"'Blad 5 Strukturbidrag'!#REF!","v":{"$error":"#REF!"}},{"$f":"'Blad 5 Strukturbidrag'!#REF!","v":{"$error":"#REF!"}},{"$f":"'Blad 5 Strukturbidrag'!#REF!","v":{"$error":"#REF!"}},{"$f":"'Blad 5 Strukturbidrag'!#REF!","v":{"$error":"#REF!"}},{"$f":"'Blad 5 Strukturbidrag'!#REF!","v":{"$error":"#REF!"}},{"$f":"'Blad 5 Strukturbidrag'!#REF!","v":{"$error":"#REF!"}},{"$f":"'Blad 5 Strukturbidrag'!#REF!","v":{"$error":"#REF!"}},{"$f":"'Blad 5 Strukturbidrag'!#REF!","v":{"$error":"#REF!"}},{"$f":"'Blad 5 Strukturbidrag'!#REF!","v":{"$error":"#REF!"}},{"$f":"'Blad 5 Strukturbidrag'!#REF!","v":{"$error":"#REF!"}},{"$f":"'Blad 5 Strukturbidrag'!#REF!","v":{"$error":"#REF!"}},{"$f":"'Blad 5 Strukturbidrag'!#REF!","v":{"$error":"#REF!"}},{"$f":"'Blad 5 Strukturbidrag'!#REF!","v":{"$error":"#REF!"}},{"$f":"'Blad 5 Strukturbidrag'!#REF!","v":{"$error":"#REF!"}},{"$f":"'Blad 5 Strukturbidrag'!#REF!","v":{"$error":"#REF!"}},{"$f":"'Blad 5 Strukturbidrag'!#REF!","v":{"$error":"#REF!"}},{"$f":"'Blad 5 Strukturbidrag'!#REF!","v":{"$error":"#REF!"}},{"$f":"'Blad 5 Strukturbidrag'!#REF!","v":{"$error":"#REF!"}},{"$f":"'Blad 5 Strukturbidrag'!#REF!","v":{"$error":"#REF!"}},{"$f":"'Blad 5 Strukturbidrag'!#REF!","v":{"$error":"#REF!"}},{"$f":"'Blad 5 Strukturbidrag'!#REF!","v":{"$error":"#REF!"}},{"$f":"'Blad 5 Strukturbidrag'!#REF!","v":{"$error":"#REF!"}},{"$f":"'Blad 5 Strukturbidrag'!#REF!","v":{"$error":"#REF!"}},{"$f":"'Blad 5 Strukturbidrag'!#REF!","v":{"$error":"#REF!"}},{"$f":"'Blad 5 Strukturbidrag'!#REF!","v":{"$error":"#REF!"}},{"$f":"'Blad 5 Strukturbidrag'!#REF!","v":{"$error":"#REF!"}},{"$f":"'Blad 5 Strukturbidrag'!#REF!","v":{"$error":"#REF!"}},{"$f":"'Blad 5 Strukturbidrag'!#REF!","v":{"$error":"#REF!"}},{"$f":"'Blad 5 Strukturbidrag'!#REF!","v":{"$error":"#REF!"}},{"$f":"'Blad 5 Strukturbidrag'!#REF!","v":{"$error":"#REF!"}},{"$f":"'Blad 5 Strukturbidrag'!#REF!","v":{"$error":"#REF!"}},{"$f":"'Blad 5 Strukturbidrag'!#REF!","v":{"$error":"#REF!"}},{"$f":"'Blad 5 Strukturbidrag'!#REF!","v":{"$error":"#REF!"}},{"$f":"'Blad 5 Strukturbidrag'!#REF!","v":{"$error":"#REF!"}},{"$f":"'Blad 5 Strukturbidrag'!#REF!","v":{"$error":"#REF!"}},{"$f":"'Blad 5 Strukturbidrag'!#REF!","v":{"$error":"#REF!"}},{"$f":"'Blad 5 Strukturbidrag'!#REF!","v":{"$error":"#REF!"}},{"$f":"'Blad 5 Strukturbidrag'!#REF!","v":{"$error":"#REF!"}},{"$f":"'Blad 5 Strukturbidrag'!#REF!","v":{"$error":"#REF!"}},{"$f":"'Blad 5 Strukturbidrag'!#REF!","v":{"$error":"#REF!"}},{"$f":"'Blad 5 Strukturbidrag'!#REF!","v":{"$error":"#REF!"}},{"$f":"'Blad 5 Strukturbidrag'!#REF!","v":{"$error":"#REF!"}},{"$f":"'Blad 5 Strukturbidrag'!#REF!","v":{"$error":"#REF!"}},{"$f":"'Blad 5 Strukturbidrag'!#REF!","v":{"$error":"#REF!"}},{"$f":"'Blad 5 Strukturbidrag'!#REF!","v":{"$error":"#REF!"}},{"$f":"'Blad 5 Strukturbidrag'!#REF!","v":{"$error":"#REF!"}},{"$f":"'Blad 5 Strukturbidrag'!#REF!","v":{"$error":"#REF!"}},{"$f":"'Blad 5 Strukturbidrag'!#REF!","v":{"$error":"#REF!"}},{"$f":"'Blad 5 Strukturbidrag'!#REF!","v":{"$error":"#REF!"}},{"$f":"'Blad 5 Strukturbidrag'!#REF!","v":{"$error":"#REF!"}},{"$f":"'Blad 5 Strukturbidrag'!#REF!","v":{"$error":"#REF!"}},{"$f":"'Blad 5 Strukturbidrag'!#REF!","v":{"$error":"#REF!"}},{"$f":"'Blad 5 Strukturbidrag'!#REF!","v":{"$error":"#REF!"}},{"$f":"'Blad 5 Strukturbidrag'!#REF!","v":{"$error":"#REF!"}},{"$f":"'Blad 5 Strukturbidrag'!#REF!","v":{"$error":"#REF!"}},{"$f":"'Blad 5 Strukturbidrag'!#REF!","v":{"$error":"#REF!"}},{"$f":"'Blad 5 Strukturbidrag'!#REF!","v":{"$error":"#REF!"}},{"$f":"'Blad 5 Strukturbidrag'!#REF!","v":{"$error":"#REF!"}},{"$f":"'Blad 5 Strukturbidrag'!#REF!","v":{"$error":"#REF!"}},{"$f":"'Blad 5 Strukturbidrag'!#REF!","v":{"$error":"#REF!"}},{"$f":"'Blad 5 Strukturbidrag'!#REF!","v":{"$error":"#REF!"}},{"$f":"'Blad 5 Strukturbidrag'!#REF!","v":{"$error":"#REF!"}},{"$f":"'Blad 5 Strukturbidrag'!#REF!","v":{"$error":"#REF!"}}]
[]
["Summa intäkter",{"$f":"SUM(B12,B14,B16,B18,B20,B22)","v":0},{"$f":"SUM(C12,C14,C16,C18,C20,C22)","v":0},0,0,0,0,0,0,null,{"$f":"SUM(K12,K14,K16,K18,K20,K22)","v":647.5538912803022},289.35634285190685,140.29626642539324,-19.576928588295068,-196.70375179361247,-370.69990350903652,-546.31067571367919,-712.81410865206658,{"$f":"SUM(S12,S14,S16,S20,S18,S20,S22)","v":{"$error":"#REF!"}},{"$error":"#REF!"},{"$error":"#REF!"},{"$error":"#REF!"},{"$error":"#REF!"},{"$error":"#REF!"},{"$error":"#REF!"},{"$error":"#REF!"},{"$error":"#REF!"},{"$error":"#REF!"},{"$error":"#REF!"},{"$error":"#REF!"},{"$error":"#REF!"},{"$error":"#REF!"},{"$error":"#REF!"},{"$error":"#REF!"},{"$error":"#REF!"},{"$error":"#REF!"},{"$error":"#REF!"},{"$error":"#REF!"},{"$error":"#REF!"},{"$error":"#REF!"},{"$error":"#REF!"},{"$error":"#REF!"},{"$error":"#REF!"},{"$error":"#REF!"},{"$error":"#REF!"},{"$error":"#REF!"},{"$error":"#REF!"},{"$error":"#REF!"},{"$error":"#REF!"},{"$error":"#REF!"},{"$error":"#REF!"},{"$error":"#REF!"},{"$error":"#REF!"},{"$error":"#REF!"},{"$error":"#REF!"},{"$error":"#REF!"},{"$error":"#REF!"},{"$error":"#REF!"},{"$f":"SUM(BG12,BG14,BG16,BG20,BG18,BG20,BG22)","v":{"$error":"#REF!"}},{"$error":"#REF!"},{"$error":"#REF!"},{"$error":"#REF!"},{"$error":"#REF!"},{"$error":"#REF!"},{"$error":"#REF!"},{"$error":"#REF!"},{"$error":"#REF!"},{"$error":"#REF!"},{"$error":"#REF!"},{"$error":"#REF!"},{"$error":"#REF!"},{"$error":"#REF!"},{"$error":"#REF!"},{"$error":"#REF!"},{"$error":"#REF!"},{"$error":"#REF!"},{"$error":"#REF!"},{"$error":"#REF!"},{"$error":"#REF!"},{"$error":"#REF!"},{"$error":"#REF!"},{"$error":"#REF!"},{"$error":"#REF!"},{"$error":"#REF!"},{"$error":"#REF!"},{"$error":"#REF!"},{"$error":"#REF!"},{"$error":"#REF!"},{"$error":"#REF!"},{"$error":"#REF!"},{"$error":"#REF!"},{"$error":"#REF!"},{"$error":"#REF!"},{"$error":"#REF!"},{"$error":"#REF!"},{"$error":"#REF!"},{"$error":"#REF!"},{"$error":"#REF!"},{"$error":"#REF!"},{"$error":"#REF!"},{"$error":"#REF!"},{"$error":"#REF!"},{"$error":"#REF!"},{"$error":"#REF!"},{"$error":"#REF!"},{"$error":"#REF!"},{"$error":"#REF!"},{"$error":"#REF!"},{"$error":"#REF!"},{"$error":"#REF!"},{"$error":"#REF!"},{"$error":"#REF!"},{"$error":"#REF!"},{"$error":"#REF!"},{"$error":"#REF!"},{"$error":"#REF!"},{"$error":"#REF!"},{"$error":"#REF!"},{"$error":"#REF!"},{"$error":"#REF!"},{"$error":"#REF!"},{"$error":"#REF!"},{"$f":"SUM(DS12,DS14,DS16,DS20,DS18,DS20,DS22)","v":{"$error":"#REF!"}},{"$error":"#REF!"},{"$error":"#REF!"},{"$error":"#REF!"},{"$error":"#REF!"},{"$error":"#REF!"},{"$error":"#REF!"},{"$error":"#REF!"},{"$error":"#REF!"},{"$error":"#REF!"},{"$error":"#REF!"},{"$error":"#REF!"},{"$error":"#REF!"},{"$error":"#REF!"},{"$error":"#REF!"},{"$error":"#REF!"},{"$error":"#REF!"},{"$error":"#REF!"},{"$error":"#REF!"},{"$error":"#REF!"},{"$error":"#REF!"},{"$error":"#REF!"},{"$error":"#REF!"},{"$error":"#REF!"},{"$error":"#REF!"},{"$error":"#REF!"},{"$error":"#REF!"},{"$error":"#REF!"},{"$error":"#REF!"},{"$error":"#REF!"},{"$error":"#REF!"},{"$error":"#REF!"},{"$error":"#REF!"},{"$error":"#REF!"},{"$error":"#REF!"},{"$error":"#REF!"},{"$error":"#REF!"},{"$error":"#REF!"},{"$error":"#REF!"},{"$error":"#REF!"},{"$error":"#REF!"},{"$error":"#REF!"},{"$error":"#REF!"},{"$error":"#REF!"},{"$error":"#REF!"},{"$error":"#REF!"},{"$error":"#REF!"},{"$error":"#REF!"},{"$error":"#REF!"},{"$error":"#REF!"},{"$error":"#REF!"},{"$error":"#REF!"},{"$error":"#REF!"},{"$error":"#REF!"},{"$error":"#REF!"},{"$error":"#REF!"},{"$error":"#REF!"},{"$error":"#REF!"},{"$error":"#REF!"},{"$error":"#REF!"},{"$error":"#REF!"},{"$error":"#REF!"},{"$error":"#REF!"},{"$error":"#REF!"},{"$f":"SUM(GE12,GE14,GE16,GE20,GE18,GE20,GE22)","v":{"$error":"#REF!"}},{"$error":"#REF!"},{"$error":"#REF!"},{"$error":"#REF!"},{"$error":"#REF!"},{"$error":"#REF!"},{"$error":"#REF!"},{"$error":"#REF!"},{"$error":"#REF!"},{"$error":"#REF!"},{"$error":"#REF!"},{"$error":"#REF!"},{"$error":"#REF!"},{"$error":"#REF!"},{"$error":"#REF!"},{"$error":"#REF!"},{"$error":"#REF!"},{"$error":"#REF!"},{"$error":"#REF!"},{"$error":"#REF!"},{"$error":"#REF!"},{"$error":"#REF!"},{"$error":"#REF!"},{"$error":"#REF!"},{"$error":"#REF!"},{"$error":"#REF!"},{"$error":"#REF!"},{"$error":"#REF!"},{"$error":"#REF!"},{"$error":"#REF!"},{"$error":"#REF!"},{"$error":"#REF!"},{"$error":"#REF!"},{"$error":"#REF!"},{"$error":"#REF!"},{"$error":"#REF!"},{"$error":"#REF!"}]
[]
[{"$f":"\"Slutavräkning \"&B9-1&\" korrigering\"","v":"Slutavräkning 2023 korrigering"},{"$f":"(K26*'Blad 2 Indata'!B32)/1000","v":0},null,null,null,null,null,null,null,null,{"$f":"'Blad 8 Periodisering'!I32","v":0}]
[]
[{"$f":"\"Slutavräkning \"&B9","v":"Slutavräkning 2024"},{"$f":"(K28*'Blad 2 Indata'!C32)/1000","v":0},{"$f":"(L28*'Blad 2 Indata'!C32)/1000","v":0},null,null,null,null,null,null,null,{"$f":"'Blad 8 Periodisering'!G32","v":0},{"$f":"'Blad 8 Periodisering'!Q20","v":-4.6409986964590644E-9}]
[]
[{"$f":"\"Slutavräkning \"&C9","v":"Slutavräkning 2025"},null,{"$f":"IF('Blad 2 Indata'!O4=1,(L30*'Blad 2 Indata'!D32)/1000,L30*'Blad 2 Indata'!D33/1000)","v":0},null,null,null,null,null,null,null,null,{"$f":"'Blad 8 Periodisering'!O20","v":0}]
[]
["Summa intäkter (inkl. avräkning)",{"$f":"B24+B26+B28+B30","v":0},0,0,0,0,0,{"$f":"H24+H26+H28+H30","v":0},{"$f":"I24+I26+I28+I30","v":0},null,{"$f":"K24+K26+K28+K30","v":647.5538912803022},289.35634284726586,140.29626642539324,-19.576928588295068,-196.70375179361247,-370.69990350903652,{"$f":"Q24+Q26+Q28+Q30","v":-546.31067571367919},{"$f":"R24+R26+R28+R30","v":-712.81410865206658}]
[]
["Varav summa skatteintäkter",{"$f":"B12+B26+B28","v":0},{"$f":"C12+C26+C28+C30","v":0},{"$f":"D12+D26+D28","v":0},0,0,0,0,0,null,{"$f":"K12+K26+K28","v":0},{"$f":"L12+L26+L28+L30","v":-4.6409986964590644E-9},{"$f":"M12+M26+M28","v":0},0,0,0,0,0]

{"sheet":"Blad 2 Indata","index":4,"n_rows":77,"n_cols":22,"rows_kept":77,"cut":false,"hidden":true,"merged":[]}
["Indata",{"$f":"Prognosunderlag!B1","v":0},{"$f":"IF(B1>0,\" \",\"Skriv in länets kod i cellen B1\")","v":"Skriv in länets kod i cellen B1"},null,null,null,null,null,null,null,null,null,"SKR",null,"Trend",null,"Senaste utfall",null,"Oförändrat",null,"Oförändrad","Ej värdesäkrat"]
[{"$f":"IF(ISERROR(VLOOKUP(B1,Data!A2:V291,2)),\"\",(VLOOKUP(B1,Data!A2:V291,2)))","v":""},null,null,null,null,null,null,null,null,null,null,null,"Egen prognos",null,"Egen prognos",null,"Fungerar ej",null,"Egen prognos",null,"Förändrad","Värdesäkrat"]
[null,{"$f":"'Blad 1 Totala intäkter'!B9-1","v":2023},{"$f":"B3+1","v":2024},2025,2026,2027,2028,2029,2030,2031,null,null,1,null,null,1,1,null,1,null,1,1]
[null,null,null,null,null,null,null,null,null,null,null,null,null,null,1]
["Uppräkningsfaktorer"]
["Rikets skatteunderlag, %"]
[{"$f":"\"Fastställt för \"&C3","v":"Fastställt för 2024"},4.5999999999999996,3.3,null," "]
[{"$f":"\"Fastställt för \"&D3","v":"Fastställt för 2025"}]
["Sveriges Kommuner och Regioners prognos",5.0626851060251665,2.730090120902795,4.8677870568163861,4.1621836122576861,4.0149033704721226,4.082761123581724,4.0820799830627141,3.9778387341976806,3.6633313430403325]
["Egna antaganden"]
[{"$f":"\"Beskattningsutfall inkomstår \"&B3","v":"Beskattningsutfall inkomstår 2023"},{"$f":"(IF(C21>0,(C21/B21-1)*100,0))","v":0}]
[{"$f":"\"Prognos slutavräkning bokslut \"&B3&\" och \"&C3","v":"Prognos slutavräkning bokslut 2023 och 2024"},5.2379586925619401]
[]
["Länets skatteunderlag, %"]
["Riksprognos",{"$f":"IF(B18<>0,B18,IF('Blad 2 Indata'!$M3=1,'Blad 2 Indata'!B9,'Blad 2 Indata'!B10))","v":5.0626851060251665},{"$f":"IF('Blad 2 Indata'!$M3=1,'Blad 2 Indata'!C9,'Blad 2 Indata'!C10)","v":2.730090120902795},{"$f":"IF('Blad 2 Indata'!$M3=1,'Blad 2 Indata'!D9,'Blad 2 Indata'!D10)","v":4.8677870568163861},{"$f":"IF('Blad 2 Indata'!$M3=1,'Blad 2 Indata'!E9,'Blad 2 Indata'!E10)","v":4.1621836122576861},{"$f":"IF('Blad 2 Indata'!$M3=1,'Blad 2 Indata'!F9,'Blad 2 Indata'!F10)","v":4.0149033704721226},{"$f":"IF('Blad 2 Indata'!$M3=1,'Blad 2 Indata'!G9,'Blad 2 Indata'!G10)","v":4.082761123581724},{"$f":"IF('Blad 2 Indata'!$M3=1,'Blad 2 Indata'!H9,'Blad 2 Indata'!H10)","v":4.0820799830627141},{"$f":"IF('Blad 2 Indata'!$M3=1,'Blad 2 Indata'!I9,'Blad 2 Indata'!I10)","v":3.9778387341976806},{"$f":"IF('Blad 2 Indata'!$M3=1,'Blad 2 Indata'!J9,'Blad 2 Indata'!J10)","v":3.6633313430403325}]
["Enligt trend",{"$f":"IF(ISERROR((VLOOKUP($B1,'Blad 8 Periodisering'!$A51:$M72,3)-1)*100),0,VLOOKUP($B1,'Blad 8 Periodisering'!$A51:$M72,3)-1)*100","v":0},{"$f":"IF(ISERROR((VLOOKUP($B1,'Blad 8 Periodisering'!$A51:$M72,5)-1)*100),0,VLOOKUP($B1,'Blad 8 Periodisering'!$A51:$M72,5)-1)*100","v":0},{"$f":"IF(ISERROR((VLOOKUP($B1,'Blad 8 Periodisering'!$A51:$M72,7)-1)*100),0,VLOOKUP($B1,'Blad 8 Periodisering'!$A51:$M72,7)-1)*100","v":0},{"$f":"IF(ISERROR((VLOOKUP($B1,'Blad 8 Periodisering'!$A51:$M72,9)-1)*100),0,VLOOKUP($B1,'Blad 8 Periodisering'!$A51:$M72,9)-1)*100","v":0},{"$f":"IF(ISERROR((VLOOKUP($B1,'Blad 8 Periodisering'!$A51:$M72,11)-1)*100),0,VLOOKUP($B1,'Blad 8 Periodisering'!$A51:$M72,11)-1)*100","v":0},{"$f":"IF(ISERROR((VLOOKUP($B1,'Blad 8 Periodisering'!$A51:$M72,13)-1)*100),0,VLOOKUP($B1,'Blad 8 Periodisering'!$A51:$M72,13)-1)*100","v":0},{"$f":"IF(ISERROR((VLOOKUP($B1,'Blad 8 Periodisering'!$A51:$AY72,15)-1)*100),0,VLOOKUP($B1,'Blad 8 Periodisering'!$A51:$AY72,15)-1)*100","v":0},{"$f":"IF(ISERROR((VLOOKUP($B1,'Blad 8 Periodisering'!$A51:$AY72,17)-1)*100),0,VLOOKUP($B1,'Blad 8 Periodisering'!$A51:$AY72,17)-1)*100","v":0},{"$f":"IF(ISERROR((VLOOKUP($B1,'Blad 8 Periodisering'!$A51:$AY72,19)-1)*100),0,VLOOKUP($B1,'Blad 8 Periodisering'!$A51:$AY72,19)-1)*100","v":0}]
["Egna antaganden",{"$f":"B16","v":0},{"$f":"C16","v":0},{"$f":"IF($B$1=0,0,IF(D33=0,D15,IF(ISERROR(VLOOKUP($B$1,'Blad 8 Periodisering'!$A$218:$M$238,3)-1)*100,0,(VLOOKUP($B$1,'Blad 8 Periodisering'!$A$218:$M$238,3)-1)*100)))","v":0},{"$f":"IF($B$1=0,0,IF(E33=0,E15,IF(ISERROR(VLOOKUP($B$1,'Blad 8 Periodisering'!$A$218:$M$238,5)-1)*100,0,(VLOOKUP($B$1,'Blad 8 Periodisering'!$A$218:$M$238,5)-1)*100)))","v":0},{"$f":"IF($B$1=0,0,IF(F33=0,F15,IF(ISERROR(VLOOKUP($B$1,'Blad 8 Periodisering'!$A$218:$M$238,7)-1)*100,0,(VLOOKUP($B$1,'Blad 8 Periodisering'!$A$218:$M$238,7)-1)*100)))","v":0},{"$f":"IF($B$1=0,0,IF(G33=0,G15,IF(ISERROR(VLOOKUP($B$1,'Blad 8 Periodisering'!$A$218:$M$238,9)-1)*100,0,(VLOOKUP($B$1,'Blad 8 Periodisering'!$A$218:$M$238,9)-1)*100)))","v":0},{"$f":"IF($B$1=0,0,IF(H33=0,H15,IF(ISERROR(VLOOKUP($B$1,'Blad 8 Periodisering'!$A$218:$AU$238,11)-1)*100,0,(VLOOKUP($B$1,'Blad 8 Periodisering'!$A$218:$AU$238,11)-1)*100)))","v":0},{"$f":"IF($B$1=0,0,IF(I33=0,I15,IF(ISERROR(VLOOKUP($B$1,'Blad 8 Periodisering'!$A$218:$AU$238,13)-1)*100,0,(VLOOKUP($B$1,'Blad 8 Periodisering'!$A$218:$AU$238,13)-1)*100)))","v":0},{"$f":"IF($B$1=0,0,IF(J33=0,J15,IF(ISERROR(VLOOKUP($B$1,'Blad 8 Periodisering'!$A$218:$AU$238,15)-1)*100,0,(VLOOKUP($B$1,'Blad 8 Periodisering'!$A$218:$AU$238,15)-1)*100)))","v":0}]
[{"$f":"\"Beskattningsutfall inkomstår \"&B3","v":"Beskattningsutfall inkomstår 2023"},{"$f":"IF(C22>0,(VLOOKUP(B1,'Blad 8 Periodisering'!A51:M72,3)-1)*100,0)","v":0}]
[]
[{"$f":"\"Skatteunderlag inkomstår \"&B3-1&\" och \"&B3","v":"Skatteunderlag inkomstår 2022 och 2023"}]
["Riket, miljoner kr",2645513.4868999999]
["Länet, tkr",{"$f":"IF(ISERROR(VLOOKUP(B1,Data!A2:V291,3)),0,(VLOOKUP(B1,Data!A2:V291,3)))/1000","v":0},{"$f":"IF(ISERROR(VLOOKUP(B1,Data!A2:V291,4)),0,(VLOOKUP(B1,Data!A2:V291,4)))/1000","v":0}]
[]
[]
["Antal invånare den 1.11 året innan"]
["Riket"]
["Förändring i procent",null,null,{"$f":"((D28-C28)/C28)*100","v":0.54170981849993205},0.51370369539949323,0.48544421838785168,0.43509134287897144,0.43649406510718392,0.43564193476651775,0.43627489295439248]
["Antal invånare i riket ",10514719,10557682,10614874,10669403,10721197,10767844,10814845,10861959,10909347]
[]
["Länet"]
["Enligt riksprognos",{"$f":"IF(ISERROR(VLOOKUP(B1,Data!A2:V291,5)),0,(VLOOKUP(B1,Data!A2:V291,5)))","v":0},{"$f":"IF(ISERROR(VLOOKUP(B1,Data!A2:V291,6)),0,(VLOOKUP(B1,Data!A2:V291,6)))","v":0},{"$f":"ROUND(IF(ISERROR(VLOOKUP(B1,Data!A2:BO291,7)),0,(VLOOKUP(B1,Data!A2:BO291,7))),0)","v":0},{"$f":"ROUND(IF(ISERROR(VLOOKUP(B1,Data!A2:BO291,8)),0,(VLOOKUP(B1,Data!A2:BO291,8))),0)","v":0},{"$f":"ROUND(IF(ISERROR(VLOOKUP(B1,Data!A2:BO291,9)),0,(VLOOKUP(B1,Data!A2:BO291,9))),0)","v":0},{"$f":"ROUND(IF(ISERROR(VLOOKUP(B1,Data!A2:BO291,10)),0,(VLOOKUP(B1,Data!A2:BO291,10))),0)","v":0},{"$f":"INT(+G31*(1+H27/100))","v":0},{"$f":"INT(+H31*(1+I27/100))","v":0},{"$f":"INT(+I31*(1+J27/100))","v":0}]
["Enligt trend",{"$f":"$B$31","v":0},{"$f":"$C$31","v":0},{"$f":"ROUND(IF(ISERROR(VLOOKUP(B1,Data!A2:BO291,18)),0,(VLOOKUP(B1,Data!A2:BO291,18))),0)","v":0},{"$f":"ROUND(IF(ISERROR(VLOOKUP(B1,Data!A2:BO291,19)),0,(VLOOKUP(B1,Data!A2:BO291,19))),0)","v":0},{"$f":"ROUND(IF(ISERROR(VLOOKUP(B1,Data!A2:BO291,20)),0,(VLOOKUP(B1,Data!A2:BO291,20))),0)","v":0},{"$f":"ROUND(IF(ISERROR(VLOOKUP(B1,Data!A2:BO291,21)),0,(VLOOKUP(B1,Data!A2:BO291,21))),0)","v":0},{"$f":"ROUND(IF(ISERROR(VLOOKUP($B1,Data!$A2:$BR291,68)),0,(VLOOKUP($B1,Data!$A2:$BR291,68))),0)","v":0},{"$f":"ROUND(IF(ISERROR(VLOOKUP($B1,Data!$A2:$BR291,69)),0,(VLOOKUP($B1,Data!$A2:$BR291,69))),0)","v":0},{"$f":"ROUND(IF(ISERROR(VLOOKUP($B1,Data!$A2:$BR291,70)),0,(VLOOKUP($B1,Data!$A2:$BR291,70))),0)","v":0}]
["Egna antaganden",{"$f":"$B$31","v":0},{"$f":"$C$31","v":0},{"$f":"D32","v":0}]
[]
["Anslag kommunalek. utj. mnkr",43847.606,48694.896000000001,46854.896000000001,47039.896000000001,47099.896000000001,47099.896000000001,47099.896000000001,47099.896000000001,47099.896000000001]
["Värdesäkrad beräkning, miljoner kronor",null,null,null,null,{"$f":"(E35+Data!BK2)*(1+F59/100)*(1+F27/100)","v":48639.027660676213},{"$f":"F36*(1+G59/100)*(1+G27/100)","v":50120.768807629822},{"$f":"G36*(1+H59/100)*(1+H27/100)","v":51648.371106571605},{"$f":"H36*(1+I59/100)*(1+I27/100)","v":53222.080769548797},{"$f":"I36*(1+J59/100)*(1+J27/100)","v":54844.086504436054}]
[]
["Inkomstutjämningsbidr, mnkr netto",{"$f":"SUM('Blad 8 Periodisering'!B103:B123)/1000000","v":38852.324439999997},{"$f":"SUM('Blad 8 Periodisering'!C103:C123)/1000000","v":40488.033217999997},{"$f":"SUM('Blad 8 Periodisering'!D103:D123)/1000000","v":42410.183501},{"$f":"SUM('Blad 8 Periodisering'!E103:E123)/1000000","v":44182.732468000002},{"$f":"SUM('Blad 8 Periodisering'!F103:F123)/1000000","v":45958.929727000002},{"$f":"SUM('Blad 8 Periodisering'!G103:G123)/1000000","v":47840.594687999997},{"$f":"SUM('Blad 8 Periodisering'!H103:H123)/1000000","v":49794.553271999997},{"$f":"SUM('Blad 8 Periodisering'!I103:I123)/1000000","v":51780.396284000002},{"$f":"SUM('Blad 8 Periodisering'!J103:J123)/1000000","v":53680.689978000002}]
[]
[]
["Kostnadsutjämning, netto"]
["Miljoner kronor",-40.033424000000196,-42.227944000000207]
[]
["Strukturbidrag"]
["Miljoner kronor",{"$f":"SUMPRODUCT(Data!E3:E23,'Blad 8 Periodisering'!B129:B149)/1000000","v":547.02631599999995},{"$f":"SUMPRODUCT(Data!F3:F23,'Blad 8 Periodisering'!C129:C149)/1000000","v":546.69273999999996},{"$f":"SUMPRODUCT(Data!R3:R23,'Blad 8 Periodisering'!D129:D149)/1000000","v":546.98106199999995},{"$f":"SUMPRODUCT(Data!S3:S23,'Blad 8 Periodisering'!E129:E149)/1000000","v":547.11393699999996},{"$f":"SUMPRODUCT(Data!T3:T23,'Blad 8 Periodisering'!F129:F149)/1000000","v":547.088841},{"$f":"SUMPRODUCT(Data!U3:U23,'Blad 8 Periodisering'!G129:G149)/1000000","v":546.78617099999997},{"$f":"SUMPRODUCT(Data!BP3:BP23,'Blad 8 Periodisering'!H129:H149)/1000000","v":546.48720100000003},{"$f":"SUMPRODUCT(Data!BQ3:BQ23,'Blad 8 Periodisering'!I129:I149)/1000000","v":546.17964500000005},{"$f":"SUMPRODUCT(Data!BR3:BR23,'Blad 8 Periodisering'!J129:J149)/1000000","v":545.87278100000003}]
[]
["Införandebidrag"]
["Miljoner kronor",{"$f":"SUMPRODUCT(Data!E3:E23,'Blad 8 Periodisering'!B156:B176)/1000000","v":0},{"$f":"SUMPRODUCT(Data!F3:F23,'Blad 8 Periodisering'!C156:C176)/1000000","v":0},{"$f":"SUMPRODUCT(Data!R3:R23,'Blad 8 Periodisering'!D156:D176)/1000000","v":0},{"$f":"SUMPRODUCT(Data!S3:S23,'Blad 8 Periodisering'!E156:E176)/1000000","v":0},{"$f":"SUMPRODUCT(Data!T3:T23,'Blad 8 Periodisering'!F156:F176)/1000000","v":0},{"$f":"SUMPRODUCT(Data!U3:U23,'Blad 8 Periodisering'!G156:G176)/1000000","v":0},{"$f":"SUMPRODUCT(Data!BP3:BP23,'Blad 8 Periodisering'!H156:H176)/1000000","v":0},{"$f":"SUMPRODUCT(Data!BQ3:BQ23,'Blad 8 Periodisering'!I156:I176)/1000000","v":0},{"$f":"SUMPRODUCT(Data!BR3:BR23,'Blad 8 Periodisering'!J156:J176)/1000000","v":0}]
[]
["Regleringsbidrag/-avgift"]
["Miljoner kronor",{"$f":"B35-(B38+B42+B45+B48)","v":4488.2886680000011},{"$f":"C35-(C38+C42+C45+C48)","v":7702.3979860000036},{"$f":"D35-(D38+D42+D45+D48)","v":3897.7314370000022},2310.0495949999968,593.87743200000114,-1287.4848589999965,-3241.1444730000003,-5226.6799289999981,-7126.6667589999997]
["Kronor per invånare",{"$f":"(B51*1000000)/B28","v":426.85769044327299},729.5538912803022,{"$f":"(D51*1000000)/D28","v":367.19526176193921},216.51160753792848,55.392828991016692,-119.56756236438756,{"$f":"(H51*1000000)/H28","v":-299.69402917933638},{"$f":"(I51*1000000)/I28","v":-481.19127765074404},{"$f":"(J51*1000000)/J28","v":-653.26245090563168}]
["Om egen prognos för anslag",null,null,null,null,{"$f":"IF($M$3+$V$3=2,0,(((F36-(F38+F42+F45+F48))*1000000)/F28))","v":0},{"$f":"IF($M$3+$V$3=2,0,(((G36-(G38+G42+G45+G48))*1000000)/G28))","v":0},{"$f":"IF($M$3+$V$3=2,0,(((H36-(H38+H42+H45+H48))*1000000)/H28))","v":0},{"$f":"IF($M$3+$V$3=2,0,(((I36-(I38+I42+I45+I48))*1000000)/I28))","v":0},{"$f":"IF($M$3+$V$3=2,0,(((J36-(J38+J42+J45+J48))*1000000)/J28))","v":0}]
[]
["Garantinivå, procent",1.1499999999999999,1.1499999999999999,1.1499999999999999,1.1499999999999999,1.1499999999999999,1.1499999999999999,1.1499999999999999,1.1499999999999999,1.1499999999999999]
[]
[]
["Landstingsprisindex"]
["Sveriges Kommuner och Regioners prognos",7.4,4.3,-0.9,0.8,2.9,2.6,2.6,2.6,2.6]
[]
["Skattesatser",null,null,"+/–","+/–","+/–","+/–","+/–","+/–","+/–"]
["Ändrad skattesats, procentenheter"]
["Länets skattesats",{"$f":"IF(ISERROR(VLOOKUP(B1,Data!A2:V291,11)),0,(VLOOKUP(B1,Data!A2:V291,11)))","v":0},{"$f":"IF(ISERROR(VLOOKUP(B1,Data!A2:V291,12)),0,(VLOOKUP(B1,Data!A2:V291,12)))","v":0},{"$f":"IF(ISERROR(IF((VLOOKUP(B1,Data!A2:V291,22))=0,(IF($U$3=2,C63+D62,C63)),(VLOOKUP(B1,Data!A2:V291,22)))),0,(IF((VLOOKUP(B1,Data!A2:V291,22))=0,(IF($U$3=2,C63+D62,C63)),(VLOOKUP(B1,Data!A2:V291,22)))))","v":0},{"$f":"IF($U$3=2,D63+E62,D63)","v":0},0,0,0,0,0]
["Länsvis skattesats, 90%",null,{"$f":"IF(ISERROR(VLOOKUP(B1,Data!A2:V291,13)),0,(VLOOKUP(B1,Data!A2:V291,13)))","v":0},{"$f":"IF(ISERROR(VLOOKUP(B1,Data!A2:AQ291,40)),0,(VLOOKUP(B1,Data!A2:AQ291,40)))","v":0},{"$f":"D64","v":0},0,0,{"$f":"G64","v":0},0,0]
["Länsvis skattesats, 85%",null,{"$f":"IF(ISERROR(VLOOKUP(B1,Data!A2:V291,14)),0,(VLOOKUP(B1,Data!A2:V291,14)))","v":0},{"$f":"IF(ISERROR(VLOOKUP(B1,Data!A2:AQ291,41)),0,(VLOOKUP(B1,Data!A2:AQ291,41)))","v":0},0,0,{"$f":"F65","v":0},0,0,0]
[]
[]
["Kostnadsutjämning"]
[{"$f":"\"Kostnadsutjämning exkl bef.förändr. \"&C3&\" och \"&D3","v":"Kostnadsutjämning exkl bef.förändr. 2024 och 2025"},null,{"$f":"ROUND(IF(ISERROR(VLOOKUP(B1,Data!A2:V291,16)),0,(VLOOKUP(B1,Data!A2:V291,16))),0)","v":0},{"$f":"ROUND(IF(ISERROR(VLOOKUP(B1,Data!A2:V291,17)),0,(VLOOKUP(B1,Data!A2:V291,17))),0)","v":0}]
[]
["Antal invånare den 1.11"]
["Totalt 5 år innan",{"$f":"IF(ISERROR(VLOOKUP($B$1,Data!$A$2:$BO$291,23)),0,(VLOOKUP($B$1,Data!$A$2:$BO$291,23,0)))","v":0},{"$f":"IF(ISERROR(VLOOKUP($B$1,Data!$A$2:$BO$291,24)),0,(VLOOKUP($B$1,Data!$A$2:$BO$291,24,0)))","v":0},{"$f":"IF(ISERROR(VLOOKUP($B$1,Data!$A$2:$BO$291,25)),0,(VLOOKUP($B$1,Data!$A$2:$BO$291,25,0)))","v":0},{"$f":"IF(ISERROR(VLOOKUP($B$1,Data!$A$2:$BO$291,26)),0,(VLOOKUP($B$1,Data!$A$2:$BO$291,26,0)))","v":0},{"$f":"IF(ISERROR(VLOOKUP($B$1,Data!$A$2:$BO$291,27)),0,(VLOOKUP($B$1,Data!$A$2:$BO$291,27,0)))","v":0},{"$f":"IF(ISERROR(VLOOKUP($B$1,Data!$A$2:$BO$291,6)),0,(VLOOKUP($B$1,Data!$A$2:$BO$291,6,0)))","v":0}]
[]
["Antal invånare den 31.12 året innan"]
["Antal",10581643,10638965,10693618,10745530,10792283,10839391,10869078,10917101,10934108]
[]
["Finansiering befolkningsförändringar",null,82,77.838918910032348,76.215341112535256,74.969757579311761,77.136189429224927,71.005874329700106,65.119398062935161,59.551657746434863]

{"sheet":"Blad 3 Inkomstutjämning","index":5,"n_rows":45,"n_cols":10,"rows_kept":45,"cut":false,"hidden":true,"merged":[]}
["Inkomstutjämning",null,null,"Rikets skatteunderlag",null,{"$f":"IF('Blad 2 Indata'!$M$3=1,\"Kommunförbundet\",\"Egen prognos\")","v":"Kommunförbundet"}]
[]
[null,null,null,"Eget skatteunderlag",null,{"$f":"IF('Blad 2 Indata'!$O$3=1,\"Riksprognos\",\"Egen prognos\")","v":"Egen prognos"}]
[{"$f":"\"Länets skatteunderlag inkomstår \"&\"\"&B7-1 &\" tkr\"","v":"Länets skatteunderlag inkomstår 2022 tkr"},{"$f":"'Blad 2 Indata'!B22","v":0}]
[null,null,null,"Antal invånare",null,{"$f":"IF('Blad 2 Indata'!$P$3=1,\"Riksprognos\",\"Egen prognos\")","v":"Riksprognos"}]
[]
[null,{"$f":"'Blad 1 Totala intäkter'!B9-1","v":2023},{"$f":"B7+1","v":2024},2025,2026,2027,2028,2029,2030,2031]
[]
["Uppräkningsfaktorer, %"]
[{"$f":"\"Riket, fastställt för \"&C7","v":"Riket, fastställt för 2024"},{"$f":"'Blad 2 Indata'!B7","v":4.5999999999999996},{"$f":"'Blad 2 Indata'!C7","v":3.3}]
[{"$f":"\"Riket, fastställt för \"&D7","v":"Riket, fastställt för 2025"},null,{"$f":"'Blad 2 Indata'!C8","v":0},{"$f":"'Blad 2 Indata'!D8","v":0}]
["Riksprognos",{"$f":"IF('Blad 2 Indata'!$M3=1,'Blad 2 Indata'!B9,'Blad 2 Indata'!B10)","v":5.0626851060251665},{"$f":"IF('Blad 2 Indata'!$M3=1,'Blad 2 Indata'!C9,'Blad 2 Indata'!C10)","v":2.730090120902795},{"$f":"IF('Blad 2 Indata'!$M3=1,'Blad 2 Indata'!D9,'Blad 2 Indata'!D10)","v":4.8677870568163861},{"$f":"IF('Blad 2 Indata'!$M3=1,'Blad 2 Indata'!E9,'Blad 2 Indata'!E10)","v":4.1621836122576861},{"$f":"IF('Blad 2 Indata'!$M3=1,'Blad 2 Indata'!F9,'Blad 2 Indata'!F10)","v":4.0149033704721226},{"$f":"IF('Blad 2 Indata'!$M3=1,'Blad 2 Indata'!G9,'Blad 2 Indata'!G10)","v":4.082761123581724},{"$f":"IF('Blad 2 Indata'!$M3=1,'Blad 2 Indata'!H9,'Blad 2 Indata'!H10)","v":4.0820799830627141},{"$f":"IF('Blad 2 Indata'!$M3=1,'Blad 2 Indata'!I9,'Blad 2 Indata'!I10)","v":3.9778387341976806},{"$f":"IF('Blad 2 Indata'!$M3=1,'Blad 2 Indata'!J9,'Blad 2 Indata'!J10)","v":3.6633313430403325}]
["Eget skatteunderlag",{"$f":"IF('Blad 2 Indata'!$P3=2,'Blad 2 Indata'!B17,'Blad 2 Indata'!B16)","v":0},{"$f":"IF('Blad 2 Indata'!$P3=2,'Blad 2 Indata'!C17,'Blad 2 Indata'!C16)","v":0},{"$f":"IF('Blad 2 Indata'!$P3=2,'Blad 2 Indata'!D17,'Blad 2 Indata'!D16)","v":0},{"$f":"IF('Blad 2 Indata'!$P3=2,'Blad 2 Indata'!E17,'Blad 2 Indata'!E16)","v":0},{"$f":"IF('Blad 2 Indata'!$P3=2,'Blad 2 Indata'!F17,'Blad 2 Indata'!F16)","v":0},{"$f":"IF('Blad 2 Indata'!$P3=2,'Blad 2 Indata'!G17,'Blad 2 Indata'!G16)","v":0},{"$f":"IF('Blad 2 Indata'!$P3=2,'Blad 2 Indata'!H17,'Blad 2 Indata'!H16)","v":0},{"$f":"IF('Blad 2 Indata'!$P3=2,'Blad 2 Indata'!I17,'Blad 2 Indata'!I16)","v":0},{"$f":"IF('Blad 2 Indata'!$P3=2,'Blad 2 Indata'!J17,'Blad 2 Indata'!J16)","v":0}]
[]
["Medelskattekraft, kr/inv"]
[{"$f":"\"Fastställt för \"&C7&\" och \"&D7","v":"Fastställt för 2024 och 2025"},260928,{"$f":"ROUND('Blad 2 Indata'!B21*1000000*(1+'Blad 2 Indata'!B7/100)*(1+'Blad 2 Indata'!C7/100)/'Blad 2 Indata'!C28,0)","v":270753},{"$f":"IF(D11<>0,ROUND('Blad 2 Indata'!B21*1000000*(1+'Blad 3 Inkomstutjämning'!B12/100)*(1+'Blad 3 Inkomstutjämning'!C11/100)*(1+'Blad 3 Inkomstutjämning'!D11/100)/'Blad 2 Indata'!D28,0),0)","v":0}]
["Prognos",{"$f":"ROUND('Blad 2 Indata'!$B21*1000000*(1+B12/100)/'Blad 2 Indata'!B28,0)","v":264339},{"$f":"ROUND('Blad 2 Indata'!$B21*1000000*(1+B12/100)*(1+C12/100)/'Blad 2 Indata'!C28,0)","v":270450},{"$f":"ROUND('Blad 2 Indata'!$B21*1000000*(1+B12/100)*(1+C12/100)*(1+D12/100)/'Blad 2 Indata'!D28,0)","v":282087},{"$f":"ROUND('Blad 2 Indata'!$B21*1000000*(1+B12/100)*(1+C12/100)*(1+D12/100)*(1+E12/100)/'Blad 2 Indata'!E28,0)","v":292327},{"$f":"ROUND('Blad 2 Indata'!$B21*1000000*(1+B12/100)*(1+C12/100)*(1+D12/100)*(1+E12/100)*(1+F12/100)/'Blad 2 Indata'!F28,0)","v":302594},{"$f":"ROUND('Blad 2 Indata'!$B21*1000000*(1+B12/100)*(1+C12/100)*(1+D12/100)*(1+E12/100)*(1+F12/100)*(1+G12/100)/'Blad 2 Indata'!G28,0)","v":313584},{"$f":"ROUND('Blad 2 Indata'!$B21*1000000*(1+B12/100)*(1+C12/100)*(1+D12/100)*(1+E12/100)*(1+F12/100)*(1+G12/100)*(1+H12/100)/'Blad 2 Indata'!H28,0)","v":324966},{"$f":"ROUND('Blad 2 Indata'!$B21*1000000*(1+B12/100)*(1+C12/100)*(1+D12/100)*(1+E12/100)*(1+F12/100)*(1+G12/100)*(1+H12/100)*(1+I12/100)/'Blad 2 Indata'!I28,0)","v":336427},{"$f":"ROUND('Blad 2 Indata'!$B21*1000000*(1+B12/100)*(1+C12/100)*(1+D12/100)*(1+E12/100)*(1+F12/100)*(1+G12/100)*(1+H12/100)*(1+I12/100)*(1+J12/100)/'Blad 2 Indata'!J28,0)","v":347237}]
[]
["Garanterad skattekraft, riket",null,{"$f":"IF(C16>0,C16*'Blad 2 Indata'!C55,C17*'Blad 2 Indata'!C55)","v":311365.94999999995},{"$f":"IF(D16>0,D16*'Blad 2 Indata'!D55,D17*'Blad 2 Indata'!D55)","v":324400.05},{"$f":"(E17*'Blad 2 Indata'!E55)","v":336176.05},{"$f":"F17*'Blad 2 Indata'!F55","v":347983.1},{"$f":"G17*'Blad 2 Indata'!G55","v":360621.6},{"$f":"H17*'Blad 2 Indata'!H55","v":373710.89999999997},{"$f":"I17*'Blad 2 Indata'!I55","v":386891.05},{"$f":"J17*'Blad 2 Indata'!J55","v":399322.55}]
[]
["Antal invånare 1/11 året innan",null,{"$f":"'Blad 2 Indata'!C32","v":0},{"$f":"IF('Blad 2 Indata'!$O$4=1,'Blad 2 Indata'!D32,'Blad 2 Indata'!D33)","v":0},{"$f":"IF('Blad 2 Indata'!$O$4=1,'Blad 2 Indata'!E32,'Blad 2 Indata'!E33)","v":0},{"$f":"IF('Blad 2 Indata'!$O$4=1,'Blad 2 Indata'!F32,'Blad 2 Indata'!F33)","v":0},{"$f":"IF('Blad 2 Indata'!$O$4=1,'Blad 2 Indata'!G32,'Blad 2 Indata'!G33)","v":0},{"$f":"IF('Blad 2 Indata'!$O$4=1,'Blad 2 Indata'!H32,'Blad 2 Indata'!H33)","v":0},{"$f":"IF('Blad 2 Indata'!$O$4=1,'Blad 2 Indata'!I32,'Blad 2 Indata'!I33)","v":0},{"$f":"IF('Blad 2 Indata'!$O$4=1,'Blad 2 Indata'!J32,'Blad 2 Indata'!J33)","v":0}]
[]
[]
["Skatteutjämningsunderlag, tkr",null,{"$f":"(ROUND($B$4*1000*(1+B10/100)*(1+C10/100),0)/1000)","v":0},{"$f":"IF(C11<>0,ROUND($B$4*1000*(1+B13/100)*(1+C11/100)*(1+D11/100),0)/1000,ROUND($B$4*1000*(1+B13/100)*(1+C12/100)*(1+D12/100),0)/1000)","v":0},{"$f":"ROUND($B$4*1000*(1+B13/100)*(1+C13/100)*(1+D12/100)*(1+E12/100),0)/1000","v":0},{"$f":"ROUND($B$4*1000*(1+B13/100)*(1+C13/100)*(1+D13/100)*(1+E12/100)*(1+F12/100),0)/1000","v":0},{"$f":"ROUND($B$4*1000*(1+B13/100)*(1+C13/100)*(1+D13/100)*(1+E13/100)*(1+F12/100)*(1+G12/100),0)/1000","v":0},{"$f":"ROUND($B$4*1000*(1+B13/100)*(1+C13/100)*(1+D13/100)*(1+E13/100)*(1+F13/100)*(1+G12/100)*(1+H12/100),0)/1000","v":0},{"$f":"ROUND($B$4*1000*(1+B13/100)*(1+C13/100)*(1+D13/100)*(1+E13/100)*(1+F13/100)*(1+G13/100)*(1+H12/100)*(1+I12/100),0)/1000","v":0},{"$f":"ROUND($B$4*1000*(1+B13/100)*(1+C13/100)*(1+D13/100)*(1+E13/100)*(1+F13/100)*(1+G13/100)*(1+H13/100)*(1+I12/100)*(1+J12/100),0)/1000","v":0}]
[]
[]
["Garanterat skatteunderlag, tkr",null,{"$f":"ROUND(C19*C21,3)/1000","v":0},{"$f":"ROUND(IF(D16>0,(D16*'Blad 2 Indata'!D55*D21)/1000,(D17*'Blad 2 Indata'!D55*D21)/1000),3)","v":0},{"$f":"ROUND((E17*'Blad 2 Indata'!E55*E21)/1000,3)","v":0},{"$f":"ROUND((F17*'Blad 2 Indata'!F55*F21)/1000,3)","v":0},{"$f":"ROUND((G17*'Blad 2 Indata'!G55*G21)/1000,3)","v":0},{"$f":"ROUND((H17*'Blad 2 Indata'!H55*H21)/1000,3)","v":0},{"$f":"ROUND((I17*'Blad 2 Indata'!I55*I21)/1000,3)","v":0},{"$f":"ROUND((J17*'Blad 2 Indata'!J55*J21)/1000,3)","v":0}]
[]
[]
["Underlag för inkomstutjämning, tkr",null,{"$f":"C27-C24","v":0},0,0,0,0,0,0,0]
[]
[]
["Länet"]
["Skattekraft, kr/inv",null,{"$f":"IF(ISERROR(ROUND(((($B$4*1000*(1+B10/100)*(1+C10/100)/1000)/C21)*1000),0)),0,(ROUND(((($B$4*1000*(1+B10/100)*(1+C10/100)/1000)/C21)*1000),0)))","v":0},{"$f":"IF(ISERROR(ROUND((((IF(C11<>0,($B$4*1000*(1+B13/100)*(1+C11/100)*(1+D11/100))/1000,($B$4*1000*(1+B13/100)*(1+C12/100)*(1+D12/100))/1000)/D21)*1000)),0)),0,(ROUND((((IF(C11<>0,($B$4*1000*(1+B13/100)*(1+C11/100)*(1+D11/100))/1000,($B$4*1000*(1+B13/100)*(1+C12/100)*(1+D12/100))/1000)/D21)*1000)),0)))","v":0},{"$f":"IF(ISERROR(ROUND(B4*1000*(1+B13/100)*(1+C13/100)*(1+D12/100)*(1+E12/100)/E21,0)),0,(ROUND(B4*1000*(1+B13/100)*(1+C13/100)*(1+D12/100)*(1+E12/100)/E21,0)))","v":0},{"$f":"IF(ISERROR(ROUND(B4*1000*(1+B13/100)*(1+C13/100)*(1+D13/100)*(1+E12/100)*(1+F12/100)/F21,0)),0,(ROUND(B4*1000*(1+B13/100)*(1+C13/100)*(1+D13/100)*(1+E12/100)*(1+F12/100)/F21,0)))","v":0},{"$f":"IF(ISERROR(ROUND(B4*1000*(1+B13/100)*(1+C13/100)*(1+D13/100)*(1+E13/100)*(1+F12/100)*(1+G12/100)/G21,0)),0,(ROUND(B4*1000*(1+B13/100)*(1+C13/100)*(1+D13/100)*(1+E13/100)*(1+F12/100)*(1+G12/100)/G21,0)))","v":0},{"$f":"IF(ISERROR(ROUND($B4*1000*(1+B13/100)*(1+C13/100)*(1+D13/100)*(1+E13/100)*(1+F13/100)*(1+G12/100)*(1+H12/100)/H21,0)),0,(ROUND($B4*1000*(1+B13/100)*(1+C13/100)*(1+D13/100)*(1+E13/100)*(1+F13/100)*(1+G12/100)*(1+H12/100)/H21,0)))","v":0},{"$f":"IF(ISERROR(ROUND($B4*1000*(1+B13/100)*(1+C13/100)*(1+D13/100)*(1+E13/100)*(1+F13/100)*(1+G13/100)*(1+H12/100)*(1+I12/100)/I21,0)),0,(ROUND($B4*1000*(1+B13/100)*(1+C13/100)*(1+D13/100)*(1+E13/100)*(1+F13/100)*(1+G13/100)*(1+H12/100)*(1+I12/100)/I21,0)))","v":0},{"$f":"IF(ISERROR(ROUND($B4*1000*(1+B13/100)*(1+C13/100)*(1+D13/100)*(1+E13/100)*(1+F13/100)*(1+G13/100)*(1+H13/100)*(1+I12/100)*(1+J12/100)/J21,0)),0,(ROUND($B4*1000*(1+B13/100)*(1+C13/100)*(1+D13/100)*(1+E13/100)*(1+F13/100)*(1+G13/100)*(1+H13/100)*(1+I12/100)*(1+J12/100)/J21,0)))","v":0}]
["Skattekraft i procent av rikets",null,{"$f":"IF(C16=0,(C34/C17),(C34/C16))","v":0},{"$f":"IF(D16=0,(D34/D17),(D34/D16))","v":0},{"$f":"+E34/E17","v":0},0,0,0,0,0]
[]
["Länsvis skattesats avgift 85%/bidrag 90%",null,{"$f":"IF(C34<C19,'Blad 2 Indata'!C64,'Blad 2 Indata'!C65)","v":0},{"$f":"IF(D34<D19,'Blad 2 Indata'!D64,'Blad 2 Indata'!D65)","v":0},{"$f":"IF(E34<E19,'Blad 2 Indata'!E64,'Blad 2 Indata'!E65)","v":0},{"$f":"IF(F34<F19,'Blad 2 Indata'!F64,'Blad 2 Indata'!F65)","v":0},{"$f":"IF(G34<G19,'Blad 2 Indata'!G64,'Blad 2 Indata'!G65)","v":0},{"$f":"IF(H34<H19,'Blad 2 Indata'!H64,'Blad 2 Indata'!H65)","v":0},{"$f":"IF(I34<I19,'Blad 2 Indata'!I64,'Blad 2 Indata'!I65)","v":0},{"$f":"IF(J34<J19,'Blad 2 Indata'!J64,'Blad 2 Indata'!J65)","v":0}]
[]
["Inkomstutjämningsbidrag"]
["kronor per invånare",null,{"$f":"IF(C30<0,0,IF(ISERROR(ROUND(ROUND(C30*1000*C37/100,0)/C21,0)),0,ROUND(ROUND(C30*1000*C37/100,0)/C21,0)))","v":0},0,0,0,0,0,0,0]
["tkr",null,{"$f":"C40*C21/1000","v":0},0,0,0,0,0,0,0]
[]
["Inkomstutjämningsavgift"]
["kronor per invånare",null,{"$f":"IF(C30>0,0,IF(ISERROR(ROUND(ROUND(C30*1000*C37/100,0)/C21,0)),0,ROUND(ROUND(C30*1000*C37/100,0)/C21,0)))","v":0},{"$f":"IF(D30>0,0,IF(ISERROR(ROUND(ROUND(D30*1000*D37/100,0)/D21,0)),0,ROUND(ROUND(D30*1000*D37/100,0)/D21,0)))","v":0},{"$f":"IF(E30>0,0,IF(ISERROR(ROUND(ROUND(E30*1000*E37/100,0)/E21,0)),0,ROUND(ROUND(E30*1000*E37/100,0)/E21,0)))","v":0},0,0,0,0,0]
["tkr",null,{"$f":"C44*C21/1000","v":0},{"$f":"D44*D21/1000","v":0},0,0,0,0,0,0]

{"sheet":"Blad 4 Kostnadsutjämning","index":6,"n_rows":148,"n_cols":240,"rows_kept":148,"cut":false,"hidden":true,"merged":[]}
["Kostnadsutjämning",null,{"$f":"IF('Blad 2 Indata'!$Q$3=1,\"Senaste utfall utan pris\",IF('Blad 2 Indata'!$Q$3=2,\"Senaste utfall med pris\",IF('Blad 2 Indata'!$Q$3=3,\"Demografi utan pris\",\"Demografi med pris\")))","v":"Senaste utfall utan pris"}]
["Kronor per invånare"]
[]
[]
[null,{"$f":"'Blad 1 Totala intäkter'!B9","v":2024},{"$f":"B5+1","v":2025},2026,2027,2028,2029,2030,2031]
["Bidrag/avgift totalt",{"$f":"B15","v":-82},{"$f":"C15","v":-77.838918910032348},{"$f":"D15","v":-76.215341112535256},-74.969757579311761,-77.136189429224927,-71.005874329700106,-65.119398062935161,-59.551657746434863]
[]
["Lpi, procent",{"$f":"'Blad 2 Indata'!C59","v":4.3},{"$f":"'Blad 2 Indata'!D59","v":-0.9},{"$f":"'Blad 2 Indata'!E59","v":0.8},{"$f":"'Blad 2 Indata'!F59","v":2.9},{"$f":"'Blad 2 Indata'!G59","v":2.6},{"$f":"'Blad 2 Indata'!H59","v":2.6},{"$f":"'Blad 2 Indata'!I59","v":2.6},{"$f":"'Blad 2 Indata'!J59","v":2.6}]
[]
["Delmodeller"]
["Hälso-och sjukvård",{"$f":"IF(ISERROR(VLOOKUP('Blad 2 Indata'!$B$1,Data!$A$3:$DA$23,29)),0,VLOOKUP('Blad 2 Indata'!$B$1,Data!$A$3:$DA$23,29))","v":0},{"$f":"IF('Blad 2 Indata'!D$69<>0,VLOOKUP('Blad 2 Indata'!B$1,Data!$A$3:$DA$23,34),B11*(C$8/100+1))","v":0},{"$f":"C11*(D$8/100+1)","v":0},0,0,0,0,0]
["Befolkningsförändringar",{"$f":"IF(ISERROR(VLOOKUP('Blad 2 Indata'!$B$1,Data!$A$3:$AO$23,28)),0,VLOOKUP('Blad 2 Indata'!$B$1,Data!$A$3:$AO$23,28))","v":0},{"$f":"ROUND(IF(ISERROR(IF(VLOOKUP('Blad 2 Indata'!$B$1,Data!$A$3:$AO$23,33)<>0,VLOOKUP('Blad 2 Indata'!$B$1,Data!$A$3:$AO$23,33),'Blad 6 Befolkningsförändringar'!D36+'Blad 6 Befolkningsförändringar'!D46)),0,IF(VLOOKUP('Blad 2 Indata'!$B$1,Data!$A$3:$AO$23,33)<>0,VLOOKUP('Blad 2 Indata'!$B$1,Data!$A$3:$AO$23,33),'Blad 6 Befolkningsförändringar'!D36+'Blad 6 Befolkningsförändringar'!D46)),0)","v":0},{"$f":"'Blad 6 Befolkningsförändringar'!E36+'Blad 6 Befolkningsförändringar'!E46","v":0},{"$f":"'Blad 6 Befolkningsförändringar'!F36+'Blad 6 Befolkningsförändringar'!F46","v":0},{"$f":"'Blad 6 Befolkningsförändringar'!G36+'Blad 6 Befolkningsförändringar'!G46","v":0},{"$f":"'Blad 6 Befolkningsförändringar'!H36+'Blad 6 Befolkningsförändringar'!H46","v":0},{"$f":"'Blad 6 Befolkningsförändringar'!I36+'Blad 6 Befolkningsförändringar'!I46","v":0},{"$f":"'Blad 6 Befolkningsförändringar'!J36+'Blad 6 Befolkningsförändringar'!J46","v":0},{"$f":"'Blad 6 Befolkningsförändringar'!AA36","v":0},{"$f":"'Blad 6 Befolkningsförändringar'!AB36","v":0},{"$f":"'Blad 6 Befolkningsförändringar'!AC36","v":0},{"$f":"'Blad 6 Befolkningsförändringar'!AD36","v":0},{"$f":"'Blad 6 Befolkningsförändringar'!AE36","v":0},{"$f":"'Blad 6 Befolkningsförändringar'!AF36","v":0},{"$f":"'Blad 6 Befolkningsförändringar'!AG36","v":0},{"$f":"'Blad 6 Befolkningsförändringar'!AH36","v":0},{"$f":"'Blad 6 Befolkningsförändringar'!AI36","v":0},{"$f":"'Blad 6 Befolkningsförändringar'!AJ36","v":0},{"$f":"'Blad 6 Befolkningsförändringar'!AK36","v":0},{"$f":"'Blad 6 Befolkningsförändringar'!AL36","v":0},{"$f":"'Blad 6 Befolkningsförändringar'!AM36","v":0},{"$f":"'Blad 6 Befolkningsförändringar'!AN36","v":0},{"$f":"'Blad 6 Befolkningsförändringar'!AO36","v":0},{"$f":"'Blad 6 Befolkningsförändringar'!AP36","v":0},{"$f":"'Blad 6 Befolkningsförändringar'!AQ36","v":0},{"$f":"'Blad 6 Befolkningsförändringar'!AR36","v":0},{"$f":"'Blad 6 Befolkningsförändringar'!AS36","v":0},{"$f":"'Blad 6 Befolkningsförändringar'!AT36","v":0},{"$f":"'Blad 6 Befolkningsförändringar'!AU36","v":0},{"$f":"'Blad 6 Befolkningsförändringar'!AV36","v":0},{"$f":"'Blad 6 Befolkningsförändringar'!AW36","v":0},{"$f":"'Blad 6 Befolkningsförändringar'!AX36","v":0},{"$f":"'Blad 6 Befolkningsförändringar'!AY36","v":0},{"$f":"'Blad 6 Befolkningsförändringar'!AZ36","v":0},{"$f":"'Blad 6 Befolkningsförändringar'!BA36","v":0},{"$f":"'Blad 6 Befolkningsförändringar'!BB36","v":0},{"$f":"'Blad 6 Befolkningsförändringar'!BC36","v":0},{"$f":"'Blad 6 Befolkningsförändringar'!BD36","v":0},{"$f":"'Blad 6 Befolkningsförändringar'!BE36","v":0},{"$f":"'Blad 6 Befolkningsförändringar'!BF36","v":0},{"$f":"'Blad 6 Befolkningsförändringar'!BG36","v":0},{"$f":"'Blad 6 Befolkningsförändringar'!BH36","v":0},{"$f":"'Blad 6 Befolkningsförändringar'!BI36","v":0},{"$f":"'Blad 6 Befolkningsförändringar'!BJ36","v":0},{"$f":"'Blad 6 Befolkningsförändringar'!BK36","v":0},{"$f":"'Blad 6 Befolkningsförändringar'!BL36","v":0},{"$f":"'Blad 6 Befolkningsförändringar'!BM36","v":0},{"$f":"'Blad 6 Befolkningsförändringar'!BN36","v":0},{"$f":"'Blad 6 Befolkningsförändringar'!BO36","v":0},{"$f":"'Blad 6 Befolkningsförändringar'!BP36","v":0},{"$f":"'Blad 6 Befolkningsförändringar'!BQ36","v":0},{"$f":"'Blad 6 Befolkningsförändringar'!BR36","v":0},{"$f":"'Blad 6 Befolkningsförändringar'!BS36","v":0},{"$f":"'Blad 6 Befolkningsförändringar'!BT36","v":0},{"$f":"'Blad 6 Befolkningsförändringar'!BU36","v":0},{"$f":"'Blad 6 Befolkningsförändringar'!BV36","v":0},{"$f":"'Blad 6 Befolkningsförändringar'!BW36","v":0},{"$f":"'Blad 6 Befolkningsförändringar'!BX36","v":0},{"$f":"'Blad 6 Befolkningsförändringar'!BY36","v":0},{"$f":"'Blad 6 Befolkningsförändringar'!BZ36","v":0},{"$f":"'Blad 6 Befolkningsförändringar'!CA36","v":0},{"$f":"'Blad 6 Befolkningsförändringar'!CB36","v":0},{"$f":"'Blad 6 Befolkningsförändringar'!CC36","v":0},{"$f":"'Blad 6 Befolkningsförändringar'!CD36","v":0},{"$f":"'Blad 6 Befolkningsförändringar'!CE36","v":0},{"$f":"'Blad 6 Befolkningsförändringar'!CF36","v":0},{"$f":"'Blad 6 Befolkningsförändringar'!CG36","v":0},{"$f":"'Blad 6 Befolkningsförändringar'!CH36","v":0},{"$f":"'Blad 6 Befolkningsförändringar'!CI36","v":0},{"$f":"'Blad 6 Befolkningsförändringar'!CJ36","v":0},{"$f":"'Blad 6 Befolkningsförändringar'!CK36","v":0},{"$f":"'Blad 6 Befolkningsförändringar'!CL36","v":0},{"$f":"'Blad 6 Befolkningsförändringar'!CM36","v":0},{"$f":"'Blad 6 Befolkningsförändringar'!CN36","v":0},{"$f":"'Blad 6 Befolkningsförändringar'!CO36","v":0},{"$f":"'Blad 6 Befolkningsförändringar'!CP36","v":0},{"$f":"'Blad 6 Befolkningsförändringar'!CQ36","v":0},{"$f":"'Blad 6 Befolkningsförändringar'!CR36","v":0},{"$f":"'Blad 6 Befolkningsförändringar'!CS36","v":0},{"$f":"'Blad 6 Befolkningsförändringar'!CT36","v":0},{"$f":"'Blad 6 Befolkningsförändringar'!CU36","v":0},{"$f":"'Blad 6 Befolkningsförändringar'!CV36","v":0},{"$f":"'Blad 6 Befolkningsförändringar'!CW36","v":0},{"$f":"'Blad 6 Befolkningsförändringar'!CX36","v":0},{"$f":"'Blad 6 Befolkningsförändringar'!CY36","v":0},{"$f":"'Blad 6 Befolkningsförändringar'!CZ36","v":0},{"$f":"'Blad 6 Befolkningsförändringar'!DA36","v":0},{"$f":"'Blad 6 Befolkningsförändringar'!DB36","v":0},{"$f":"'Blad 6 Befolkningsförändringar'!DC36","v":0},{"$f":"'Blad 6 Befolkningsförändringar'!DD36","v":0},{"$f":"'Blad 6 Befolkningsförändringar'!DE36","v":0},{"$f":"'Blad 6 Befolkningsförändringar'!DF36","v":0},{"$f":"'Blad 6 Befolkningsförändringar'!DG36","v":0},{"$f":"'Blad 6 Befolkningsförändringar'!DH36","v":0},{"$f":"'Blad 6 Befolkningsförändringar'!DI36","v":0},{"$f":"'Blad 6 Befolkningsförändringar'!DJ36","v":0},{"$f":"'Blad 6 Befolkningsförändringar'!DK36","v":0},{"$f":"'Blad 6 Befolkningsförändringar'!DL36","v":0},{"$f":"'Blad 6 Befolkningsförändringar'!DM36","v":0},{"$f":"'Blad 6 Befolkningsförändringar'!DN36","v":0},{"$f":"'Blad 6 Befolkningsförändringar'!DO36","v":0},{"$f":"'Blad 6 Befolkningsförändringar'!DP36","v":0},{"$f":"'Blad 6 Befolkningsförändringar'!DQ36","v":0},{"$f":"'Blad 6 Befolkningsförändringar'!DR36","v":0},{"$f":"'Blad 6 Befolkningsförändringar'!DS36","v":0},{"$f":"'Blad 6 Befolkningsförändringar'!DT36","v":0},{"$f":"'Blad 6 Befolkningsförändringar'!DU36","v":0},{"$f":"'Blad 6 Befolkningsförändringar'!DV36","v":0},{"$f":"'Blad 6 Befolkningsförändringar'!DW36","v":0},{"$f":"'Blad 6 Befolkningsförändringar'!DX36","v":0},{"$f":"'Blad 6 Befolkningsförändringar'!DY36","v":0},{"$f":"'Blad 6 Befolkningsförändringar'!DZ36","v":0},{"$f":"'Blad 6 Befolkningsförändringar'!EA36","v":0},{"$f":"'Blad 6 Befolkningsförändringar'!EB36","v":0},{"$f":"'Blad 6 Befolkningsförändringar'!EC36","v":0},{"$f":"'Blad 6 Befolkningsförändringar'!ED36","v":0},{"$f":"'Blad 6 Befolkningsförändringar'!EE36","v":0},{"$f":"'Blad 6 Befolkningsförändringar'!EF36","v":0},{"$f":"'Blad 6 Befolkningsförändringar'!EG36","v":0},{"$f":"'Blad 6 Befolkningsförändringar'!EH36","v":0},{"$f":"'Blad 6 Befolkningsförändringar'!EI36","v":0},{"$f":"'Blad 6 Befolkningsförändringar'!EJ36","v":0},{"$f":"'Blad 6 Befolkningsförändringar'!EK36","v":0},{"$f":"'Blad 6 Befolkningsförändringar'!EL36","v":0},{"$f":"'Blad 6 Befolkningsförändringar'!EM36","v":0},{"$f":"'Blad 6 Befolkningsförändringar'!EN36","v":0},{"$f":"'Blad 6 Befolkningsförändringar'!EO36","v":0},{"$f":"'Blad 6 Befolkningsförändringar'!EP36","v":0},{"$f":"'Blad 6 Befolkningsförändringar'!EQ36","v":0},{"$f":"'Blad 6 Befolkningsförändringar'!ER36","v":0},{"$f":"'Blad 6 Befolkningsförändringar'!ES36","v":0},{"$f":"'Blad 6 Befolkningsförändringar'!ET36","v":0},{"$f":"'Blad 6 Befolkningsförändringar'!EU36","v":0},{"$f":"'Blad 6 Befolkningsförändringar'!EV36","v":0},{"$f":"'Blad 6 Befolkningsförändringar'!EW36","v":0},{"$f":"'Blad 6 Befolkningsförändringar'!EX36","v":0},{"$f":"'Blad 6 Befolkningsförändringar'!EY36","v":0},{"$f":"'Blad 6 Befolkningsförändringar'!EZ36","v":0},{"$f":"'Blad 6 Befolkningsförändringar'!FA36","v":0},{"$f":"'Blad 6 Befolkningsförändringar'!FB36","v":0},{"$f":"'Blad 6 Befolkningsförändringar'!FC36","v":0},{"$f":"'Blad 6 Befolkningsförändringar'!FD36","v":0},{"$f":"'Blad 6 Befolkningsförändringar'!FE36","v":0},{"$f":"'Blad 6 Befolkningsförändringar'!FF36","v":0},{"$f":"'Blad 6 Befolkningsförändringar'!FG36","v":0},{"$f":"'Blad 6 Befolkningsförändringar'!FH36","v":0},{"$f":"'Blad 6 Befolkningsförändringar'!FI36","v":0},{"$f":"'Blad 6 Befolkningsförändringar'!FJ36","v":0},{"$f":"'Blad 6 Befolkningsförändringar'!FK36","v":0},{"$f":"'Blad 6 Befolkningsförändringar'!FL36","v":0},{"$f":"'Blad 6 Befolkningsförändringar'!FM36","v":0},{"$f":"'Blad 6 Befolkningsförändringar'!FN36","v":0},{"$f":"'Blad 6 Befolkningsförändringar'!FO36","v":0},{"$f":"'Blad 6 Befolkningsförändringar'!FP36","v":0},{"$f":"'Blad 6 Befolkningsförändringar'!FQ36","v":0},{"$f":"'Blad 6 Befolkningsförändringar'!FR36","v":0},{"$f":"'Blad 6 Befolkningsförändringar'!FS36","v":0},{"$f":"'Blad 6 Befolkningsförändringar'!FT36","v":0},{"$f":"'Blad 6 Befolkningsförändringar'!FU36","v":0},{"$f":"'Blad 6 Befolkningsförändringar'!FV36","v":0},{"$f":"'Blad 6 Befolkningsförändringar'!FW36","v":0},{"$f":"'Blad 6 Befolkningsförändringar'!FX36","v":0},{"$f":"'Blad 6 Befolkningsförändringar'!FY36","v":0},{"$f":"'Blad 6 Befolkningsförändringar'!FZ36","v":0},{"$f":"'Blad 6 Befolkningsförändringar'!GA36","v":0},{"$f":"'Blad 6 Befolkningsförändringar'!GB36","v":0},{"$f":"'Blad 6 Befolkningsförändringar'!GC36","v":0},{"$f":"'Blad 6 Befolkningsförändringar'!GD36","v":0},{"$f":"'Blad 6 Befolkningsförändringar'!GE36","v":0},{"$f":"'Blad 6 Befolkningsförändringar'!GF36","v":0},{"$f":"'Blad 6 Befolkningsförändringar'!GG36","v":0},{"$f":"'Blad 6 Befolkningsförändringar'!GH36","v":0},{"$f":"'Blad 6 Befolkningsförändringar'!GI36","v":0},{"$f":"'Blad 6 Befolkningsförändringar'!GJ36","v":0},{"$f":"'Blad 6 Befolkningsförändringar'!GK36","v":0},{"$f":"'Blad 6 Befolkningsförändringar'!GL36","v":0},{"$f":"'Blad 6 Befolkningsförändringar'!GM36","v":0},{"$f":"'Blad 6 Befolkningsförändringar'!GN36","v":0},{"$f":"'Blad 6 Befolkningsförändringar'!GO36","v":0},{"$f":"'Blad 6 Befolkningsförändringar'!GP36","v":0},{"$f":"'Blad 6 Befolkningsförändringar'!GQ36","v":0},{"$f":"'Blad 6 Befolkningsförändringar'!GR36","v":0},{"$f":"'Blad 6 Befolkningsförändringar'!GS36","v":0},{"$f":"'Blad 6 Befolkningsförändringar'!GT36","v":0},{"$f":"'Blad 6 Befolkningsförändringar'!GU36","v":0},{"$f":"'Blad 6 Befolkningsförändringar'!GV36","v":0},{"$f":"'Blad 6 Befolkningsförändringar'!GW36","v":0},{"$f":"'Blad 6 Befolkningsförändringar'!GX36","v":0},{"$f":"'Blad 6 Befolkningsförändringar'!GY36","v":0},{"$f":"'Blad 6 Befolkningsförändringar'!GZ36","v":0},{"$f":"'Blad 6 Befolkningsförändringar'!HA36","v":0},{"$f":"'Blad 6 Befolkningsförändringar'!HB36","v":0},{"$f":"'Blad 6 Befolkningsförändringar'!HC36","v":0},{"$f":"'Blad 6 Befolkningsförändringar'!HD36","v":0},{"$f":"'Blad 6 Befolkningsförändringar'!HE36","v":0},{"$f":"'Blad 6 Befolkningsförändringar'!HF36","v":0},{"$f":"'Blad 6 Befolkningsförändringar'!HG36","v":0},{"$f":"'Blad 6 Befolkningsförändringar'!HH36","v":0},{"$f":"'Blad 6 Befolkningsförändringar'!HI36","v":0},{"$f":"'Blad 6 Befolkningsförändringar'!HJ36","v":0},{"$f":"'Blad 6 Befolkningsförändringar'!HK36","v":0},{"$f":"'Blad 6 Befolkningsförändringar'!HL36","v":0},{"$f":"'Blad 6 Befolkningsförändringar'!HM36","v":0},{"$f":"'Blad 6 Befolkningsförändringar'!HN36","v":0},{"$f":"'Blad 6 Befolkningsförändringar'!HO36","v":0},{"$f":"'Blad 6 Befolkningsförändringar'!HP36","v":0},{"$f":"'Blad 6 Befolkningsförändringar'!HQ36","v":0},{"$f":"'Blad 6 Befolkningsförändringar'!HR36","v":0},{"$f":"'Blad 6 Befolkningsförändringar'!HS36","v":0},{"$f":"'Blad 6 Befolkningsförändringar'!HT36","v":0},{"$f":"'Blad 6 Befolkningsförändringar'!HU36","v":0},{"$f":"'Blad 6 Befolkningsförändringar'!HV36","v":0},{"$f":"'Blad 6 Befolkningsförändringar'!HW36","v":0},{"$f":"'Blad 6 Befolkningsförändringar'!HX36","v":0},{"$f":"'Blad 6 Befolkningsförändringar'!HY36","v":0},{"$f":"'Blad 6 Befolkningsförändringar'!HZ36","v":0},{"$f":"'Blad 6 Befolkningsförändringar'!IA36","v":0},{"$f":"'Blad 6 Befolkningsförändringar'!IB36","v":0},{"$f":"'Blad 6 Befolkningsförändringar'!IC36","v":0},{"$f":"'Blad 6 Befolkningsförändringar'!ID36","v":0},{"$f":"'Blad 6 Befolkningsförändringar'!IE36","v":0},{"$f":"'Blad 6 Befolkningsförändringar'!IF36","v":0},{"$f":"'Blad 6 Befolkningsförändringar'!IG36","v":0},{"$f":"'Blad 6 Befolkningsförändringar'!IH36","v":0},{"$f":"'Blad 6 Befolkningsförändringar'!II36","v":0},{"$f":"'Blad 6 Befolkningsförändringar'!IJ36","v":0},{"$f":"'Blad 6 Befolkningsförändringar'!IK36","v":0},{"$f":"'Blad 6 Befolkningsförändringar'!IL36","v":0},{"$f":"'Blad 6 Befolkningsförändringar'!IM36","v":0},{"$f":"'Blad 6 Befolkningsförändringar'!IN36","v":0},{"$f":"'Blad 6 Befolkningsförändringar'!IO36","v":0},{"$f":"'Blad 6 Befolkningsförändringar'!IP36","v":0},{"$f":"'Blad 6 Befolkningsförändringar'!IQ36","v":0},{"$f":"'Blad 6 Befolkningsförändringar'!IR36","v":0},{"$f":"'Blad 6 Befolkningsförändringar'!IS36","v":0},{"$f":"'Blad 6 Befolkningsförändringar'!IT36","v":0},{"$f":"'Blad 6 Befolkningsförändringar'!IU36","v":0},{"$f":"'Blad 6 Befolkningsförändringar'!IV36","v":0},{"$f":"'Blad 6 Befolkningsförändringar'!#REF!","v":{"$error":"#REF!"}}]
["Finansiering befolkningsförändringar",{"$f":"-'Blad 2 Indata'!C77","v":-82},{"$f":"-'Blad 2 Indata'!D77","v":-77.838918910032348},{"$f":"-'Blad 2 Indata'!E77","v":-76.215341112535256},{"$f":"-'Blad 2 Indata'!F77","v":-74.969757579311761},{"$f":"-'Blad 2 Indata'!G77","v":-77.136189429224927},{"$f":"-'Blad 2 Indata'!H77","v":-71.005874329700106},{"$f":"-'Blad 2 Indata'!I77","v":-65.119398062935161},{"$f":"-'Blad 2 Indata'!J77","v":-59.551657746434863}]
["Kollektivtrafik",{"$f":"IF(ISERROR(VLOOKUP('Blad 2 Indata'!$B$1,Data!$A$3:$AO$23,32)),0,VLOOKUP('Blad 2 Indata'!$B$1,Data!$A$3:$AO$23,32))","v":0},{"$f":"IF('Blad 2 Indata'!D69<>0,VLOOKUP('Blad 2 Indata'!$B$1,Data!$A$3:$AO$23,37),B14*(1+C8/100))","v":0},{"$f":"C14*(1+D8/100)","v":0},0,0,0,0,0]
["Totalt",{"$f":"B11+B12+B13+B14","v":-82},{"$f":"C11+C12+C13+C14","v":-77.838918910032348},{"$f":"D11+D12+D13+D14","v":-76.215341112535256},-74.969757579311761,-77.136189429224927,-71.005874329700106,-65.119398062935161,-59.551657746434863]
[]
[]
[]
[]
[]
[]
[]
[]
[]
[]
[]
[]
[]
[]
[]
[]
[]
[]
[]
[]
[]
[]
[]
[]
[]
[]
[]
[]
[]
[]
[]
[]
[]
[]
[]
[]
[]
[]
[]
[]
[]
[]
[]
[]
[]
[]
[]
[]
[]
[]
[]
[]
[]
[]
[]
[]
[]
[]
[]
[]
[]
[]
[]
[]
[]
[]
[]
[]
[]
[]
[]
[]
[]
[]
[]
[]
[]
[]
[]
[]
[]
[]
[]
[]
[]
[]
[]
[]
[]
[]
[]
[]
[]
[]
[]
[]
[]
[]
[]
[]
[]
["Befolkningsuppgifter riket"]
[]
["Män 0 år"]
["Kvinnor 0 år"]
["Män 1-4 år"]
["Kvinnor 1-4 år"]
["Män 5-9 år"]
["Kvinnor 5-9 år"]
["Män 10-14 år"]
["Kvinnor 10-14 år"]
["Män 15-19 år"]
["Kvinnor 15-19 år"]
["Män 20-24 år"]
["Kvinnor 20-24 år"]
["Män 25-29 år"]
["Kvinnor 25-29 år"]
["Män 30-39 år"]
["Kvinnor 30-39 år"]
["Män 40-49 år"]
["Kvinnor 40-49 år"]
["Män 50-59 år"]
["Kvinnor 50-59 år"]
["Män 60-69 år"]
["Kvinnor 60-69 år"]
["Män 70-74 år"]
["Kvinnor 70-74 år"]
["Män 75-79 år"]
["Kvinnor 75-79 år"]
["Män 80-89 år"]
["Kvinnor 80-89 år"]
["Män 90+ år"]
["Kvinnor 90+ år"]

{"sheet":"Blad 5 Strukturbidrag","index":7,"n_rows":13,"n_cols":12,"rows_kept":13,"cut":false,"hidden":true,"merged":[]}
["Strukturbidrag",{"$f":"'Blad 2 Indata'!B1","v":0}]
["Kronor per invånare"]
[]
[null,null,null,null,{"$f":"'Blad 1 Totala intäkter'!B9","v":2024},{"$f":"'Blad 1 Totala intäkter'!C9","v":2025},{"$f":"'Blad 1 Totala intäkter'!D9","v":2026},{"$f":"'Blad 1 Totala intäkter'!E9","v":2027},{"$f":"'Blad 1 Totala intäkter'!F9","v":2028},{"$f":"'Blad 1 Totala intäkter'!G9","v":2029},{"$f":"'Blad 1 Totala intäkter'!H9","v":2030},{"$f":"'Blad 1 Totala intäkter'!I9","v":2031}]
[]
[]
["Strukturbidrag",null,null,null,{"$f":"IF(ISERROR(VLOOKUP('Blad 2 Indata'!$B$1,Data!$A$2:$BT$28,54)),0,(VLOOKUP('Blad 2 Indata'!$B$1,Data!$A$2:BW$28,54)))","v":0},{"$f":"IF(ISERROR(VLOOKUP('Blad 2 Indata'!$B$1,Data!$A$2:$BT$28,54)),0,(VLOOKUP('Blad 2 Indata'!$B$1,Data!$A$2:BX$28,54)))","v":0},{"$f":"IF(ISERROR(VLOOKUP('Blad 2 Indata'!$B$1,Data!$A$2:$BT$28,54)),0,(VLOOKUP('Blad 2 Indata'!$B$1,Data!$A$2:BY$28,54)))","v":0},{"$f":"IF(ISERROR(VLOOKUP('Blad 2 Indata'!$B$1,Data!$A$2:$BT$28,54)),0,(VLOOKUP('Blad 2 Indata'!$B$1,Data!$A$2:BZ$28,54)))","v":0},{"$f":"IF(ISERROR(VLOOKUP('Blad 2 Indata'!$B$1,Data!$A$2:$BT$28,54)),0,(VLOOKUP('Blad 2 Indata'!$B$1,Data!$A$2:CA$28,54)))","v":0},{"$f":"IF(ISERROR(VLOOKUP('Blad 2 Indata'!$B$1,Data!$A$2:$BT$28,54)),0,(VLOOKUP('Blad 2 Indata'!$B$1,Data!$A$2:CB$28,54)))","v":0},{"$f":"IF(ISERROR(VLOOKUP('Blad 2 Indata'!$B$1,Data!$A$2:$BT$28,54)),0,(VLOOKUP('Blad 2 Indata'!$B$1,Data!$A$2:CC$28,54)))","v":0},{"$f":"IF(ISERROR(VLOOKUP('Blad 2 Indata'!$B$1,Data!$A$2:$BT$28,54)),0,(VLOOKUP('Blad 2 Indata'!$B$1,Data!$A$2:CD$28,54)))","v":0}]
[]
[]
["Införandebidrag "]
["Införandebidrag avseende 2014 års förändring",null,null,null,0,0,0,0,0,0,0,0]
["Införandebidrag 2020-2022 p.g.a. ny kostnadsutjämning",null,null,null,{"$f":"IF(ISERROR(VLOOKUP('Blad 2 Indata'!$B$1,Data!$A$2:$BT$28,56)),0,(VLOOKUP('Blad 2 Indata'!$B$1,Data!$A$2:$BT$28,56)))","v":0},{"$f":"IF(ISERROR(VLOOKUP('Blad 2 Indata'!$B$1,Data!$A$2:$BT$28,57)),0,(VLOOKUP('Blad 2 Indata'!$B$1,Data!$A$2:$BT$28,57)))","v":0},0,0,0,0,0,0]
["Summa införandebidrag",null,null,null,{"$f":"E11+E12","v":0},0,0,0,0,0,0,0]

{"sheet":"Blad 6 Befolkningsförändringar","index":8,"n_rows":46,"n_cols":256,"rows_kept":46,"cut":false,"hidden":true,"merged":[]}
["Befolkningsförändringar"]
[]
[null,{"$f":"'Blad 1 Totala intäkter'!B9-1","v":2023},{"$f":"B3+1","v":2024},2025,2026,2027,2028,2029,2030,2031]
[]
["Ersättning för eftersläpning"]
["Folkmängd 1 nov"]
["året innan",{"$f":"'Blad 2 Indata'!B31","v":0},{"$f":"'Blad 2 Indata'!C31","v":0},{"$f":"IF('Blad 2 Indata'!$O$4=1,'Blad 2 Indata'!D32,'Blad 2 Indata'!D33)","v":0},{"$f":"IF('Blad 2 Indata'!$O$4=1,'Blad 2 Indata'!E32,'Blad 2 Indata'!E33)","v":0},{"$f":"IF('Blad 2 Indata'!$O$4=1,'Blad 2 Indata'!F32,'Blad 2 Indata'!F33)","v":0},{"$f":"IF('Blad 2 Indata'!$O$4=1,'Blad 2 Indata'!G32,'Blad 2 Indata'!G33)","v":0},{"$f":"IF('Blad 2 Indata'!$O$4=1,'Blad 2 Indata'!H32,'Blad 2 Indata'!H33)","v":0},{"$f":"IF('Blad 2 Indata'!$O$4=1,'Blad 2 Indata'!I32,'Blad 2 Indata'!I33)","v":0},{"$f":"IF('Blad 2 Indata'!$O$4=1,'Blad 2 Indata'!J32,'Blad 2 Indata'!J33)","v":0}]
["2 år innan",{"$f":"'Blad 2 Indata'!E72","v":0},{"$f":"B7","v":0},0,0,0,0,0,0,0]
["3 år innan",{"$f":"'Blad 2 Indata'!D72","v":0},{"$f":"B8","v":0},{"$f":"C8","v":0},0,0,0,0,0,0]
["4 år innan",{"$f":"'Blad 2 Indata'!C72","v":0},0,0,{"$f":"D9","v":0},0,0,{"$f":"G9","v":0},0,0]
["5 år innan",{"$f":"'Blad 2 Indata'!B72","v":0},0,0,0,0,0,0,0,0]
[]
["Procentuell förändring"]
[null,null,{"$f":"IF(ISERROR(B7/B8-1),0,(B7/B8-1))","v":0},{"$f":"IF(ISERROR(C7/C8-1),0,(C7/C8-1))","v":0},0,0,0,0,0,0]
[null,null,0,{"$f":"IF(ISERROR(C8/C9-1),0,(C8/C9-1))","v":0},0,{"$f":"IF(ISERROR(E8/E9-1),0,(E8/E9-1))","v":0},0,0,{"$f":"IF(ISERROR(H8/H9-1),0,(H8/H9-1))","v":0},0]
[null,null,0,0,0,0,0,0,0,0]
[null,null,{"$f":"IF(ISERROR(B10/B11-1),0,(B10/B11-1))","v":0},{"$f":"IF(ISERROR(C10/C11-1),0,(C10/C11-1))","v":0},{"$f":"IF(ISERROR(D10/D11-1),0,(D10/D11-1))","v":0},0,{"$f":"IF(ISERROR(F10/F11-1),0,(F10/F11-1))","v":0},0,0,0]
[]
["Genomsnitt på 5 år",null,{"$f":"PRODUCT(1+C14:C17)^(1/4)-1","v":0},{"$f":"PRODUCT(1+D14:D17)^(1/4)-1","v":0},{"$f":"PRODUCT(1+E14:E17)^(1/4)-1","v":0},{"$f":"PRODUCT(1+F14:F17)^(1/4)-1","v":0},{"$f":"PRODUCT(1+G14:G17)^(1/4)-1","v":0},{"$f":"PRODUCT(1+H14:H17)^(1/4)-1","v":0},{"$f":"PRODUCT(1+I14:I17)^(1/4)-1","v":0},{"$f":"PRODUCT(1+J14:J17)^(1/4)-1","v":0}]
[]
["Gräns på 5 år",1.2E-2]
[]
["Procentuell förändring nov - nov",null,{"$f":"IF(ISERROR(C7/C8-1),0,(C7/C8-1))","v":0},0,0,0,0,0,0,0]
[]
["Gräns, nov - nov",1.2E-2]
[]
["Antal ersatta personer",null,null,{"$f":"IF(D19>$B$21,IF(D23>$B$25,(D7-D8)-D8*($B$25),0),0)","v":0},0,0,0,0,0,{"$f":"IF(J19>$B$21,IF(J23>$B$25,(J7-J8)-J8*($B$25),0),0)","v":0}]
[]
[]
["Utbetalat året innan, tkr",null,null,{"$f":"ROUND(('Blad 1 Totala intäkter'!K14+'Blad 1 Totala intäkter'!K16+'Blad 1 Totala intäkter'!K18+'Blad 1 Totala intäkter'!K20+'Blad 1 Totala intäkter'!K22)*C7/1000,3)","v":0},{"$f":"('Blad 1 Totala intäkter'!L14+'Blad 1 Totala intäkter'!L16+'Blad 1 Totala intäkter'!L18+'Blad 1 Totala intäkter'!L20+'Blad 1 Totala intäkter'!L22)*D7/1000","v":0},{"$f":"('Blad 1 Totala intäkter'!M14+'Blad 1 Totala intäkter'!M16+'Blad 1 Totala intäkter'!M18+'Blad 1 Totala intäkter'!M20+'Blad 1 Totala intäkter'!M22)*E7/1000","v":0},{"$f":"('Blad 1 Totala intäkter'!N14+'Blad 1 Totala intäkter'!N16+'Blad 1 Totala intäkter'!N18+'Blad 1 Totala intäkter'!N20+'Blad 1 Totala intäkter'!N22)*F7/1000","v":0},{"$f":"('Blad 1 Totala intäkter'!O14+'Blad 1 Totala intäkter'!O16+'Blad 1 Totala intäkter'!O18+'Blad 1 Totala intäkter'!O20+'Blad 1 Totala intäkter'!O22)*G7/1000","v":0},{"$f":"('Blad 1 Totala intäkter'!P14+'Blad 1 Totala intäkter'!P16+'Blad 1 Totala intäkter'!P18+'Blad 1 Totala intäkter'!P20+'Blad 1 Totala intäkter'!P22)*H7/1000","v":0},{"$f":"('Blad 1 Totala intäkter'!Q14+'Blad 1 Totala intäkter'!Q16+'Blad 1 Totala intäkter'!Q18+'Blad 1 Totala intäkter'!Q20+'Blad 1 Totala intäkter'!Q22)*I7/1000","v":0},null,null,null,null,null,null,null,null,null,null,null,null,null,null,null,null,{"$f":"('Blad 1 Totala intäkter'!#REF!+'Blad 1 Totala intäkter'!#REF!+'Blad 1 Totala intäkter'!#REF!+'Blad 1 Totala intäkter'!#REF!+'Blad 1 Totala intäkter'!#REF!)*Z7/1000","v":{"$error":"#REF!"}},{"$f":"('Blad 1 Totala intäkter'!S14+'Blad 1 Totala intäkter'!S18+'Blad 1 Totala intäkter'!S16+'Blad 1 Totala intäkter'!S20+'Blad 1 Totala intäkter'!S22)*AA7/1000","v":{"$error":"#REF!"}},{"$f":"('Blad 1 Totala intäkter'!T14+'Blad 1 Totala intäkter'!T18+'Blad 1 Totala intäkter'!T16+'Blad 1 Totala intäkter'!T20+'Blad 1 Totala intäkter'!T22)*AB7/1000","v":{"$error":"#REF!"}},{"$f":"('Blad 1 Totala intäkter'!U14+'Blad 1 Totala intäkter'!U18+'Blad 1 Totala intäkter'!U16+'Blad 1 Totala intäkter'!U20+'Blad 1 Totala intäkter'!U22)*AC7/1000","v":{"$error":"#REF!"}},{"$f":"('Blad 1 Totala intäkter'!V14+'Blad 1 Totala intäkter'!V18+'Blad 1 Totala intäkter'!V16+'Blad 1 Totala intäkter'!V20+'Blad 1 Totala intäkter'!V22)*AD7/1000","v":{"$error":"#REF!"}},{"$f":"('Blad 1 Totala intäkter'!W14+'Blad 1 Totala intäkter'!W18+'Blad 1 Totala intäkter'!W16+'Blad 1 Totala intäkter'!W20+'Blad 1 Totala intäkter'!W22)*AE7/1000","v":{"$error":"#REF!"}},{"$f":"('Blad 1 Totala intäkter'!X14+'Blad 1 Totala intäkter'!X18+'Blad 1 Totala intäkter'!X16+'Blad 1 Totala intäkter'!X20+'Blad 1 Totala intäkter'!X22)*AF7/1000","v":{"$error":"#REF!"}},{"$f":"('Blad 1 Totala intäkter'!Y14+'Blad 1 Totala intäkter'!Y18+'Blad 1 Totala intäkter'!Y16+'Blad 1 Totala intäkter'!Y20+'Blad 1 Totala intäkter'!Y22)*AG7/1000","v":{"$error":"#REF!"}},{"$f":"('Blad 1 Totala intäkter'!Z14+'Blad 1 Totala intäkter'!Z18+'Blad 1 Totala intäkter'!Z16+'Blad 1 Totala intäkter'!Z20+'Blad 1 Totala intäkter'!Z22)*AH7/1000","v":{"$error":"#REF!"}},{"$f":"('Blad 1 Totala intäkter'!AA14+'Blad 1 Totala intäkter'!AA18+'Blad 1 Totala intäkter'!AA16+'Blad 1 Totala intäkter'!AA20+'Blad 1 Totala intäkter'!AA22)*AI7/1000","v":{"$error":"#REF!"}},{"$f":"('Blad 1 Totala intäkter'!AB14+'Blad 1 Totala intäkter'!AB18+'Blad 1 Totala intäkter'!AB16+'Blad 1 Totala intäkter'!AB20+'Blad 1 Totala intäkter'!AB22)*AJ7/1000","v":{"$error":"#REF!"}},{"$f":"('Blad 1 Totala intäkter'!AC14+'Blad 1 Totala intäkter'!AC18+'Blad 1 Totala intäkter'!AC16+'Blad 1 Totala intäkter'!AC20+'Blad 1 Totala intäkter'!AC22)*AK7/1000","v":{"$error":"#REF!"}},{"$f":"('Blad 1 Totala intäkter'!AD14+'Blad 1 Totala intäkter'!AD18+'Blad 1 Totala intäkter'!AD16+'Blad 1 Totala intäkter'!AD20+'Blad 1 Totala intäkter'!AD22)*AL7/1000","v":{"$error":"#REF!"}},{"$f":"('Blad 1 Totala intäkter'!AE14+'Blad 1 Totala intäkter'!AE18+'Blad 1 Totala intäkter'!AE16+'Blad 1 Totala intäkter'!AE20+'Blad 1 Totala intäkter'!AE22)*AM7/1000","v":{"$error":"#REF!"}},{"$f":"('Blad 1 Totala intäkter'!AF14+'Blad 1 Totala intäkter'!AF18+'Blad 1 Totala intäkter'!AF16+'Blad 1 Totala intäkter'!AF20+'Blad 1 Totala intäkter'!AF22)*AN7/1000","v":{"$error":"#REF!"}},{"$f":"('Blad 1 Totala intäkter'!AG14+'Blad 1 Totala intäkter'!AG18+'Blad 1 Totala intäkter'!AG16+'Blad 1 Totala intäkter'!AG20+'Blad 1 Totala intäkter'!AG22)*AO7/1000","v":{"$error":"#REF!"}},{"$f":"('Blad 1 Totala intäkter'!AH14+'Blad 1 Totala intäkter'!AH18+'Blad 1 Totala intäkter'!AH16+'Blad 1 Totala intäkter'!AH20+'Blad 1 Totala intäkter'!AH22)*AP7/1000","v":{"$error":"#REF!"}},{"$f":"('Blad 1 Totala intäkter'!AI14+'Blad 1 Totala intäkter'!AI18+'Blad 1 Totala intäkter'!AI16+'Blad 1 Totala intäkter'!AI20+'Blad 1 Totala intäkter'!AI22)*AQ7/1000","v":{"$error":"#REF!"}},{"$f":"('Blad 1 Totala intäkter'!AJ14+'Blad 1 Totala intäkter'!AJ18+'Blad 1 Totala intäkter'!AJ16+'Blad 1 Totala intäkter'!AJ20+'Blad 1 Totala intäkter'!AJ22)*AR7/1000","v":{"$error":"#REF!"}},{"$f":"('Blad 1 Totala intäkter'!AK14+'Blad 1 Totala intäkter'!AK18+'Blad 1 Totala intäkter'!AK16+'Blad 1 Totala intäkter'!AK20+'Blad 1 Totala intäkter'!AK22)*AS7/1000","v":{"$error":"#REF!"}},{"$f":"('Blad 1 Totala intäkter'!AL14+'Blad 1 Totala intäkter'!AL18+'Blad 1 Totala intäkter'!AL16+'Blad 1 Totala intäkter'!AL20+'Blad 1 Totala intäkter'!AL22)*AT7/1000","v":{"$error":"#REF!"}},{"$f":"('Blad 1 Totala intäkter'!AM14+'Blad 1 Totala intäkter'!AM18+'Blad 1 Totala intäkter'!AM16+'Blad 1 Totala intäkter'!AM20+'Blad 1 Totala intäkter'!AM22)*AU7/1000","v":{"$error":"#REF!"}},{"$f":"('Blad 1 Totala intäkter'!AN14+'Blad 1 Totala intäkter'!AN18+'Blad 1 Totala intäkter'!AN16+'Blad 1 Totala intäkter'!AN20+'Blad 1 Totala intäkter'!AN22)*AV7/1000","v":{"$error":"#REF!"}},{"$f":"('Blad 1 Totala intäkter'!AO14+'Blad 1 Totala intäkter'!AO18+'Blad 1 Totala intäkter'!AO16+'Blad 1 Totala intäkter'!AO20+'Blad 1 Totala intäkter'!AO22)*AW7/1000","v":{"$error":"#REF!"}},{"$f":"('Blad 1 Totala intäkter'!AP14+'Blad 1 Totala intäkter'!AP18+'Blad 1 Totala intäkter'!AP16+'Blad 1 Totala intäkter'!AP20+'Blad 1 Totala intäkter'!AP22)*AX7/1000","v":{"$error":"#REF!"}},{"$f":"('Blad 1 Totala intäkter'!AQ14+'Blad 1 Totala intäkter'!AQ18+'Blad 1 Totala intäkter'!AQ16+'Blad 1 Totala intäkter'!AQ20+'Blad 1 Totala intäkter'!AQ22)*AY7/1000","v":{"$error":"#REF!"}},{"$f":"('Blad 1 Totala intäkter'!AR14+'Blad 1 Totala intäkter'!AR18+'Blad 1 Totala intäkter'!AR16+'Blad 1 Totala intäkter'!AR20+'Blad 1 Totala intäkter'!AR22)*AZ7/1000","v":{"$error":"#REF!"}},{"$f":"('Blad 1 Totala intäkter'!AS14+'Blad 1 Totala intäkter'!AS18+'Blad 1 Totala intäkter'!AS16+'Blad 1 Totala intäkter'!AS20+'Blad 1 Totala intäkter'!AS22)*BA7/1000","v":{"$error":"#REF!"}},{"$f":"('Blad 1 Totala intäkter'!AT14+'Blad 1 Totala intäkter'!AT18+'Blad 1 Totala intäkter'!AT16+'Blad 1 Totala intäkter'!AT20+'Blad 1 Totala intäkter'!AT22)*BB7/1000","v":{"$error":"#REF!"}},{"$f":"('Blad 1 Totala intäkter'!AU14+'Blad 1 Totala intäkter'!AU18+'Blad 1 Totala intäkter'!AU16+'Blad 1 Totala intäkter'!AU20+'Blad 1 Totala intäkter'!AU22)*BC7/1000","v":{"$error":"#REF!"}},{"$f":"('Blad 1 Totala intäkter'!AV14+'Blad 1 Totala intäkter'!AV18+'Blad 1 Totala intäkter'!AV16+'Blad 1 Totala intäkter'!AV20+'Blad 1 Totala intäkter'!AV22)*BD7/1000","v":{"$error":"#REF!"}},{"$f":"('Blad 1 Totala intäkter'!AW14+'Blad 1 Totala intäkter'!AW18+'Blad 1 Totala intäkter'!AW16+'Blad 1 Totala intäkter'!AW20+'Blad 1 Totala intäkter'!AW22)*BE7/1000","v":{"$error":"#REF!"}},{"$f":"('Blad 1 Totala intäkter'!AX14+'Blad 1 Totala intäkter'!AX18+'Blad 1 Totala intäkter'!AX16+'Blad 1 Totala intäkter'!AX20+'Blad 1 Totala intäkter'!AX22)*BF7/1000","v":{"$error":"#REF!"}},{"$f":"('Blad 1 Totala intäkter'!AY14+'Blad 1 Totala intäkter'!AY18+'Blad 1 Totala intäkter'!AY16+'Blad 1 Totala intäkter'!AY20+'Blad 1 Totala intäkter'!AY22)*BG7/1000","v":{"$error":"#REF!"}},{"$f":"('Blad 1 Totala intäkter'!AZ14+'Blad 1 Totala intäkter'!AZ18+'Blad 1 Totala intäkter'!AZ16+'Blad 1 Totala intäkter'!AZ20+'Blad 1 Totala intäkter'!AZ22)*BH7/1000","v":{"$error":"#REF!"}},{"$f":"('Blad 1 Totala intäkter'!BA14+'Blad 1 Totala intäkter'!BA18+'Blad 1 Totala intäkter'!BA16+'Blad 1 Totala intäkter'!BA20+'Blad 1 Totala intäkter'!BA22)*BI7/1000","v":{"$error":"#REF!"}},{"$f":"('Blad 1 Totala intäkter'!BB14+'Blad 1 Totala intäkter'!BB18+'Blad 1 Totala intäkter'!BB16+'Blad 1 Totala intäkter'!BB20+'Blad 1 Totala intäkter'!BB22)*BJ7/1000","v":{"$error":"#REF!"}},{"$f":"('Blad 1 Totala intäkter'!BC14+'Blad 1 Totala intäkter'!BC18+'Blad 1 Totala intäkter'!BC16+'Blad 1 Totala intäkter'!BC20+'Blad 1 Totala intäkter'!BC22)*BK7/1000","v":{"$error":"#REF!"}},{"$f":"('Blad 1 Totala intäkter'!BD14+'Blad 1 Totala intäkter'!BD18+'Blad 1 Totala intäkter'!BD16+'Blad 1 Totala intäkter'!BD20+'Blad 1 Totala intäkter'!BD22)*BL7/1000","v":{"$error":"#REF!"}},{"$f":"('Blad 1 Totala intäkter'!BE14+'Blad 1 Totala intäkter'!BE18+'Blad 1 Totala intäkter'!BE16+'Blad 1 Totala intäkter'!BE20+'Blad 1 Totala intäkter'!BE22)*BM7/1000","v":{"$error":"#REF!"}},{"$f":"('Blad 1 Totala intäkter'!BF14+'Blad 1 Totala intäkter'!BF18+'Blad 1 Totala intäkter'!BF16+'Blad 1 Totala intäkter'!BF20+'Blad 1 Totala intäkter'!BF22)*BN7/1000","v":{"$error":"#REF!"}},{"$f":"('Blad 1 Totala intäkter'!BG14+'Blad 1 Totala intäkter'!BG18+'Blad 1 Totala intäkter'!BG16+'Blad 1 Totala intäkter'!BG20+'Blad 1 Totala intäkter'!BG22)*BO7/1000","v":{"$error":"#REF!"}},{"$f":"('Blad 1 Totala intäkter'!BH14+'Blad 1 Totala intäkter'!BH18+'Blad 1 Totala intäkter'!BH16+'Blad 1 Totala intäkter'!BH20+'Blad 1 Totala intäkter'!BH22)*BP7/1000","v":{"$error":"#REF!"}},{"$f":"('Blad 1 Totala intäkter'!BI14+'Blad 1 Totala intäkter'!BI18+'Blad 1 Totala intäkter'!BI16+'Blad 1 Totala intäkter'!BI20+'Blad 1 Totala intäkter'!BI22)*BQ7/1000","v":{"$error":"#REF!"}},{"$f":"('Blad 1 Totala intäkter'!BJ14+'Blad 1 Totala intäkter'!BJ18+'Blad 1 Totala intäkter'!BJ16+'Blad 1 Totala intäkter'!BJ20+'Blad 1 Totala intäkter'!BJ22)*BR7/1000","v":{"$error":"#REF!"}},{"$f":"('Blad 1 Totala intäkter'!BK14+'Blad 1 Totala intäkter'!BK18+'Blad 1 Totala intäkter'!BK16+'Blad 1 Totala intäkter'!BK20+'Blad 1 Totala intäkter'!BK22)*BS7/1000","v":{"$error":"#REF!"}},{"$f":"('Blad 1 Totala intäkter'!BL14+'Blad 1 Totala intäkter'!BL18+'Blad 1 Totala intäkter'!BL16+'Blad 1 Totala intäkter'!BL20+'Blad 1 Totala intäkter'!BL22)*BT7/1000","v":{"$error":"#REF!"}},{"$f":"('Blad 1 Totala intäkter'!BM14+'Blad 1 Totala intäkter'!BM18+'Blad 1 Totala intäkter'!BM16+'Blad 1 Totala intäkter'!BM20+'Blad 1 Totala intäkter'!BM22)*BU7/1000","v":{"$error":"#REF!"}},{"$f":"('Blad 1 Totala intäkter'!BN14+'Blad 1 Totala intäkter'!BN18+'Blad 1 Totala intäkter'!BN16+'Blad 1 Totala intäkter'!BN20+'Blad 1 Totala intäkter'!BN22)*BV7/1000","v":{"$error":"#REF!"}},{"$f":"('Blad 1 Totala intäkter'!BO14+'Blad 1 Totala intäkter'!BO18+'Blad 1 Totala intäkter'!BO16+'Blad 1 Totala intäkter'!BO20+'Blad 1 Totala intäkter'!BO22)*BW7/1000","v":{"$error":"#REF!"}},{"$f":"('Blad 1 Totala intäkter'!BP14+'Blad 1 Totala intäkter'!BP18+'Blad 1 Totala intäkter'!BP16+'Blad 1 Totala intäkter'!BP20+'Blad 1 Totala intäkter'!BP22)*BX7/1000","v":{"$error":"#REF!"}},{"$f":"('Blad 1 Totala intäkter'!BQ14+'Blad 1 Totala intäkter'!BQ18+'Blad 1 Totala intäkter'!BQ16+'Blad 1 Totala intäkter'!BQ20+'Blad 1 Totala intäkter'!BQ22)*BY7/1000","v":{"$error":"#REF!"}},{"$f":"('Blad 1 Totala intäkter'!BR14+'Blad 1 Totala intäkter'!BR18+'Blad 1 Totala intäkter'!BR16+'Blad 1 Totala intäkter'!BR20+'Blad 1 Totala intäkter'!BR22)*BZ7/1000","v":{"$error":"#REF!"}},{"$f":"('Blad 1 Totala intäkter'!BS14+'Blad 1 Totala intäkter'!BS18+'Blad 1 Totala intäkter'!BS16+'Blad 1 Totala intäkter'!BS20+'Blad 1 Totala intäkter'!BS22)*CA7/1000","v":{"$error":"#REF!"}},{"$f":"('Blad 1 Totala intäkter'!BT14+'Blad 1 Totala intäkter'!BT18+'Blad 1 Totala intäkter'!BT16+'Blad 1 Totala intäkter'!BT20+'Blad 1 Totala intäkter'!BT22)*CB7/1000","v":{"$error":"#REF!"}},{"$f":"('Blad 1 Totala intäkter'!BU14+'Blad 1 Totala intäkter'!BU18+'Blad 1 Totala intäkter'!BU16+'Blad 1 Totala intäkter'!BU20+'Blad 1 Totala intäkter'!BU22)*CC7/1000","v":{"$error":"#REF!"}},{"$f":"('Blad 1 Totala intäkter'!BV14+'Blad 1 Totala intäkter'!BV18+'Blad 1 Totala intäkter'!BV16+'Blad 1 Totala intäkter'!BV20+'Blad 1 Totala intäkter'!BV22)*CD7/1000","v":{"$error":"#REF!"}},{"$f":"('Blad 1 Totala intäkter'!BW14+'Blad 1 Totala intäkter'!BW18+'Blad 1 Totala intäkter'!BW16+'Blad 1 Totala intäkter'!BW20+'Blad 1 Totala intäkter'!BW22)*CE7/1000","v":{"$error":"#REF!"}},{"$f":"('Blad 1 Totala intäkter'!BX14+'Blad 1 Totala intäkter'!BX18+'Blad 1 Totala intäkter'!BX16+'Blad 1 Totala intäkter'!BX20+'Blad 1 Totala intäkter'!BX22)*CF7/1000","v":{"$error":"#REF!"}},{"$f":"('Blad 1 Totala intäkter'!BY14+'Blad 1 Totala intäkter'!BY18+'Blad 1 Totala intäkter'!BY16+'Blad 1 Totala intäkter'!BY20+'Blad 1 Totala intäkter'!BY22)*CG7/1000","v":{"$error":"#REF!"}},{"$f":"('Blad 1 Totala intäkter'!BZ14+'Blad 1 Totala intäkter'!BZ18+'Blad 1 Totala intäkter'!BZ16+'Blad 1 Totala intäkter'!BZ20+'Blad 1 Totala intäkter'!BZ22)*CH7/1000","v":{"$error":"#REF!"}},{"$f":"('Blad 1 Totala intäkter'!CA14+'Blad 1 Totala intäkter'!CA18+'Blad 1 Totala intäkter'!CA16+'Blad 1 Totala intäkter'!CA20+'Blad 1 Totala intäkter'!CA22)*CI7/1000","v":{"$error":"#REF!"}},{"$f":"('Blad 1 Totala intäkter'!CB14+'Blad 1 Totala intäkter'!CB18+'Blad 1 Totala intäkter'!CB16+'Blad 1 Totala intäkter'!CB20+'Blad 1 Totala intäkter'!CB22)*CJ7/1000","v":{"$error":"#REF!"}},{"$f":"('Blad 1 Totala intäkter'!CC14+'Blad 1 Totala intäkter'!CC18+'Blad 1 Totala intäkter'!CC16+'Blad 1 Totala intäkter'!CC20+'Blad 1 Totala intäkter'!CC22)*CK7/1000","v":{"$error":"#REF!"}},{"$f":"('Blad 1 Totala intäkter'!CD14+'Blad 1 Totala intäkter'!CD18+'Blad 1 Totala intäkter'!CD16+'Blad 1 Totala intäkter'!CD20+'Blad 1 Totala intäkter'!CD22)*CL7/1000","v":{"$error":"#REF!"}},{"$f":"('Blad 1 Totala intäkter'!CE14+'Blad 1 Totala intäkter'!CE18+'Blad 1 Totala intäkter'!CE16+'Blad 1 Totala intäkter'!CE20+'Blad 1 Totala intäkter'!CE22)*CM7/1000","v":{"$error":"#REF!"}},{"$f":"('Blad 1 Totala intäkter'!CF14+'Blad 1 Totala intäkter'!CF18+'Blad 1 Totala intäkter'!CF16+'Blad 1 Totala intäkter'!CF20+'Blad 1 Totala intäkter'!CF22)*CN7/1000","v":{"$error":"#REF!"}},{"$f":"('Blad 1 Totala intäkter'!CG14+'Blad 1 Totala intäkter'!CG18+'Blad 1 Totala intäkter'!CG16+'Blad 1 Totala intäkter'!CG20+'Blad 1 Totala intäkter'!CG22)*CO7/1000","v":{"$error":"#REF!"}},{"$f":"('Blad 1 Totala intäkter'!CH14+'Blad 1 Totala intäkter'!CH18+'Blad 1 Totala intäkter'!CH16+'Blad 1 Totala intäkter'!CH20+'Blad 1 Totala intäkter'!CH22)*CP7/1000","v":{"$error":"#REF!"}},{"$f":"('Blad 1 Totala intäkter'!CI14+'Blad 1 Totala intäkter'!CI18+'Blad 1 Totala intäkter'!CI16+'Blad 1 Totala intäkter'!CI20+'Blad 1 Totala intäkter'!CI22)*CQ7/1000","v":{"$error":"#REF!"}},{"$f":"('Blad 1 Totala intäkter'!CJ14+'Blad 1 Totala intäkter'!CJ18+'Blad 1 Totala intäkter'!CJ16+'Blad 1 Totala intäkter'!CJ20+'Blad 1 Totala intäkter'!CJ22)*CR7/1000","v":{"$error":"#REF!"}},{"$f":"('Blad 1 Totala intäkter'!CK14+'Blad 1 Totala intäkter'!CK18+'Blad 1 Totala intäkter'!CK16+'Blad 1 Totala intäkter'!CK20+'Blad 1 Totala intäkter'!CK22)*CS7/1000","v":{"$error":"#REF!"}},{"$f":"('Blad 1 Totala intäkter'!CL14+'Blad 1 Totala intäkter'!CL18+'Blad 1 Totala intäkter'!CL16+'Blad 1 Totala intäkter'!CL20+'Blad 1 Totala intäkter'!CL22)*CT7/1000","v":{"$error":"#REF!"}},{"$f":"('Blad 1 Totala intäkter'!CM14+'Blad 1 Totala intäkter'!CM18+'Blad 1 Totala intäkter'!CM16+'Blad 1 Totala intäkter'!CM20+'Blad 1 Totala intäkter'!CM22)*CU7/1000","v":{"$error":"#REF!"}},{"$f":"('Blad 1 Totala intäkter'!CN14+'Blad 1 Totala intäkter'!CN18+'Blad 1 Totala intäkter'!CN16+'Blad 1 Totala intäkter'!CN20+'Blad 1 Totala intäkter'!CN22)*CV7/1000","v":{"$error":"#REF!"}},{"$f":"('Blad 1 Totala intäkter'!CO14+'Blad 1 Totala intäkter'!CO18+'Blad 1 Totala intäkter'!CO16+'Blad 1 Totala intäkter'!CO20+'Blad 1 Totala intäkter'!CO22)*CW7/1000","v":{"$error":"#REF!"}},{"$f":"('Blad 1 Totala intäkter'!CP14+'Blad 1 Totala intäkter'!CP18+'Blad 1 Totala intäkter'!CP16+'Blad 1 Totala intäkter'!CP20+'Blad 1 Totala intäkter'!CP22)*CX7/1000","v":{"$error":"#REF!"}},{"$f":"('Blad 1 Totala intäkter'!CQ14+'Blad 1 Totala intäkter'!CQ18+'Blad 1 Totala intäkter'!CQ16+'Blad 1 Totala intäkter'!CQ20+'Blad 1 Totala intäkter'!CQ22)*CY7/1000","v":{"$error":"#REF!"}},{"$f":"('Blad 1 Totala intäkter'!CR14+'Blad 1 Totala intäkter'!CR18+'Blad 1 Totala intäkter'!CR16+'Blad 1 Totala intäkter'!CR20+'Blad 1 Totala intäkter'!CR22)*CZ7/1000","v":{"$error":"#REF!"}},{"$f":"('Blad 1 Totala intäkter'!CS14+'Blad 1 Totala intäkter'!CS18+'Blad 1 Totala intäkter'!CS16+'Blad 1 Totala intäkter'!CS20+'Blad 1 Totala intäkter'!CS22)*DA7/1000","v":{"$error":"#REF!"}},{"$f":"('Blad 1 Totala intäkter'!CT14+'Blad 1 Totala intäkter'!CT18+'Blad 1 Totala intäkter'!CT16+'Blad 1 Totala intäkter'!CT20+'Blad 1 Totala intäkter'!CT22)*DB7/1000","v":{"$error":"#REF!"}},{"$f":"('Blad 1 Totala intäkter'!CU14+'Blad 1 Totala intäkter'!CU18+'Blad 1 Totala intäkter'!CU16+'Blad 1 Totala intäkter'!CU20+'Blad 1 Totala intäkter'!CU22)*DC7/1000","v":{"$error":"#REF!"}},{"$f":"('Blad 1 Totala intäkter'!CV14+'Blad 1 Totala intäkter'!CV18+'Blad 1 Totala intäkter'!CV16+'Blad 1 Totala intäkter'!CV20+'Blad 1 Totala intäkter'!CV22)*DD7/1000","v":{"$error":"#REF!"}},{"$f":"('Blad 1 Totala intäkter'!CW14+'Blad 1 Totala intäkter'!CW18+'Blad 1 Totala intäkter'!CW16+'Blad 1 Totala intäkter'!CW20+'Blad 1 Totala intäkter'!CW22)*DE7/1000","v":{"$error":"#REF!"}},{"$f":"('Blad 1 Totala intäkter'!CX14+'Blad 1 Totala intäkter'!CX18+'Blad 1 Totala intäkter'!CX16+'Blad 1 Totala intäkter'!CX20+'Blad 1 Totala intäkter'!CX22)*DF7/1000","v":{"$error":"#REF!"}},{"$f":"('Blad 1 Totala intäkter'!CY14+'Blad 1 Totala intäkter'!CY18+'Blad 1 Totala intäkter'!CY16+'Blad 1 Totala intäkter'!CY20+'Blad 1 Totala intäkter'!CY22)*DG7/1000","v":{"$error":"#REF!"}},{"$f":"('Blad 1 Totala intäkter'!CZ14+'Blad 1 Totala intäkter'!CZ18+'Blad 1 Totala intäkter'!CZ16+'Blad 1 Totala intäkter'!CZ20+'Blad 1 Totala intäkter'!CZ22)*DH7/1000","v":{"$error":"#REF!"}},{"$f":"('Blad 1 Totala intäkter'!DA14+'Blad 1 Totala intäkter'!DA18+'Blad 1 Totala intäkter'!DA16+'Blad 1 Totala intäkter'!DA20+'Blad 1 Totala intäkter'!DA22)*DI7/1000","v":{"$error":"#REF!"}},{"$f":"('Blad 1 Totala intäkter'!DB14+'Blad 1 Totala intäkter'!DB18+'Blad 1 Totala intäkter'!DB16+'Blad 1 Totala intäkter'!DB20+'Blad 1 Totala intäkter'!DB22)*DJ7/1000","v":{"$error":"#REF!"}},{"$f":"('Blad 1 Totala intäkter'!DC14+'Blad 1 Totala intäkter'!DC18+'Blad 1 Totala intäkter'!DC16+'Blad 1 Totala intäkter'!DC20+'Blad 1 Totala intäkter'!DC22)*DK7/1000","v":{"$error":"#REF!"}},{"$f":"('Blad 1 Totala intäkter'!DD14+'Blad 1 Totala intäkter'!DD18+'Blad 1 Totala intäkter'!DD16+'Blad 1 Totala intäkter'!DD20+'Blad 1 Totala intäkter'!DD22)*DL7/1000","v":{"$error":"#REF!"}},{"$f":"('Blad 1 Totala intäkter'!DE14+'Blad 1 Totala intäkter'!DE18+'Blad 1 Totala intäkter'!DE16+'Blad 1 Totala intäkter'!DE20+'Blad 1 Totala intäkter'!DE22)*DM7/1000","v":{"$error":"#REF!"}},{"$f":"('Blad 1 Totala intäkter'!DF14+'Blad 1 Totala intäkter'!DF18+'Blad 1 Totala intäkter'!DF16+'Blad 1 Totala intäkter'!DF20+'Blad 1 Totala intäkter'!DF22)*DN7/1000","v":{"$error":"#REF!"}},{"$f":"('Blad 1 Totala intäkter'!DG14+'Blad 1 Totala intäkter'!DG18+'Blad 1 Totala intäkter'!DG16+'Blad 1 Totala intäkter'!DG20+'Blad 1 Totala intäkter'!DG22)*DO7/1000","v":{"$error":"#REF!"}},{"$f":"('Blad 1 Totala intäkter'!DH14+'Blad 1 Totala intäkter'!DH18+'Blad 1 Totala intäkter'!DH16+'Blad 1 Totala intäkter'!DH20+'Blad 1 Totala intäkter'!DH22)*DP7/1000","v":{"$error":"#REF!"}},{"$f":"('Blad 1 Totala intäkter'!DI14+'Blad 1 Totala intäkter'!DI18+'Blad 1 Totala intäkter'!DI16+'Blad 1 Totala intäkter'!DI20+'Blad 1 Totala intäkter'!DI22)*DQ7/1000","v":{"$error":"#REF!"}},{"$f":"('Blad 1 Totala intäkter'!DJ14+'Blad 1 Totala intäkter'!DJ18+'Blad 1 Totala intäkter'!DJ16+'Blad 1 Totala intäkter'!DJ20+'Blad 1 Totala intäkter'!DJ22)*DR7/1000","v":{"$error":"#REF!"}},{"$f":"('Blad 1 Totala intäkter'!DK14+'Blad 1 Totala intäkter'!DK18+'Blad 1 Totala intäkter'!DK16+'Blad 1 Totala intäkter'!DK20+'Blad 1 Totala intäkter'!DK22)*DS7/1000","v":{"$error":"#REF!"}},{"$f":"('Blad 1 Totala intäkter'!DL14+'Blad 1 Totala intäkter'!DL18+'Blad 1 Totala intäkter'!DL16+'Blad 1 Totala intäkter'!DL20+'Blad 1 Totala intäkter'!DL22)*DT7/1000","v":{"$error":"#REF!"}},{"$f":"('Blad 1 Totala intäkter'!DM14+'Blad 1 Totala intäkter'!DM18+'Blad 1 Totala intäkter'!DM16+'Blad 1 Totala intäkter'!DM20+'Blad 1 Totala intäkter'!DM22)*DU7/1000","v":{"$error":"#REF!"}},{"$f":"('Blad 1 Totala intäkter'!DN14+'Blad 1 Totala intäkter'!DN18+'Blad 1 Totala intäkter'!DN16+'Blad 1 Totala intäkter'!DN20+'Blad 1 Totala intäkter'!DN22)*DV7/1000","v":{"$error":"#REF!"}},{"$f":"('Blad 1 Totala intäkter'!DO14+'Blad 1 Totala intäkter'!DO18+'Blad 1 Totala intäkter'!DO16+'Blad 1 Totala intäkter'!DO20+'Blad 1 Totala intäkter'!DO22)*DW7/1000","v":{"$error":"#REF!"}},{"$f":"('Blad 1 Totala intäkter'!DP14+'Blad 1 Totala intäkter'!DP18+'Blad 1 Totala intäkter'!DP16+'Blad 1 Totala intäkter'!DP20+'Blad 1 Totala intäkter'!DP22)*DX7/1000","v":{"$error":"#REF!"}},{"$f":"('Blad 1 Totala intäkter'!DQ14+'Blad 1 Totala intäkter'!DQ18+'Blad 1 Totala intäkter'!DQ16+'Blad 1 Totala intäkter'!DQ20+'Blad 1 Totala intäkter'!DQ22)*DY7/1000","v":{"$error":"#REF!"}},{"$f":"('Blad 1 Totala intäkter'!DR14+'Blad 1 Totala intäkter'!DR18+'Blad 1 Totala intäkter'!DR16+'Blad 1 Totala intäkter'!DR20+'Blad 1 Totala intäkter'!DR22)*DZ7/1000","v":{"$error":"#REF!"}},{"$f":"('Blad 1 Totala intäkter'!DS14+'Blad 1 Totala intäkter'!DS18+'Blad 1 Totala intäkter'!DS16+'Blad 1 Totala intäkter'!DS20+'Blad 1 Totala intäkter'!DS22)*EA7/1000","v":{"$error":"#REF!"}},{"$f":"('Blad 1 Totala intäkter'!DT14+'Blad 1 Totala intäkter'!DT18+'Blad 1 Totala intäkter'!DT16+'Blad 1 Totala intäkter'!DT20+'Blad 1 Totala intäkter'!DT22)*EB7/1000","v":{"$error":"#REF!"}},{"$f":"('Blad 1 Totala intäkter'!DU14+'Blad 1 Totala intäkter'!DU18+'Blad 1 Totala intäkter'!DU16+'Blad 1 Totala intäkter'!DU20+'Blad 1 Totala intäkter'!DU22)*EC7/1000","v":{"$error":"#REF!"}},{"$f":"('Blad 1 Totala intäkter'!DV14+'Blad 1 Totala intäkter'!DV18+'Blad 1 Totala intäkter'!DV16+'Blad 1 Totala intäkter'!DV20+'Blad 1 Totala intäkter'!DV22)*ED7/1000","v":{"$error":"#REF!"}},{"$f":"('Blad 1 Totala intäkter'!DW14+'Blad 1 Totala intäkter'!DW18+'Blad 1 Totala intäkter'!DW16+'Blad 1 Totala intäkter'!DW20+'Blad 1 Totala intäkter'!DW22)*EE7/1000","v":{"$error":"#REF!"}},{"$f":"('Blad 1 Totala intäkter'!DX14+'Blad 1 Totala intäkter'!DX18+'Blad 1 Totala intäkter'!DX16+'Blad 1 Totala intäkter'!DX20+'Blad 1 Totala intäkter'!DX22)*EF7/1000","v":{"$error":"#REF!"}},{"$f":"('Blad 1 Totala intäkter'!DY14+'Blad 1 Totala intäkter'!DY18+'Blad 1 Totala intäkter'!DY16+'Blad 1 Totala intäkter'!DY20+'Blad 1 Totala intäkter'!DY22)*EG7/1000","v":{"$error":"#REF!"}},{"$f":"('Blad 1 Totala intäkter'!DZ14+'Blad 1 Totala intäkter'!DZ18+'Blad 1 Totala intäkter'!DZ16+'Blad 1 Totala intäkter'!DZ20+'Blad 1 Totala intäkter'!DZ22)*EH7/1000","v":{"$error":"#REF!"}},{"$f":"('Blad 1 Totala intäkter'!EA14+'Blad 1 Totala intäkter'!EA18+'Blad 1 Totala intäkter'!EA16+'Blad 1 Totala intäkter'!EA20+'Blad 1 Totala intäkter'!EA22)*EI7/1000","v":{"$error":"#REF!"}},{"$f":"('Blad 1 Totala intäkter'!EB14+'Blad 1 Totala intäkter'!EB18+'Blad 1 Totala intäkter'!EB16+'Blad 1 Totala intäkter'!EB20+'Blad 1 Totala intäkter'!EB22)*EJ7/1000","v":{"$error":"#REF!"}},{"$f":"('Blad 1 Totala intäkter'!EC14+'Blad 1 Totala intäkter'!EC18+'Blad 1 Totala intäkter'!EC16+'Blad 1 Totala intäkter'!EC20+'Blad 1 Totala intäkter'!EC22)*EK7/1000","v":{"$error":"#REF!"}},{"$f":"('Blad 1 Totala intäkter'!ED14+'Blad 1 Totala intäkter'!ED18+'Blad 1 Totala intäkter'!ED16+'Blad 1 Totala intäkter'!ED20+'Blad 1 Totala intäkter'!ED22)*EL7/1000","v":{"$error":"#REF!"}},{"$f":"('Blad 1 Totala intäkter'!EE14+'Blad 1 Totala intäkter'!EE18+'Blad 1 Totala intäkter'!EE16+'Blad 1 Totala intäkter'!EE20+'Blad 1 Totala intäkter'!EE22)*EM7/1000","v":{"$error":"#REF!"}},{"$f":"('Blad 1 Totala intäkter'!EF14+'Blad 1 Totala intäkter'!EF18+'Blad 1 Totala intäkter'!EF16+'Blad 1 Totala intäkter'!EF20+'Blad 1 Totala intäkter'!EF22)*EN7/1000","v":{"$error":"#REF!"}},{"$f":"('Blad 1 Totala intäkter'!EG14+'Blad 1 Totala intäkter'!EG18+'Blad 1 Totala intäkter'!EG16+'Blad 1 Totala intäkter'!EG20+'Blad 1 Totala intäkter'!EG22)*EO7/1000","v":{"$error":"#REF!"}},{"$f":"('Blad 1 Totala intäkter'!EH14+'Blad 1 Totala intäkter'!EH18+'Blad 1 Totala intäkter'!EH16+'Blad 1 Totala intäkter'!EH20+'Blad 1 Totala intäkter'!EH22)*EP7/1000","v":{"$error":"#REF!"}},{"$f":"('Blad 1 Totala intäkter'!EI14+'Blad 1 Totala intäkter'!EI18+'Blad 1 Totala intäkter'!EI16+'Blad 1 Totala intäkter'!EI20+'Blad 1 Totala intäkter'!EI22)*EQ7/1000","v":{"$error":"#REF!"}},{"$f":"('Blad 1 Totala intäkter'!EJ14+'Blad 1 Totala intäkter'!EJ18+'Blad 1 Totala intäkter'!EJ16+'Blad 1 Totala intäkter'!EJ20+'Blad 1 Totala intäkter'!EJ22)*ER7/1000","v":{"$error":"#REF!"}},{"$f":"('Blad 1 Totala intäkter'!EK14+'Blad 1 Totala intäkter'!EK18+'Blad 1 Totala intäkter'!EK16+'Blad 1 Totala intäkter'!EK20+'Blad 1 Totala intäkter'!EK22)*ES7/1000","v":{"$error":"#REF!"}},{"$f":"('Blad 1 Totala intäkter'!EL14+'Blad 1 Totala intäkter'!EL18+'Blad 1 Totala intäkter'!EL16+'Blad 1 Totala intäkter'!EL20+'Blad 1 Totala intäkter'!EL22)*ET7/1000","v":{"$error":"#REF!"}},{"$f":"('Blad 1 Totala intäkter'!EM14+'Blad 1 Totala intäkter'!EM18+'Blad 1 Totala intäkter'!EM16+'Blad 1 Totala intäkter'!EM20+'Blad 1 Totala intäkter'!EM22)*EU7/1000","v":{"$error":"#REF!"}},{"$f":"('Blad 1 Totala intäkter'!EN14+'Blad 1 Totala intäkter'!EN18+'Blad 1 Totala intäkter'!EN16+'Blad 1 Totala intäkter'!EN20+'Blad 1 Totala intäkter'!EN22)*EV7/1000","v":{"$error":"#REF!"}},{"$f":"('Blad 1 Totala intäkter'!EO14+'Blad 1 Totala intäkter'!EO18+'Blad 1 Totala intäkter'!EO16+'Blad 1 Totala intäkter'!EO20+'Blad 1 Totala intäkter'!EO22)*EW7/1000","v":{"$error":"#REF!"}},{"$f":"('Blad 1 Totala intäkter'!EP14+'Blad 1 Totala intäkter'!EP18+'Blad 1 Totala intäkter'!EP16+'Blad 1 Totala intäkter'!EP20+'Blad 1 Totala intäkter'!EP22)*EX7/1000","v":{"$error":"#REF!"}},{"$f":"('Blad 1 Totala intäkter'!EQ14+'Blad 1 Totala intäkter'!EQ18+'Blad 1 Totala intäkter'!EQ16+'Blad 1 Totala intäkter'!EQ20+'Blad 1 Totala intäkter'!EQ22)*EY7/1000","v":{"$error":"#REF!"}},{"$f":"('Blad 1 Totala intäkter'!ER14+'Blad 1 Totala intäkter'!ER18+'Blad 1 Totala intäkter'!ER16+'Blad 1 Totala intäkter'!ER20+'Blad 1 Totala intäkter'!ER22)*EZ7/1000","v":{"$error":"#REF!"}},{"$f":"('Blad 1 Totala intäkter'!ES14+'Blad 1 Totala intäkter'!ES18+'Blad 1 Totala intäkter'!ES16+'Blad 1 Totala intäkter'!ES20+'Blad 1 Totala intäkter'!ES22)*FA7/1000","v":{"$error":"#REF!"}},{"$f":"('Blad 1 Totala intäkter'!ET14+'Blad 1 Totala intäkter'!ET18+'Blad 1 Totala intäkter'!ET16+'Blad 1 Totala intäkter'!ET20+'Blad 1 Totala intäkter'!ET22)*FB7/1000","v":{"$error":"#REF!"}},{"$f":"('Blad 1 Totala intäkter'!EU14+'Blad 1 Totala intäkter'!EU18+'Blad 1 Totala intäkter'!EU16+'Blad 1 Totala intäkter'!EU20+'Blad 1 Totala intäkter'!EU22)*FC7/1000","v":{"$error":"#REF!"}},{"$f":"('Blad 1 Totala intäkter'!EV14+'Blad 1 Totala intäkter'!EV18+'Blad 1 Totala intäkter'!EV16+'Blad 1 Totala intäkter'!EV20+'Blad 1 Totala intäkter'!EV22)*FD7/1000","v":{"$error":"#REF!"}},{"$f":"('Blad 1 Totala intäkter'!EW14+'Blad 1 Totala intäkter'!EW18+'Blad 1 Totala intäkter'!EW16+'Blad 1 Totala intäkter'!EW20+'Blad 1 Totala intäkter'!EW22)*FE7/1000","v":{"$error":"#REF!"}},{"$f":"('Blad 1 Totala intäkter'!EX14+'Blad 1 Totala intäkter'!EX18+'Blad 1 Totala intäkter'!EX16+'Blad 1 Totala intäkter'!EX20+'Blad 1 Totala intäkter'!EX22)*FF7/1000","v":{"$error":"#REF!"}},{"$f":"('Blad 1 Totala intäkter'!EY14+'Blad 1 Totala intäkter'!EY18+'Blad 1 Totala intäkter'!EY16+'Blad 1 Totala intäkter'!EY20+'Blad 1 Totala intäkter'!EY22)*FG7/1000","v":{"$error":"#REF!"}},{"$f":"('Blad 1 Totala intäkter'!EZ14+'Blad 1 Totala intäkter'!EZ18+'Blad 1 Totala intäkter'!EZ16+'Blad 1 Totala intäkter'!EZ20+'Blad 1 Totala intäkter'!EZ22)*FH7/1000","v":{"$error":"#REF!"}},{"$f":"('Blad 1 Totala intäkter'!FA14+'Blad 1 Totala intäkter'!FA18+'Blad 1 Totala intäkter'!FA16+'Blad 1 Totala intäkter'!FA20+'Blad 1 Totala intäkter'!FA22)*FI7/1000","v":{"$error":"#REF!"}},{"$f":"('Blad 1 Totala intäkter'!FB14+'Blad 1 Totala intäkter'!FB18+'Blad 1 Totala intäkter'!FB16+'Blad 1 Totala intäkter'!FB20+'Blad 1 Totala intäkter'!FB22)*FJ7/1000","v":{"$error":"#REF!"}},{"$f":"('Blad 1 Totala intäkter'!FC14+'Blad 1 Totala intäkter'!FC18+'Blad 1 Totala intäkter'!FC16+'Blad 1 Totala intäkter'!FC20+'Blad 1 Totala intäkter'!FC22)*FK7/1000","v":{"$error":"#REF!"}},{"$f":"('Blad 1 Totala intäkter'!FD14+'Blad 1 Totala intäkter'!FD18+'Blad 1 Totala intäkter'!FD16+'Blad 1 Totala intäkter'!FD20+'Blad 1 Totala intäkter'!FD22)*FL7/1000","v":{"$error":"#REF!"}},{"$f":"('Blad 1 Totala intäkter'!FE14+'Blad 1 Totala intäkter'!FE18+'Blad 1 Totala intäkter'!FE16+'Blad 1 Totala intäkter'!FE20+'Blad 1 Totala intäkter'!FE22)*FM7/1000","v":{"$error":"#REF!"}},{"$f":"('Blad 1 Totala intäkter'!FF14+'Blad 1 Totala intäkter'!FF18+'Blad 1 Totala intäkter'!FF16+'Blad 1 Totala intäkter'!FF20+'Blad 1 Totala intäkter'!FF22)*FN7/1000","v":{"$error":"#REF!"}},{"$f":"('Blad 1 Totala intäkter'!FG14+'Blad 1 Totala intäkter'!FG18+'Blad 1 Totala intäkter'!FG16+'Blad 1 Totala intäkter'!FG20+'Blad 1 Totala intäkter'!FG22)*FO7/1000","v":{"$error":"#REF!"}},{"$f":"('Blad 1 Totala intäkter'!FH14+'Blad 1 Totala intäkter'!FH18+'Blad 1 Totala intäkter'!FH16+'Blad 1 Totala intäkter'!FH20+'Blad 1 Totala intäkter'!FH22)*FP7/1000","v":{"$error":"#REF!"}},{"$f":"('Blad 1 Totala intäkter'!FI14+'Blad 1 Totala intäkter'!FI18+'Blad 1 Totala intäkter'!FI16+'Blad 1 Totala intäkter'!FI20+'Blad 1 Totala intäkter'!FI22)*FQ7/1000","v":{"$error":"#REF!"}},{"$f":"('Blad 1 Totala intäkter'!FJ14+'Blad 1 Totala intäkter'!FJ18+'Blad 1 Totala intäkter'!FJ16+'Blad 1 Totala intäkter'!FJ20+'Blad 1 Totala intäkter'!FJ22)*FR7/1000","v":{"$error":"#REF!"}},{"$f":"('Blad 1 Totala intäkter'!FK14+'Blad 1 Totala intäkter'!FK18+'Blad 1 Totala intäkter'!FK16+'Blad 1 Totala intäkter'!FK20+'Blad 1 Totala intäkter'!FK22)*FS7/1000","v":{"$error":"#REF!"}},{"$f":"('Blad 1 Totala intäkter'!FL14+'Blad 1 Totala intäkter'!FL18+'Blad 1 Totala intäkter'!FL16+'Blad 1 Totala intäkter'!FL20+'Blad 1 Totala intäkter'!FL22)*FT7/1000","v":{"$error":"#REF!"}},{"$f":"('Blad 1 Totala intäkter'!FM14+'Blad 1 Totala intäkter'!FM18+'Blad 1 Totala intäkter'!FM16+'Blad 1 Totala intäkter'!FM20+'Blad 1 Totala intäkter'!FM22)*FU7/1000","v":{"$error":"#REF!"}},{"$f":"('Blad 1 Totala intäkter'!FN14+'Blad 1 Totala intäkter'!FN18+'Blad 1 Totala intäkter'!FN16+'Blad 1 Totala intäkter'!FN20+'Blad 1 Totala intäkter'!FN22)*FV7/1000","v":{"$error":"#REF!"}},{"$f":"('Blad 1 Totala intäkter'!FO14+'Blad 1 Totala intäkter'!FO18+'Blad 1 Totala intäkter'!FO16+'Blad 1 Totala intäkter'!FO20+'Blad 1 Totala intäkter'!FO22)*FW7/1000","v":{"$error":"#REF!"}},{"$f":"('Blad 1 Totala intäkter'!FP14+'Blad 1 Totala intäkter'!FP18+'Blad 1 Totala intäkter'!FP16+'Blad 1 Totala intäkter'!FP20+'Blad 1 Totala intäkter'!FP22)*FX7/1000","v":{"$error":"#REF!"}},{"$f":"('Blad 1 Totala intäkter'!FQ14+'Blad 1 Totala intäkter'!FQ18+'Blad 1 Totala intäkter'!FQ16+'Blad 1 Totala intäkter'!FQ20+'Blad 1 Totala intäkter'!FQ22)*FY7/1000","v":{"$error":"#REF!"}},{"$f":"('Blad 1 Totala intäkter'!FR14+'Blad 1 Totala intäkter'!FR18+'Blad 1 Totala intäkter'!FR16+'Blad 1 Totala intäkter'!FR20+'Blad 1 Totala intäkter'!FR22)*FZ7/1000","v":{"$error":"#REF!"}},{"$f":"('Blad 1 Totala intäkter'!FS14+'Blad 1 Totala intäkter'!FS18+'Blad 1 Totala intäkter'!FS16+'Blad 1 Totala intäkter'!FS20+'Blad 1 Totala intäkter'!FS22)*GA7/1000","v":{"$error":"#REF!"}},{"$f":"('Blad 1 Totala intäkter'!FT14+'Blad 1 Totala intäkter'!FT18+'Blad 1 Totala intäkter'!FT16+'Blad 1 Totala intäkter'!FT20+'Blad 1 Totala intäkter'!FT22)*GB7/1000","v":{"$error":"#REF!"}},{"$f":"('Blad 1 Totala intäkter'!FU14+'Blad 1 Totala intäkter'!FU18+'Blad 1 Totala intäkter'!FU16+'Blad 1 Totala intäkter'!FU20+'Blad 1 Totala intäkter'!FU22)*GC7/1000","v":{"$error":"#REF!"}},{"$f":"('Blad 1 Totala intäkter'!FV14+'Blad 1 Totala intäkter'!FV18+'Blad 1 Totala intäkter'!FV16+'Blad 1 Totala intäkter'!FV20+'Blad 1 Totala intäkter'!FV22)*GD7/1000","v":{"$error":"#REF!"}},{"$f":"('Blad 1 Totala intäkter'!FW14+'Blad 1 Totala intäkter'!FW18+'Blad 1 Totala intäkter'!FW16+'Blad 1 Totala intäkter'!FW20+'Blad 1 Totala intäkter'!FW22)*GE7/1000","v":{"$error":"#REF!"}},{"$f":"('Blad 1 Totala intäkter'!FX14+'Blad 1 Totala intäkter'!FX18+'Blad 1 Totala intäkter'!FX16+'Blad 1 Totala intäkter'!FX20+'Blad 1 Totala intäkter'!FX22)*GF7/1000","v":{"$error":"#REF!"}},{"$f":"('Blad 1 Totala intäkter'!FY14+'Blad 1 Totala intäkter'!FY18+'Blad 1 Totala intäkter'!FY16+'Blad 1 Totala intäkter'!FY20+'Blad 1 Totala intäkter'!FY22)*GG7/1000","v":{"$error":"#REF!"}},{"$f":"('Blad 1 Totala intäkter'!FZ14+'Blad 1 Totala intäkter'!FZ18+'Blad 1 Totala intäkter'!FZ16+'Blad 1 Totala intäkter'!FZ20+'Blad 1 Totala intäkter'!FZ22)*GH7/1000","v":{"$error":"#REF!"}},{"$f":"('Blad 1 Totala intäkter'!GA14+'Blad 1 Totala intäkter'!GA18+'Blad 1 Totala intäkter'!GA16+'Blad 1 Totala intäkter'!GA20+'Blad 1 Totala intäkter'!GA22)*GI7/1000","v":{"$error":"#REF!"}},{"$f":"('Blad 1 Totala intäkter'!GB14+'Blad 1 Totala intäkter'!GB18+'Blad 1 Totala intäkter'!GB16+'Blad 1 Totala intäkter'!GB20+'Blad 1 Totala intäkter'!GB22)*GJ7/1000","v":{"$error":"#REF!"}},{"$f":"('Blad 1 Totala intäkter'!GC14+'Blad 1 Totala intäkter'!GC18+'Blad 1 Totala intäkter'!GC16+'Blad 1 Totala intäkter'!GC20+'Blad 1 Totala intäkter'!GC22)*GK7/1000","v":{"$error":"#REF!"}},{"$f":"('Blad 1 Totala intäkter'!GD14+'Blad 1 Totala intäkter'!GD18+'Blad 1 Totala intäkter'!GD16+'Blad 1 Totala intäkter'!GD20+'Blad 1 Totala intäkter'!GD22)*GL7/1000","v":{"$error":"#REF!"}},{"$f":"('Blad 1 Totala intäkter'!GE14+'Blad 1 Totala intäkter'!GE18+'Blad 1 Totala intäkter'!GE16+'Blad 1 Totala intäkter'!GE20+'Blad 1 Totala intäkter'!GE22)*GM7/1000","v":{"$error":"#REF!"}},{"$f":"('Blad 1 Totala intäkter'!GF14+'Blad 1 Totala intäkter'!GF18+'Blad 1 Totala intäkter'!GF16+'Blad 1 Totala intäkter'!GF20+'Blad 1 Totala intäkter'!GF22)*GN7/1000","v":{"$error":"#REF!"}},{"$f":"('Blad 1 Totala intäkter'!GG14+'Blad 1 Totala intäkter'!GG18+'Blad 1 Totala intäkter'!GG16+'Blad 1 Totala intäkter'!GG20+'Blad 1 Totala intäkter'!GG22)*GO7/1000","v":{"$error":"#REF!"}},{"$f":"('Blad 1 Totala intäkter'!GH14+'Blad 1 Totala intäkter'!GH18+'Blad 1 Totala intäkter'!GH16+'Blad 1 Totala intäkter'!GH20+'Blad 1 Totala intäkter'!GH22)*GP7/1000","v":{"$error":"#REF!"}},{"$f":"('Blad 1 Totala intäkter'!GI14+'Blad 1 Totala intäkter'!GI18+'Blad 1 Totala intäkter'!GI16+'Blad 1 Totala intäkter'!GI20+'Blad 1 Totala intäkter'!GI22)*GQ7/1000","v":{"$error":"#REF!"}},{"$f":"('Blad 1 Totala intäkter'!GJ14+'Blad 1 Totala intäkter'!GJ18+'Blad 1 Totala intäkter'!GJ16+'Blad 1 Totala intäkter'!GJ20+'Blad 1 Totala intäkter'!GJ22)*GR7/1000","v":{"$error":"#REF!"}},{"$f":"('Blad 1 Totala intäkter'!GK14+'Blad 1 Totala intäkter'!GK18+'Blad 1 Totala intäkter'!GK16+'Blad 1 Totala intäkter'!GK20+'Blad 1 Totala intäkter'!GK22)*GS7/1000","v":{"$error":"#REF!"}},{"$f":"('Blad 1 Totala intäkter'!GL14+'Blad 1 Totala intäkter'!GL18+'Blad 1 Totala intäkter'!GL16+'Blad 1 Totala intäkter'!GL20+'Blad 1 Totala intäkter'!GL22)*GT7/1000","v":{"$error":"#REF!"}},{"$f":"('Blad 1 Totala intäkter'!GM14+'Blad 1 Totala intäkter'!GM18+'Blad 1 Totala intäkter'!GM16+'Blad 1 Totala intäkter'!GM20+'Blad 1 Totala intäkter'!GM22)*GU7/1000","v":{"$error":"#REF!"}},{"$f":"('Blad 1 Totala intäkter'!GN14+'Blad 1 Totala intäkter'!GN18+'Blad 1 Totala intäkter'!GN16+'Blad 1 Totala intäkter'!GN20+'Blad 1 Totala intäkter'!GN22)*GV7/1000","v":{"$error":"#REF!"}},{"$f":"('Blad 1 Totala intäkter'!GO14+'Blad 1 Totala intäkter'!GO18+'Blad 1 Totala intäkter'!GO16+'Blad 1 Totala intäkter'!GO20+'Blad 1 Totala intäkter'!GO22)*GW7/1000","v":{"$error":"#REF!"}},{"$f":"('Blad 1 Totala intäkter'!GP14+'Blad 1 Totala intäkter'!GP18+'Blad 1 Totala intäkter'!GP16+'Blad 1 Totala intäkter'!GP20+'Blad 1 Totala intäkter'!GP22)*GX7/1000","v":{"$error":"#REF!"}},{"$f":"('Blad 1 Totala intäkter'!GQ14+'Blad 1 Totala intäkter'!GQ18+'Blad 1 Totala intäkter'!GQ16+'Blad 1 Totala intäkter'!GQ20+'Blad 1 Totala intäkter'!GQ22)*GY7/1000","v":{"$error":"#REF!"}},{"$f":"('Blad 1 Totala intäkter'!GR14+'Blad 1 Totala intäkter'!GR18+'Blad 1 Totala intäkter'!GR16+'Blad 1 Totala intäkter'!GR20+'Blad 1 Totala intäkter'!GR22)*GZ7/1000","v":{"$error":"#REF!"}},{"$f":"('Blad 1 Totala intäkter'!GS14+'Blad 1 Totala intäkter'!GS18+'Blad 1 Totala intäkter'!GS16+'Blad 1 Totala intäkter'!GS20+'Blad 1 Totala intäkter'!GS22)*HA7/1000","v":{"$error":"#REF!"}},{"$f":"('Blad 1 Totala intäkter'!GT14+'Blad 1 Totala intäkter'!GT18+'Blad 1 Totala intäkter'!GT16+'Blad 1 Totala intäkter'!GT20+'Blad 1 Totala intäkter'!GT22)*HB7/1000","v":{"$error":"#REF!"}},{"$f":"('Blad 1 Totala intäkter'!GU14+'Blad 1 Totala intäkter'!GU18+'Blad 1 Totala intäkter'!GU16+'Blad 1 Totala intäkter'!GU20+'Blad 1 Totala intäkter'!GU22)*HC7/1000","v":{"$error":"#REF!"}},{"$f":"('Blad 1 Totala intäkter'!GV14+'Blad 1 Totala intäkter'!GV18+'Blad 1 Totala intäkter'!GV16+'Blad 1 Totala intäkter'!GV20+'Blad 1 Totala intäkter'!GV22)*HD7/1000","v":{"$error":"#REF!"}},{"$f":"('Blad 1 Totala intäkter'!GW14+'Blad 1 Totala intäkter'!GW18+'Blad 1 Totala intäkter'!GW16+'Blad 1 Totala intäkter'!GW20+'Blad 1 Totala intäkter'!GW22)*HE7/1000","v":{"$error":"#REF!"}},{"$f":"('Blad 1 Totala intäkter'!GX14+'Blad 1 Totala intäkter'!GX18+'Blad 1 Totala intäkter'!GX16+'Blad 1 Totala intäkter'!GX20+'Blad 1 Totala intäkter'!GX22)*HF7/1000","v":{"$error":"#REF!"}},{"$f":"('Blad 1 Totala intäkter'!GY14+'Blad 1 Totala intäkter'!GY18+'Blad 1 Totala intäkter'!GY16+'Blad 1 Totala intäkter'!GY20+'Blad 1 Totala intäkter'!GY22)*HG7/1000","v":{"$error":"#REF!"}},{"$f":"('Blad 1 Totala intäkter'!GZ14+'Blad 1 Totala intäkter'!GZ18+'Blad 1 Totala intäkter'!GZ16+'Blad 1 Totala intäkter'!GZ20+'Blad 1 Totala intäkter'!GZ22)*HH7/1000","v":{"$error":"#REF!"}},{"$f":"('Blad 1 Totala intäkter'!HA14+'Blad 1 Totala intäkter'!HA18+'Blad 1 Totala intäkter'!HA16+'Blad 1 Totala intäkter'!HA20+'Blad 1 Totala intäkter'!HA22)*HI7/1000","v":{"$error":"#REF!"}},{"$f":"('Blad 1 Totala intäkter'!HB14+'Blad 1 Totala intäkter'!HB18+'Blad 1 Totala intäkter'!HB16+'Blad 1 Totala intäkter'!HB20+'Blad 1 Totala intäkter'!HB22)*HJ7/1000","v":{"$error":"#REF!"}},{"$f":"('Blad 1 Totala intäkter'!HC14+'Blad 1 Totala intäkter'!HC18+'Blad 1 Totala intäkter'!HC16+'Blad 1 Totala intäkter'!HC20+'Blad 1 Totala intäkter'!HC22)*HK7/1000","v":{"$error":"#REF!"}},{"$f":"('Blad 1 Totala intäkter'!HD14+'Blad 1 Totala intäkter'!HD18+'Blad 1 Totala intäkter'!HD16+'Blad 1 Totala intäkter'!HD20+'Blad 1 Totala intäkter'!HD22)*HL7/1000","v":{"$error":"#REF!"}},{"$f":"('Blad 1 Totala intäkter'!HE14+'Blad 1 Totala intäkter'!HE18+'Blad 1 Totala intäkter'!HE16+'Blad 1 Totala intäkter'!HE20+'Blad 1 Totala intäkter'!HE22)*HM7/1000","v":{"$error":"#REF!"}},{"$f":"('Blad 1 Totala intäkter'!HF14+'Blad 1 Totala intäkter'!HF18+'Blad 1 Totala intäkter'!HF16+'Blad 1 Totala intäkter'!HF20+'Blad 1 Totala intäkter'!HF22)*HN7/1000","v":{"$error":"#REF!"}},{"$f":"('Blad 1 Totala intäkter'!HG14+'Blad 1 Totala intäkter'!HG18+'Blad 1 Totala intäkter'!HG16+'Blad 1 Totala intäkter'!HG20+'Blad 1 Totala intäkter'!HG22)*HO7/1000","v":{"$error":"#REF!"}},{"$f":"('Blad 1 Totala intäkter'!HH14+'Blad 1 Totala intäkter'!HH18+'Blad 1 Totala intäkter'!HH16+'Blad 1 Totala intäkter'!HH20+'Blad 1 Totala intäkter'!HH22)*HP7/1000","v":{"$error":"#REF!"}},{"$f":"('Blad 1 Totala intäkter'!HI14+'Blad 1 Totala intäkter'!HI18+'Blad 1 Totala intäkter'!HI16+'Blad 1 Totala intäkter'!HI20+'Blad 1 Totala intäkter'!HI22)*HQ7/1000","v":{"$error":"#REF!"}},{"$f":"('Blad 1 Totala intäkter'!HJ14+'Blad 1 Totala intäkter'!HJ18+'Blad 1 Totala intäkter'!HJ16+'Blad 1 Totala intäkter'!HJ20+'Blad 1 Totala intäkter'!HJ22)*HR7/1000","v":{"$error":"#REF!"}},{"$f":"('Blad 1 Totala intäkter'!HK14+'Blad 1 Totala intäkter'!HK18+'Blad 1 Totala intäkter'!HK16+'Blad 1 Totala intäkter'!HK20+'Blad 1 Totala intäkter'!HK22)*HS7/1000","v":{"$error":"#REF!"}},{"$f":"('Blad 1 Totala intäkter'!HL14+'Blad 1 Totala intäkter'!HL18+'Blad 1 Totala intäkter'!HL16+'Blad 1 Totala intäkter'!HL20+'Blad 1 Totala intäkter'!HL22)*HT7/1000","v":{"$error":"#REF!"}},{"$f":"('Blad 1 Totala intäkter'!HM14+'Blad 1 Totala intäkter'!HM18+'Blad 1 Totala intäkter'!HM16+'Blad 1 Totala intäkter'!HM20+'Blad 1 Totala intäkter'!HM22)*HU7/1000","v":{"$error":"#REF!"}},{"$f":"('Blad 1 Totala intäkter'!HN14+'Blad 1 Totala intäkter'!HN18+'Blad 1 Totala intäkter'!HN16+'Blad 1 Totala intäkter'!HN20+'Blad 1 Totala intäkter'!HN22)*HV7/1000","v":{"$error":"#REF!"}},{"$f":"('Blad 1 Totala intäkter'!HO14+'Blad 1 Totala intäkter'!HO18+'Blad 1 Totala intäkter'!HO16+'Blad 1 Totala intäkter'!HO20+'Blad 1 Totala intäkter'!HO22)*HW7/1000","v":{"$error":"#REF!"}},{"$f":"('Blad 1 Totala intäkter'!#REF!+'Blad 1 Totala intäkter'!#REF!+'Blad 1 Totala intäkter'!#REF!+'Blad 1 Totala intäkter'!#REF!+'Blad 1 Totala intäkter'!#REF!)*HX7/1000","v":{"$error":"#REF!"}},{"$f":"('Blad 1 Totala intäkter'!#REF!+'Blad 1 Totala intäkter'!#REF!+'Blad 1 Totala intäkter'!#REF!+'Blad 1 Totala intäkter'!#REF!+'Blad 1 Totala intäkter'!#REF!)*HY7/1000","v":{"$error":"#REF!"}},{"$f":"('Blad 1 Totala intäkter'!#REF!+'Blad 1 Totala intäkter'!#REF!+'Blad 1 Totala intäkter'!#REF!+'Blad 1 Totala intäkter'!#REF!+'Blad 1 Totala intäkter'!#REF!)*HZ7/1000","v":{"$error":"#REF!"}},{"$f":"('Blad 1 Totala intäkter'!#REF!+'Blad 1 Totala intäkter'!#REF!+'Blad 1 Totala intäkter'!#REF!+'Blad 1 Totala intäkter'!#REF!+'Blad 1 Totala intäkter'!#REF!)*IA7/1000","v":{"$error":"#REF!"}},{"$f":"('Blad 1 Totala intäkter'!#REF!+'Blad 1 Totala intäkter'!#REF!+'Blad 1 Totala intäkter'!#REF!+'Blad 1 Totala intäkter'!#REF!+'Blad 1 Totala intäkter'!#REF!)*IB7/1000","v":{"$error":"#REF!"}},{"$f":"('Blad 1 Totala intäkter'!#REF!+'Blad 1 Totala intäkter'!#REF!+'Blad 1 Totala intäkter'!#REF!+'Blad 1 Totala intäkter'!#REF!+'Blad 1 Totala intäkter'!#REF!)*IC7/1000","v":{"$error":"#REF!"}},{"$f":"('Blad 1 Totala intäkter'!#REF!+'Blad 1 Totala intäkter'!#REF!+'Blad 1 Totala intäkter'!#REF!+'Blad 1 Totala intäkter'!#REF!+'Blad 1 Totala intäkter'!#REF!)*ID7/1000","v":{"$error":"#REF!"}},{"$f":"('Blad 1 Totala intäkter'!#REF!+'Blad 1 Totala intäkter'!#REF!+'Blad 1 Totala intäkter'!#REF!+'Blad 1 Totala intäkter'!#REF!+'Blad 1 Totala intäkter'!#REF!)*IE7/1000","v":{"$error":"#REF!"}},{"$f":"('Blad 1 Totala intäkter'!#REF!+'Blad 1 Totala intäkter'!#REF!+'Blad 1 Totala intäkter'!#REF!+'Blad 1 Totala intäkter'!#REF!+'Blad 1 Totala intäkter'!#REF!)*IF7/1000","v":{"$error":"#REF!"}},{"$f":"('Blad 1 Totala intäkter'!#REF!+'Blad 1 Totala intäkter'!#REF!+'Blad 1 Totala intäkter'!#REF!+'Blad 1 Totala intäkter'!#REF!+'Blad 1 Totala intäkter'!#REF!)*IG7/1000","v":{"$error":"#REF!"}},{"$f":"('Blad 1 Totala intäkter'!#REF!+'Blad 1 Totala intäkter'!#REF!+'Blad 1 Totala intäkter'!#REF!+'Blad 1 Totala intäkter'!#REF!+'Blad 1 Totala intäkter'!#REF!)*IH7/1000","v":{"$error":"#REF!"}},{"$f":"('Blad 1 Totala intäkter'!#REF!+'Blad 1 Totala intäkter'!#REF!+'Blad 1 Totala intäkter'!#REF!+'Blad 1 Totala intäkter'!#REF!+'Blad 1 Totala intäkter'!#REF!)*II7/1000","v":{"$error":"#REF!"}},{"$f":"('Blad 1 Totala intäkter'!#REF!+'Blad 1 Totala intäkter'!#REF!+'Blad 1 Totala intäkter'!#REF!+'Blad 1 Totala intäkter'!#REF!+'Blad 1 Totala intäkter'!#REF!)*IJ7/1000","v":{"$error":"#REF!"}},{"$f":"('Blad 1 Totala intäkter'!#REF!+'Blad 1 Totala intäkter'!#REF!+'Blad 1 Totala intäkter'!#REF!+'Blad 1 Totala intäkter'!#REF!+'Blad 1 Totala intäkter'!#REF!)*IK7/1000","v":{"$error":"#REF!"}},{"$f":"('Blad 1 Totala intäkter'!#REF!+'Blad 1 Totala intäkter'!#REF!+'Blad 1 Totala intäkter'!#REF!+'Blad 1 Totala intäkter'!#REF!+'Blad 1 Totala intäkter'!#REF!)*IL7/1000","v":{"$error":"#REF!"}},{"$f":"('Blad 1 Totala intäkter'!#REF!+'Blad 1 Totala intäkter'!#REF!+'Blad 1 Totala intäkter'!#REF!+'Blad 1 Totala intäkter'!#REF!+'Blad 1 Totala intäkter'!#REF!)*IM7/1000","v":{"$error":"#REF!"}},{"$f":"('Blad 1 Totala intäkter'!#REF!+'Blad 1 Totala intäkter'!#REF!+'Blad 1 Totala intäkter'!#REF!+'Blad 1 Totala intäkter'!#REF!+'Blad 1 Totala intäkter'!#REF!)*IN7/1000","v":{"$error":"#REF!"}},{"$f":"('Blad 1 Totala intäkter'!#REF!+'Blad 1 Totala intäkter'!#REF!+'Blad 1 Totala intäkter'!#REF!+'Blad 1 Totala intäkter'!#REF!+'Blad 1 Totala intäkter'!#REF!)*IO7/1000","v":{"$error":"#REF!"}},{"$f":"('Blad 1 Totala intäkter'!#REF!+'Blad 1 Totala intäkter'!#REF!+'Blad 1 Totala intäkter'!#REF!+'Blad 1 Totala intäkter'!#REF!+'Blad 1 Totala intäkter'!#REF!)*IP7/1000","v":{"$error":"#REF!"}},{"$f":"('Blad 1 Totala intäkter'!#REF!+'Blad 1 Totala intäkter'!#REF!+'Blad 1 Totala intäkter'!#REF!+'Blad 1 Totala intäkter'!#REF!+'Blad 1 Totala intäkter'!#REF!)*IQ7/1000","v":{"$error":"#REF!"}},{"$f":"('Blad 1 Totala intäkter'!#REF!+'Blad 1 Totala intäkter'!#REF!+'Blad 1 Totala intäkter'!#REF!+'Blad 1 Totala intäkter'!#REF!+'Blad 1 Totala intäkter'!#REF!)*IR7/1000","v":{"$error":"#REF!"}},{"$f":"('Blad 1 Totala intäkter'!#REF!+'Blad 1 Totala intäkter'!#REF!+'Blad 1 Totala intäkter'!#REF!+'Blad 1 Totala intäkter'!#REF!+'Blad 1 Totala intäkter'!#REF!)*IS7/1000","v":{"$error":"#REF!"}},{"$f":"('Blad 1 Totala intäkter'!#REF!+'Blad 1 Totala intäkter'!#REF!+'Blad 1 Totala intäkter'!#REF!+'Blad 1 Totala intäkter'!#REF!+'Blad 1 Totala intäkter'!#REF!)*IT7/1000","v":{"$error":"#REF!"}},{"$f":"('Blad 1 Totala intäkter'!#REF!+'Blad 1 Totala intäkter'!#REF!+'Blad 1 Totala intäkter'!#REF!+'Blad 1 Totala intäkter'!#REF!+'Blad 1 Totala intäkter'!#REF!)*IU7/1000","v":{"$error":"#REF!"}}]
["Korrigerad utbetalning",null,null,{"$f":"ROUND(IF(ISERROR(((ROUND((((('Blad 3 Inkomstutjämning'!C19-'Blad 3 Inkomstutjämning'!C24/('Blad 3 Inkomstutjämning'!C21+'Blad 6 Befolkningsförändringar'!D27)*1000)*'Blad 3 Inkomstutjämning'!C$37/100))),0))+('Blad 1 Totala intäkter'!K16+'Blad 1 Totala intäkter'!K18+'Blad 1 Totala intäkter'!K20+'Blad 1 Totala intäkter'!K22))*(C7+D27)/1000),0,((ROUND((((('Blad 3 Inkomstutjämning'!C19-'Blad 3 Inkomstutjämning'!C24/('Blad 3 Inkomstutjämning'!C21+'Blad 6 Befolkningsförändringar'!D27)*1000)*'Blad 3 Inkomstutjämning'!C$37/100))),0))+('Blad 1 Totala intäkter'!K16+'Blad 1 Totala intäkter'!K18+'Blad 1 Totala intäkter'!K20+'Blad 1 Totala intäkter'!K22))*(C7+D27)/1000),3)","v":0},{"$f":"IF(ISERROR(((ROUND((((('Blad 3 Inkomstutjämning'!D19-'Blad 3 Inkomstutjämning'!D24/('Blad 3 Inkomstutjämning'!D21+'Blad 6 Befolkningsförändringar'!E27)*1000)*'Blad 3 Inkomstutjämning'!D$37/100))),0))+('Blad 1 Totala intäkter'!L16+'Blad 1 Totala intäkter'!L18+'Blad 1 Totala intäkter'!L20+'Blad 1 Totala intäkter'!L22))*(D7+E27)/1000),0,((ROUND((((('Blad 3 Inkomstutjämning'!D19-'Blad 3 Inkomstutjämning'!D24/('Blad 3 Inkomstutjämning'!D21+'Blad 6 Befolkningsförändringar'!E27)*1000)*'Blad 3 Inkomstutjämning'!D$37/100))),0))+('Blad 1 Totala intäkter'!L16+'Blad 1 Totala intäkter'!L18+'Blad 1 Totala intäkter'!L20+'Blad 1 Totala intäkter'!L22))*(D7+E27)/1000)","v":0},{"$f":"IF(ISERROR(((ROUND((((('Blad 3 Inkomstutjämning'!E19-'Blad 3 Inkomstutjämning'!E24/('Blad 3 Inkomstutjämning'!E21+'Blad 6 Befolkningsförändringar'!F27)*1000)*'Blad 3 Inkomstutjämning'!E$37/100))),0))+('Blad 1 Totala intäkter'!M16+'Blad 1 Totala intäkter'!M18+'Blad 1 Totala intäkter'!M20+'Blad 1 Totala intäkter'!M22))*(E7+F27)/1000),0,((ROUND((((('Blad 3 Inkomstutjämning'!E19-'Blad 3 Inkomstutjämning'!E24/('Blad 3 Inkomstutjämning'!E21+'Blad 6 Befolkningsförändringar'!F27)*1000)*'Blad 3 Inkomstutjämning'!E$37/100))),0))+('Blad 1 Totala intäkter'!M16+'Blad 1 Totala intäkter'!M18+'Blad 1 Totala intäkter'!M20+'Blad 1 Totala intäkter'!M22))*(E7+F27)/1000)","v":0},{"$f":"IF(ISERROR(((ROUND((((('Blad 3 Inkomstutjämning'!F19-'Blad 3 Inkomstutjämning'!F24/('Blad 3 Inkomstutjämning'!F21+'Blad 6 Befolkningsförändringar'!G27)*1000)*'Blad 3 Inkomstutjämning'!F$37/100))),0))+('Blad 1 Totala intäkter'!N16+'Blad 1 Totala intäkter'!N18+'Blad 1 Totala intäkter'!N20+'Blad 1 Totala intäkter'!N22))*(F7+G27)/1000),0,((ROUND((((('Blad 3 Inkomstutjämning'!F19-'Blad 3 Inkomstutjämning'!F24/('Blad 3 Inkomstutjämning'!F21+'Blad 6 Befolkningsförändringar'!G27)*1000)*'Blad 3 Inkomstutjämning'!F$37/100))),0))+('Blad 1 Totala intäkter'!N16+'Blad 1 Totala intäkter'!N18+'Blad 1 Totala intäkter'!N20+'Blad 1 Totala intäkter'!N22))*(F7+G27)/1000)","v":0},{"$f":"IF(ISERROR(((ROUND((((('Blad 3 Inkomstutjämning'!G19-'Blad 3 Inkomstutjämning'!G24/('Blad 3 Inkomstutjämning'!G21+'Blad 6 Befolkningsförändringar'!H27)*1000)*'Blad 3 Inkomstutjämning'!G$37/100))),0))+('Blad 1 Totala intäkter'!O16+'Blad 1 Totala intäkter'!O18+'Blad 1 Totala intäkter'!O20+'Blad 1 Totala intäkter'!O22))*(G7+H27)/1000),0,((ROUND((((('Blad 3 Inkomstutjämning'!G19-'Blad 3 Inkomstutjämning'!G24/('Blad 3 Inkomstutjämning'!G21+'Blad 6 Befolkningsförändringar'!H27)*1000)*'Blad 3 Inkomstutjämning'!G$37/100))),0))+('Blad 1 Totala intäkter'!O16+'Blad 1 Totala intäkter'!O18+'Blad 1 Totala intäkter'!O20+'Blad 1 Totala intäkter'!O22))*(G7+H27)/1000)","v":0},{"$f":"IF(ISERROR(((ROUND((((('Blad 3 Inkomstutjämning'!H19-'Blad 3 Inkomstutjämning'!H24/('Blad 3 Inkomstutjämning'!H21+'Blad 6 Befolkningsförändringar'!I27)*1000)*'Blad 3 Inkomstutjämning'!H$37/100))),0))+('Blad 1 Totala intäkter'!P16+'Blad 1 Totala intäkter'!P18+'Blad 1 Totala intäkter'!P20+'Blad 1 Totala intäkter'!P22))*(H7+I27)/1000),0,((ROUND((((('Blad 3 Inkomstutjämning'!H19-'Blad 3 Inkomstutjämning'!H24/('Blad 3 Inkomstutjämning'!H21+'Blad 6 Befolkningsförändringar'!I27)*1000)*'Blad 3 Inkomstutjämning'!H$37/100))),0))+('Blad 1 Totala intäkter'!P16+'Blad 1 Totala intäkter'!P18+'Blad 1 Totala intäkter'!P20+'Blad 1 Totala intäkter'!P22))*(H7+I27)/1000)","v":0},{"$f":"IF(ISERROR(((ROUND((((('Blad 3 Inkomstutjämning'!I19-'Blad 3 Inkomstutjämning'!I24/('Blad 3 Inkomstutjämning'!I21+'Blad 6 Befolkningsförändringar'!J27)*1000)*'Blad 3 Inkomstutjämning'!I$37/100))),0))+('Blad 1 Totala intäkter'!Q16+'Blad 1 Totala intäkter'!Q18+'Blad 1 Totala intäkter'!Q20+'Blad 1 Totala intäkter'!Q22))*(I7+J27)/1000),0,((ROUND((((('Blad 3 Inkomstutjämning'!I19-'Blad 3 Inkomstutjämning'!I24/('Blad 3 Inkomstutjämning'!I21+'Blad 6 Befolkningsförändringar'!J27)*1000)*'Blad 3 Inkomstutjämning'!I$37/100))),0))+('Blad 1 Totala intäkter'!Q16+'Blad 1 Totala intäkter'!Q18+'Blad 1 Totala intäkter'!Q20+'Blad 1 Totala intäkter'!Q22))*(I7+J27)/1000)","v":0},null,null,null,null,null,null,null,null,null,null,null,null,null,null,null,null,{"$f":"IF(ISERROR(((ROUND((((('Blad 3 Inkomstutjämning'!#REF!-'Blad 3 Inkomstutjämning'!#REF!/('Blad 3 Inkomstutjämning'!#REF!+'Blad 6 Befolkningsförändringar'!AA27)*1000)*'Blad 3 Inkomstutjämning'!#REF!/100))),0))+('Blad 1 Totala intäkter'!#REF!+'Blad 1 Totala intäkter'!#REF!+'Blad 1 Totala intäkter'!#REF!+'Blad 1 Totala intäkter'!#REF!))*(Z7+AA27)/1000),0,((ROUND((((('Blad 3 Inkomstutjämning'!#REF!-'Blad 3 Inkomstutjämning'!#REF!/('Blad 3 Inkomstutjämning'!#REF!+'Blad 6 Befolkningsförändringar'!AA27)*1000)*'Blad 3 Inkomstutjämning'!#REF!/100))),0))+('Blad 1 Totala intäkter'!#REF!+'Blad 1 Totala intäkter'!#REF!+'Blad 1 Totala intäkter'!#REF!+'Blad 1 Totala intäkter'!#REF!))*(Z7+AA27)/1000)","v":0},{"$f":"IF(ISERROR(((ROUND((((('Blad 3 Inkomstutjämning'!K19-'Blad 3 Inkomstutjämning'!K24/('Blad 3 Inkomstutjämning'!K21+'Blad 6 Befolkningsförändringar'!AB27)*1000)*'Blad 3 Inkomstutjämning'!K$37/100))),0))+('Blad 1 Totala intäkter'!S16+'Blad 1 Totala intäkter'!S18+'Blad 1 Totala intäkter'!S20+'Blad 1 Totala intäkter'!S22))*(AA7+AB27)/1000),0,((ROUND((((('Blad 3 Inkomstutjämning'!K19-'Blad 3 Inkomstutjämning'!K24/('Blad 3 Inkomstutjämning'!K21+'Blad 6 Befolkningsförändringar'!AB27)*1000)*'Blad 3 Inkomstutjämning'!K$37/100))),0))+('Blad 1 Totala intäkter'!S16+'Blad 1 Totala intäkter'!S18+'Blad 1 Totala intäkter'!S20+'Blad 1 Totala intäkter'!S22))*(AA7+AB27)/1000)","v":0},{"$f":"IF(ISERROR(((ROUND((((('Blad 3 Inkomstutjämning'!L19-'Blad 3 Inkomstutjämning'!L24/('Blad 3 Inkomstutjämning'!L21+'Blad 6 Befolkningsförändringar'!AC27)*1000)*'Blad 3 Inkomstutjämning'!L$37/100))),0))+('Blad 1 Totala intäkter'!T16+'Blad 1 Totala intäkter'!T18+'Blad 1 Totala intäkter'!T20+'Blad 1 Totala intäkter'!T22))*(AB7+AC27)/1000),0,((ROUND((((('Blad 3 Inkomstutjämning'!L19-'Blad 3 Inkomstutjämning'!L24/('Blad 3 Inkomstutjämning'!L21+'Blad 6 Befolkningsförändringar'!AC27)*1000)*'Blad 3 Inkomstutjämning'!L$37/100))),0))+('Blad 1 Totala intäkter'!T16+'Blad 1 Totala intäkter'!T18+'Blad 1 Totala intäkter'!T20+'Blad 1 Totala intäkter'!T22))*(AB7+AC27)/1000)","v":0},{"$f":"IF(ISERROR(((ROUND((((('Blad 3 Inkomstutjämning'!M19-'Blad 3 Inkomstutjämning'!M24/('Blad 3 Inkomstutjämning'!M21+'Blad 6 Befolkningsförändringar'!AD27)*1000)*'Blad 3 Inkomstutjämning'!M$37/100))),0))+('Blad 1 Totala intäkter'!U16+'Blad 1 Totala intäkter'!U18+'Blad 1 Totala intäkter'!U20+'Blad 1 Totala intäkter'!U22))*(AC7+AD27)/1000),0,((ROUND((((('Blad 3 Inkomstutjämning'!M19-'Blad 3 Inkomstutjämning'!M24/('Blad 3 Inkomstutjämning'!M21+'Blad 6 Befolkningsförändringar'!AD27)*1000)*'Blad 3 Inkomstutjämning'!M$37/100))),0))+('Blad 1 Totala intäkter'!U16+'Blad 1 Totala intäkter'!U18+'Blad 1 Totala intäkter'!U20+'Blad 1 Totala intäkter'!U22))*(AC7+AD27)/1000)","v":0},{"$f":"IF(ISERROR(((ROUND((((('Blad 3 Inkomstutjämning'!N19-'Blad 3 Inkomstutjämning'!N24/('Blad 3 Inkomstutjämning'!N21+'Blad 6 Befolkningsförändringar'!AE27)*1000)*'Blad 3 Inkomstutjämning'!N$37/100))),0))+('Blad 1 Totala intäkter'!V16+'Blad 1 Totala intäkter'!V18+'Blad 1 Totala intäkter'!V20+'Blad 1 Totala intäkter'!V22))*(AD7+AE27)/1000),0,((ROUND((((('Blad 3 Inkomstutjämning'!N19-'Blad 3 Inkomstutjämning'!N24/('Blad 3 Inkomstutjämning'!N21+'Blad 6 Befolkningsförändringar'!AE27)*1000)*'Blad 3 Inkomstutjämning'!N$37/100))),0))+('Blad 1 Totala intäkter'!V16+'Blad 1 Totala intäkter'!V18+'Blad 1 Totala intäkter'!V20+'Blad 1 Totala intäkter'!V22))*(AD7+AE27)/1000)","v":0},{"$f":"IF(ISERROR(((ROUND((((('Blad 3 Inkomstutjämning'!O19-'Blad 3 Inkomstutjämning'!O24/('Blad 3 Inkomstutjämning'!O21+'Blad 6 Befolkningsförändringar'!AF27)*1000)*'Blad 3 Inkomstutjämning'!O$37/100))),0))+('Blad 1 Totala intäkter'!W16+'Blad 1 Totala intäkter'!W18+'Blad 1 Totala intäkter'!W20+'Blad 1 Totala intäkter'!W22))*(AE7+AF27)/1000),0,((ROUND((((('Blad 3 Inkomstutjämning'!O19-'Blad 3 Inkomstutjämning'!O24/('Blad 3 Inkomstutjämning'!O21+'Blad 6 Befolkningsförändringar'!AF27)*1000)*'Blad 3 Inkomstutjämning'!O$37/100))),0))+('Blad 1 Totala intäkter'!W16+'Blad 1 Totala intäkter'!W18+'Blad 1 Totala intäkter'!W20+'Blad 1 Totala intäkter'!W22))*(AE7+AF27)/1000)","v":0},{"$f":"IF(ISERROR(((ROUND((((('Blad 3 Inkomstutjämning'!P19-'Blad 3 Inkomstutjämning'!P24/('Blad 3 Inkomstutjämning'!P21+'Blad 6 Befolkningsförändringar'!AG27)*1000)*'Blad 3 Inkomstutjämning'!P$37/100))),0))+('Blad 1 Totala intäkter'!X16+'Blad 1 Totala intäkter'!X18+'Blad 1 Totala intäkter'!X20+'Blad 1 Totala intäkter'!X22))*(AF7+AG27)/1000),0,((ROUND((((('Blad 3 Inkomstutjämning'!P19-'Blad 3 Inkomstutjämning'!P24/('Blad 3 Inkomstutjämning'!P21+'Blad 6 Befolkningsförändringar'!AG27)*1000)*'Blad 3 Inkomstutjämning'!P$37/100))),0))+('Blad 1 Totala intäkter'!X16+'Blad 1 Totala intäkter'!X18+'Blad 1 Totala intäkter'!X20+'Blad 1 Totala intäkter'!X22))*(AF7+AG27)/1000)","v":0},{"$f":"IF(ISERROR(((ROUND((((('Blad 3 Inkomstutjämning'!Q19-'Blad 3 Inkomstutjämning'!Q24/('Blad 3 Inkomstutjämning'!Q21+'Blad 6 Befolkningsförändringar'!AH27)*1000)*'Blad 3 Inkomstutjämning'!Q$37/100))),0))+('Blad 1 Totala intäkter'!Y16+'Blad 1 Totala intäkter'!Y18+'Blad 1 Totala intäkter'!Y20+'Blad 1 Totala intäkter'!Y22))*(AG7+AH27)/1000),0,((ROUND((((('Blad 3 Inkomstutjämning'!Q19-'Blad 3 Inkomstutjämning'!Q24/('Blad 3 Inkomstutjämning'!Q21+'Blad 6 Befolkningsförändringar'!AH27)*1000)*'Blad 3 Inkomstutjämning'!Q$37/100))),0))+('Blad 1 Totala intäkter'!Y16+'Blad 1 Totala intäkter'!Y18+'Blad 1 Totala intäkter'!Y20+'Blad 1 Totala intäkter'!Y22))*(AG7+AH27)/1000)","v":0},{"$f":"IF(ISERROR(((ROUND((((('Blad 3 Inkomstutjämning'!R19-'Blad 3 Inkomstutjämning'!R24/('Blad 3 Inkomstutjämning'!R21+'Blad 6 Befolkningsförändringar'!AI27)*1000)*'Blad 3 Inkomstutjämning'!R$37/100))),0))+('Blad 1 Totala intäkter'!Z16+'Blad 1 Totala intäkter'!Z18+'Blad 1 Totala intäkter'!Z20+'Blad 1 Totala intäkter'!Z22))*(AH7+AI27)/1000),0,((ROUND((((('Blad 3 Inkomstutjämning'!R19-'Blad 3 Inkomstutjämning'!R24/('Blad 3 Inkomstutjämning'!R21+'Blad 6 Befolkningsförändringar'!AI27)*1000)*'Blad 3 Inkomstutjämning'!R$37/100))),0))+('Blad 1 Totala intäkter'!Z16+'Blad 1 Totala intäkter'!Z18+'Blad 1 Totala intäkter'!Z20+'Blad 1 Totala intäkter'!Z22))*(AH7+AI27)/1000)","v":0},{"$f":"IF(ISERROR(((ROUND((((('Blad 3 Inkomstutjämning'!S19-'Blad 3 Inkomstutjämning'!S24/('Blad 3 Inkomstutjämning'!S21+'Blad 6 Befolkningsförändringar'!AJ27)*1000)*'Blad 3 Inkomstutjämning'!S$37/100))),0))+('Blad 1 Totala intäkter'!AA16+'Blad 1 Totala intäkter'!AA18+'Blad 1 Totala intäkter'!AA20+'Blad 1 Totala intäkter'!AA22))*(AI7+AJ27)/1000),0,((ROUND((((('Blad 3 Inkomstutjämning'!S19-'Blad 3 Inkomstutjämning'!S24/('Blad 3 Inkomstutjämning'!S21+'Blad 6 Befolkningsförändringar'!AJ27)*1000)*'Blad 3 Inkomstutjämning'!S$37/100))),0))+('Blad 1 Totala intäkter'!AA16+'Blad 1 Totala intäkter'!AA18+'Blad 1 Totala intäkter'!AA20+'Blad 1 Totala intäkter'!AA22))*(AI7+AJ27)/1000)","v":0},{"$f":"IF(ISERROR(((ROUND((((('Blad 3 Inkomstutjämning'!T19-'Blad 3 Inkomstutjämning'!T24/('Blad 3 Inkomstutjämning'!T21+'Blad 6 Befolkningsförändringar'!AK27)*1000)*'Blad 3 Inkomstutjämning'!T$37/100))),0))+('Blad 1 Totala intäkter'!AB16+'Blad 1 Totala intäkter'!AB18+'Blad 1 Totala intäkter'!AB20+'Blad 1 Totala intäkter'!AB22))*(AJ7+AK27)/1000),0,((ROUND((((('Blad 3 Inkomstutjämning'!T19-'Blad 3 Inkomstutjämning'!T24/('Blad 3 Inkomstutjämning'!T21+'Blad 6 Befolkningsförändringar'!AK27)*1000)*'Blad 3 Inkomstutjämning'!T$37/100))),0))+('Blad 1 Totala intäkter'!AB16+'Blad 1 Totala intäkter'!AB18+'Blad 1 Totala intäkter'!AB20+'Blad 1 Totala intäkter'!AB22))*(AJ7+AK27)/1000)","v":0},{"$f":"IF(ISERROR(((ROUND((((('Blad 3 Inkomstutjämning'!U19-'Blad 3 Inkomstutjämning'!U24/('Blad 3 Inkomstutjämning'!U21+'Blad 6 Befolkningsförändringar'!AL27)*1000)*'Blad 3 Inkomstutjämning'!U$37/100))),0))+('Blad 1 Totala intäkter'!AC16+'Blad 1 Totala intäkter'!AC18+'Blad 1 Totala intäkter'!AC20+'Blad 1 Totala intäkter'!AC22))*(AK7+AL27)/1000),0,((ROUND((((('Blad 3 Inkomstutjämning'!U19-'Blad 3 Inkomstutjämning'!U24/('Blad 3 Inkomstutjämning'!U21+'Blad 6 Befolkningsförändringar'!AL27)*1000)*'Blad 3 Inkomstutjämning'!U$37/100))),0))+('Blad 1 Totala intäkter'!AC16+'Blad 1 Totala intäkter'!AC18+'Blad 1 Totala intäkter'!AC20+'Blad 1 Totala intäkter'!AC22))*(AK7+AL27)/1000)","v":0},{"$f":"IF(ISERROR(((ROUND((((('Blad 3 Inkomstutjämning'!V19-'Blad 3 Inkomstutjämning'!V24/('Blad 3 Inkomstutjämning'!V21+'Blad 6 Befolkningsförändringar'!AM27)*1000)*'Blad 3 Inkomstutjämning'!V$37/100))),0))+('Blad 1 Totala intäkter'!AD16+'Blad 1 Totala intäkter'!AD18+'Blad 1 Totala intäkter'!AD20+'Blad 1 Totala intäkter'!AD22))*(AL7+AM27)/1000),0,((ROUND((((('Blad 3 Inkomstutjämning'!V19-'Blad 3 Inkomstutjämning'!V24/('Blad 3 Inkomstutjämning'!V21+'Blad 6 Befolkningsförändringar'!AM27)*1000)*'Blad 3 Inkomstutjämning'!V$37/100))),0))+('Blad 1 Totala intäkter'!AD16+'Blad 1 Totala intäkter'!AD18+'Blad 1 Totala intäkter'!AD20+'Blad 1 Totala intäkter'!AD22))*(AL7+AM27)/1000)","v":0},{"$f":"IF(ISERROR(((ROUND((((('Blad 3 Inkomstutjämning'!W19-'Blad 3 Inkomstutjämning'!W24/('Blad 3 Inkomstutjämning'!W21+'Blad 6 Befolkningsförändringar'!AN27)*1000)*'Blad 3 Inkomstutjämning'!W$37/100))),0))+('Blad 1 Totala intäkter'!AE16+'Blad 1 Totala intäkter'!AE18+'Blad 1 Totala intäkter'!AE20+'Blad 1 Totala intäkter'!AE22))*(AM7+AN27)/1000),0,((ROUND((((('Blad 3 Inkomstutjämning'!W19-'Blad 3 Inkomstutjämning'!W24/('Blad 3 Inkomstutjämning'!W21+'Blad 6 Befolkningsförändringar'!AN27)*1000)*'Blad 3 Inkomstutjämning'!W$37/100))),0))+('Blad 1 Totala intäkter'!AE16+'Blad 1 Totala intäkter'!AE18+'Blad 1 Totala intäkter'!AE20+'Blad 1 Totala intäkter'!AE22))*(AM7+AN27)/1000)","v":0},{"$f":"IF(ISERROR(((ROUND((((('Blad 3 Inkomstutjämning'!X19-'Blad 3 Inkomstutjämning'!X24/('Blad 3 Inkomstutjämning'!X21+'Blad 6 Befolkningsförändringar'!AO27)*1000)*'Blad 3 Inkomstutjämning'!X$37/100))),0))+('Blad 1 Totala intäkter'!AF16+'Blad 1 Totala intäkter'!AF18+'Blad 1 Totala intäkter'!AF20+'Blad 1 Totala intäkter'!AF22))*(AN7+AO27)/1000),0,((ROUND((((('Blad 3 Inkomstutjämning'!X19-'Blad 3 Inkomstutjämning'!X24/('Blad 3 Inkomstutjämning'!X21+'Blad 6 Befolkningsförändringar'!AO27)*1000)*'Blad 3 Inkomstutjämning'!X$37/100))),0))+('Blad 1 Totala intäkter'!AF16+'Blad 1 Totala intäkter'!AF18+'Blad 1 Totala intäkter'!AF20+'Blad 1 Totala intäkter'!AF22))*(AN7+AO27)/1000)","v":0},{"$f":"IF(ISERROR(((ROUND((((('Blad 3 Inkomstutjämning'!Y19-'Blad 3 Inkomstutjämning'!Y24/('Blad 3 Inkomstutjämning'!Y21+'Blad 6 Befolkningsförändringar'!AP27)*1000)*'Blad 3 Inkomstutjämning'!Y$37/100))),0))+('Blad 1 Totala intäkter'!AG16+'Blad 1 Totala intäkter'!AG18+'Blad 1 Totala intäkter'!AG20+'Blad 1 Totala intäkter'!AG22))*(AO7+AP27)/1000),0,((ROUND((((('Blad 3 Inkomstutjämning'!Y19-'Blad 3 Inkomstutjämning'!Y24/('Blad 3 Inkomstutjämning'!Y21+'Blad 6 Befolkningsförändringar'!AP27)*1000)*'Blad 3 Inkomstutjämning'!Y$37/100))),0))+('Blad 1 Totala intäkter'!AG16+'Blad 1 Totala intäkter'!AG18+'Blad 1 Totala intäkter'!AG20+'Blad 1 Totala intäkter'!AG22))*(AO7+AP27)/1000)","v":0},{"$f":"IF(ISERROR(((ROUND((((('Blad 3 Inkomstutjämning'!Z19-'Blad 3 Inkomstutjämning'!Z24/('Blad 3 Inkomstutjämning'!Z21+'Blad 6 Befolkningsförändringar'!AQ27)*1000)*'Blad 3 Inkomstutjämning'!Z$37/100))),0))+('Blad 1 Totala intäkter'!AH16+'Blad 1 Totala intäkter'!AH18+'Blad 1 Totala intäkter'!AH20+'Blad 1 Totala intäkter'!AH22))*(AP7+AQ27)/1000),0,((ROUND((((('Blad 3 Inkomstutjämning'!Z19-'Blad 3 Inkomstutjämning'!Z24/('Blad 3 Inkomstutjämning'!Z21+'Blad 6 Befolkningsförändringar'!AQ27)*1000)*'Blad 3 Inkomstutjämning'!Z$37/100))),0))+('Blad 1 Totala intäkter'!AH16+'Blad 1 Totala intäkter'!AH18+'Blad 1 Totala intäkter'!AH20+'Blad 1 Totala intäkter'!AH22))*(AP7+AQ27)/1000)","v":0},{"$f":"IF(ISERROR(((ROUND((((('Blad 3 Inkomstutjämning'!AA19-'Blad 3 Inkomstutjämning'!AA24/('Blad 3 Inkomstutjämning'!AA21+'Blad 6 Befolkningsförändringar'!AR27)*1000)*'Blad 3 Inkomstutjämning'!AA$37/100))),0))+('Blad 1 Totala intäkter'!AI16+'Blad 1 Totala intäkter'!AI18+'Blad 1 Totala intäkter'!AI20+'Blad 1 Totala intäkter'!AI22))*(AQ7+AR27)/1000),0,((ROUND((((('Blad 3 Inkomstutjämning'!AA19-'Blad 3 Inkomstutjämning'!AA24/('Blad 3 Inkomstutjämning'!AA21+'Blad 6 Befolkningsförändringar'!AR27)*1000)*'Blad 3 Inkomstutjämning'!AA$37/100))),0))+('Blad 1 Totala intäkter'!AI16+'Blad 1 Totala intäkter'!AI18+'Blad 1 Totala intäkter'!AI20+'Blad 1 Totala intäkter'!AI22))*(AQ7+AR27)/1000)","v":0},{"$f":"IF(ISERROR(((ROUND((((('Blad 3 Inkomstutjämning'!AB19-'Blad 3 Inkomstutjämning'!AB24/('Blad 3 Inkomstutjämning'!AB21+'Blad 6 Befolkningsförändringar'!AS27)*1000)*'Blad 3 Inkomstutjämning'!AB$37/100))),0))+('Blad 1 Totala intäkter'!AJ16+'Blad 1 Totala intäkter'!AJ18+'Blad 1 Totala intäkter'!AJ20+'Blad 1 Totala intäkter'!AJ22))*(AR7+AS27)/1000),0,((ROUND((((('Blad 3 Inkomstutjämning'!AB19-'Blad 3 Inkomstutjämning'!AB24/('Blad 3 Inkomstutjämning'!AB21+'Blad 6 Befolkningsförändringar'!AS27)*1000)*'Blad 3 Inkomstutjämning'!AB$37/100))),0))+('Blad 1 Totala intäkter'!AJ16+'Blad 1 Totala intäkter'!AJ18+'Blad 1 Totala intäkter'!AJ20+'Blad 1 Totala intäkter'!AJ22))*(AR7+AS27)/1000)","v":0},{"$f":"IF(ISERROR(((ROUND((((('Blad 3 Inkomstutjämning'!AC19-'Blad 3 Inkomstutjämning'!AC24/('Blad 3 Inkomstutjämning'!AC21+'Blad 6 Befolkningsförändringar'!AT27)*1000)*'Blad 3 Inkomstutjämning'!AC$37/100))),0))+('Blad 1 Totala intäkter'!AK16+'Blad 1 Totala intäkter'!AK18+'Blad 1 Totala intäkter'!AK20+'Blad 1 Totala intäkter'!AK22))*(AS7+AT27)/1000),0,((ROUND((((('Blad 3 Inkomstutjämning'!AC19-'Blad 3 Inkomstutjämning'!AC24/('Blad 3 Inkomstutjämning'!AC21+'Blad 6 Befolkningsförändringar'!AT27)*1000)*'Blad 3 Inkomstutjämning'!AC$37/100))),0))+('Blad 1 Totala intäkter'!AK16+'Blad 1 Totala intäkter'!AK18+'Blad 1 Totala intäkter'!AK20+'Blad 1 Totala intäkter'!AK22))*(AS7+AT27)/1000)","v":0},{"$f":"IF(ISERROR(((ROUND((((('Blad 3 Inkomstutjämning'!AD19-'Blad 3 Inkomstutjämning'!AD24/('Blad 3 Inkomstutjämning'!AD21+'Blad 6 Befolkningsförändringar'!AU27)*1000)*'Blad 3 Inkomstutjämning'!AD$37/100))),0))+('Blad 1 Totala intäkter'!AL16+'Blad 1 Totala intäkter'!AL18+'Blad 1 Totala intäkter'!AL20+'Blad 1 Totala intäkter'!AL22))*(AT7+AU27)/1000),0,((ROUND((((('Blad 3 Inkomstutjämning'!AD19-'Blad 3 Inkomstutjämning'!AD24/('Blad 3 Inkomstutjämning'!AD21+'Blad 6 Befolkningsförändringar'!AU27)*1000)*'Blad 3 Inkomstutjämning'!AD$37/100))),0))+('Blad 1 Totala intäkter'!AL16+'Blad 1 Totala intäkter'!AL18+'Blad 1 Totala intäkter'!AL20+'Blad 1 Totala intäkter'!AL22))*(AT7+AU27)/1000)","v":0},{"$f":"IF(ISERROR(((ROUND((((('Blad 3 Inkomstutjämning'!AE19-'Blad 3 Inkomstutjämning'!AE24/('Blad 3 Inkomstutjämning'!AE21+'Blad 6 Befolkningsförändringar'!AV27)*1000)*'Blad 3 Inkomstutjämning'!AE$37/100))),0))+('Blad 1 Totala intäkter'!AM16+'Blad 1 Totala intäkter'!AM18+'Blad 1 Totala intäkter'!AM20+'Blad 1 Totala intäkter'!AM22))*(AU7+AV27)/1000),0,((ROUND((((('Blad 3 Inkomstutjämning'!AE19-'Blad 3 Inkomstutjämning'!AE24/('Blad 3 Inkomstutjämning'!AE21+'Blad 6 Befolkningsförändringar'!AV27)*1000)*'Blad 3 Inkomstutjämning'!AE$37/100))),0))+('Blad 1 Totala intäkter'!AM16+'Blad 1 Totala intäkter'!AM18+'Blad 1 Totala intäkter'!AM20+'Blad 1 Totala intäkter'!AM22))*(AU7+AV27)/1000)","v":0},{"$f":"IF(ISERROR(((ROUND((((('Blad 3 Inkomstutjämning'!AF19-'Blad 3 Inkomstutjämning'!AF24/('Blad 3 Inkomstutjämning'!AF21+'Blad 6 Befolkningsförändringar'!AW27)*1000)*'Blad 3 Inkomstutjämning'!AF$37/100))),0))+('Blad 1 Totala intäkter'!AN16+'Blad 1 Totala intäkter'!AN18+'Blad 1 Totala intäkter'!AN20+'Blad 1 Totala intäkter'!AN22))*(AV7+AW27)/1000),0,((ROUND((((('Blad 3 Inkomstutjämning'!AF19-'Blad 3 Inkomstutjämning'!AF24/('Blad 3 Inkomstutjämning'!AF21+'Blad 6 Befolkningsförändringar'!AW27)*1000)*'Blad 3 Inkomstutjämning'!AF$37/100))),0))+('Blad 1 Totala intäkter'!AN16+'Blad 1 Totala intäkter'!AN18+'Blad 1 Totala intäkter'!AN20+'Blad 1 Totala intäkter'!AN22))*(AV7+AW27)/1000)","v":0},{"$f":"IF(ISERROR(((ROUND((((('Blad 3 Inkomstutjämning'!AG19-'Blad 3 Inkomstutjämning'!AG24/('Blad 3 Inkomstutjämning'!AG21+'Blad 6 Befolkningsförändringar'!AX27)*1000)*'Blad 3 Inkomstutjämning'!AG$37/100))),0))+('Blad 1 Totala intäkter'!AO16+'Blad 1 Totala intäkter'!AO18+'Blad 1 Totala intäkter'!AO20+'Blad 1 Totala intäkter'!AO22))*(AW7+AX27)/1000),0,((ROUND((((('Blad 3 Inkomstutjämning'!AG19-'Blad 3 Inkomstutjämning'!AG24/('Blad 3 Inkomstutjämning'!AG21+'Blad 6 Befolkningsförändringar'!AX27)*1000)*'Blad 3 Inkomstutjämning'!AG$37/100))),0))+('Blad 1 Totala intäkter'!AO16+'Blad 1 Totala intäkter'!AO18+'Blad 1 Totala intäkter'!AO20+'Blad 1 Totala intäkter'!AO22))*(AW7+AX27)/1000)","v":0},{"$f":"IF(ISERROR(((ROUND((((('Blad 3 Inkomstutjämning'!AH19-'Blad 3 Inkomstutjämning'!AH24/('Blad 3 Inkomstutjämning'!AH21+'Blad 6 Befolkningsförändringar'!AY27)*1000)*'Blad 3 Inkomstutjämning'!AH$37/100))),0))+('Blad 1 Totala intäkter'!AP16+'Blad 1 Totala intäkter'!AP18+'Blad 1 Totala intäkter'!AP20+'Blad 1 Totala intäkter'!AP22))*(AX7+AY27)/1000),0,((ROUND((((('Blad 3 Inkomstutjämning'!AH19-'Blad 3 Inkomstutjämning'!AH24/('Blad 3 Inkomstutjämning'!AH21+'Blad 6 Befolkningsförändringar'!AY27)*1000)*'Blad 3 Inkomstutjämning'!AH$37/100))),0))+('Blad 1 Totala intäkter'!AP16+'Blad 1 Totala intäkter'!AP18+'Blad 1 Totala intäkter'!AP20+'Blad 1 Totala intäkter'!AP22))*(AX7+AY27)/1000)","v":0},{"$f":"IF(ISERROR(((ROUND((((('Blad 3 Inkomstutjämning'!AI19-'Blad 3 Inkomstutjämning'!AI24/('Blad 3 Inkomstutjämning'!AI21+'Blad 6 Befolkningsförändringar'!AZ27)*1000)*'Blad 3 Inkomstutjämning'!AI$37/100))),0))+('Blad 1 Totala intäkter'!AQ16+'Blad 1 Totala intäkter'!AQ18+'Blad 1 Totala intäkter'!AQ20+'Blad 1 Totala intäkter'!AQ22))*(AY7+AZ27)/1000),0,((ROUND((((('Blad 3 Inkomstutjämning'!AI19-'Blad 3 Inkomstutjämning'!AI24/('Blad 3 Inkomstutjämning'!AI21+'Blad 6 Befolkningsförändringar'!AZ27)*1000)*'Blad 3 Inkomstutjämning'!AI$37/100))),0))+('Blad 1 Totala intäkter'!AQ16+'Blad 1 Totala intäkter'!AQ18+'Blad 1 Totala intäkter'!AQ20+'Blad 1 Totala intäkter'!AQ22))*(AY7+AZ27)/1000)","v":0},{"$f":"IF(ISERROR(((ROUND((((('Blad 3 Inkomstutjämning'!AJ19-'Blad 3 Inkomstutjämning'!AJ24/('Blad 3 Inkomstutjämning'!AJ21+'Blad 6 Befolkningsförändringar'!BA27)*1000)*'Blad 3 Inkomstutjämning'!AJ$37/100))),0))+('Blad 1 Totala intäkter'!AR16+'Blad 1 Totala intäkter'!AR18+'Blad 1 Totala intäkter'!AR20+'Blad 1 Totala intäkter'!AR22))*(AZ7+BA27)/1000),0,((ROUND((((('Blad 3 Inkomstutjämning'!AJ19-'Blad 3 Inkomstutjämning'!AJ24/('Blad 3 Inkomstutjämning'!AJ21+'Blad 6 Befolkningsförändringar'!BA27)*1000)*'Blad 3 Inkomstutjämning'!AJ$37/100))),0))+('Blad 1 Totala intäkter'!AR16+'Blad 1 Totala intäkter'!AR18+'Blad 1 Totala intäkter'!AR20+'Blad 1 Totala intäkter'!AR22))*(AZ7+BA27)/1000)","v":0},{"$f":"IF(ISERROR(((ROUND((((('Blad 3 Inkomstutjämning'!AK19-'Blad 3 Inkomstutjämning'!AK24/('Blad 3 Inkomstutjämning'!AK21+'Blad 6 Befolkningsförändringar'!BB27)*1000)*'Blad 3 Inkomstutjämning'!AK$37/100))),0))+('Blad 1 Totala intäkter'!AS16+'Blad 1 Totala intäkter'!AS18+'Blad 1 Totala intäkter'!AS20+'Blad 1 Totala intäkter'!AS22))*(BA7+BB27)/1000),0,((ROUND((((('Blad 3 Inkomstutjämning'!AK19-'Blad 3 Inkomstutjämning'!AK24/('Blad 3 Inkomstutjämning'!AK21+'Blad 6 Befolkningsförändringar'!BB27)*1000)*'Blad 3 Inkomstutjämning'!AK$37/100))),0))+('Blad 1 Totala intäkter'!AS16+'Blad 1 Totala intäkter'!AS18+'Blad 1 Totala intäkter'!AS20+'Blad 1 Totala intäkter'!AS22))*(BA7+BB27)/1000)","v":0},{"$f":"IF(ISERROR(((ROUND((((('Blad 3 Inkomstutjämning'!AL19-'Blad 3 Inkomstutjämning'!AL24/('Blad 3 Inkomstutjämning'!AL21+'Blad 6 Befolkningsförändringar'!BC27)*1000)*'Blad 3 Inkomstutjämning'!AL$37/100))),0))+('Blad 1 Totala intäkter'!AT16+'Blad 1 Totala intäkter'!AT18+'Blad 1 Totala intäkter'!AT20+'Blad 1 Totala intäkter'!AT22))*(BB7+BC27)/1000),0,((ROUND((((('Blad 3 Inkomstutjämning'!AL19-'Blad 3 Inkomstutjämning'!AL24/('Blad 3 Inkomstutjämning'!AL21+'Blad 6 Befolkningsförändringar'!BC27)*1000)*'Blad 3 Inkomstutjämning'!AL$37/100))),0))+('Blad 1 Totala intäkter'!AT16+'Blad 1 Totala intäkter'!AT18+'Blad 1 Totala intäkter'!AT20+'Blad 1 Totala intäkter'!AT22))*(BB7+BC27)/1000)","v":0},{"$f":"IF(ISERROR(((ROUND((((('Blad 3 Inkomstutjämning'!AM19-'Blad 3 Inkomstutjämning'!AM24/('Blad 3 Inkomstutjämning'!AM21+'Blad 6 Befolkningsförändringar'!BD27)*1000)*'Blad 3 Inkomstutjämning'!AM$37/100))),0))+('Blad 1 Totala intäkter'!AU16+'Blad 1 Totala intäkter'!AU18+'Blad 1 Totala intäkter'!AU20+'Blad 1 Totala intäkter'!AU22))*(BC7+BD27)/1000),0,((ROUND((((('Blad 3 Inkomstutjämning'!AM19-'Blad 3 Inkomstutjämning'!AM24/('Blad 3 Inkomstutjämning'!AM21+'Blad 6 Befolkningsförändringar'!BD27)*1000)*'Blad 3 Inkomstutjämning'!AM$37/100))),0))+('Blad 1 Totala intäkter'!AU16+'Blad 1 Totala intäkter'!AU18+'Blad 1 Totala intäkter'!AU20+'Blad 1 Totala intäkter'!AU22))*(BC7+BD27)/1000)","v":0},{"$f":"IF(ISERROR(((ROUND((((('Blad 3 Inkomstutjämning'!AN19-'Blad 3 Inkomstutjämning'!AN24/('Blad 3 Inkomstutjämning'!AN21+'Blad 6 Befolkningsförändringar'!BE27)*1000)*'Blad 3 Inkomstutjämning'!AN$37/100))),0))+('Blad 1 Totala intäkter'!AV16+'Blad 1 Totala intäkter'!AV18+'Blad 1 Totala intäkter'!AV20+'Blad 1 Totala intäkter'!AV22))*(BD7+BE27)/1000),0,((ROUND((((('Blad 3 Inkomstutjämning'!AN19-'Blad 3 Inkomstutjämning'!AN24/('Blad 3 Inkomstutjämning'!AN21+'Blad 6 Befolkningsförändringar'!BE27)*1000)*'Blad 3 Inkomstutjämning'!AN$37/100))),0))+('Blad 1 Totala intäkter'!AV16+'Blad 1 Totala intäkter'!AV18+'Blad 1 Totala intäkter'!AV20+'Blad 1 Totala intäkter'!AV22))*(BD7+BE27)/1000)","v":0},{"$f":"IF(ISERROR(((ROUND((((('Blad 3 Inkomstutjämning'!AO19-'Blad 3 Inkomstutjämning'!AO24/('Blad 3 Inkomstutjämning'!AO21+'Blad 6 Befolkningsförändringar'!BF27)*1000)*'Blad 3 Inkomstutjämning'!AO$37/100))),0))+('Blad 1 Totala intäkter'!AW16+'Blad 1 Totala intäkter'!AW18+'Blad 1 Totala intäkter'!AW20+'Blad 1 Totala intäkter'!AW22))*(BE7+BF27)/1000),0,((ROUND((((('Blad 3 Inkomstutjämning'!AO19-'Blad 3 Inkomstutjämning'!AO24/('Blad 3 Inkomstutjämning'!AO21+'Blad 6 Befolkningsförändringar'!BF27)*1000)*'Blad 3 Inkomstutjämning'!AO$37/100))),0))+('Blad 1 Totala intäkter'!AW16+'Blad 1 Totala intäkter'!AW18+'Blad 1 Totala intäkter'!AW20+'Blad 1 Totala intäkter'!AW22))*(BE7+BF27)/1000)","v":0},{"$f":"IF(ISERROR(((ROUND((((('Blad 3 Inkomstutjämning'!AP19-'Blad 3 Inkomstutjämning'!AP24/('Blad 3 Inkomstutjämning'!AP21+'Blad 6 Befolkningsförändringar'!BG27)*1000)*'Blad 3 Inkomstutjämning'!AP$37/100))),0))+('Blad 1 Totala intäkter'!AX16+'Blad 1 Totala intäkter'!AX18+'Blad 1 Totala intäkter'!AX20+'Blad 1 Totala intäkter'!AX22))*(BF7+BG27)/1000),0,((ROUND((((('Blad 3 Inkomstutjämning'!AP19-'Blad 3 Inkomstutjämning'!AP24/('Blad 3 Inkomstutjämning'!AP21+'Blad 6 Befolkningsförändringar'!BG27)*1000)*'Blad 3 Inkomstutjämning'!AP$37/100))),0))+('Blad 1 Totala intäkter'!AX16+'Blad 1 Totala intäkter'!AX18+'Blad 1 Totala intäkter'!AX20+'Blad 1 Totala intäkter'!AX22))*(BF7+BG27)/1000)","v":0},{"$f":"IF(ISERROR(((ROUND((((('Blad 3 Inkomstutjämning'!AQ19-'Blad 3 Inkomstutjämning'!AQ24/('Blad 3 Inkomstutjämning'!AQ21+'Blad 6 Befolkningsförändringar'!BH27)*1000)*'Blad 3 Inkomstutjämning'!AQ$37/100))),0))+('Blad 1 Totala intäkter'!AY16+'Blad 1 Totala intäkter'!AY18+'Blad 1 Totala intäkter'!AY20+'Blad 1 Totala intäkter'!AY22))*(BG7+BH27)/1000),0,((ROUND((((('Blad 3 Inkomstutjämning'!AQ19-'Blad 3 Inkomstutjämning'!AQ24/('Blad 3 Inkomstutjämning'!AQ21+'Blad 6 Befolkningsförändringar'!BH27)*1000)*'Blad 3 Inkomstutjämning'!AQ$37/100))),0))+('Blad 1 Totala intäkter'!AY16+'Blad 1 Totala intäkter'!AY18+'Blad 1 Totala intäkter'!AY20+'Blad 1 Totala intäkter'!AY22))*(BG7+BH27)/1000)","v":0},{"$f":"IF(ISERROR(((ROUND((((('Blad 3 Inkomstutjämning'!AR19-'Blad 3 Inkomstutjämning'!AR24/('Blad 3 Inkomstutjämning'!AR21+'Blad 6 Befolkningsförändringar'!BI27)*1000)*'Blad 3 Inkomstutjämning'!AR$37/100))),0))+('Blad 1 Totala intäkter'!AZ16+'Blad 1 Totala intäkter'!AZ18+'Blad 1 Totala intäkter'!AZ20+'Blad 1 Totala intäkter'!AZ22))*(BH7+BI27)/1000),0,((ROUND((((('Blad 3 Inkomstutjämning'!AR19-'Blad 3 Inkomstutjämning'!AR24/('Blad 3 Inkomstutjämning'!AR21+'Blad 6 Befolkningsförändringar'!BI27)*1000)*'Blad 3 Inkomstutjämning'!AR$37/100))),0))+('Blad 1 Totala intäkter'!AZ16+'Blad 1 Totala intäkter'!AZ18+'Blad 1 Totala intäkter'!AZ20+'Blad 1 Totala intäkter'!AZ22))*(BH7+BI27)/1000)","v":0},{"$f":"IF(ISERROR(((ROUND((((('Blad 3 Inkomstutjämning'!AS19-'Blad 3 Inkomstutjämning'!AS24/('Blad 3 Inkomstutjämning'!AS21+'Blad 6 Befolkningsförändringar'!BJ27)*1000)*'Blad 3 Inkomstutjämning'!AS$37/100))),0))+('Blad 1 Totala intäkter'!BA16+'Blad 1 Totala intäkter'!BA18+'Blad 1 Totala intäkter'!BA20+'Blad 1 Totala intäkter'!BA22))*(BI7+BJ27)/1000),0,((ROUND((((('Blad 3 Inkomstutjämning'!AS19-'Blad 3 Inkomstutjämning'!AS24/('Blad 3 Inkomstutjämning'!AS21+'Blad 6 Befolkningsförändringar'!BJ27)*1000)*'Blad 3 Inkomstutjämning'!AS$37/100))),0))+('Blad 1 Totala intäkter'!BA16+'Blad 1 Totala intäkter'!BA18+'Blad 1 Totala intäkter'!BA20+'Blad 1 Totala intäkter'!BA22))*(BI7+BJ27)/1000)","v":0},{"$f":"IF(ISERROR(((ROUND((((('Blad 3 Inkomstutjämning'!AT19-'Blad 3 Inkomstutjämning'!AT24/('Blad 3 Inkomstutjämning'!AT21+'Blad 6 Befolkningsförändringar'!BK27)*1000)*'Blad 3 Inkomstutjämning'!AT$37/100))),0))+('Blad 1 Totala intäkter'!BB16+'Blad 1 Totala intäkter'!BB18+'Blad 1 Totala intäkter'!BB20+'Blad 1 Totala intäkter'!BB22))*(BJ7+BK27)/1000),0,((ROUND((((('Blad 3 Inkomstutjämning'!AT19-'Blad 3 Inkomstutjämning'!AT24/('Blad 3 Inkomstutjämning'!AT21+'Blad 6 Befolkningsförändringar'!BK27)*1000)*'Blad 3 Inkomstutjämning'!AT$37/100))),0))+('Blad 1 Totala intäkter'!BB16+'Blad 1 Totala intäkter'!BB18+'Blad 1 Totala intäkter'!BB20+'Blad 1 Totala intäkter'!BB22))*(BJ7+BK27)/1000)","v":0},{"$f":"IF(ISERROR(((ROUND((((('Blad 3 Inkomstutjämning'!AU19-'Blad 3 Inkomstutjämning'!AU24/('Blad 3 Inkomstutjämning'!AU21+'Blad 6 Befolkningsförändringar'!BL27)*1000)*'Blad 3 Inkomstutjämning'!AU$37/100))),0))+('Blad 1 Totala intäkter'!BC16+'Blad 1 Totala intäkter'!BC18+'Blad 1 Totala intäkter'!BC20+'Blad 1 Totala intäkter'!BC22))*(BK7+BL27)/1000),0,((ROUND((((('Blad 3 Inkomstutjämning'!AU19-'Blad 3 Inkomstutjämning'!AU24/('Blad 3 Inkomstutjämning'!AU21+'Blad 6 Befolkningsförändringar'!BL27)*1000)*'Blad 3 Inkomstutjämning'!AU$37/100))),0))+('Blad 1 Totala intäkter'!BC16+'Blad 1 Totala intäkter'!BC18+'Blad 1 Totala intäkter'!BC20+'Blad 1 Totala intäkter'!BC22))*(BK7+BL27)/1000)","v":0},{"$f":"IF(ISERROR(((ROUND((((('Blad 3 Inkomstutjämning'!AV19-'Blad 3 Inkomstutjämning'!AV24/('Blad 3 Inkomstutjämning'!AV21+'Blad 6 Befolkningsförändringar'!BM27)*1000)*'Blad 3 Inkomstutjämning'!AV$37/100))),0))+('Blad 1 Totala intäkter'!BD16+'Blad 1 Totala intäkter'!BD18+'Blad 1 Totala intäkter'!BD20+'Blad 1 Totala intäkter'!BD22))*(BL7+BM27)/1000),0,((ROUND((((('Blad 3 Inkomstutjämning'!AV19-'Blad 3 Inkomstutjämning'!AV24/('Blad 3 Inkomstutjämning'!AV21+'Blad 6 Befolkningsförändringar'!BM27)*1000)*'Blad 3 Inkomstutjämning'!AV$37/100))),0))+('Blad 1 Totala intäkter'!BD16+'Blad 1 Totala intäkter'!BD18+'Blad 1 Totala intäkter'!BD20+'Blad 1 Totala intäkter'!BD22))*(BL7+BM27)/1000)","v":0},{"$f":"IF(ISERROR(((ROUND((((('Blad 3 Inkomstutjämning'!AW19-'Blad 3 Inkomstutjämning'!AW24/('Blad 3 Inkomstutjämning'!AW21+'Blad 6 Befolkningsförändringar'!BN27)*1000)*'Blad 3 Inkomstutjämning'!AW$37/100))),0))+('Blad 1 Totala intäkter'!BE16+'Blad 1 Totala intäkter'!BE18+'Blad 1 Totala intäkter'!BE20+'Blad 1 Totala intäkter'!BE22))*(BM7+BN27)/1000),0,((ROUND((((('Blad 3 Inkomstutjämning'!AW19-'Blad 3 Inkomstutjämning'!AW24/('Blad 3 Inkomstutjämning'!AW21+'Blad 6 Befolkningsförändringar'!BN27)*1000)*'Blad 3 Inkomstutjämning'!AW$37/100))),0))+('Blad 1 Totala intäkter'!BE16+'Blad 1 Totala intäkter'!BE18+'Blad 1 Totala intäkter'!BE20+'Blad 1 Totala intäkter'!BE22))*(BM7+BN27)/1000)","v":0},{"$f":"IF(ISERROR(((ROUND((((('Blad 3 Inkomstutjämning'!AX19-'Blad 3 Inkomstutjämning'!AX24/('Blad 3 Inkomstutjämning'!AX21+'Blad 6 Befolkningsförändringar'!BO27)*1000)*'Blad 3 Inkomstutjämning'!AX$37/100))),0))+('Blad 1 Totala intäkter'!BF16+'Blad 1 Totala intäkter'!BF18+'Blad 1 Totala intäkter'!BF20+'Blad 1 Totala intäkter'!BF22))*(BN7+BO27)/1000),0,((ROUND((((('Blad 3 Inkomstutjämning'!AX19-'Blad 3 Inkomstutjämning'!AX24/('Blad 3 Inkomstutjämning'!AX21+'Blad 6 Befolkningsförändringar'!BO27)*1000)*'Blad 3 Inkomstutjämning'!AX$37/100))),0))+('Blad 1 Totala intäkter'!BF16+'Blad 1 Totala intäkter'!BF18+'Blad 1 Totala intäkter'!BF20+'Blad 1 Totala intäkter'!BF22))*(BN7+BO27)/1000)","v":0},{"$f":"IF(ISERROR(((ROUND((((('Blad 3 Inkomstutjämning'!AY19-'Blad 3 Inkomstutjämning'!AY24/('Blad 3 Inkomstutjämning'!AY21+'Blad 6 Befolkningsförändringar'!BP27)*1000)*'Blad 3 Inkomstutjämning'!AY$37/100))),0))+('Blad 1 Totala intäkter'!BG16+'Blad 1 Totala intäkter'!BG18+'Blad 1 Totala intäkter'!BG20+'Blad 1 Totala intäkter'!BG22))*(BO7+BP27)/1000),0,((ROUND((((('Blad 3 Inkomstutjämning'!AY19-'Blad 3 Inkomstutjämning'!AY24/('Blad 3 Inkomstutjämning'!AY21+'Blad 6 Befolkningsförändringar'!BP27)*1000)*'Blad 3 Inkomstutjämning'!AY$37/100))),0))+('Blad 1 Totala intäkter'!BG16+'Blad 1 Totala intäkter'!BG18+'Blad 1 Totala intäkter'!BG20+'Blad 1 Totala intäkter'!BG22))*(BO7+BP27)/1000)","v":0},{"$f":"IF(ISERROR(((ROUND((((('Blad 3 Inkomstutjämning'!AZ19-'Blad 3 Inkomstutjämning'!AZ24/('Blad 3 Inkomstutjämning'!AZ21+'Blad 6 Befolkningsförändringar'!BQ27)*1000)*'Blad 3 Inkomstutjämning'!AZ$37/100))),0))+('Blad 1 Totala intäkter'!BH16+'Blad 1 Totala intäkter'!BH18+'Blad 1 Totala intäkter'!BH20+'Blad 1 Totala intäkter'!BH22))*(BP7+BQ27)/1000),0,((ROUND((((('Blad 3 Inkomstutjämning'!AZ19-'Blad 3 Inkomstutjämning'!AZ24/('Blad 3 Inkomstutjämning'!AZ21+'Blad 6 Befolkningsförändringar'!BQ27)*1000)*'Blad 3 Inkomstutjämning'!AZ$37/100))),0))+('Blad 1 Totala intäkter'!BH16+'Blad 1 Totala intäkter'!BH18+'Blad 1 Totala intäkter'!BH20+'Blad 1 Totala intäkter'!BH22))*(BP7+BQ27)/1000)","v":0},{"$f":"IF(ISERROR(((ROUND((((('Blad 3 Inkomstutjämning'!BA19-'Blad 3 Inkomstutjämning'!BA24/('Blad 3 Inkomstutjämning'!BA21+'Blad 6 Befolkningsförändringar'!BR27)*1000)*'Blad 3 Inkomstutjämning'!BA$37/100))),0))+('Blad 1 Totala intäkter'!BI16+'Blad 1 Totala intäkter'!BI18+'Blad 1 Totala intäkter'!BI20+'Blad 1 Totala intäkter'!BI22))*(BQ7+BR27)/1000),0,((ROUND((((('Blad 3 Inkomstutjämning'!BA19-'Blad 3 Inkomstutjämning'!BA24/('Blad 3 Inkomstutjämning'!BA21+'Blad 6 Befolkningsförändringar'!BR27)*1000)*'Blad 3 Inkomstutjämning'!BA$37/100))),0))+('Blad 1 Totala intäkter'!BI16+'Blad 1 Totala intäkter'!BI18+'Blad 1 Totala intäkter'!BI20+'Blad 1 Totala intäkter'!BI22))*(BQ7+BR27)/1000)","v":0},{"$f":"IF(ISERROR(((ROUND((((('Blad 3 Inkomstutjämning'!BB19-'Blad 3 Inkomstutjämning'!BB24/('Blad 3 Inkomstutjämning'!BB21+'Blad 6 Befolkningsförändringar'!BS27)*1000)*'Blad 3 Inkomstutjämning'!BB$37/100))),0))+('Blad 1 Totala intäkter'!BJ16+'Blad 1 Totala intäkter'!BJ18+'Blad 1 Totala intäkter'!BJ20+'Blad 1 Totala intäkter'!BJ22))*(BR7+BS27)/1000),0,((ROUND((((('Blad 3 Inkomstutjämning'!BB19-'Blad 3 Inkomstutjämning'!BB24/('Blad 3 Inkomstutjämning'!BB21+'Blad 6 Befolkningsförändringar'!BS27)*1000)*'Blad 3 Inkomstutjämning'!BB$37/100))),0))+('Blad 1 Totala intäkter'!BJ16+'Blad 1 Totala intäkter'!BJ18+'Blad 1 Totala intäkter'!BJ20+'Blad 1 Totala intäkter'!BJ22))*(BR7+BS27)/1000)","v":0},{"$f":"IF(ISERROR(((ROUND((((('Blad 3 Inkomstutjämning'!BC19-'Blad 3 Inkomstutjämning'!BC24/('Blad 3 Inkomstutjämning'!BC21+'Blad 6 Befolkningsförändringar'!BT27)*1000)*'Blad 3 Inkomstutjämning'!BC$37/100))),0))+('Blad 1 Totala intäkter'!BK16+'Blad 1 Totala intäkter'!BK18+'Blad 1 Totala intäkter'!BK20+'Blad 1 Totala intäkter'!BK22))*(BS7+BT27)/1000),0,((ROUND((((('Blad 3 Inkomstutjämning'!BC19-'Blad 3 Inkomstutjämning'!BC24/('Blad 3 Inkomstutjämning'!BC21+'Blad 6 Befolkningsförändringar'!BT27)*1000)*'Blad 3 Inkomstutjämning'!BC$37/100))),0))+('Blad 1 Totala intäkter'!BK16+'Blad 1 Totala intäkter'!BK18+'Blad 1 Totala intäkter'!BK20+'Blad 1 Totala intäkter'!BK22))*(BS7+BT27)/1000)","v":0},{"$f":"IF(ISERROR(((ROUND((((('Blad 3 Inkomstutjämning'!BD19-'Blad 3 Inkomstutjämning'!BD24/('Blad 3 Inkomstutjämning'!BD21+'Blad 6 Befolkningsförändringar'!BU27)*1000)*'Blad 3 Inkomstutjämning'!BD$37/100))),0))+('Blad 1 Totala intäkter'!BL16+'Blad 1 Totala intäkter'!BL18+'Blad 1 Totala intäkter'!BL20+'Blad 1 Totala intäkter'!BL22))*(BT7+BU27)/1000),0,((ROUND((((('Blad 3 Inkomstutjämning'!BD19-'Blad 3 Inkomstutjämning'!BD24/('Blad 3 Inkomstutjämning'!BD21+'Blad 6 Befolkningsförändringar'!BU27)*1000)*'Blad 3 Inkomstutjämning'!BD$37/100))),0))+('Blad 1 Totala intäkter'!BL16+'Blad 1 Totala intäkter'!BL18+'Blad 1 Totala intäkter'!BL20+'Blad 1 Totala intäkter'!BL22))*(BT7+BU27)/1000)","v":0},{"$f":"IF(ISERROR(((ROUND((((('Blad 3 Inkomstutjämning'!BE19-'Blad 3 Inkomstutjämning'!BE24/('Blad 3 Inkomstutjämning'!BE21+'Blad 6 Befolkningsförändringar'!BV27)*1000)*'Blad 3 Inkomstutjämning'!BE$37/100))),0))+('Blad 1 Totala intäkter'!BM16+'Blad 1 Totala intäkter'!BM18+'Blad 1 Totala intäkter'!BM20+'Blad 1 Totala intäkter'!BM22))*(BU7+BV27)/1000),0,((ROUND((((('Blad 3 Inkomstutjämning'!BE19-'Blad 3 Inkomstutjämning'!BE24/('Blad 3 Inkomstutjämning'!BE21+'Blad 6 Befolkningsförändringar'!BV27)*1000)*'Blad 3 Inkomstutjämning'!BE$37/100))),0))+('Blad 1 Totala intäkter'!BM16+'Blad 1 Totala intäkter'!BM18+'Blad 1 Totala intäkter'!BM20+'Blad 1 Totala intäkter'!BM22))*(BU7+BV27)/1000)","v":0},{"$f":"IF(ISERROR(((ROUND((((('Blad 3 Inkomstutjämning'!BF19-'Blad 3 Inkomstutjämning'!BF24/('Blad 3 Inkomstutjämning'!BF21+'Blad 6 Befolkningsförändringar'!BW27)*1000)*'Blad 3 Inkomstutjämning'!BF$37/100))),0))+('Blad 1 Totala intäkter'!BN16+'Blad 1 Totala intäkter'!BN18+'Blad 1 Totala intäkter'!BN20+'Blad 1 Totala intäkter'!BN22))*(BV7+BW27)/1000),0,((ROUND((((('Blad 3 Inkomstutjämning'!BF19-'Blad 3 Inkomstutjämning'!BF24/('Blad 3 Inkomstutjämning'!BF21+'Blad 6 Befolkningsförändringar'!BW27)*1000)*'Blad 3 Inkomstutjämning'!BF$37/100))),0))+('Blad 1 Totala intäkter'!BN16+'Blad 1 Totala intäkter'!BN18+'Blad 1 Totala intäkter'!BN20+'Blad 1 Totala intäkter'!BN22))*(BV7+BW27)/1000)","v":0},{"$f":"IF(ISERROR(((ROUND((((('Blad 3 Inkomstutjämning'!BG19-'Blad 3 Inkomstutjämning'!BG24/('Blad 3 Inkomstutjämning'!BG21+'Blad 6 Befolkningsförändringar'!BX27)*1000)*'Blad 3 Inkomstutjämning'!BG$37/100))),0))+('Blad 1 Totala intäkter'!BO16+'Blad 1 Totala intäkter'!BO18+'Blad 1 Totala intäkter'!BO20+'Blad 1 Totala intäkter'!BO22))*(BW7+BX27)/1000),0,((ROUND((((('Blad 3 Inkomstutjämning'!BG19-'Blad 3 Inkomstutjämning'!BG24/('Blad 3 Inkomstutjämning'!BG21+'Blad 6 Befolkningsförändringar'!BX27)*1000)*'Blad 3 Inkomstutjämning'!BG$37/100))),0))+('Blad 1 Totala intäkter'!BO16+'Blad 1 Totala intäkter'!BO18+'Blad 1 Totala intäkter'!BO20+'Blad 1 Totala intäkter'!BO22))*(BW7+BX27)/1000)","v":0},{"$f":"IF(ISERROR(((ROUND((((('Blad 3 Inkomstutjämning'!BH19-'Blad 3 Inkomstutjämning'!BH24/('Blad 3 Inkomstutjämning'!BH21+'Blad 6 Befolkningsförändringar'!BY27)*1000)*'Blad 3 Inkomstutjämning'!BH$37/100))),0))+('Blad 1 Totala intäkter'!BP16+'Blad 1 Totala intäkter'!BP18+'Blad 1 Totala intäkter'!BP20+'Blad 1 Totala intäkter'!BP22))*(BX7+BY27)/1000),0,((ROUND((((('Blad 3 Inkomstutjämning'!BH19-'Blad 3 Inkomstutjämning'!BH24/('Blad 3 Inkomstutjämning'!BH21+'Blad 6 Befolkningsförändringar'!BY27)*1000)*'Blad 3 Inkomstutjämning'!BH$37/100))),0))+('Blad 1 Totala intäkter'!BP16+'Blad 1 Totala intäkter'!BP18+'Blad 1 Totala intäkter'!BP20+'Blad 1 Totala intäkter'!BP22))*(BX7+BY27)/1000)","v":0},{"$f":"IF(ISERROR(((ROUND((((('Blad 3 Inkomstutjämning'!BI19-'Blad 3 Inkomstutjämning'!BI24/('Blad 3 Inkomstutjämning'!BI21+'Blad 6 Befolkningsförändringar'!BZ27)*1000)*'Blad 3 Inkomstutjämning'!BI$37/100))),0))+('Blad 1 Totala intäkter'!BQ16+'Blad 1 Totala intäkter'!BQ18+'Blad 1 Totala intäkter'!BQ20+'Blad 1 Totala intäkter'!BQ22))*(BY7+BZ27)/1000),0,((ROUND((((('Blad 3 Inkomstutjämning'!BI19-'Blad 3 Inkomstutjämning'!BI24/('Blad 3 Inkomstutjämning'!BI21+'Blad 6 Befolkningsförändringar'!BZ27)*1000)*'Blad 3 Inkomstutjämning'!BI$37/100))),0))+('Blad 1 Totala intäkter'!BQ16+'Blad 1 Totala intäkter'!BQ18+'Blad 1 Totala intäkter'!BQ20+'Blad 1 Totala intäkter'!BQ22))*(BY7+BZ27)/1000)","v":0},{"$f":"IF(ISERROR(((ROUND((((('Blad 3 Inkomstutjämning'!BJ19-'Blad 3 Inkomstutjämning'!BJ24/('Blad 3 Inkomstutjämning'!BJ21+'Blad 6 Befolkningsförändringar'!CA27)*1000)*'Blad 3 Inkomstutjämning'!BJ$37/100))),0))+('Blad 1 Totala intäkter'!BR16+'Blad 1 Totala intäkter'!BR18+'Blad 1 Totala intäkter'!BR20+'Blad 1 Totala intäkter'!BR22))*(BZ7+CA27)/1000),0,((ROUND((((('Blad 3 Inkomstutjämning'!BJ19-'Blad 3 Inkomstutjämning'!BJ24/('Blad 3 Inkomstutjämning'!BJ21+'Blad 6 Befolkningsförändringar'!CA27)*1000)*'Blad 3 Inkomstutjämning'!BJ$37/100))),0))+('Blad 1 Totala intäkter'!BR16+'Blad 1 Totala intäkter'!BR18+'Blad 1 Totala intäkter'!BR20+'Blad 1 Totala intäkter'!BR22))*(BZ7+CA27)/1000)","v":0},{"$f":"IF(ISERROR(((ROUND((((('Blad 3 Inkomstutjämning'!BK19-'Blad 3 Inkomstutjämning'!BK24/('Blad 3 Inkomstutjämning'!BK21+'Blad 6 Befolkningsförändringar'!CB27)*1000)*'Blad 3 Inkomstutjämning'!BK$37/100))),0))+('Blad 1 Totala intäkter'!BS16+'Blad 1 Totala intäkter'!BS18+'Blad 1 Totala intäkter'!BS20+'Blad 1 Totala intäkter'!BS22))*(CA7+CB27)/1000),0,((ROUND((((('Blad 3 Inkomstutjämning'!BK19-'Blad 3 Inkomstutjämning'!BK24/('Blad 3 Inkomstutjämning'!BK21+'Blad 6 Befolkningsförändringar'!CB27)*1000)*'Blad 3 Inkomstutjämning'!BK$37/100))),0))+('Blad 1 Totala intäkter'!BS16+'Blad 1 Totala intäkter'!BS18+'Blad 1 Totala intäkter'!BS20+'Blad 1 Totala intäkter'!BS22))*(CA7+CB27)/1000)","v":0},{"$f":"IF(ISERROR(((ROUND((((('Blad 3 Inkomstutjämning'!BL19-'Blad 3 Inkomstutjämning'!BL24/('Blad 3 Inkomstutjämning'!BL21+'Blad 6 Befolkningsförändringar'!CC27)*1000)*'Blad 3 Inkomstutjämning'!BL$37/100))),0))+('Blad 1 Totala intäkter'!BT16+'Blad 1 Totala intäkter'!BT18+'Blad 1 Totala intäkter'!BT20+'Blad 1 Totala intäkter'!BT22))*(CB7+CC27)/1000),0,((ROUND((((('Blad 3 Inkomstutjämning'!BL19-'Blad 3 Inkomstutjämning'!BL24/('Blad 3 Inkomstutjämning'!BL21+'Blad 6 Befolkningsförändringar'!CC27)*1000)*'Blad 3 Inkomstutjämning'!BL$37/100))),0))+('Blad 1 Totala intäkter'!BT16+'Blad 1 Totala intäkter'!BT18+'Blad 1 Totala intäkter'!BT20+'Blad 1 Totala intäkter'!BT22))*(CB7+CC27)/1000)","v":0},{"$f":"IF(ISERROR(((ROUND((((('Blad 3 Inkomstutjämning'!BM19-'Blad 3 Inkomstutjämning'!BM24/('Blad 3 Inkomstutjämning'!BM21+'Blad 6 Befolkningsförändringar'!CD27)*1000)*'Blad 3 Inkomstutjämning'!BM$37/100))),0))+('Blad 1 Totala intäkter'!BU16+'Blad 1 Totala intäkter'!BU18+'Blad 1 Totala intäkter'!BU20+'Blad 1 Totala intäkter'!BU22))*(CC7+CD27)/1000),0,((ROUND((((('Blad 3 Inkomstutjämning'!BM19-'Blad 3 Inkomstutjämning'!BM24/('Blad 3 Inkomstutjämning'!BM21+'Blad 6 Befolkningsförändringar'!CD27)*1000)*'Blad 3 Inkomstutjämning'!BM$37/100))),0))+('Blad 1 Totala intäkter'!BU16+'Blad 1 Totala intäkter'!BU18+'Blad 1 Totala intäkter'!BU20+'Blad 1 Totala intäkter'!BU22))*(CC7+CD27)/1000)","v":0},{"$f":"IF(ISERROR(((ROUND((((('Blad 3 Inkomstutjämning'!BN19-'Blad 3 Inkomstutjämning'!BN24/('Blad 3 Inkomstutjämning'!BN21+'Blad 6 Befolkningsförändringar'!CE27)*1000)*'Blad 3 Inkomstutjämning'!BN$37/100))),0))+('Blad 1 Totala intäkter'!BV16+'Blad 1 Totala intäkter'!BV18+'Blad 1 Totala intäkter'!BV20+'Blad 1 Totala intäkter'!BV22))*(CD7+CE27)/1000),0,((ROUND((((('Blad 3 Inkomstutjämning'!BN19-'Blad 3 Inkomstutjämning'!BN24/('Blad 3 Inkomstutjämning'!BN21+'Blad 6 Befolkningsförändringar'!CE27)*1000)*'Blad 3 Inkomstutjämning'!BN$37/100))),0))+('Blad 1 Totala intäkter'!BV16+'Blad 1 Totala intäkter'!BV18+'Blad 1 Totala intäkter'!BV20+'Blad 1 Totala intäkter'!BV22))*(CD7+CE27)/1000)","v":0},{"$f":"IF(ISERROR(((ROUND((((('Blad 3 Inkomstutjämning'!BO19-'Blad 3 Inkomstutjämning'!BO24/('Blad 3 Inkomstutjämning'!BO21+'Blad 6 Befolkningsförändringar'!CF27)*1000)*'Blad 3 Inkomstutjämning'!BO$37/100))),0))+('Blad 1 Totala intäkter'!BW16+'Blad 1 Totala intäkter'!BW18+'Blad 1 Totala intäkter'!BW20+'Blad 1 Totala intäkter'!BW22))*(CE7+CF27)/1000),0,((ROUND((((('Blad 3 Inkomstutjämning'!BO19-'Blad 3 Inkomstutjämning'!BO24/('Blad 3 Inkomstutjämning'!BO21+'Blad 6 Befolkningsförändringar'!CF27)*1000)*'Blad 3 Inkomstutjämning'!BO$37/100))),0))+('Blad 1 Totala intäkter'!BW16+'Blad 1 Totala intäkter'!BW18+'Blad 1 Totala intäkter'!BW20+'Blad 1 Totala intäkter'!BW22))*(CE7+CF27)/1000)","v":0},{"$f":"IF(ISERROR(((ROUND((((('Blad 3 Inkomstutjämning'!BP19-'Blad 3 Inkomstutjämning'!BP24/('Blad 3 Inkomstutjämning'!BP21+'Blad 6 Befolkningsförändringar'!CG27)*1000)*'Blad 3 Inkomstutjämning'!BP$37/100))),0))+('Blad 1 Totala intäkter'!BX16+'Blad 1 Totala intäkter'!BX18+'Blad 1 Totala intäkter'!BX20+'Blad 1 Totala intäkter'!BX22))*(CF7+CG27)/1000),0,((ROUND((((('Blad 3 Inkomstutjämning'!BP19-'Blad 3 Inkomstutjämning'!BP24/('Blad 3 Inkomstutjämning'!BP21+'Blad 6 Befolkningsförändringar'!CG27)*1000)*'Blad 3 Inkomstutjämning'!BP$37/100))),0))+('Blad 1 Totala intäkter'!BX16+'Blad 1 Totala intäkter'!BX18+'Blad 1 Totala intäkter'!BX20+'Blad 1 Totala intäkter'!BX22))*(CF7+CG27)/1000)","v":0},{"$f":"IF(ISERROR(((ROUND((((('Blad 3 Inkomstutjämning'!BQ19-'Blad 3 Inkomstutjämning'!BQ24/('Blad 3 Inkomstutjämning'!BQ21+'Blad 6 Befolkningsförändringar'!CH27)*1000)*'Blad 3 Inkomstutjämning'!BQ$37/100))),0))+('Blad 1 Totala intäkter'!BY16+'Blad 1 Totala intäkter'!BY18+'Blad 1 Totala intäkter'!BY20+'Blad 1 Totala intäkter'!BY22))*(CG7+CH27)/1000),0,((ROUND((((('Blad 3 Inkomstutjämning'!BQ19-'Blad 3 Inkomstutjämning'!BQ24/('Blad 3 Inkomstutjämning'!BQ21+'Blad 6 Befolkningsförändringar'!CH27)*1000)*'Blad 3 Inkomstutjämning'!BQ$37/100))),0))+('Blad 1 Totala intäkter'!BY16+'Blad 1 Totala intäkter'!BY18+'Blad 1 Totala intäkter'!BY20+'Blad 1 Totala intäkter'!BY22))*(CG7+CH27)/1000)","v":0},{"$f":"IF(ISERROR(((ROUND((((('Blad 3 Inkomstutjämning'!BR19-'Blad 3 Inkomstutjämning'!BR24/('Blad 3 Inkomstutjämning'!BR21+'Blad 6 Befolkningsförändringar'!CI27)*1000)*'Blad 3 Inkomstutjämning'!BR$37/100))),0))+('Blad 1 Totala intäkter'!BZ16+'Blad 1 Totala intäkter'!BZ18+'Blad 1 Totala intäkter'!BZ20+'Blad 1 Totala intäkter'!BZ22))*(CH7+CI27)/1000),0,((ROUND((((('Blad 3 Inkomstutjämning'!BR19-'Blad 3 Inkomstutjämning'!BR24/('Blad 3 Inkomstutjämning'!BR21+'Blad 6 Befolkningsförändringar'!CI27)*1000)*'Blad 3 Inkomstutjämning'!BR$37/100))),0))+('Blad 1 Totala intäkter'!BZ16+'Blad 1 Totala intäkter'!BZ18+'Blad 1 Totala intäkter'!BZ20+'Blad 1 Totala intäkter'!BZ22))*(CH7+CI27)/1000)","v":0},{"$f":"IF(ISERROR(((ROUND((((('Blad 3 Inkomstutjämning'!BS19-'Blad 3 Inkomstutjämning'!BS24/('Blad 3 Inkomstutjämning'!BS21+'Blad 6 Befolkningsförändringar'!CJ27)*1000)*'Blad 3 Inkomstutjämning'!BS$37/100))),0))+('Blad 1 Totala intäkter'!CA16+'Blad 1 Totala intäkter'!CA18+'Blad 1 Totala intäkter'!CA20+'Blad 1 Totala intäkter'!CA22))*(CI7+CJ27)/1000),0,((ROUND((((('Blad 3 Inkomstutjämning'!BS19-'Blad 3 Inkomstutjämning'!BS24/('Blad 3 Inkomstutjämning'!BS21+'Blad 6 Befolkningsförändringar'!CJ27)*1000)*'Blad 3 Inkomstutjämning'!BS$37/100))),0))+('Blad 1 Totala intäkter'!CA16+'Blad 1 Totala intäkter'!CA18+'Blad 1 Totala intäkter'!CA20+'Blad 1 Totala intäkter'!CA22))*(CI7+CJ27)/1000)","v":0},{"$f":"IF(ISERROR(((ROUND((((('Blad 3 Inkomstutjämning'!BT19-'Blad 3 Inkomstutjämning'!BT24/('Blad 3 Inkomstutjämning'!BT21+'Blad 6 Befolkningsförändringar'!CK27)*1000)*'Blad 3 Inkomstutjämning'!BT$37/100))),0))+('Blad 1 Totala intäkter'!CB16+'Blad 1 Totala intäkter'!CB18+'Blad 1 Totala intäkter'!CB20+'Blad 1 Totala intäkter'!CB22))*(CJ7+CK27)/1000),0,((ROUND((((('Blad 3 Inkomstutjämning'!BT19-'Blad 3 Inkomstutjämning'!BT24/('Blad 3 Inkomstutjämning'!BT21+'Blad 6 Befolkningsförändringar'!CK27)*1000)*'Blad 3 Inkomstutjämning'!BT$37/100))),0))+('Blad 1 Totala intäkter'!CB16+'Blad 1 Totala intäkter'!CB18+'Blad 1 Totala intäkter'!CB20+'Blad 1 Totala intäkter'!CB22))*(CJ7+CK27)/1000)","v":0},{"$f":"IF(ISERROR(((ROUND((((('Blad 3 Inkomstutjämning'!BU19-'Blad 3 Inkomstutjämning'!BU24/('Blad 3 Inkomstutjämning'!BU21+'Blad 6 Befolkningsförändringar'!CL27)*1000)*'Blad 3 Inkomstutjämning'!BU$37/100))),0))+('Blad 1 Totala intäkter'!CC16+'Blad 1 Totala intäkter'!CC18+'Blad 1 Totala intäkter'!CC20+'Blad 1 Totala intäkter'!CC22))*(CK7+CL27)/1000),0,((ROUND((((('Blad 3 Inkomstutjämning'!BU19-'Blad 3 Inkomstutjämning'!BU24/('Blad 3 Inkomstutjämning'!BU21+'Blad 6 Befolkningsförändringar'!CL27)*1000)*'Blad 3 Inkomstutjämning'!BU$37/100))),0))+('Blad 1 Totala intäkter'!CC16+'Blad 1 Totala intäkter'!CC18+'Blad 1 Totala intäkter'!CC20+'Blad 1 Totala intäkter'!CC22))*(CK7+CL27)/1000)","v":0},{"$f":"IF(ISERROR(((ROUND((((('Blad 3 Inkomstutjämning'!BV19-'Blad 3 Inkomstutjämning'!BV24/('Blad 3 Inkomstutjämning'!BV21+'Blad 6 Befolkningsförändringar'!CM27)*1000)*'Blad 3 Inkomstutjämning'!BV$37/100))),0))+('Blad 1 Totala intäkter'!CD16+'Blad 1 Totala intäkter'!CD18+'Blad 1 Totala intäkter'!CD20+'Blad 1 Totala intäkter'!CD22))*(CL7+CM27)/1000),0,((ROUND((((('Blad 3 Inkomstutjämning'!BV19-'Blad 3 Inkomstutjämning'!BV24/('Blad 3 Inkomstutjämning'!BV21+'Blad 6 Befolkningsförändringar'!CM27)*1000)*'Blad 3 Inkomstutjämning'!BV$37/100))),0))+('Blad 1 Totala intäkter'!CD16+'Blad 1 Totala intäkter'!CD18+'Blad 1 Totala intäkter'!CD20+'Blad 1 Totala intäkter'!CD22))*(CL7+CM27)/1000)","v":0},{"$f":"IF(ISERROR(((ROUND((((('Blad 3 Inkomstutjämning'!BW19-'Blad 3 Inkomstutjämning'!BW24/('Blad 3 Inkomstutjämning'!BW21+'Blad 6 Befolkningsförändringar'!CN27)*1000)*'Blad 3 Inkomstutjämning'!BW$37/100))),0))+('Blad 1 Totala intäkter'!CE16+'Blad 1 Totala intäkter'!CE18+'Blad 1 Totala intäkter'!CE20+'Blad 1 Totala intäkter'!CE22))*(CM7+CN27)/1000),0,((ROUND((((('Blad 3 Inkomstutjämning'!BW19-'Blad 3 Inkomstutjämning'!BW24/('Blad 3 Inkomstutjämning'!BW21+'Blad 6 Befolkningsförändringar'!CN27)*1000)*'Blad 3 Inkomstutjämning'!BW$37/100))),0))+('Blad 1 Totala intäkter'!CE16+'Blad 1 Totala intäkter'!CE18+'Blad 1 Totala intäkter'!CE20+'Blad 1 Totala intäkter'!CE22))*(CM7+CN27)/1000)","v":0},{"$f":"IF(ISERROR(((ROUND((((('Blad 3 Inkomstutjämning'!BX19-'Blad 3 Inkomstutjämning'!BX24/('Blad 3 Inkomstutjämning'!BX21+'Blad 6 Befolkningsförändringar'!CO27)*1000)*'Blad 3 Inkomstutjämning'!BX$37/100))),0))+('Blad 1 Totala intäkter'!CF16+'Blad 1 Totala intäkter'!CF18+'Blad 1 Totala intäkter'!CF20+'Blad 1 Totala intäkter'!CF22))*(CN7+CO27)/1000),0,((ROUND((((('Blad 3 Inkomstutjämning'!BX19-'Blad 3 Inkomstutjämning'!BX24/('Blad 3 Inkomstutjämning'!BX21+'Blad 6 Befolkningsförändringar'!CO27)*1000)*'Blad 3 Inkomstutjämning'!BX$37/100))),0))+('Blad 1 Totala intäkter'!CF16+'Blad 1 Totala intäkter'!CF18+'Blad 1 Totala intäkter'!CF20+'Blad 1 Totala intäkter'!CF22))*(CN7+CO27)/1000)","v":0},{"$f":"IF(ISERROR(((ROUND((((('Blad 3 Inkomstutjämning'!BY19-'Blad 3 Inkomstutjämning'!BY24/('Blad 3 Inkomstutjämning'!BY21+'Blad 6 Befolkningsförändringar'!CP27)*1000)*'Blad 3 Inkomstutjämning'!BY$37/100))),0))+('Blad 1 Totala intäkter'!CG16+'Blad 1 Totala intäkter'!CG18+'Blad 1 Totala intäkter'!CG20+'Blad 1 Totala intäkter'!CG22))*(CO7+CP27)/1000),0,((ROUND((((('Blad 3 Inkomstutjämning'!BY19-'Blad 3 Inkomstutjämning'!BY24/('Blad 3 Inkomstutjämning'!BY21+'Blad 6 Befolkningsförändringar'!CP27)*1000)*'Blad 3 Inkomstutjämning'!BY$37/100))),0))+('Blad 1 Totala intäkter'!CG16+'Blad 1 Totala intäkter'!CG18+'Blad 1 Totala intäkter'!CG20+'Blad 1 Totala intäkter'!CG22))*(CO7+CP27)/1000)","v":0},{"$f":"IF(ISERROR(((ROUND((((('Blad 3 Inkomstutjämning'!BZ19-'Blad 3 Inkomstutjämning'!BZ24/('Blad 3 Inkomstutjämning'!BZ21+'Blad 6 Befolkningsförändringar'!CQ27)*1000)*'Blad 3 Inkomstutjämning'!BZ$37/100))),0))+('Blad 1 Totala intäkter'!CH16+'Blad 1 Totala intäkter'!CH18+'Blad 1 Totala intäkter'!CH20+'Blad 1 Totala intäkter'!CH22))*(CP7+CQ27)/1000),0,((ROUND((((('Blad 3 Inkomstutjämning'!BZ19-'Blad 3 Inkomstutjämning'!BZ24/('Blad 3 Inkomstutjämning'!BZ21+'Blad 6 Befolkningsförändringar'!CQ27)*1000)*'Blad 3 Inkomstutjämning'!BZ$37/100))),0))+('Blad 1 Totala intäkter'!CH16+'Blad 1 Totala intäkter'!CH18+'Blad 1 Totala intäkter'!CH20+'Blad 1 Totala intäkter'!CH22))*(CP7+CQ27)/1000)","v":0},{"$f":"IF(ISERROR(((ROUND((((('Blad 3 Inkomstutjämning'!CA19-'Blad 3 Inkomstutjämning'!CA24/('Blad 3 Inkomstutjämning'!CA21+'Blad 6 Befolkningsförändringar'!CR27)*1000)*'Blad 3 Inkomstutjämning'!CA$37/100))),0))+('Blad 1 Totala intäkter'!CI16+'Blad 1 Totala intäkter'!CI18+'Blad 1 Totala intäkter'!CI20+'Blad 1 Totala intäkter'!CI22))*(CQ7+CR27)/1000),0,((ROUND((((('Blad 3 Inkomstutjämning'!CA19-'Blad 3 Inkomstutjämning'!CA24/('Blad 3 Inkomstutjämning'!CA21+'Blad 6 Befolkningsförändringar'!CR27)*1000)*'Blad 3 Inkomstutjämning'!CA$37/100))),0))+('Blad 1 Totala intäkter'!CI16+'Blad 1 Totala intäkter'!CI18+'Blad 1 Totala intäkter'!CI20+'Blad 1 Totala intäkter'!CI22))*(CQ7+CR27)/1000)","v":0},{"$f":"IF(ISERROR(((ROUND((((('Blad 3 Inkomstutjämning'!CB19-'Blad 3 Inkomstutjämning'!CB24/('Blad 3 Inkomstutjämning'!CB21+'Blad 6 Befolkningsförändringar'!CS27)*1000)*'Blad 3 Inkomstutjämning'!CB$37/100))),0))+('Blad 1 Totala intäkter'!CJ16+'Blad 1 Totala intäkter'!CJ18+'Blad 1 Totala intäkter'!CJ20+'Blad 1 Totala intäkter'!CJ22))*(CR7+CS27)/1000),0,((ROUND((((('Blad 3 Inkomstutjämning'!CB19-'Blad 3 Inkomstutjämning'!CB24/('Blad 3 Inkomstutjämning'!CB21+'Blad 6 Befolkningsförändringar'!CS27)*1000)*'Blad 3 Inkomstutjämning'!CB$37/100))),0))+('Blad 1 Totala intäkter'!CJ16+'Blad 1 Totala intäkter'!CJ18+'Blad 1 Totala intäkter'!CJ20+'Blad 1 Totala intäkter'!CJ22))*(CR7+CS27)/1000)","v":0},{"$f":"IF(ISERROR(((ROUND((((('Blad 3 Inkomstutjämning'!CC19-'Blad 3 Inkomstutjämning'!CC24/('Blad 3 Inkomstutjämning'!CC21+'Blad 6 Befolkningsförändringar'!CT27)*1000)*'Blad 3 Inkomstutjämning'!CC$37/100))),0))+('Blad 1 Totala intäkter'!CK16+'Blad 1 Totala intäkter'!CK18+'Blad 1 Totala intäkter'!CK20+'Blad 1 Totala intäkter'!CK22))*(CS7+CT27)/1000),0,((ROUND((((('Blad 3 Inkomstutjämning'!CC19-'Blad 3 Inkomstutjämning'!CC24/('Blad 3 Inkomstutjämning'!CC21+'Blad 6 Befolkningsförändringar'!CT27)*1000)*'Blad 3 Inkomstutjämning'!CC$37/100))),0))+('Blad 1 Totala intäkter'!CK16+'Blad 1 Totala intäkter'!CK18+'Blad 1 Totala intäkter'!CK20+'Blad 1 Totala intäkter'!CK22))*(CS7+CT27)/1000)","v":0},{"$f":"IF(ISERROR(((ROUND((((('Blad 3 Inkomstutjämning'!CD19-'Blad 3 Inkomstutjämning'!CD24/('Blad 3 Inkomstutjämning'!CD21+'Blad 6 Befolkningsförändringar'!CU27)*1000)*'Blad 3 Inkomstutjämning'!CD$37/100))),0))+('Blad 1 Totala intäkter'!CL16+'Blad 1 Totala intäkter'!CL18+'Blad 1 Totala intäkter'!CL20+'Blad 1 Totala intäkter'!CL22))*(CT7+CU27)/1000),0,((ROUND((((('Blad 3 Inkomstutjämning'!CD19-'Blad 3 Inkomstutjämning'!CD24/('Blad 3 Inkomstutjämning'!CD21+'Blad 6 Befolkningsförändringar'!CU27)*1000)*'Blad 3 Inkomstutjämning'!CD$37/100))),0))+('Blad 1 Totala intäkter'!CL16+'Blad 1 Totala intäkter'!CL18+'Blad 1 Totala intäkter'!CL20+'Blad 1 Totala intäkter'!CL22))*(CT7+CU27)/1000)","v":0},{"$f":"IF(ISERROR(((ROUND((((('Blad 3 Inkomstutjämning'!CE19-'Blad 3 Inkomstutjämning'!CE24/('Blad 3 Inkomstutjämning'!CE21+'Blad 6 Befolkningsförändringar'!CV27)*1000)*'Blad 3 Inkomstutjämning'!CE$37/100))),0))+('Blad 1 Totala intäkter'!CM16+'Blad 1 Totala intäkter'!CM18+'Blad 1 Totala intäkter'!CM20+'Blad 1 Totala intäkter'!CM22))*(CU7+CV27)/1000),0,((ROUND((((('Blad 3 Inkomstutjämning'!CE19-'Blad 3 Inkomstutjämning'!CE24/('Blad 3 Inkomstutjämning'!CE21+'Blad 6 Befolkningsförändringar'!CV27)*1000)*'Blad 3 Inkomstutjämning'!CE$37/100))),0))+('Blad 1 Totala intäkter'!CM16+'Blad 1 Totala intäkter'!CM18+'Blad 1 Totala intäkter'!CM20+'Blad 1 Totala intäkter'!CM22))*(CU7+CV27)/1000)","v":0},{"$f":"IF(ISERROR(((ROUND((((('Blad 3 Inkomstutjämning'!CF19-'Blad 3 Inkomstutjämning'!CF24/('Blad 3 Inkomstutjämning'!CF21+'Blad 6 Befolkningsförändringar'!CW27)*1000)*'Blad 3 Inkomstutjämning'!CF$37/100))),0))+('Blad 1 Totala intäkter'!CN16+'Blad 1 Totala intäkter'!CN18+'Blad 1 Totala intäkter'!CN20+'Blad 1 Totala intäkter'!CN22))*(CV7+CW27)/1000),0,((ROUND((((('Blad 3 Inkomstutjämning'!CF19-'Blad 3 Inkomstutjämning'!CF24/('Blad 3 Inkomstutjämning'!CF21+'Blad 6 Befolkningsförändringar'!CW27)*1000)*'Blad 3 Inkomstutjämning'!CF$37/100))),0))+('Blad 1 Totala intäkter'!CN16+'Blad 1 Totala intäkter'!CN18+'Blad 1 Totala intäkter'!CN20+'Blad 1 Totala intäkter'!CN22))*(CV7+CW27)/1000)","v":0},{"$f":"IF(ISERROR(((ROUND((((('Blad 3 Inkomstutjämning'!CG19-'Blad 3 Inkomstutjämning'!CG24/('Blad 3 Inkomstutjämning'!CG21+'Blad 6 Befolkningsförändringar'!CX27)*1000)*'Blad 3 Inkomstutjämning'!CG$37/100))),0))+('Blad 1 Totala intäkter'!CO16+'Blad 1 Totala intäkter'!CO18+'Blad 1 Totala intäkter'!CO20+'Blad 1 Totala intäkter'!CO22))*(CW7+CX27)/1000),0,((ROUND((((('Blad 3 Inkomstutjämning'!CG19-'Blad 3 Inkomstutjämning'!CG24/('Blad 3 Inkomstutjämning'!CG21+'Blad 6 Befolkningsförändringar'!CX27)*1000)*'Blad 3 Inkomstutjämning'!CG$37/100))),0))+('Blad 1 Totala intäkter'!CO16+'Blad 1 Totala intäkter'!CO18+'Blad 1 Totala intäkter'!CO20+'Blad 1 Totala intäkter'!CO22))*(CW7+CX27)/1000)","v":0},{"$f":"IF(ISERROR(((ROUND((((('Blad 3 Inkomstutjämning'!CH19-'Blad 3 Inkomstutjämning'!CH24/('Blad 3 Inkomstutjämning'!CH21+'Blad 6 Befolkningsförändringar'!CY27)*1000)*'Blad 3 Inkomstutjämning'!CH$37/100))),0))+('Blad 1 Totala intäkter'!CP16+'Blad 1 Totala intäkter'!CP18+'Blad 1 Totala intäkter'!CP20+'Blad 1 Totala intäkter'!CP22))*(CX7+CY27)/1000),0,((ROUND((((('Blad 3 Inkomstutjämning'!CH19-'Blad 3 Inkomstutjämning'!CH24/('Blad 3 Inkomstutjämning'!CH21+'Blad 6 Befolkningsförändringar'!CY27)*1000)*'Blad 3 Inkomstutjämning'!CH$37/100))),0))+('Blad 1 Totala intäkter'!CP16+'Blad 1 Totala intäkter'!CP18+'Blad 1 Totala intäkter'!CP20+'Blad 1 Totala intäkter'!CP22))*(CX7+CY27)/1000)","v":0},{"$f":"IF(ISERROR(((ROUND((((('Blad 3 Inkomstutjämning'!CI19-'Blad 3 Inkomstutjämning'!CI24/('Blad 3 Inkomstutjämning'!CI21+'Blad 6 Befolkningsförändringar'!CZ27)*1000)*'Blad 3 Inkomstutjämning'!CI$37/100))),0))+('Blad 1 Totala intäkter'!CQ16+'Blad 1 Totala intäkter'!CQ18+'Blad 1 Totala intäkter'!CQ20+'Blad 1 Totala intäkter'!CQ22))*(CY7+CZ27)/1000),0,((ROUND((((('Blad 3 Inkomstutjämning'!CI19-'Blad 3 Inkomstutjämning'!CI24/('Blad 3 Inkomstutjämning'!CI21+'Blad 6 Befolkningsförändringar'!CZ27)*1000)*'Blad 3 Inkomstutjämning'!CI$37/100))),0))+('Blad 1 Totala intäkter'!CQ16+'Blad 1 Totala intäkter'!CQ18+'Blad 1 Totala intäkter'!CQ20+'Blad 1 Totala intäkter'!CQ22))*(CY7+CZ27)/1000)","v":0},{"$f":"IF(ISERROR(((ROUND((((('Blad 3 Inkomstutjämning'!CJ19-'Blad 3 Inkomstutjämning'!CJ24/('Blad 3 Inkomstutjämning'!CJ21+'Blad 6 Befolkningsförändringar'!DA27)*1000)*'Blad 3 Inkomstutjämning'!CJ$37/100))),0))+('Blad 1 Totala intäkter'!CR16+'Blad 1 Totala intäkter'!CR18+'Blad 1 Totala intäkter'!CR20+'Blad 1 Totala intäkter'!CR22))*(CZ7+DA27)/1000),0,((ROUND((((('Blad 3 Inkomstutjämning'!CJ19-'Blad 3 Inkomstutjämning'!CJ24/('Blad 3 Inkomstutjämning'!CJ21+'Blad 6 Befolkningsförändringar'!DA27)*1000)*'Blad 3 Inkomstutjämning'!CJ$37/100))),0))+('Blad 1 Totala intäkter'!CR16+'Blad 1 Totala intäkter'!CR18+'Blad 1 Totala intäkter'!CR20+'Blad 1 Totala intäkter'!CR22))*(CZ7+DA27)/1000)","v":0},{"$f":"IF(ISERROR(((ROUND((((('Blad 3 Inkomstutjämning'!CK19-'Blad 3 Inkomstutjämning'!CK24/('Blad 3 Inkomstutjämning'!CK21+'Blad 6 Befolkningsförändringar'!DB27)*1000)*'Blad 3 Inkomstutjämning'!CK$37/100))),0))+('Blad 1 Totala intäkter'!CS16+'Blad 1 Totala intäkter'!CS18+'Blad 1 Totala intäkter'!CS20+'Blad 1 Totala intäkter'!CS22))*(DA7+DB27)/1000),0,((ROUND((((('Blad 3 Inkomstutjämning'!CK19-'Blad 3 Inkomstutjämning'!CK24/('Blad 3 Inkomstutjämning'!CK21+'Blad 6 Befolkningsförändringar'!DB27)*1000)*'Blad 3 Inkomstutjämning'!CK$37/100))),0))+('Blad 1 Totala intäkter'!CS16+'Blad 1 Totala intäkter'!CS18+'Blad 1 Totala intäkter'!CS20+'Blad 1 Totala intäkter'!CS22))*(DA7+DB27)/1000)","v":0},{"$f":"IF(ISERROR(((ROUND((((('Blad 3 Inkomstutjämning'!CL19-'Blad 3 Inkomstutjämning'!CL24/('Blad 3 Inkomstutjämning'!CL21+'Blad 6 Befolkningsförändringar'!DC27)*1000)*'Blad 3 Inkomstutjämning'!CL$37/100))),0))+('Blad 1 Totala intäkter'!CT16+'Blad 1 Totala intäkter'!CT18+'Blad 1 Totala intäkter'!CT20+'Blad 1 Totala intäkter'!CT22))*(DB7+DC27)/1000),0,((ROUND((((('Blad 3 Inkomstutjämning'!CL19-'Blad 3 Inkomstutjämning'!CL24/('Blad 3 Inkomstutjämning'!CL21+'Blad 6 Befolkningsförändringar'!DC27)*1000)*'Blad 3 Inkomstutjämning'!CL$37/100))),0))+('Blad 1 Totala intäkter'!CT16+'Blad 1 Totala intäkter'!CT18+'Blad 1 Totala intäkter'!CT20+'Blad 1 Totala intäkter'!CT22))*(DB7+DC27)/1000)","v":0},{"$f":"IF(ISERROR(((ROUND((((('Blad 3 Inkomstutjämning'!CM19-'Blad 3 Inkomstutjämning'!CM24/('Blad 3 Inkomstutjämning'!CM21+'Blad 6 Befolkningsförändringar'!DD27)*1000)*'Blad 3 Inkomstutjämning'!CM$37/100))),0))+('Blad 1 Totala intäkter'!CU16+'Blad 1 Totala intäkter'!CU18+'Blad 1 Totala intäkter'!CU20+'Blad 1 Totala intäkter'!CU22))*(DC7+DD27)/1000),0,((ROUND((((('Blad 3 Inkomstutjämning'!CM19-'Blad 3 Inkomstutjämning'!CM24/('Blad 3 Inkomstutjämning'!CM21+'Blad 6 Befolkningsförändringar'!DD27)*1000)*'Blad 3 Inkomstutjämning'!CM$37/100))),0))+('Blad 1 Totala intäkter'!CU16+'Blad 1 Totala intäkter'!CU18+'Blad 1 Totala intäkter'!CU20+'Blad 1 Totala intäkter'!CU22))*(DC7+DD27)/1000)","v":0},{"$f":"IF(ISERROR(((ROUND((((('Blad 3 Inkomstutjämning'!CN19-'Blad 3 Inkomstutjämning'!CN24/('Blad 3 Inkomstutjämning'!CN21+'Blad 6 Befolkningsförändringar'!DE27)*1000)*'Blad 3 Inkomstutjämning'!CN$37/100))),0))+('Blad 1 Totala intäkter'!CV16+'Blad 1 Totala intäkter'!CV18+'Blad 1 Totala intäkter'!CV20+'Blad 1 Totala intäkter'!CV22))*(DD7+DE27)/1000),0,((ROUND((((('Blad 3 Inkomstutjämning'!CN19-'Blad 3 Inkomstutjämning'!CN24/('Blad 3 Inkomstutjämning'!CN21+'Blad 6 Befolkningsförändringar'!DE27)*1000)*'Blad 3 Inkomstutjämning'!CN$37/100))),0))+('Blad 1 Totala intäkter'!CV16+'Blad 1 Totala intäkter'!CV18+'Blad 1 Totala intäkter'!CV20+'Blad 1 Totala intäkter'!CV22))*(DD7+DE27)/1000)","v":0},{"$f":"IF(ISERROR(((ROUND((((('Blad 3 Inkomstutjämning'!CO19-'Blad 3 Inkomstutjämning'!CO24/('Blad 3 Inkomstutjämning'!CO21+'Blad 6 Befolkningsförändringar'!DF27)*1000)*'Blad 3 Inkomstutjämning'!CO$37/100))),0))+('Blad 1 Totala intäkter'!CW16+'Blad 1 Totala intäkter'!CW18+'Blad 1 Totala intäkter'!CW20+'Blad 1 Totala intäkter'!CW22))*(DE7+DF27)/1000),0,((ROUND((((('Blad 3 Inkomstutjämning'!CO19-'Blad 3 Inkomstutjämning'!CO24/('Blad 3 Inkomstutjämning'!CO21+'Blad 6 Befolkningsförändringar'!DF27)*1000)*'Blad 3 Inkomstutjämning'!CO$37/100))),0))+('Blad 1 Totala intäkter'!CW16+'Blad 1 Totala intäkter'!CW18+'Blad 1 Totala intäkter'!CW20+'Blad 1 Totala intäkter'!CW22))*(DE7+DF27)/1000)","v":0},{"$f":"IF(ISERROR(((ROUND((((('Blad 3 Inkomstutjämning'!CP19-'Blad 3 Inkomstutjämning'!CP24/('Blad 3 Inkomstutjämning'!CP21+'Blad 6 Befolkningsförändringar'!DG27)*1000)*'Blad 3 Inkomstutjämning'!CP$37/100))),0))+('Blad 1 Totala intäkter'!CX16+'Blad 1 Totala intäkter'!CX18+'Blad 1 Totala intäkter'!CX20+'Blad 1 Totala intäkter'!CX22))*(DF7+DG27)/1000),0,((ROUND((((('Blad 3 Inkomstutjämning'!CP19-'Blad 3 Inkomstutjämning'!CP24/('Blad 3 Inkomstutjämning'!CP21+'Blad 6 Befolkningsförändringar'!DG27)*1000)*'Blad 3 Inkomstutjämning'!CP$37/100))),0))+('Blad 1 Totala intäkter'!CX16+'Blad 1 Totala intäkter'!CX18+'Blad 1 Totala intäkter'!CX20+'Blad 1 Totala intäkter'!CX22))*(DF7+DG27)/1000)","v":0},{"$f":"IF(ISERROR(((ROUND((((('Blad 3 Inkomstutjämning'!CQ19-'Blad 3 Inkomstutjämning'!CQ24/('Blad 3 Inkomstutjämning'!CQ21+'Blad 6 Befolkningsförändringar'!DH27)*1000)*'Blad 3 Inkomstutjämning'!CQ$37/100))),0))+('Blad 1 Totala intäkter'!CY16+'Blad 1 Totala intäkter'!CY18+'Blad 1 Totala intäkter'!CY20+'Blad 1 Totala intäkter'!CY22))*(DG7+DH27)/1000),0,((ROUND((((('Blad 3 Inkomstutjämning'!CQ19-'Blad 3 Inkomstutjämning'!CQ24/('Blad 3 Inkomstutjämning'!CQ21+'Blad 6 Befolkningsförändringar'!DH27)*1000)*'Blad 3 Inkomstutjämning'!CQ$37/100))),0))+('Blad 1 Totala intäkter'!CY16+'Blad 1 Totala intäkter'!CY18+'Blad 1 Totala intäkter'!CY20+'Blad 1 Totala intäkter'!CY22))*(DG7+DH27)/1000)","v":0},{"$f":"IF(ISERROR(((ROUND((((('Blad 3 Inkomstutjämning'!CR19-'Blad 3 Inkomstutjämning'!CR24/('Blad 3 Inkomstutjämning'!CR21+'Blad 6 Befolkningsförändringar'!DI27)*1000)*'Blad 3 Inkomstutjämning'!CR$37/100))),0))+('Blad 1 Totala intäkter'!CZ16+'Blad 1 Totala intäkter'!CZ18+'Blad 1 Totala intäkter'!CZ20+'Blad 1 Totala intäkter'!CZ22))*(DH7+DI27)/1000),0,((ROUND((((('Blad 3 Inkomstutjämning'!CR19-'Blad 3 Inkomstutjämning'!CR24/('Blad 3 Inkomstutjämning'!CR21+'Blad 6 Befolkningsförändringar'!DI27)*1000)*'Blad 3 Inkomstutjämning'!CR$37/100))),0))+('Blad 1 Totala intäkter'!CZ16+'Blad 1 Totala intäkter'!CZ18+'Blad 1 Totala intäkter'!CZ20+'Blad 1 Totala intäkter'!CZ22))*(DH7+DI27)/1000)","v":0},{"$f":"IF(ISERROR(((ROUND((((('Blad 3 Inkomstutjämning'!CS19-'Blad 3 Inkomstutjämning'!CS24/('Blad 3 Inkomstutjämning'!CS21+'Blad 6 Befolkningsförändringar'!DJ27)*1000)*'Blad 3 Inkomstutjämning'!CS$37/100))),0))+('Blad 1 Totala intäkter'!DA16+'Blad 1 Totala intäkter'!DA18+'Blad 1 Totala intäkter'!DA20+'Blad 1 Totala intäkter'!DA22))*(DI7+DJ27)/1000),0,((ROUND((((('Blad 3 Inkomstutjämning'!CS19-'Blad 3 Inkomstutjämning'!CS24/('Blad 3 Inkomstutjämning'!CS21+'Blad 6 Befolkningsförändringar'!DJ27)*1000)*'Blad 3 Inkomstutjämning'!CS$37/100))),0))+('Blad 1 Totala intäkter'!DA16+'Blad 1 Totala intäkter'!DA18+'Blad 1 Totala intäkter'!DA20+'Blad 1 Totala intäkter'!DA22))*(DI7+DJ27)/1000)","v":0},{"$f":"IF(ISERROR(((ROUND((((('Blad 3 Inkomstutjämning'!CT19-'Blad 3 Inkomstutjämning'!CT24/('Blad 3 Inkomstutjämning'!CT21+'Blad 6 Befolkningsförändringar'!DK27)*1000)*'Blad 3 Inkomstutjämning'!CT$37/100))),0))+('Blad 1 Totala intäkter'!DB16+'Blad 1 Totala intäkter'!DB18+'Blad 1 Totala intäkter'!DB20+'Blad 1 Totala intäkter'!DB22))*(DJ7+DK27)/1000),0,((ROUND((((('Blad 3 Inkomstutjämning'!CT19-'Blad 3 Inkomstutjämning'!CT24/('Blad 3 Inkomstutjämning'!CT21+'Blad 6 Befolkningsförändringar'!DK27)*1000)*'Blad 3 Inkomstutjämning'!CT$37/100))),0))+('Blad 1 Totala intäkter'!DB16+'Blad 1 Totala intäkter'!DB18+'Blad 1 Totala intäkter'!DB20+'Blad 1 Totala intäkter'!DB22))*(DJ7+DK27)/1000)","v":0},{"$f":"IF(ISERROR(((ROUND((((('Blad 3 Inkomstutjämning'!CU19-'Blad 3 Inkomstutjämning'!CU24/('Blad 3 Inkomstutjämning'!CU21+'Blad 6 Befolkningsförändringar'!DL27)*1000)*'Blad 3 Inkomstutjämning'!CU$37/100))),0))+('Blad 1 Totala intäkter'!DC16+'Blad 1 Totala intäkter'!DC18+'Blad 1 Totala intäkter'!DC20+'Blad 1 Totala intäkter'!DC22))*(DK7+DL27)/1000),0,((ROUND((((('Blad 3 Inkomstutjämning'!CU19-'Blad 3 Inkomstutjämning'!CU24/('Blad 3 Inkomstutjämning'!CU21+'Blad 6 Befolkningsförändringar'!DL27)*1000)*'Blad 3 Inkomstutjämning'!CU$37/100))),0))+('Blad 1 Totala intäkter'!DC16+'Blad 1 Totala intäkter'!DC18+'Blad 1 Totala intäkter'!DC20+'Blad 1 Totala intäkter'!DC22))*(DK7+DL27)/1000)","v":0},{"$f":"IF(ISERROR(((ROUND((((('Blad 3 Inkomstutjämning'!CV19-'Blad 3 Inkomstutjämning'!CV24/('Blad 3 Inkomstutjämning'!CV21+'Blad 6 Befolkningsförändringar'!DM27)*1000)*'Blad 3 Inkomstutjämning'!CV$37/100))),0))+('Blad 1 Totala intäkter'!DD16+'Blad 1 Totala intäkter'!DD18+'Blad 1 Totala intäkter'!DD20+'Blad 1 Totala intäkter'!DD22))*(DL7+DM27)/1000),0,((ROUND((((('Blad 3 Inkomstutjämning'!CV19-'Blad 3 Inkomstutjämning'!CV24/('Blad 3 Inkomstutjämning'!CV21+'Blad 6 Befolkningsförändringar'!DM27)*1000)*'Blad 3 Inkomstutjämning'!CV$37/100))),0))+('Blad 1 Totala intäkter'!DD16+'Blad 1 Totala intäkter'!DD18+'Blad 1 Totala intäkter'!DD20+'Blad 1 Totala intäkter'!DD22))*(DL7+DM27)/1000)","v":0},{"$f":"IF(ISERROR(((ROUND((((('Blad 3 Inkomstutjämning'!CW19-'Blad 3 Inkomstutjämning'!CW24/('Blad 3 Inkomstutjämning'!CW21+'Blad 6 Befolkningsförändringar'!DN27)*1000)*'Blad 3 Inkomstutjämning'!CW$37/100))),0))+('Blad 1 Totala intäkter'!DE16+'Blad 1 Totala intäkter'!DE18+'Blad 1 Totala intäkter'!DE20+'Blad 1 Totala intäkter'!DE22))*(DM7+DN27)/1000),0,((ROUND((((('Blad 3 Inkomstutjämning'!CW19-'Blad 3 Inkomstutjämning'!CW24/('Blad 3 Inkomstutjämning'!CW21+'Blad 6 Befolkningsförändringar'!DN27)*1000)*'Blad 3 Inkomstutjämning'!CW$37/100))),0))+('Blad 1 Totala intäkter'!DE16+'Blad 1 Totala intäkter'!DE18+'Blad 1 Totala intäkter'!DE20+'Blad 1 Totala intäkter'!DE22))*(DM7+DN27)/1000)","v":0},{"$f":"IF(ISERROR(((ROUND((((('Blad 3 Inkomstutjämning'!CX19-'Blad 3 Inkomstutjämning'!CX24/('Blad 3 Inkomstutjämning'!CX21+'Blad 6 Befolkningsförändringar'!DO27)*1000)*'Blad 3 Inkomstutjämning'!CX$37/100))),0))+('Blad 1 Totala intäkter'!DF16+'Blad 1 Totala intäkter'!DF18+'Blad 1 Totala intäkter'!DF20+'Blad 1 Totala intäkter'!DF22))*(DN7+DO27)/1000),0,((ROUND((((('Blad 3 Inkomstutjämning'!CX19-'Blad 3 Inkomstutjämning'!CX24/('Blad 3 Inkomstutjämning'!CX21+'Blad 6 Befolkningsförändringar'!DO27)*1000)*'Blad 3 Inkomstutjämning'!CX$37/100))),0))+('Blad 1 Totala intäkter'!DF16+'Blad 1 Totala intäkter'!DF18+'Blad 1 Totala intäkter'!DF20+'Blad 1 Totala intäkter'!DF22))*(DN7+DO27)/1000)","v":0},{"$f":"IF(ISERROR(((ROUND((((('Blad 3 Inkomstutjämning'!CY19-'Blad 3 Inkomstutjämning'!CY24/('Blad 3 Inkomstutjämning'!CY21+'Blad 6 Befolkningsförändringar'!DP27)*1000)*'Blad 3 Inkomstutjämning'!CY$37/100))),0))+('Blad 1 Totala intäkter'!DG16+'Blad 1 Totala intäkter'!DG18+'Blad 1 Totala intäkter'!DG20+'Blad 1 Totala intäkter'!DG22))*(DO7+DP27)/1000),0,((ROUND((((('Blad 3 Inkomstutjämning'!CY19-'Blad 3 Inkomstutjämning'!CY24/('Blad 3 Inkomstutjämning'!CY21+'Blad 6 Befolkningsförändringar'!DP27)*1000)*'Blad 3 Inkomstutjämning'!CY$37/100))),0))+('Blad 1 Totala intäkter'!DG16+'Blad 1 Totala intäkter'!DG18+'Blad 1 Totala intäkter'!DG20+'Blad 1 Totala intäkter'!DG22))*(DO7+DP27)/1000)","v":0},{"$f":"IF(ISERROR(((ROUND((((('Blad 3 Inkomstutjämning'!CZ19-'Blad 3 Inkomstutjämning'!CZ24/('Blad 3 Inkomstutjämning'!CZ21+'Blad 6 Befolkningsförändringar'!DQ27)*1000)*'Blad 3 Inkomstutjämning'!CZ$37/100))),0))+('Blad 1 Totala intäkter'!DH16+'Blad 1 Totala intäkter'!DH18+'Blad 1 Totala intäkter'!DH20+'Blad 1 Totala intäkter'!DH22))*(DP7+DQ27)/1000),0,((ROUND((((('Blad 3 Inkomstutjämning'!CZ19-'Blad 3 Inkomstutjämning'!CZ24/('Blad 3 Inkomstutjämning'!CZ21+'Blad 6 Befolkningsförändringar'!DQ27)*1000)*'Blad 3 Inkomstutjämning'!CZ$37/100))),0))+('Blad 1 Totala intäkter'!DH16+'Blad 1 Totala intäkter'!DH18+'Blad 1 Totala intäkter'!DH20+'Blad 1 Totala intäkter'!DH22))*(DP7+DQ27)/1000)","v":0},{"$f":"IF(ISERROR(((ROUND((((('Blad 3 Inkomstutjämning'!DA19-'Blad 3 Inkomstutjämning'!DA24/('Blad 3 Inkomstutjämning'!DA21+'Blad 6 Befolkningsförändringar'!DR27)*1000)*'Blad 3 Inkomstutjämning'!DA$37/100))),0))+('Blad 1 Totala intäkter'!DI16+'Blad 1 Totala intäkter'!DI18+'Blad 1 Totala intäkter'!DI20+'Blad 1 Totala intäkter'!DI22))*(DQ7+DR27)/1000),0,((ROUND((((('Blad 3 Inkomstutjämning'!DA19-'Blad 3 Inkomstutjämning'!DA24/('Blad 3 Inkomstutjämning'!DA21+'Blad 6 Befolkningsförändringar'!DR27)*1000)*'Blad 3 Inkomstutjämning'!DA$37/100))),0))+('Blad 1 Totala intäkter'!DI16+'Blad 1 Totala intäkter'!DI18+'Blad 1 Totala intäkter'!DI20+'Blad 1 Totala intäkter'!DI22))*(DQ7+DR27)/1000)","v":0},{"$f":"IF(ISERROR(((ROUND((((('Blad 3 Inkomstutjämning'!DB19-'Blad 3 Inkomstutjämning'!DB24/('Blad 3 Inkomstutjämning'!DB21+'Blad 6 Befolkningsförändringar'!DS27)*1000)*'Blad 3 Inkomstutjämning'!DB$37/100))),0))+('Blad 1 Totala intäkter'!DJ16+'Blad 1 Totala intäkter'!DJ18+'Blad 1 Totala intäkter'!DJ20+'Blad 1 Totala intäkter'!DJ22))*(DR7+DS27)/1000),0,((ROUND((((('Blad 3 Inkomstutjämning'!DB19-'Blad 3 Inkomstutjämning'!DB24/('Blad 3 Inkomstutjämning'!DB21+'Blad 6 Befolkningsförändringar'!DS27)*1000)*'Blad 3 Inkomstutjämning'!DB$37/100))),0))+('Blad 1 Totala intäkter'!DJ16+'Blad 1 Totala intäkter'!DJ18+'Blad 1 Totala intäkter'!DJ20+'Blad 1 Totala intäkter'!DJ22))*(DR7+DS27)/1000)","v":0},{"$f":"IF(ISERROR(((ROUND((((('Blad 3 Inkomstutjämning'!DC19-'Blad 3 Inkomstutjämning'!DC24/('Blad 3 Inkomstutjämning'!DC21+'Blad 6 Befolkningsförändringar'!DT27)*1000)*'Blad 3 Inkomstutjämning'!DC$37/100))),0))+('Blad 1 Totala intäkter'!DK16+'Blad 1 Totala intäkter'!DK18+'Blad 1 Totala intäkter'!DK20+'Blad 1 Totala intäkter'!DK22))*(DS7+DT27)/1000),0,((ROUND((((('Blad 3 Inkomstutjämning'!DC19-'Blad 3 Inkomstutjämning'!DC24/('Blad 3 Inkomstutjämning'!DC21+'Blad 6 Befolkningsförändringar'!DT27)*1000)*'Blad 3 Inkomstutjämning'!DC$37/100))),0))+('Blad 1 Totala intäkter'!DK16+'Blad 1 Totala intäkter'!DK18+'Blad 1 Totala intäkter'!DK20+'Blad 1 Totala intäkter'!DK22))*(DS7+DT27)/1000)","v":0},{"$f":"IF(ISERROR(((ROUND((((('Blad 3 Inkomstutjämning'!DD19-'Blad 3 Inkomstutjämning'!DD24/('Blad 3 Inkomstutjämning'!DD21+'Blad 6 Befolkningsförändringar'!DU27)*1000)*'Blad 3 Inkomstutjämning'!DD$37/100))),0))+('Blad 1 Totala intäkter'!DL16+'Blad 1 Totala intäkter'!DL18+'Blad 1 Totala intäkter'!DL20+'Blad 1 Totala intäkter'!DL22))*(DT7+DU27)/1000),0,((ROUND((((('Blad 3 Inkomstutjämning'!DD19-'Blad 3 Inkomstutjämning'!DD24/('Blad 3 Inkomstutjämning'!DD21+'Blad 6 Befolkningsförändringar'!DU27)*1000)*'Blad 3 Inkomstutjämning'!DD$37/100))),0))+('Blad 1 Totala intäkter'!DL16+'Blad 1 Totala intäkter'!DL18+'Blad 1 Totala intäkter'!DL20+'Blad 1 Totala intäkter'!DL22))*(DT7+DU27)/1000)","v":0},{"$f":"IF(ISERROR(((ROUND((((('Blad 3 Inkomstutjämning'!DE19-'Blad 3 Inkomstutjämning'!DE24/('Blad 3 Inkomstutjämning'!DE21+'Blad 6 Befolkningsförändringar'!DV27)*1000)*'Blad 3 Inkomstutjämning'!DE$37/100))),0))+('Blad 1 Totala intäkter'!DM16+'Blad 1 Totala intäkter'!DM18+'Blad 1 Totala intäkter'!DM20+'Blad 1 Totala intäkter'!DM22))*(DU7+DV27)/1000),0,((ROUND((((('Blad 3 Inkomstutjämning'!DE19-'Blad 3 Inkomstutjämning'!DE24/('Blad 3 Inkomstutjämning'!DE21+'Blad 6 Befolkningsförändringar'!DV27)*1000)*'Blad 3 Inkomstutjämning'!DE$37/100))),0))+('Blad 1 Totala intäkter'!DM16+'Blad 1 Totala intäkter'!DM18+'Blad 1 Totala intäkter'!DM20+'Blad 1 Totala intäkter'!DM22))*(DU7+DV27)/1000)","v":0},{"$f":"IF(ISERROR(((ROUND((((('Blad 3 Inkomstutjämning'!DF19-'Blad 3 Inkomstutjämning'!DF24/('Blad 3 Inkomstutjämning'!DF21+'Blad 6 Befolkningsförändringar'!DW27)*1000)*'Blad 3 Inkomstutjämning'!DF$37/100))),0))+('Blad 1 Totala intäkter'!DN16+'Blad 1 Totala intäkter'!DN18+'Blad 1 Totala intäkter'!DN20+'Blad 1 Totala intäkter'!DN22))*(DV7+DW27)/1000),0,((ROUND((((('Blad 3 Inkomstutjämning'!DF19-'Blad 3 Inkomstutjämning'!DF24/('Blad 3 Inkomstutjämning'!DF21+'Blad 6 Befolkningsförändringar'!DW27)*1000)*'Blad 3 Inkomstutjämning'!DF$37/100))),0))+('Blad 1 Totala intäkter'!DN16+'Blad 1 Totala intäkter'!DN18+'Blad 1 Totala intäkter'!DN20+'Blad 1 Totala intäkter'!DN22))*(DV7+DW27)/1000)","v":0},{"$f":"IF(ISERROR(((ROUND((((('Blad 3 Inkomstutjämning'!DG19-'Blad 3 Inkomstutjämning'!DG24/('Blad 3 Inkomstutjämning'!DG21+'Blad 6 Befolkningsförändringar'!DX27)*1000)*'Blad 3 Inkomstutjämning'!DG$37/100))),0))+('Blad 1 Totala intäkter'!DO16+'Blad 1 Totala intäkter'!DO18+'Blad 1 Totala intäkter'!DO20+'Blad 1 Totala intäkter'!DO22))*(DW7+DX27)/1000),0,((ROUND((((('Blad 3 Inkomstutjämning'!DG19-'Blad 3 Inkomstutjämning'!DG24/('Blad 3 Inkomstutjämning'!DG21+'Blad 6 Befolkningsförändringar'!DX27)*1000)*'Blad 3 Inkomstutjämning'!DG$37/100))),0))+('Blad 1 Totala intäkter'!DO16+'Blad 1 Totala intäkter'!DO18+'Blad 1 Totala intäkter'!DO20+'Blad 1 Totala intäkter'!DO22))*(DW7+DX27)/1000)","v":0},{"$f":"IF(ISERROR(((ROUND((((('Blad 3 Inkomstutjämning'!DH19-'Blad 3 Inkomstutjämning'!DH24/('Blad 3 Inkomstutjämning'!DH21+'Blad 6 Befolkningsförändringar'!DY27)*1000)*'Blad 3 Inkomstutjämning'!DH$37/100))),0))+('Blad 1 Totala intäkter'!DP16+'Blad 1 Totala intäkter'!DP18+'Blad 1 Totala intäkter'!DP20+'Blad 1 Totala intäkter'!DP22))*(DX7+DY27)/1000),0,((ROUND((((('Blad 3 Inkomstutjämning'!DH19-'Blad 3 Inkomstutjämning'!DH24/('Blad 3 Inkomstutjämning'!DH21+'Blad 6 Befolkningsförändringar'!DY27)*1000)*'Blad 3 Inkomstutjämning'!DH$37/100))),0))+('Blad 1 Totala intäkter'!DP16+'Blad 1 Totala intäkter'!DP18+'Blad 1 Totala intäkter'!DP20+'Blad 1 Totala intäkter'!DP22))*(DX7+DY27)/1000)","v":0},{"$f":"IF(ISERROR(((ROUND((((('Blad 3 Inkomstutjämning'!DI19-'Blad 3 Inkomstutjämning'!DI24/('Blad 3 Inkomstutjämning'!DI21+'Blad 6 Befolkningsförändringar'!DZ27)*1000)*'Blad 3 Inkomstutjämning'!DI$37/100))),0))+('Blad 1 Totala intäkter'!DQ16+'Blad 1 Totala intäkter'!DQ18+'Blad 1 Totala intäkter'!DQ20+'Blad 1 Totala intäkter'!DQ22))*(DY7+DZ27)/1000),0,((ROUND((((('Blad 3 Inkomstutjämning'!DI19-'Blad 3 Inkomstutjämning'!DI24/('Blad 3 Inkomstutjämning'!DI21+'Blad 6 Befolkningsförändringar'!DZ27)*1000)*'Blad 3 Inkomstutjämning'!DI$37/100))),0))+('Blad 1 Totala intäkter'!DQ16+'Blad 1 Totala intäkter'!DQ18+'Blad 1 Totala intäkter'!DQ20+'Blad 1 Totala intäkter'!DQ22))*(DY7+DZ27)/1000)","v":0},{"$f":"IF(ISERROR(((ROUND((((('Blad 3 Inkomstutjämning'!DJ19-'Blad 3 Inkomstutjämning'!DJ24/('Blad 3 Inkomstutjämning'!DJ21+'Blad 6 Befolkningsförändringar'!EA27)*1000)*'Blad 3 Inkomstutjämning'!DJ$37/100))),0))+('Blad 1 Totala intäkter'!DR16+'Blad 1 Totala intäkter'!DR18+'Blad 1 Totala intäkter'!DR20+'Blad 1 Totala intäkter'!DR22))*(DZ7+EA27)/1000),0,((ROUND((((('Blad 3 Inkomstutjämning'!DJ19-'Blad 3 Inkomstutjämning'!DJ24/('Blad 3 Inkomstutjämning'!DJ21+'Blad 6 Befolkningsförändringar'!EA27)*1000)*'Blad 3 Inkomstutjämning'!DJ$37/100))),0))+('Blad 1 Totala intäkter'!DR16+'Blad 1 Totala intäkter'!DR18+'Blad 1 Totala intäkter'!DR20+'Blad 1 Totala intäkter'!DR22))*(DZ7+EA27)/1000)","v":0},{"$f":"IF(ISERROR(((ROUND((((('Blad 3 Inkomstutjämning'!DK19-'Blad 3 Inkomstutjämning'!DK24/('Blad 3 Inkomstutjämning'!DK21+'Blad 6 Befolkningsförändringar'!EB27)*1000)*'Blad 3 Inkomstutjämning'!DK$37/100))),0))+('Blad 1 Totala intäkter'!DS16+'Blad 1 Totala intäkter'!DS18+'Blad 1 Totala intäkter'!DS20+'Blad 1 Totala intäkter'!DS22))*(EA7+EB27)/1000),0,((ROUND((((('Blad 3 Inkomstutjämning'!DK19-'Blad 3 Inkomstutjämning'!DK24/('Blad 3 Inkomstutjämning'!DK21+'Blad 6 Befolkningsförändringar'!EB27)*1000)*'Blad 3 Inkomstutjämning'!DK$37/100))),0))+('Blad 1 Totala intäkter'!DS16+'Blad 1 Totala intäkter'!DS18+'Blad 1 Totala intäkter'!DS20+'Blad 1 Totala intäkter'!DS22))*(EA7+EB27)/1000)","v":0},{"$f":"IF(ISERROR(((ROUND((((('Blad 3 Inkomstutjämning'!DL19-'Blad 3 Inkomstutjämning'!DL24/('Blad 3 Inkomstutjämning'!DL21+'Blad 6 Befolkningsförändringar'!EC27)*1000)*'Blad 3 Inkomstutjämning'!DL$37/100))),0))+('Blad 1 Totala intäkter'!DT16+'Blad 1 Totala intäkter'!DT18+'Blad 1 Totala intäkter'!DT20+'Blad 1 Totala intäkter'!DT22))*(EB7+EC27)/1000),0,((ROUND((((('Blad 3 Inkomstutjämning'!DL19-'Blad 3 Inkomstutjämning'!DL24/('Blad 3 Inkomstutjämning'!DL21+'Blad 6 Befolkningsförändringar'!EC27)*1000)*'Blad 3 Inkomstutjämning'!DL$37/100))),0))+('Blad 1 Totala intäkter'!DT16+'Blad 1 Totala intäkter'!DT18+'Blad 1 Totala intäkter'!DT20+'Blad 1 Totala intäkter'!DT22))*(EB7+EC27)/1000)","v":0},{"$f":"IF(ISERROR(((ROUND((((('Blad 3 Inkomstutjämning'!DM19-'Blad 3 Inkomstutjämning'!DM24/('Blad 3 Inkomstutjämning'!DM21+'Blad 6 Befolkningsförändringar'!ED27)*1000)*'Blad 3 Inkomstutjämning'!DM$37/100))),0))+('Blad 1 Totala intäkter'!DU16+'Blad 1 Totala intäkter'!DU18+'Blad 1 Totala intäkter'!DU20+'Blad 1 Totala intäkter'!DU22))*(EC7+ED27)/1000),0,((ROUND((((('Blad 3 Inkomstutjämning'!DM19-'Blad 3 Inkomstutjämning'!DM24/('Blad 3 Inkomstutjämning'!DM21+'Blad 6 Befolkningsförändringar'!ED27)*1000)*'Blad 3 Inkomstutjämning'!DM$37/100))),0))+('Blad 1 Totala intäkter'!DU16+'Blad 1 Totala intäkter'!DU18+'Blad 1 Totala intäkter'!DU20+'Blad 1 Totala intäkter'!DU22))*(EC7+ED27)/1000)","v":0},{"$f":"IF(ISERROR(((ROUND((((('Blad 3 Inkomstutjämning'!DN19-'Blad 3 Inkomstutjämning'!DN24/('Blad 3 Inkomstutjämning'!DN21+'Blad 6 Befolkningsförändringar'!EE27)*1000)*'Blad 3 Inkomstutjämning'!DN$37/100))),0))+('Blad 1 Totala intäkter'!DV16+'Blad 1 Totala intäkter'!DV18+'Blad 1 Totala intäkter'!DV20+'Blad 1 Totala intäkter'!DV22))*(ED7+EE27)/1000),0,((ROUND((((('Blad 3 Inkomstutjämning'!DN19-'Blad 3 Inkomstutjämning'!DN24/('Blad 3 Inkomstutjämning'!DN21+'Blad 6 Befolkningsförändringar'!EE27)*1000)*'Blad 3 Inkomstutjämning'!DN$37/100))),0))+('Blad 1 Totala intäkter'!DV16+'Blad 1 Totala intäkter'!DV18+'Blad 1 Totala intäkter'!DV20+'Blad 1 Totala intäkter'!DV22))*(ED7+EE27)/1000)","v":0},{"$f":"IF(ISERROR(((ROUND((((('Blad 3 Inkomstutjämning'!DO19-'Blad 3 Inkomstutjämning'!DO24/('Blad 3 Inkomstutjämning'!DO21+'Blad 6 Befolkningsförändringar'!EF27)*1000)*'Blad 3 Inkomstutjämning'!DO$37/100))),0))+('Blad 1 Totala intäkter'!DW16+'Blad 1 Totala intäkter'!DW18+'Blad 1 Totala intäkter'!DW20+'Blad 1 Totala intäkter'!DW22))*(EE7+EF27)/1000),0,((ROUND((((('Blad 3 Inkomstutjämning'!DO19-'Blad 3 Inkomstutjämning'!DO24/('Blad 3 Inkomstutjämning'!DO21+'Blad 6 Befolkningsförändringar'!EF27)*1000)*'Blad 3 Inkomstutjämning'!DO$37/100))),0))+('Blad 1 Totala intäkter'!DW16+'Blad 1 Totala intäkter'!DW18+'Blad 1 Totala intäkter'!DW20+'Blad 1 Totala intäkter'!DW22))*(EE7+EF27)/1000)","v":0},{"$f":"IF(ISERROR(((ROUND((((('Blad 3 Inkomstutjämning'!DP19-'Blad 3 Inkomstutjämning'!DP24/('Blad 3 Inkomstutjämning'!DP21+'Blad 6 Befolkningsförändringar'!EG27)*1000)*'Blad 3 Inkomstutjämning'!DP$37/100))),0))+('Blad 1 Totala intäkter'!DX16+'Blad 1 Totala intäkter'!DX18+'Blad 1 Totala intäkter'!DX20+'Blad 1 Totala intäkter'!DX22))*(EF7+EG27)/1000),0,((ROUND((((('Blad 3 Inkomstutjämning'!DP19-'Blad 3 Inkomstutjämning'!DP24/('Blad 3 Inkomstutjämning'!DP21+'Blad 6 Befolkningsförändringar'!EG27)*1000)*'Blad 3 Inkomstutjämning'!DP$37/100))),0))+('Blad 1 Totala intäkter'!DX16+'Blad 1 Totala intäkter'!DX18+'Blad 1 Totala intäkter'!DX20+'Blad 1 Totala intäkter'!DX22))*(EF7+EG27)/1000)","v":0},{"$f":"IF(ISERROR(((ROUND((((('Blad 3 Inkomstutjämning'!DQ19-'Blad 3 Inkomstutjämning'!DQ24/('Blad 3 Inkomstutjämning'!DQ21+'Blad 6 Befolkningsförändringar'!EH27)*1000)*'Blad 3 Inkomstutjämning'!DQ$37/100))),0))+('Blad 1 Totala intäkter'!DY16+'Blad 1 Totala intäkter'!DY18+'Blad 1 Totala intäkter'!DY20+'Blad 1 Totala intäkter'!DY22))*(EG7+EH27)/1000),0,((ROUND((((('Blad 3 Inkomstutjämning'!DQ19-'Blad 3 Inkomstutjämning'!DQ24/('Blad 3 Inkomstutjämning'!DQ21+'Blad 6 Befolkningsförändringar'!EH27)*1000)*'Blad 3 Inkomstutjämning'!DQ$37/100))),0))+('Blad 1 Totala intäkter'!DY16+'Blad 1 Totala intäkter'!DY18+'Blad 1 Totala intäkter'!DY20+'Blad 1 Totala intäkter'!DY22))*(EG7+EH27)/1000)","v":0},{"$f":"IF(ISERROR(((ROUND((((('Blad 3 Inkomstutjämning'!DR19-'Blad 3 Inkomstutjämning'!DR24/('Blad 3 Inkomstutjämning'!DR21+'Blad 6 Befolkningsförändringar'!EI27)*1000)*'Blad 3 Inkomstutjämning'!DR$37/100))),0))+('Blad 1 Totala intäkter'!DZ16+'Blad 1 Totala intäkter'!DZ18+'Blad 1 Totala intäkter'!DZ20+'Blad 1 Totala intäkter'!DZ22))*(EH7+EI27)/1000),0,((ROUND((((('Blad 3 Inkomstutjämning'!DR19-'Blad 3 Inkomstutjämning'!DR24/('Blad 3 Inkomstutjämning'!DR21+'Blad 6 Befolkningsförändringar'!EI27)*1000)*'Blad 3 Inkomstutjämning'!DR$37/100))),0))+('Blad 1 Totala intäkter'!DZ16+'Blad 1 Totala intäkter'!DZ18+'Blad 1 Totala intäkter'!DZ20+'Blad 1 Totala intäkter'!DZ22))*(EH7+EI27)/1000)","v":0},{"$f":"IF(ISERROR(((ROUND((((('Blad 3 Inkomstutjämning'!DS19-'Blad 3 Inkomstutjämning'!DS24/('Blad 3 Inkomstutjämning'!DS21+'Blad 6 Befolkningsförändringar'!EJ27)*1000)*'Blad 3 Inkomstutjämning'!DS$37/100))),0))+('Blad 1 Totala intäkter'!EA16+'Blad 1 Totala intäkter'!EA18+'Blad 1 Totala intäkter'!EA20+'Blad 1 Totala intäkter'!EA22))*(EI7+EJ27)/1000),0,((ROUND((((('Blad 3 Inkomstutjämning'!DS19-'Blad 3 Inkomstutjämning'!DS24/('Blad 3 Inkomstutjämning'!DS21+'Blad 6 Befolkningsförändringar'!EJ27)*1000)*'Blad 3 Inkomstutjämning'!DS$37/100))),0))+('Blad 1 Totala intäkter'!EA16+'Blad 1 Totala intäkter'!EA18+'Blad 1 Totala intäkter'!EA20+'Blad 1 Totala intäkter'!EA22))*(EI7+EJ27)/1000)","v":0},{"$f":"IF(ISERROR(((ROUND((((('Blad 3 Inkomstutjämning'!DT19-'Blad 3 Inkomstutjämning'!DT24/('Blad 3 Inkomstutjämning'!DT21+'Blad 6 Befolkningsförändringar'!EK27)*1000)*'Blad 3 Inkomstutjämning'!DT$37/100))),0))+('Blad 1 Totala intäkter'!EB16+'Blad 1 Totala intäkter'!EB18+'Blad 1 Totala intäkter'!EB20+'Blad 1 Totala intäkter'!EB22))*(EJ7+EK27)/1000),0,((ROUND((((('Blad 3 Inkomstutjämning'!DT19-'Blad 3 Inkomstutjämning'!DT24/('Blad 3 Inkomstutjämning'!DT21+'Blad 6 Befolkningsförändringar'!EK27)*1000)*'Blad 3 Inkomstutjämning'!DT$37/100))),0))+('Blad 1 Totala intäkter'!EB16+'Blad 1 Totala intäkter'!EB18+'Blad 1 Totala intäkter'!EB20+'Blad 1 Totala intäkter'!EB22))*(EJ7+EK27)/1000)","v":0},{"$f":"IF(ISERROR(((ROUND((((('Blad 3 Inkomstutjämning'!DU19-'Blad 3 Inkomstutjämning'!DU24/('Blad 3 Inkomstutjämning'!DU21+'Blad 6 Befolkningsförändringar'!EL27)*1000)*'Blad 3 Inkomstutjämning'!DU$37/100))),0))+('Blad 1 Totala intäkter'!EC16+'Blad 1 Totala intäkter'!EC18+'Blad 1 Totala intäkter'!EC20+'Blad 1 Totala intäkter'!EC22))*(EK7+EL27)/1000),0,((ROUND((((('Blad 3 Inkomstutjämning'!DU19-'Blad 3 Inkomstutjämning'!DU24/('Blad 3 Inkomstutjämning'!DU21+'Blad 6 Befolkningsförändringar'!EL27)*1000)*'Blad 3 Inkomstutjämning'!DU$37/100))),0))+('Blad 1 Totala intäkter'!EC16+'Blad 1 Totala intäkter'!EC18+'Blad 1 Totala intäkter'!EC20+'Blad 1 Totala intäkter'!EC22))*(EK7+EL27)/1000)","v":0},{"$f":"IF(ISERROR(((ROUND((((('Blad 3 Inkomstutjämning'!DV19-'Blad 3 Inkomstutjämning'!DV24/('Blad 3 Inkomstutjämning'!DV21+'Blad 6 Befolkningsförändringar'!EM27)*1000)*'Blad 3 Inkomstutjämning'!DV$37/100))),0))+('Blad 1 Totala intäkter'!ED16+'Blad 1 Totala intäkter'!ED18+'Blad 1 Totala intäkter'!ED20+'Blad 1 Totala intäkter'!ED22))*(EL7+EM27)/1000),0,((ROUND((((('Blad 3 Inkomstutjämning'!DV19-'Blad 3 Inkomstutjämning'!DV24/('Blad 3 Inkomstutjämning'!DV21+'Blad 6 Befolkningsförändringar'!EM27)*1000)*'Blad 3 Inkomstutjämning'!DV$37/100))),0))+('Blad 1 Totala intäkter'!ED16+'Blad 1 Totala intäkter'!ED18+'Blad 1 Totala intäkter'!ED20+'Blad 1 Totala intäkter'!ED22))*(EL7+EM27)/1000)","v":0},{"$f":"IF(ISERROR(((ROUND((((('Blad 3 Inkomstutjämning'!DW19-'Blad 3 Inkomstutjämning'!DW24/('Blad 3 Inkomstutjämning'!DW21+'Blad 6 Befolkningsförändringar'!EN27)*1000)*'Blad 3 Inkomstutjämning'!DW$37/100))),0))+('Blad 1 Totala intäkter'!EE16+'Blad 1 Totala intäkter'!EE18+'Blad 1 Totala intäkter'!EE20+'Blad 1 Totala intäkter'!EE22))*(EM7+EN27)/1000),0,((ROUND((((('Blad 3 Inkomstutjämning'!DW19-'Blad 3 Inkomstutjämning'!DW24/('Blad 3 Inkomstutjämning'!DW21+'Blad 6 Befolkningsförändringar'!EN27)*1000)*'Blad 3 Inkomstutjämning'!DW$37/100))),0))+('Blad 1 Totala intäkter'!EE16+'Blad 1 Totala intäkter'!EE18+'Blad 1 Totala intäkter'!EE20+'Blad 1 Totala intäkter'!EE22))*(EM7+EN27)/1000)","v":0},{"$f":"IF(ISERROR(((ROUND((((('Blad 3 Inkomstutjämning'!DX19-'Blad 3 Inkomstutjämning'!DX24/('Blad 3 Inkomstutjämning'!DX21+'Blad 6 Befolkningsförändringar'!EO27)*1000)*'Blad 3 Inkomstutjämning'!DX$37/100))),0))+('Blad 1 Totala intäkter'!EF16+'Blad 1 Totala intäkter'!EF18+'Blad 1 Totala intäkter'!EF20+'Blad 1 Totala intäkter'!EF22))*(EN7+EO27)/1000),0,((ROUND((((('Blad 3 Inkomstutjämning'!DX19-'Blad 3 Inkomstutjämning'!DX24/('Blad 3 Inkomstutjämning'!DX21+'Blad 6 Befolkningsförändringar'!EO27)*1000)*'Blad 3 Inkomstutjämning'!DX$37/100))),0))+('Blad 1 Totala intäkter'!EF16+'Blad 1 Totala intäkter'!EF18+'Blad 1 Totala intäkter'!EF20+'Blad 1 Totala intäkter'!EF22))*(EN7+EO27)/1000)","v":0},{"$f":"IF(ISERROR(((ROUND((((('Blad 3 Inkomstutjämning'!DY19-'Blad 3 Inkomstutjämning'!DY24/('Blad 3 Inkomstutjämning'!DY21+'Blad 6 Befolkningsförändringar'!EP27)*1000)*'Blad 3 Inkomstutjämning'!DY$37/100))),0))+('Blad 1 Totala intäkter'!EG16+'Blad 1 Totala intäkter'!EG18+'Blad 1 Totala intäkter'!EG20+'Blad 1 Totala intäkter'!EG22))*(EO7+EP27)/1000),0,((ROUND((((('Blad 3 Inkomstutjämning'!DY19-'Blad 3 Inkomstutjämning'!DY24/('Blad 3 Inkomstutjämning'!DY21+'Blad 6 Befolkningsförändringar'!EP27)*1000)*'Blad 3 Inkomstutjämning'!DY$37/100))),0))+('Blad 1 Totala intäkter'!EG16+'Blad 1 Totala intäkter'!EG18+'Blad 1 Totala intäkter'!EG20+'Blad 1 Totala intäkter'!EG22))*(EO7+EP27)/1000)","v":0},{"$f":"IF(ISERROR(((ROUND((((('Blad 3 Inkomstutjämning'!DZ19-'Blad 3 Inkomstutjämning'!DZ24/('Blad 3 Inkomstutjämning'!DZ21+'Blad 6 Befolkningsförändringar'!EQ27)*1000)*'Blad 3 Inkomstutjämning'!DZ$37/100))),0))+('Blad 1 Totala intäkter'!EH16+'Blad 1 Totala intäkter'!EH18+'Blad 1 Totala intäkter'!EH20+'Blad 1 Totala intäkter'!EH22))*(EP7+EQ27)/1000),0,((ROUND((((('Blad 3 Inkomstutjämning'!DZ19-'Blad 3 Inkomstutjämning'!DZ24/('Blad 3 Inkomstutjämning'!DZ21+'Blad 6 Befolkningsförändringar'!EQ27)*1000)*'Blad 3 Inkomstutjämning'!DZ$37/100))),0))+('Blad 1 Totala intäkter'!EH16+'Blad 1 Totala intäkter'!EH18+'Blad 1 Totala intäkter'!EH20+'Blad 1 Totala intäkter'!EH22))*(EP7+EQ27)/1000)","v":0},{"$f":"IF(ISERROR(((ROUND((((('Blad 3 Inkomstutjämning'!EA19-'Blad 3 Inkomstutjämning'!EA24/('Blad 3 Inkomstutjämning'!EA21+'Blad 6 Befolkningsförändringar'!ER27)*1000)*'Blad 3 Inkomstutjämning'!EA$37/100))),0))+('Blad 1 Totala intäkter'!EI16+'Blad 1 Totala intäkter'!EI18+'Blad 1 Totala intäkter'!EI20+'Blad 1 Totala intäkter'!EI22))*(EQ7+ER27)/1000),0,((ROUND((((('Blad 3 Inkomstutjämning'!EA19-'Blad 3 Inkomstutjämning'!EA24/('Blad 3 Inkomstutjämning'!EA21+'Blad 6 Befolkningsförändringar'!ER27)*1000)*'Blad 3 Inkomstutjämning'!EA$37/100))),0))+('Blad 1 Totala intäkter'!EI16+'Blad 1 Totala intäkter'!EI18+'Blad 1 Totala intäkter'!EI20+'Blad 1 Totala intäkter'!EI22))*(EQ7+ER27)/1000)","v":0},{"$f":"IF(ISERROR(((ROUND((((('Blad 3 Inkomstutjämning'!EB19-'Blad 3 Inkomstutjämning'!EB24/('Blad 3 Inkomstutjämning'!EB21+'Blad 6 Befolkningsförändringar'!ES27)*1000)*'Blad 3 Inkomstutjämning'!EB$37/100))),0))+('Blad 1 Totala intäkter'!EJ16+'Blad 1 Totala intäkter'!EJ18+'Blad 1 Totala intäkter'!EJ20+'Blad 1 Totala intäkter'!EJ22))*(ER7+ES27)/1000),0,((ROUND((((('Blad 3 Inkomstutjämning'!EB19-'Blad 3 Inkomstutjämning'!EB24/('Blad 3 Inkomstutjämning'!EB21+'Blad 6 Befolkningsförändringar'!ES27)*1000)*'Blad 3 Inkomstutjämning'!EB$37/100))),0))+('Blad 1 Totala intäkter'!EJ16+'Blad 1 Totala intäkter'!EJ18+'Blad 1 Totala intäkter'!EJ20+'Blad 1 Totala intäkter'!EJ22))*(ER7+ES27)/1000)","v":0},{"$f":"IF(ISERROR(((ROUND((((('Blad 3 Inkomstutjämning'!EC19-'Blad 3 Inkomstutjämning'!EC24/('Blad 3 Inkomstutjämning'!EC21+'Blad 6 Befolkningsförändringar'!ET27)*1000)*'Blad 3 Inkomstutjämning'!EC$37/100))),0))+('Blad 1 Totala intäkter'!EK16+'Blad 1 Totala intäkter'!EK18+'Blad 1 Totala intäkter'!EK20+'Blad 1 Totala intäkter'!EK22))*(ES7+ET27)/1000),0,((ROUND((((('Blad 3 Inkomstutjämning'!EC19-'Blad 3 Inkomstutjämning'!EC24/('Blad 3 Inkomstutjämning'!EC21+'Blad 6 Befolkningsförändringar'!ET27)*1000)*'Blad 3 Inkomstutjämning'!EC$37/100))),0))+('Blad 1 Totala intäkter'!EK16+'Blad 1 Totala intäkter'!EK18+'Blad 1 Totala intäkter'!EK20+'Blad 1 Totala intäkter'!EK22))*(ES7+ET27)/1000)","v":0},{"$f":"IF(ISERROR(((ROUND((((('Blad 3 Inkomstutjämning'!ED19-'Blad 3 Inkomstutjämning'!ED24/('Blad 3 Inkomstutjämning'!ED21+'Blad 6 Befolkningsförändringar'!EU27)*1000)*'Blad 3 Inkomstutjämning'!ED$37/100))),0))+('Blad 1 Totala intäkter'!EL16+'Blad 1 Totala intäkter'!EL18+'Blad 1 Totala intäkter'!EL20+'Blad 1 Totala intäkter'!EL22))*(ET7+EU27)/1000),0,((ROUND((((('Blad 3 Inkomstutjämning'!ED19-'Blad 3 Inkomstutjämning'!ED24/('Blad 3 Inkomstutjämning'!ED21+'Blad 6 Befolkningsförändringar'!EU27)*1000)*'Blad 3 Inkomstutjämning'!ED$37/100))),0))+('Blad 1 Totala intäkter'!EL16+'Blad 1 Totala intäkter'!EL18+'Blad 1 Totala intäkter'!EL20+'Blad 1 Totala intäkter'!EL22))*(ET7+EU27)/1000)","v":0},{"$f":"IF(ISERROR(((ROUND((((('Blad 3 Inkomstutjämning'!EE19-'Blad 3 Inkomstutjämning'!EE24/('Blad 3 Inkomstutjämning'!EE21+'Blad 6 Befolkningsförändringar'!EV27)*1000)*'Blad 3 Inkomstutjämning'!EE$37/100))),0))+('Blad 1 Totala intäkter'!EM16+'Blad 1 Totala intäkter'!EM18+'Blad 1 Totala intäkter'!EM20+'Blad 1 Totala intäkter'!EM22))*(EU7+EV27)/1000),0,((ROUND((((('Blad 3 Inkomstutjämning'!EE19-'Blad 3 Inkomstutjämning'!EE24/('Blad 3 Inkomstutjämning'!EE21+'Blad 6 Befolkningsförändringar'!EV27)*1000)*'Blad 3 Inkomstutjämning'!EE$37/100))),0))+('Blad 1 Totala intäkter'!EM16+'Blad 1 Totala intäkter'!EM18+'Blad 1 Totala intäkter'!EM20+'Blad 1 Totala intäkter'!EM22))*(EU7+EV27)/1000)","v":0},{"$f":"IF(ISERROR(((ROUND((((('Blad 3 Inkomstutjämning'!EF19-'Blad 3 Inkomstutjämning'!EF24/('Blad 3 Inkomstutjämning'!EF21+'Blad 6 Befolkningsförändringar'!EW27)*1000)*'Blad 3 Inkomstutjämning'!EF$37/100))),0))+('Blad 1 Totala intäkter'!EN16+'Blad 1 Totala intäkter'!EN18+'Blad 1 Totala intäkter'!EN20+'Blad 1 Totala intäkter'!EN22))*(EV7+EW27)/1000),0,((ROUND((((('Blad 3 Inkomstutjämning'!EF19-'Blad 3 Inkomstutjämning'!EF24/('Blad 3 Inkomstutjämning'!EF21+'Blad 6 Befolkningsförändringar'!EW27)*1000)*'Blad 3 Inkomstutjämning'!EF$37/100))),0))+('Blad 1 Totala intäkter'!EN16+'Blad 1 Totala intäkter'!EN18+'Blad 1 Totala intäkter'!EN20+'Blad 1 Totala intäkter'!EN22))*(EV7+EW27)/1000)","v":0},{"$f":"IF(ISERROR(((ROUND((((('Blad 3 Inkomstutjämning'!EG19-'Blad 3 Inkomstutjämning'!EG24/('Blad 3 Inkomstutjämning'!EG21+'Blad 6 Befolkningsförändringar'!EX27)*1000)*'Blad 3 Inkomstutjämning'!EG$37/100))),0))+('Blad 1 Totala intäkter'!EO16+'Blad 1 Totala intäkter'!EO18+'Blad 1 Totala intäkter'!EO20+'Blad 1 Totala intäkter'!EO22))*(EW7+EX27)/1000),0,((ROUND((((('Blad 3 Inkomstutjämning'!EG19-'Blad 3 Inkomstutjämning'!EG24/('Blad 3 Inkomstutjämning'!EG21+'Blad 6 Befolkningsförändringar'!EX27)*1000)*'Blad 3 Inkomstutjämning'!EG$37/100))),0))+('Blad 1 Totala intäkter'!EO16+'Blad 1 Totala intäkter'!EO18+'Blad 1 Totala intäkter'!EO20+'Blad 1 Totala intäkter'!EO22))*(EW7+EX27)/1000)","v":0},{"$f":"IF(ISERROR(((ROUND((((('Blad 3 Inkomstutjämning'!EH19-'Blad 3 Inkomstutjämning'!EH24/('Blad 3 Inkomstutjämning'!EH21+'Blad 6 Befolkningsförändringar'!EY27)*1000)*'Blad 3 Inkomstutjämning'!EH$37/100))),0))+('Blad 1 Totala intäkter'!EP16+'Blad 1 Totala intäkter'!EP18+'Blad 1 Totala intäkter'!EP20+'Blad 1 Totala intäkter'!EP22))*(EX7+EY27)/1000),0,((ROUND((((('Blad 3 Inkomstutjämning'!EH19-'Blad 3 Inkomstutjämning'!EH24/('Blad 3 Inkomstutjämning'!EH21+'Blad 6 Befolkningsförändringar'!EY27)*1000)*'Blad 3 Inkomstutjämning'!EH$37/100))),0))+('Blad 1 Totala intäkter'!EP16+'Blad 1 Totala intäkter'!EP18+'Blad 1 Totala intäkter'!EP20+'Blad 1 Totala intäkter'!EP22))*(EX7+EY27)/1000)","v":0},{"$f":"IF(ISERROR(((ROUND((((('Blad 3 Inkomstutjämning'!EI19-'Blad 3 Inkomstutjämning'!EI24/('Blad 3 Inkomstutjämning'!EI21+'Blad 6 Befolkningsförändringar'!EZ27)*1000)*'Blad 3 Inkomstutjämning'!EI$37/100))),0))+('Blad 1 Totala intäkter'!EQ16+'Blad 1 Totala intäkter'!EQ18+'Blad 1 Totala intäkter'!EQ20+'Blad 1 Totala intäkter'!EQ22))*(EY7+EZ27)/1000),0,((ROUND((((('Blad 3 Inkomstutjämning'!EI19-'Blad 3 Inkomstutjämning'!EI24/('Blad 3 Inkomstutjämning'!EI21+'Blad 6 Befolkningsförändringar'!EZ27)*1000)*'Blad 3 Inkomstutjämning'!EI$37/100))),0))+('Blad 1 Totala intäkter'!EQ16+'Blad 1 Totala intäkter'!EQ18+'Blad 1 Totala intäkter'!EQ20+'Blad 1 Totala intäkter'!EQ22))*(EY7+EZ27)/1000)","v":0},{"$f":"IF(ISERROR(((ROUND((((('Blad 3 Inkomstutjämning'!EJ19-'Blad 3 Inkomstutjämning'!EJ24/('Blad 3 Inkomstutjämning'!EJ21+'Blad 6 Befolkningsförändringar'!FA27)*1000)*'Blad 3 Inkomstutjämning'!EJ$37/100))),0))+('Blad 1 Totala intäkter'!ER16+'Blad 1 Totala intäkter'!ER18+'Blad 1 Totala intäkter'!ER20+'Blad 1 Totala intäkter'!ER22))*(EZ7+FA27)/1000),0,((ROUND((((('Blad 3 Inkomstutjämning'!EJ19-'Blad 3 Inkomstutjämning'!EJ24/('Blad 3 Inkomstutjämning'!EJ21+'Blad 6 Befolkningsförändringar'!FA27)*1000)*'Blad 3 Inkomstutjämning'!EJ$37/100))),0))+('Blad 1 Totala intäkter'!ER16+'Blad 1 Totala intäkter'!ER18+'Blad 1 Totala intäkter'!ER20+'Blad 1 Totala intäkter'!ER22))*(EZ7+FA27)/1000)","v":0},{"$f":"IF(ISERROR(((ROUND((((('Blad 3 Inkomstutjämning'!EK19-'Blad 3 Inkomstutjämning'!EK24/('Blad 3 Inkomstutjämning'!EK21+'Blad 6 Befolkningsförändringar'!FB27)*1000)*'Blad 3 Inkomstutjämning'!EK$37/100))),0))+('Blad 1 Totala intäkter'!ES16+'Blad 1 Totala intäkter'!ES18+'Blad 1 Totala intäkter'!ES20+'Blad 1 Totala intäkter'!ES22))*(FA7+FB27)/1000),0,((ROUND((((('Blad 3 Inkomstutjämning'!EK19-'Blad 3 Inkomstutjämning'!EK24/('Blad 3 Inkomstutjämning'!EK21+'Blad 6 Befolkningsförändringar'!FB27)*1000)*'Blad 3 Inkomstutjämning'!EK$37/100))),0))+('Blad 1 Totala intäkter'!ES16+'Blad 1 Totala intäkter'!ES18+'Blad 1 Totala intäkter'!ES20+'Blad 1 Totala intäkter'!ES22))*(FA7+FB27)/1000)","v":0},{"$f":"IF(ISERROR(((ROUND((((('Blad 3 Inkomstutjämning'!EL19-'Blad 3 Inkomstutjämning'!EL24/('Blad 3 Inkomstutjämning'!EL21+'Blad 6 Befolkningsförändringar'!FC27)*1000)*'Blad 3 Inkomstutjämning'!EL$37/100))),0))+('Blad 1 Totala intäkter'!ET16+'Blad 1 Totala intäkter'!ET18+'Blad 1 Totala intäkter'!ET20+'Blad 1 Totala intäkter'!ET22))*(FB7+FC27)/1000),0,((ROUND((((('Blad 3 Inkomstutjämning'!EL19-'Blad 3 Inkomstutjämning'!EL24/('Blad 3 Inkomstutjämning'!EL21+'Blad 6 Befolkningsförändringar'!FC27)*1000)*'Blad 3 Inkomstutjämning'!EL$37/100))),0))+('Blad 1 Totala intäkter'!ET16+'Blad 1 Totala intäkter'!ET18+'Blad 1 Totala intäkter'!ET20+'Blad 1 Totala intäkter'!ET22))*(FB7+FC27)/1000)","v":0},{"$f":"IF(ISERROR(((ROUND((((('Blad 3 Inkomstutjämning'!EM19-'Blad 3 Inkomstutjämning'!EM24/('Blad 3 Inkomstutjämning'!EM21+'Blad 6 Befolkningsförändringar'!FD27)*1000)*'Blad 3 Inkomstutjämning'!EM$37/100))),0))+('Blad 1 Totala intäkter'!EU16+'Blad 1 Totala intäkter'!EU18+'Blad 1 Totala intäkter'!EU20+'Blad 1 Totala intäkter'!EU22))*(FC7+FD27)/1000),0,((ROUND((((('Blad 3 Inkomstutjämning'!EM19-'Blad 3 Inkomstutjämning'!EM24/('Blad 3 Inkomstutjämning'!EM21+'Blad 6 Befolkningsförändringar'!FD27)*1000)*'Blad 3 Inkomstutjämning'!EM$37/100))),0))+('Blad 1 Totala intäkter'!EU16+'Blad 1 Totala intäkter'!EU18+'Blad 1 Totala intäkter'!EU20+'Blad 1 Totala intäkter'!EU22))*(FC7+FD27)/1000)","v":0},{"$f":"IF(ISERROR(((ROUND((((('Blad 3 Inkomstutjämning'!EN19-'Blad 3 Inkomstutjämning'!EN24/('Blad 3 Inkomstutjämning'!EN21+'Blad 6 Befolkningsförändringar'!FE27)*1000)*'Blad 3 Inkomstutjämning'!EN$37/100))),0))+('Blad 1 Totala intäkter'!EV16+'Blad 1 Totala intäkter'!EV18+'Blad 1 Totala intäkter'!EV20+'Blad 1 Totala intäkter'!EV22))*(FD7+FE27)/1000),0,((ROUND((((('Blad 3 Inkomstutjämning'!EN19-'Blad 3 Inkomstutjämning'!EN24/('Blad 3 Inkomstutjämning'!EN21+'Blad 6 Befolkningsförändringar'!FE27)*1000)*'Blad 3 Inkomstutjämning'!EN$37/100))),0))+('Blad 1 Totala intäkter'!EV16+'Blad 1 Totala intäkter'!EV18+'Blad 1 Totala intäkter'!EV20+'Blad 1 Totala intäkter'!EV22))*(FD7+FE27)/1000)","v":0},{"$f":"IF(ISERROR(((ROUND((((('Blad 3 Inkomstutjämning'!EO19-'Blad 3 Inkomstutjämning'!EO24/('Blad 3 Inkomstutjämning'!EO21+'Blad 6 Befolkningsförändringar'!FF27)*1000)*'Blad 3 Inkomstutjämning'!EO$37/100))),0))+('Blad 1 Totala intäkter'!EW16+'Blad 1 Totala intäkter'!EW18+'Blad 1 Totala intäkter'!EW20+'Blad 1 Totala intäkter'!EW22))*(FE7+FF27)/1000),0,((ROUND((((('Blad 3 Inkomstutjämning'!EO19-'Blad 3 Inkomstutjämning'!EO24/('Blad 3 Inkomstutjämning'!EO21+'Blad 6 Befolkningsförändringar'!FF27)*1000)*'Blad 3 Inkomstutjämning'!EO$37/100))),0))+('Blad 1 Totala intäkter'!EW16+'Blad 1 Totala intäkter'!EW18+'Blad 1 Totala intäkter'!EW20+'Blad 1 Totala intäkter'!EW22))*(FE7+FF27)/1000)","v":0},{"$f":"IF(ISERROR(((ROUND((((('Blad 3 Inkomstutjämning'!EP19-'Blad 3 Inkomstutjämning'!EP24/('Blad 3 Inkomstutjämning'!EP21+'Blad 6 Befolkningsförändringar'!FG27)*1000)*'Blad 3 Inkomstutjämning'!EP$37/100))),0))+('Blad 1 Totala intäkter'!EX16+'Blad 1 Totala intäkter'!EX18+'Blad 1 Totala intäkter'!EX20+'Blad 1 Totala intäkter'!EX22))*(FF7+FG27)/1000),0,((ROUND((((('Blad 3 Inkomstutjämning'!EP19-'Blad 3 Inkomstutjämning'!EP24/('Blad 3 Inkomstutjämning'!EP21+'Blad 6 Befolkningsförändringar'!FG27)*1000)*'Blad 3 Inkomstutjämning'!EP$37/100))),0))+('Blad 1 Totala intäkter'!EX16+'Blad 1 Totala intäkter'!EX18+'Blad 1 Totala intäkter'!EX20+'Blad 1 Totala intäkter'!EX22))*(FF7+FG27)/1000)","v":0},{"$f":"IF(ISERROR(((ROUND((((('Blad 3 Inkomstutjämning'!EQ19-'Blad 3 Inkomstutjämning'!EQ24/('Blad 3 Inkomstutjämning'!EQ21+'Blad 6 Befolkningsförändringar'!FH27)*1000)*'Blad 3 Inkomstutjämning'!EQ$37/100))),0))+('Blad 1 Totala intäkter'!EY16+'Blad 1 Totala intäkter'!EY18+'Blad 1 Totala intäkter'!EY20+'Blad 1 Totala intäkter'!EY22))*(FG7+FH27)/1000),0,((ROUND((((('Blad 3 Inkomstutjämning'!EQ19-'Blad 3 Inkomstutjämning'!EQ24/('Blad 3 Inkomstutjämning'!EQ21+'Blad 6 Befolkningsförändringar'!FH27)*1000)*'Blad 3 Inkomstutjämning'!EQ$37/100))),0))+('Blad 1 Totala intäkter'!EY16+'Blad 1 Totala intäkter'!EY18+'Blad 1 Totala intäkter'!EY20+'Blad 1 Totala intäkter'!EY22))*(FG7+FH27)/1000)","v":0},{"$f":"IF(ISERROR(((ROUND((((('Blad 3 Inkomstutjämning'!ER19-'Blad 3 Inkomstutjämning'!ER24/('Blad 3 Inkomstutjämning'!ER21+'Blad 6 Befolkningsförändringar'!FI27)*1000)*'Blad 3 Inkomstutjämning'!ER$37/100))),0))+('Blad 1 Totala intäkter'!EZ16+'Blad 1 Totala intäkter'!EZ18+'Blad 1 Totala intäkter'!EZ20+'Blad 1 Totala intäkter'!EZ22))*(FH7+FI27)/1000),0,((ROUND((((('Blad 3 Inkomstutjämning'!ER19-'Blad 3 Inkomstutjämning'!ER24/('Blad 3 Inkomstutjämning'!ER21+'Blad 6 Befolkningsförändringar'!FI27)*1000)*'Blad 3 Inkomstutjämning'!ER$37/100))),0))+('Blad 1 Totala intäkter'!EZ16+'Blad 1 Totala intäkter'!EZ18+'Blad 1 Totala intäkter'!EZ20+'Blad 1 Totala intäkter'!EZ22))*(FH7+FI27)/1000)","v":0},{"$f":"IF(ISERROR(((ROUND((((('Blad 3 Inkomstutjämning'!ES19-'Blad 3 Inkomstutjämning'!ES24/('Blad 3 Inkomstutjämning'!ES21+'Blad 6 Befolkningsförändringar'!FJ27)*1000)*'Blad 3 Inkomstutjämning'!ES$37/100))),0))+('Blad 1 Totala intäkter'!FA16+'Blad 1 Totala intäkter'!FA18+'Blad 1 Totala intäkter'!FA20+'Blad 1 Totala intäkter'!FA22))*(FI7+FJ27)/1000),0,((ROUND((((('Blad 3 Inkomstutjämning'!ES19-'Blad 3 Inkomstutjämning'!ES24/('Blad 3 Inkomstutjämning'!ES21+'Blad 6 Befolkningsförändringar'!FJ27)*1000)*'Blad 3 Inkomstutjämning'!ES$37/100))),0))+('Blad 1 Totala intäkter'!FA16+'Blad 1 Totala intäkter'!FA18+'Blad 1 Totala intäkter'!FA20+'Blad 1 Totala intäkter'!FA22))*(FI7+FJ27)/1000)","v":0},{"$f":"IF(ISERROR(((ROUND((((('Blad 3 Inkomstutjämning'!ET19-'Blad 3 Inkomstutjämning'!ET24/('Blad 3 Inkomstutjämning'!ET21+'Blad 6 Befolkningsförändringar'!FK27)*1000)*'Blad 3 Inkomstutjämning'!ET$37/100))),0))+('Blad 1 Totala intäkter'!FB16+'Blad 1 Totala intäkter'!FB18+'Blad 1 Totala intäkter'!FB20+'Blad 1 Totala intäkter'!FB22))*(FJ7+FK27)/1000),0,((ROUND((((('Blad 3 Inkomstutjämning'!ET19-'Blad 3 Inkomstutjämning'!ET24/('Blad 3 Inkomstutjämning'!ET21+'Blad 6 Befolkningsförändringar'!FK27)*1000)*'Blad 3 Inkomstutjämning'!ET$37/100))),0))+('Blad 1 Totala intäkter'!FB16+'Blad 1 Totala intäkter'!FB18+'Blad 1 Totala intäkter'!FB20+'Blad 1 Totala intäkter'!FB22))*(FJ7+FK27)/1000)","v":0},{"$f":"IF(ISERROR(((ROUND((((('Blad 3 Inkomstutjämning'!EU19-'Blad 3 Inkomstutjämning'!EU24/('Blad 3 Inkomstutjämning'!EU21+'Blad 6 Befolkningsförändringar'!FL27)*1000)*'Blad 3 Inkomstutjämning'!EU$37/100))),0))+('Blad 1 Totala intäkter'!FC16+'Blad 1 Totala intäkter'!FC18+'Blad 1 Totala intäkter'!FC20+'Blad 1 Totala intäkter'!FC22))*(FK7+FL27)/1000),0,((ROUND((((('Blad 3 Inkomstutjämning'!EU19-'Blad 3 Inkomstutjämning'!EU24/('Blad 3 Inkomstutjämning'!EU21+'Blad 6 Befolkningsförändringar'!FL27)*1000)*'Blad 3 Inkomstutjämning'!EU$37/100))),0))+('Blad 1 Totala intäkter'!FC16+'Blad 1 Totala intäkter'!FC18+'Blad 1 Totala intäkter'!FC20+'Blad 1 Totala intäkter'!FC22))*(FK7+FL27)/1000)","v":0},{"$f":"IF(ISERROR(((ROUND((((('Blad 3 Inkomstutjämning'!EV19-'Blad 3 Inkomstutjämning'!EV24/('Blad 3 Inkomstutjämning'!EV21+'Blad 6 Befolkningsförändringar'!FM27)*1000)*'Blad 3 Inkomstutjämning'!EV$37/100))),0))+('Blad 1 Totala intäkter'!FD16+'Blad 1 Totala intäkter'!FD18+'Blad 1 Totala intäkter'!FD20+'Blad 1 Totala intäkter'!FD22))*(FL7+FM27)/1000),0,((ROUND((((('Blad 3 Inkomstutjämning'!EV19-'Blad 3 Inkomstutjämning'!EV24/('Blad 3 Inkomstutjämning'!EV21+'Blad 6 Befolkningsförändringar'!FM27)*1000)*'Blad 3 Inkomstutjämning'!EV$37/100))),0))+('Blad 1 Totala intäkter'!FD16+'Blad 1 Totala intäkter'!FD18+'Blad 1 Totala intäkter'!FD20+'Blad 1 Totala intäkter'!FD22))*(FL7+FM27)/1000)","v":0},{"$f":"IF(ISERROR(((ROUND((((('Blad 3 Inkomstutjämning'!EW19-'Blad 3 Inkomstutjämning'!EW24/('Blad 3 Inkomstutjämning'!EW21+'Blad 6 Befolkningsförändringar'!FN27)*1000)*'Blad 3 Inkomstutjämning'!EW$37/100))),0))+('Blad 1 Totala intäkter'!FE16+'Blad 1 Totala intäkter'!FE18+'Blad 1 Totala intäkter'!FE20+'Blad 1 Totala intäkter'!FE22))*(FM7+FN27)/1000),0,((ROUND((((('Blad 3 Inkomstutjämning'!EW19-'Blad 3 Inkomstutjämning'!EW24/('Blad 3 Inkomstutjämning'!EW21+'Blad 6 Befolkningsförändringar'!FN27)*1000)*'Blad 3 Inkomstutjämning'!EW$37/100))),0))+('Blad 1 Totala intäkter'!FE16+'Blad 1 Totala intäkter'!FE18+'Blad 1 Totala intäkter'!FE20+'Blad 1 Totala intäkter'!FE22))*(FM7+FN27)/1000)","v":0},{"$f":"IF(ISERROR(((ROUND((((('Blad 3 Inkomstutjämning'!EX19-'Blad 3 Inkomstutjämning'!EX24/('Blad 3 Inkomstutjämning'!EX21+'Blad 6 Befolkningsförändringar'!FO27)*1000)*'Blad 3 Inkomstutjämning'!EX$37/100))),0))+('Blad 1 Totala intäkter'!FF16+'Blad 1 Totala intäkter'!FF18+'Blad 1 Totala intäkter'!FF20+'Blad 1 Totala intäkter'!FF22))*(FN7+FO27)/1000),0,((ROUND((((('Blad 3 Inkomstutjämning'!EX19-'Blad 3 Inkomstutjämning'!EX24/('Blad 3 Inkomstutjämning'!EX21+'Blad 6 Befolkningsförändringar'!FO27)*1000)*'Blad 3 Inkomstutjämning'!EX$37/100))),0))+('Blad 1 Totala intäkter'!FF16+'Blad 1 Totala intäkter'!FF18+'Blad 1 Totala intäkter'!FF20+'Blad 1 Totala intäkter'!FF22))*(FN7+FO27)/1000)","v":0},{"$f":"IF(ISERROR(((ROUND((((('Blad 3 Inkomstutjämning'!EY19-'Blad 3 Inkomstutjämning'!EY24/('Blad 3 Inkomstutjämning'!EY21+'Blad 6 Befolkningsförändringar'!FP27)*1000)*'Blad 3 Inkomstutjämning'!EY$37/100))),0))+('Blad 1 Totala intäkter'!FG16+'Blad 1 Totala intäkter'!FG18+'Blad 1 Totala intäkter'!FG20+'Blad 1 Totala intäkter'!FG22))*(FO7+FP27)/1000),0,((ROUND((((('Blad 3 Inkomstutjämning'!EY19-'Blad 3 Inkomstutjämning'!EY24/('Blad 3 Inkomstutjämning'!EY21+'Blad 6 Befolkningsförändringar'!FP27)*1000)*'Blad 3 Inkomstutjämning'!EY$37/100))),0))+('Blad 1 Totala intäkter'!FG16+'Blad 1 Totala intäkter'!FG18+'Blad 1 Totala intäkter'!FG20+'Blad 1 Totala intäkter'!FG22))*(FO7+FP27)/1000)","v":0},{"$f":"IF(ISERROR(((ROUND((((('Blad 3 Inkomstutjämning'!EZ19-'Blad 3 Inkomstutjämning'!EZ24/('Blad 3 Inkomstutjämning'!EZ21+'Blad 6 Befolkningsförändringar'!FQ27)*1000)*'Blad 3 Inkomstutjämning'!EZ$37/100))),0))+('Blad 1 Totala intäkter'!FH16+'Blad 1 Totala intäkter'!FH18+'Blad 1 Totala intäkter'!FH20+'Blad 1 Totala intäkter'!FH22))*(FP7+FQ27)/1000),0,((ROUND((((('Blad 3 Inkomstutjämning'!EZ19-'Blad 3 Inkomstutjämning'!EZ24/('Blad 3 Inkomstutjämning'!EZ21+'Blad 6 Befolkningsförändringar'!FQ27)*1000)*'Blad 3 Inkomstutjämning'!EZ$37/100))),0))+('Blad 1 Totala intäkter'!FH16+'Blad 1 Totala intäkter'!FH18+'Blad 1 Totala intäkter'!FH20+'Blad 1 Totala intäkter'!FH22))*(FP7+FQ27)/1000)","v":0},{"$f":"IF(ISERROR(((ROUND((((('Blad 3 Inkomstutjämning'!FA19-'Blad 3 Inkomstutjämning'!FA24/('Blad 3 Inkomstutjämning'!FA21+'Blad 6 Befolkningsförändringar'!FR27)*1000)*'Blad 3 Inkomstutjämning'!FA$37/100))),0))+('Blad 1 Totala intäkter'!FI16+'Blad 1 Totala intäkter'!FI18+'Blad 1 Totala intäkter'!FI20+'Blad 1 Totala intäkter'!FI22))*(FQ7+FR27)/1000),0,((ROUND((((('Blad 3 Inkomstutjämning'!FA19-'Blad 3 Inkomstutjämning'!FA24/('Blad 3 Inkomstutjämning'!FA21+'Blad 6 Befolkningsförändringar'!FR27)*1000)*'Blad 3 Inkomstutjämning'!FA$37/100))),0))+('Blad 1 Totala intäkter'!FI16+'Blad 1 Totala intäkter'!FI18+'Blad 1 Totala intäkter'!FI20+'Blad 1 Totala intäkter'!FI22))*(FQ7+FR27)/1000)","v":0},{"$f":"IF(ISERROR(((ROUND((((('Blad 3 Inkomstutjämning'!FB19-'Blad 3 Inkomstutjämning'!FB24/('Blad 3 Inkomstutjämning'!FB21+'Blad 6 Befolkningsförändringar'!FS27)*1000)*'Blad 3 Inkomstutjämning'!FB$37/100))),0))+('Blad 1 Totala intäkter'!FJ16+'Blad 1 Totala intäkter'!FJ18+'Blad 1 Totala intäkter'!FJ20+'Blad 1 Totala intäkter'!FJ22))*(FR7+FS27)/1000),0,((ROUND((((('Blad 3 Inkomstutjämning'!FB19-'Blad 3 Inkomstutjämning'!FB24/('Blad 3 Inkomstutjämning'!FB21+'Blad 6 Befolkningsförändringar'!FS27)*1000)*'Blad 3 Inkomstutjämning'!FB$37/100))),0))+('Blad 1 Totala intäkter'!FJ16+'Blad 1 Totala intäkter'!FJ18+'Blad 1 Totala intäkter'!FJ20+'Blad 1 Totala intäkter'!FJ22))*(FR7+FS27)/1000)","v":0},{"$f":"IF(ISERROR(((ROUND((((('Blad 3 Inkomstutjämning'!FC19-'Blad 3 Inkomstutjämning'!FC24/('Blad 3 Inkomstutjämning'!FC21+'Blad 6 Befolkningsförändringar'!FT27)*1000)*'Blad 3 Inkomstutjämning'!FC$37/100))),0))+('Blad 1 Totala intäkter'!FK16+'Blad 1 Totala intäkter'!FK18+'Blad 1 Totala intäkter'!FK20+'Blad 1 Totala intäkter'!FK22))*(FS7+FT27)/1000),0,((ROUND((((('Blad 3 Inkomstutjämning'!FC19-'Blad 3 Inkomstutjämning'!FC24/('Blad 3 Inkomstutjämning'!FC21+'Blad 6 Befolkningsförändringar'!FT27)*1000)*'Blad 3 Inkomstutjämning'!FC$37/100))),0))+('Blad 1 Totala intäkter'!FK16+'Blad 1 Totala intäkter'!FK18+'Blad 1 Totala intäkter'!FK20+'Blad 1 Totala intäkter'!FK22))*(FS7+FT27)/1000)","v":0},{"$f":"IF(ISERROR(((ROUND((((('Blad 3 Inkomstutjämning'!FD19-'Blad 3 Inkomstutjämning'!FD24/('Blad 3 Inkomstutjämning'!FD21+'Blad 6 Befolkningsförändringar'!FU27)*1000)*'Blad 3 Inkomstutjämning'!FD$37/100))),0))+('Blad 1 Totala intäkter'!FL16+'Blad 1 Totala intäkter'!FL18+'Blad 1 Totala intäkter'!FL20+'Blad 1 Totala intäkter'!FL22))*(FT7+FU27)/1000),0,((ROUND((((('Blad 3 Inkomstutjämning'!FD19-'Blad 3 Inkomstutjämning'!FD24/('Blad 3 Inkomstutjämning'!FD21+'Blad 6 Befolkningsförändringar'!FU27)*1000)*'Blad 3 Inkomstutjämning'!FD$37/100))),0))+('Blad 1 Totala intäkter'!FL16+'Blad 1 Totala intäkter'!FL18+'Blad 1 Totala intäkter'!FL20+'Blad 1 Totala intäkter'!FL22))*(FT7+FU27)/1000)","v":0},{"$f":"IF(ISERROR(((ROUND((((('Blad 3 Inkomstutjämning'!FE19-'Blad 3 Inkomstutjämning'!FE24/('Blad 3 Inkomstutjämning'!FE21+'Blad 6 Befolkningsförändringar'!FV27)*1000)*'Blad 3 Inkomstutjämning'!FE$37/100))),0))+('Blad 1 Totala intäkter'!FM16+'Blad 1 Totala intäkter'!FM18+'Blad 1 Totala intäkter'!FM20+'Blad 1 Totala intäkter'!FM22))*(FU7+FV27)/1000),0,((ROUND((((('Blad 3 Inkomstutjämning'!FE19-'Blad 3 Inkomstutjämning'!FE24/('Blad 3 Inkomstutjämning'!FE21+'Blad 6 Befolkningsförändringar'!FV27)*1000)*'Blad 3 Inkomstutjämning'!FE$37/100))),0))+('Blad 1 Totala intäkter'!FM16+'Blad 1 Totala intäkter'!FM18+'Blad 1 Totala intäkter'!FM20+'Blad 1 Totala intäkter'!FM22))*(FU7+FV27)/1000)","v":0},{"$f":"IF(ISERROR(((ROUND((((('Blad 3 Inkomstutjämning'!FF19-'Blad 3 Inkomstutjämning'!FF24/('Blad 3 Inkomstutjämning'!FF21+'Blad 6 Befolkningsförändringar'!FW27)*1000)*'Blad 3 Inkomstutjämning'!FF$37/100))),0))+('Blad 1 Totala intäkter'!FN16+'Blad 1 Totala intäkter'!FN18+'Blad 1 Totala intäkter'!FN20+'Blad 1 Totala intäkter'!FN22))*(FV7+FW27)/1000),0,((ROUND((((('Blad 3 Inkomstutjämning'!FF19-'Blad 3 Inkomstutjämning'!FF24/('Blad 3 Inkomstutjämning'!FF21+'Blad 6 Befolkningsförändringar'!FW27)*1000)*'Blad 3 Inkomstutjämning'!FF$37/100))),0))+('Blad 1 Totala intäkter'!FN16+'Blad 1 Totala intäkter'!FN18+'Blad 1 Totala intäkter'!FN20+'Blad 1 Totala intäkter'!FN22))*(FV7+FW27)/1000)","v":0},{"$f":"IF(ISERROR(((ROUND((((('Blad 3 Inkomstutjämning'!FG19-'Blad 3 Inkomstutjämning'!FG24/('Blad 3 Inkomstutjämning'!FG21+'Blad 6 Befolkningsförändringar'!FX27)*1000)*'Blad 3 Inkomstutjämning'!FG$37/100))),0))+('Blad 1 Totala intäkter'!FO16+'Blad 1 Totala intäkter'!FO18+'Blad 1 Totala intäkter'!FO20+'Blad 1 Totala intäkter'!FO22))*(FW7+FX27)/1000),0,((ROUND((((('Blad 3 Inkomstutjämning'!FG19-'Blad 3 Inkomstutjämning'!FG24/('Blad 3 Inkomstutjämning'!FG21+'Blad 6 Befolkningsförändringar'!FX27)*1000)*'Blad 3 Inkomstutjämning'!FG$37/100))),0))+('Blad 1 Totala intäkter'!FO16+'Blad 1 Totala intäkter'!FO18+'Blad 1 Totala intäkter'!FO20+'Blad 1 Totala intäkter'!FO22))*(FW7+FX27)/1000)","v":0},{"$f":"IF(ISERROR(((ROUND((((('Blad 3 Inkomstutjämning'!FH19-'Blad 3 Inkomstutjämning'!FH24/('Blad 3 Inkomstutjämning'!FH21+'Blad 6 Befolkningsförändringar'!FY27)*1000)*'Blad 3 Inkomstutjämning'!FH$37/100))),0))+('Blad 1 Totala intäkter'!FP16+'Blad 1 Totala intäkter'!FP18+'Blad 1 Totala intäkter'!FP20+'Blad 1 Totala intäkter'!FP22))*(FX7+FY27)/1000),0,((ROUND((((('Blad 3 Inkomstutjämning'!FH19-'Blad 3 Inkomstutjämning'!FH24/('Blad 3 Inkomstutjämning'!FH21+'Blad 6 Befolkningsförändringar'!FY27)*1000)*'Blad 3 Inkomstutjämning'!FH$37/100))),0))+('Blad 1 Totala intäkter'!FP16+'Blad 1 Totala intäkter'!FP18+'Blad 1 Totala intäkter'!FP20+'Blad 1 Totala intäkter'!FP22))*(FX7+FY27)/1000)","v":0},{"$f":"IF(ISERROR(((ROUND((((('Blad 3 Inkomstutjämning'!FI19-'Blad 3 Inkomstutjämning'!FI24/('Blad 3 Inkomstutjämning'!FI21+'Blad 6 Befolkningsförändringar'!FZ27)*1000)*'Blad 3 Inkomstutjämning'!FI$37/100))),0))+('Blad 1 Totala intäkter'!FQ16+'Blad 1 Totala intäkter'!FQ18+'Blad 1 Totala intäkter'!FQ20+'Blad 1 Totala intäkter'!FQ22))*(FY7+FZ27)/1000),0,((ROUND((((('Blad 3 Inkomstutjämning'!FI19-'Blad 3 Inkomstutjämning'!FI24/('Blad 3 Inkomstutjämning'!FI21+'Blad 6 Befolkningsförändringar'!FZ27)*1000)*'Blad 3 Inkomstutjämning'!FI$37/100))),0))+('Blad 1 Totala intäkter'!FQ16+'Blad 1 Totala intäkter'!FQ18+'Blad 1 Totala intäkter'!FQ20+'Blad 1 Totala intäkter'!FQ22))*(FY7+FZ27)/1000)","v":0},{"$f":"IF(ISERROR(((ROUND((((('Blad 3 Inkomstutjämning'!FJ19-'Blad 3 Inkomstutjämning'!FJ24/('Blad 3 Inkomstutjämning'!FJ21+'Blad 6 Befolkningsförändringar'!GA27)*1000)*'Blad 3 Inkomstutjämning'!FJ$37/100))),0))+('Blad 1 Totala intäkter'!FR16+'Blad 1 Totala intäkter'!FR18+'Blad 1 Totala intäkter'!FR20+'Blad 1 Totala intäkter'!FR22))*(FZ7+GA27)/1000),0,((ROUND((((('Blad 3 Inkomstutjämning'!FJ19-'Blad 3 Inkomstutjämning'!FJ24/('Blad 3 Inkomstutjämning'!FJ21+'Blad 6 Befolkningsförändringar'!GA27)*1000)*'Blad 3 Inkomstutjämning'!FJ$37/100))),0))+('Blad 1 Totala intäkter'!FR16+'Blad 1 Totala intäkter'!FR18+'Blad 1 Totala intäkter'!FR20+'Blad 1 Totala intäkter'!FR22))*(FZ7+GA27)/1000)","v":0},{"$f":"IF(ISERROR(((ROUND((((('Blad 3 Inkomstutjämning'!FK19-'Blad 3 Inkomstutjämning'!FK24/('Blad 3 Inkomstutjämning'!FK21+'Blad 6 Befolkningsförändringar'!GB27)*1000)*'Blad 3 Inkomstutjämning'!FK$37/100))),0))+('Blad 1 Totala intäkter'!FS16+'Blad 1 Totala intäkter'!FS18+'Blad 1 Totala intäkter'!FS20+'Blad 1 Totala intäkter'!FS22))*(GA7+GB27)/1000),0,((ROUND((((('Blad 3 Inkomstutjämning'!FK19-'Blad 3 Inkomstutjämning'!FK24/('Blad 3 Inkomstutjämning'!FK21+'Blad 6 Befolkningsförändringar'!GB27)*1000)*'Blad 3 Inkomstutjämning'!FK$37/100))),0))+('Blad 1 Totala intäkter'!FS16+'Blad 1 Totala intäkter'!FS18+'Blad 1 Totala intäkter'!FS20+'Blad 1 Totala intäkter'!FS22))*(GA7+GB27)/1000)","v":0},{"$f":"IF(ISERROR(((ROUND((((('Blad 3 Inkomstutjämning'!FL19-'Blad 3 Inkomstutjämning'!FL24/('Blad 3 Inkomstutjämning'!FL21+'Blad 6 Befolkningsförändringar'!GC27)*1000)*'Blad 3 Inkomstutjämning'!FL$37/100))),0))+('Blad 1 Totala intäkter'!FT16+'Blad 1 Totala intäkter'!FT18+'Blad 1 Totala intäkter'!FT20+'Blad 1 Totala intäkter'!FT22))*(GB7+GC27)/1000),0,((ROUND((((('Blad 3 Inkomstutjämning'!FL19-'Blad 3 Inkomstutjämning'!FL24/('Blad 3 Inkomstutjämning'!FL21+'Blad 6 Befolkningsförändringar'!GC27)*1000)*'Blad 3 Inkomstutjämning'!FL$37/100))),0))+('Blad 1 Totala intäkter'!FT16+'Blad 1 Totala intäkter'!FT18+'Blad 1 Totala intäkter'!FT20+'Blad 1 Totala intäkter'!FT22))*(GB7+GC27)/1000)","v":0},{"$f":"IF(ISERROR(((ROUND((((('Blad 3 Inkomstutjämning'!FM19-'Blad 3 Inkomstutjämning'!FM24/('Blad 3 Inkomstutjämning'!FM21+'Blad 6 Befolkningsförändringar'!GD27)*1000)*'Blad 3 Inkomstutjämning'!FM$37/100))),0))+('Blad 1 Totala intäkter'!FU16+'Blad 1 Totala intäkter'!FU18+'Blad 1 Totala intäkter'!FU20+'Blad 1 Totala intäkter'!FU22))*(GC7+GD27)/1000),0,((ROUND((((('Blad 3 Inkomstutjämning'!FM19-'Blad 3 Inkomstutjämning'!FM24/('Blad 3 Inkomstutjämning'!FM21+'Blad 6 Befolkningsförändringar'!GD27)*1000)*'Blad 3 Inkomstutjämning'!FM$37/100))),0))+('Blad 1 Totala intäkter'!FU16+'Blad 1 Totala intäkter'!FU18+'Blad 1 Totala intäkter'!FU20+'Blad 1 Totala intäkter'!FU22))*(GC7+GD27)/1000)","v":0},{"$f":"IF(ISERROR(((ROUND((((('Blad 3 Inkomstutjämning'!FN19-'Blad 3 Inkomstutjämning'!FN24/('Blad 3 Inkomstutjämning'!FN21+'Blad 6 Befolkningsförändringar'!GE27)*1000)*'Blad 3 Inkomstutjämning'!FN$37/100))),0))+('Blad 1 Totala intäkter'!FV16+'Blad 1 Totala intäkter'!FV18+'Blad 1 Totala intäkter'!FV20+'Blad 1 Totala intäkter'!FV22))*(GD7+GE27)/1000),0,((ROUND((((('Blad 3 Inkomstutjämning'!FN19-'Blad 3 Inkomstutjämning'!FN24/('Blad 3 Inkomstutjämning'!FN21+'Blad 6 Befolkningsförändringar'!GE27)*1000)*'Blad 3 Inkomstutjämning'!FN$37/100))),0))+('Blad 1 Totala intäkter'!FV16+'Blad 1 Totala intäkter'!FV18+'Blad 1 Totala intäkter'!FV20+'Blad 1 Totala intäkter'!FV22))*(GD7+GE27)/1000)","v":0},{"$f":"IF(ISERROR(((ROUND((((('Blad 3 Inkomstutjämning'!FO19-'Blad 3 Inkomstutjämning'!FO24/('Blad 3 Inkomstutjämning'!FO21+'Blad 6 Befolkningsförändringar'!GF27)*1000)*'Blad 3 Inkomstutjämning'!FO$37/100))),0))+('Blad 1 Totala intäkter'!FW16+'Blad 1 Totala intäkter'!FW18+'Blad 1 Totala intäkter'!FW20+'Blad 1 Totala intäkter'!FW22))*(GE7+GF27)/1000),0,((ROUND((((('Blad 3 Inkomstutjämning'!FO19-'Blad 3 Inkomstutjämning'!FO24/('Blad 3 Inkomstutjämning'!FO21+'Blad 6 Befolkningsförändringar'!GF27)*1000)*'Blad 3 Inkomstutjämning'!FO$37/100))),0))+('Blad 1 Totala intäkter'!FW16+'Blad 1 Totala intäkter'!FW18+'Blad 1 Totala intäkter'!FW20+'Blad 1 Totala intäkter'!FW22))*(GE7+GF27)/1000)","v":0},{"$f":"IF(ISERROR(((ROUND((((('Blad 3 Inkomstutjämning'!FP19-'Blad 3 Inkomstutjämning'!FP24/('Blad 3 Inkomstutjämning'!FP21+'Blad 6 Befolkningsförändringar'!GG27)*1000)*'Blad 3 Inkomstutjämning'!FP$37/100))),0))+('Blad 1 Totala intäkter'!FX16+'Blad 1 Totala intäkter'!FX18+'Blad 1 Totala intäkter'!FX20+'Blad 1 Totala intäkter'!FX22))*(GF7+GG27)/1000),0,((ROUND((((('Blad 3 Inkomstutjämning'!FP19-'Blad 3 Inkomstutjämning'!FP24/('Blad 3 Inkomstutjämning'!FP21+'Blad 6 Befolkningsförändringar'!GG27)*1000)*'Blad 3 Inkomstutjämning'!FP$37/100))),0))+('Blad 1 Totala intäkter'!FX16+'Blad 1 Totala intäkter'!FX18+'Blad 1 Totala intäkter'!FX20+'Blad 1 Totala intäkter'!FX22))*(GF7+GG27)/1000)","v":0},{"$f":"IF(ISERROR(((ROUND((((('Blad 3 Inkomstutjämning'!FQ19-'Blad 3 Inkomstutjämning'!FQ24/('Blad 3 Inkomstutjämning'!FQ21+'Blad 6 Befolkningsförändringar'!GH27)*1000)*'Blad 3 Inkomstutjämning'!FQ$37/100))),0))+('Blad 1 Totala intäkter'!FY16+'Blad 1 Totala intäkter'!FY18+'Blad 1 Totala intäkter'!FY20+'Blad 1 Totala intäkter'!FY22))*(GG7+GH27)/1000),0,((ROUND((((('Blad 3 Inkomstutjämning'!FQ19-'Blad 3 Inkomstutjämning'!FQ24/('Blad 3 Inkomstutjämning'!FQ21+'Blad 6 Befolkningsförändringar'!GH27)*1000)*'Blad 3 Inkomstutjämning'!FQ$37/100))),0))+('Blad 1 Totala intäkter'!FY16+'Blad 1 Totala intäkter'!FY18+'Blad 1 Totala intäkter'!FY20+'Blad 1 Totala intäkter'!FY22))*(GG7+GH27)/1000)","v":0},{"$f":"IF(ISERROR(((ROUND((((('Blad 3 Inkomstutjämning'!FR19-'Blad 3 Inkomstutjämning'!FR24/('Blad 3 Inkomstutjämning'!FR21+'Blad 6 Befolkningsförändringar'!GI27)*1000)*'Blad 3 Inkomstutjämning'!FR$37/100))),0))+('Blad 1 Totala intäkter'!FZ16+'Blad 1 Totala intäkter'!FZ18+'Blad 1 Totala intäkter'!FZ20+'Blad 1 Totala intäkter'!FZ22))*(GH7+GI27)/1000),0,((ROUND((((('Blad 3 Inkomstutjämning'!FR19-'Blad 3 Inkomstutjämning'!FR24/('Blad 3 Inkomstutjämning'!FR21+'Blad 6 Befolkningsförändringar'!GI27)*1000)*'Blad 3 Inkomstutjämning'!FR$37/100))),0))+('Blad 1 Totala intäkter'!FZ16+'Blad 1 Totala intäkter'!FZ18+'Blad 1 Totala intäkter'!FZ20+'Blad 1 Totala intäkter'!FZ22))*(GH7+GI27)/1000)","v":0},{"$f":"IF(ISERROR(((ROUND((((('Blad 3 Inkomstutjämning'!FS19-'Blad 3 Inkomstutjämning'!FS24/('Blad 3 Inkomstutjämning'!FS21+'Blad 6 Befolkningsförändringar'!GJ27)*1000)*'Blad 3 Inkomstutjämning'!FS$37/100))),0))+('Blad 1 Totala intäkter'!GA16+'Blad 1 Totala intäkter'!GA18+'Blad 1 Totala intäkter'!GA20+'Blad 1 Totala intäkter'!GA22))*(GI7+GJ27)/1000),0,((ROUND((((('Blad 3 Inkomstutjämning'!FS19-'Blad 3 Inkomstutjämning'!FS24/('Blad 3 Inkomstutjämning'!FS21+'Blad 6 Befolkningsförändringar'!GJ27)*1000)*'Blad 3 Inkomstutjämning'!FS$37/100))),0))+('Blad 1 Totala intäkter'!GA16+'Blad 1 Totala intäkter'!GA18+'Blad 1 Totala intäkter'!GA20+'Blad 1 Totala intäkter'!GA22))*(GI7+GJ27)/1000)","v":0},{"$f":"IF(ISERROR(((ROUND((((('Blad 3 Inkomstutjämning'!FT19-'Blad 3 Inkomstutjämning'!FT24/('Blad 3 Inkomstutjämning'!FT21+'Blad 6 Befolkningsförändringar'!GK27)*1000)*'Blad 3 Inkomstutjämning'!FT$37/100))),0))+('Blad 1 Totala intäkter'!GB16+'Blad 1 Totala intäkter'!GB18+'Blad 1 Totala intäkter'!GB20+'Blad 1 Totala intäkter'!GB22))*(GJ7+GK27)/1000),0,((ROUND((((('Blad 3 Inkomstutjämning'!FT19-'Blad 3 Inkomstutjämning'!FT24/('Blad 3 Inkomstutjämning'!FT21+'Blad 6 Befolkningsförändringar'!GK27)*1000)*'Blad 3 Inkomstutjämning'!FT$37/100))),0))+('Blad 1 Totala intäkter'!GB16+'Blad 1 Totala intäkter'!GB18+'Blad 1 Totala intäkter'!GB20+'Blad 1 Totala intäkter'!GB22))*(GJ7+GK27)/1000)","v":0},{"$f":"IF(ISERROR(((ROUND((((('Blad 3 Inkomstutjämning'!FU19-'Blad 3 Inkomstutjämning'!FU24/('Blad 3 Inkomstutjämning'!FU21+'Blad 6 Befolkningsförändringar'!GL27)*1000)*'Blad 3 Inkomstutjämning'!FU$37/100))),0))+('Blad 1 Totala intäkter'!GC16+'Blad 1 Totala intäkter'!GC18+'Blad 1 Totala intäkter'!GC20+'Blad 1 Totala intäkter'!GC22))*(GK7+GL27)/1000),0,((ROUND((((('Blad 3 Inkomstutjämning'!FU19-'Blad 3 Inkomstutjämning'!FU24/('Blad 3 Inkomstutjämning'!FU21+'Blad 6 Befolkningsförändringar'!GL27)*1000)*'Blad 3 Inkomstutjämning'!FU$37/100))),0))+('Blad 1 Totala intäkter'!GC16+'Blad 1 Totala intäkter'!GC18+'Blad 1 Totala intäkter'!GC20+'Blad 1 Totala intäkter'!GC22))*(GK7+GL27)/1000)","v":0},{"$f":"IF(ISERROR(((ROUND((((('Blad 3 Inkomstutjämning'!FV19-'Blad 3 Inkomstutjämning'!FV24/('Blad 3 Inkomstutjämning'!FV21+'Blad 6 Befolkningsförändringar'!GM27)*1000)*'Blad 3 Inkomstutjämning'!FV$37/100))),0))+('Blad 1 Totala intäkter'!GD16+'Blad 1 Totala intäkter'!GD18+'Blad 1 Totala intäkter'!GD20+'Blad 1 Totala intäkter'!GD22))*(GL7+GM27)/1000),0,((ROUND((((('Blad 3 Inkomstutjämning'!FV19-'Blad 3 Inkomstutjämning'!FV24/('Blad 3 Inkomstutjämning'!FV21+'Blad 6 Befolkningsförändringar'!GM27)*1000)*'Blad 3 Inkomstutjämning'!FV$37/100))),0))+('Blad 1 Totala intäkter'!GD16+'Blad 1 Totala intäkter'!GD18+'Blad 1 Totala intäkter'!GD20+'Blad 1 Totala intäkter'!GD22))*(GL7+GM27)/1000)","v":0},{"$f":"IF(ISERROR(((ROUND((((('Blad 3 Inkomstutjämning'!FW19-'Blad 3 Inkomstutjämning'!FW24/('Blad 3 Inkomstutjämning'!FW21+'Blad 6 Befolkningsförändringar'!GN27)*1000)*'Blad 3 Inkomstutjämning'!FW$37/100))),0))+('Blad 1 Totala intäkter'!GE16+'Blad 1 Totala intäkter'!GE18+'Blad 1 Totala intäkter'!GE20+'Blad 1 Totala intäkter'!GE22))*(GM7+GN27)/1000),0,((ROUND((((('Blad 3 Inkomstutjämning'!FW19-'Blad 3 Inkomstutjämning'!FW24/('Blad 3 Inkomstutjämning'!FW21+'Blad 6 Befolkningsförändringar'!GN27)*1000)*'Blad 3 Inkomstutjämning'!FW$37/100))),0))+('Blad 1 Totala intäkter'!GE16+'Blad 1 Totala intäkter'!GE18+'Blad 1 Totala intäkter'!GE20+'Blad 1 Totala intäkter'!GE22))*(GM7+GN27)/1000)","v":0},{"$f":"IF(ISERROR(((ROUND((((('Blad 3 Inkomstutjämning'!FX19-'Blad 3 Inkomstutjämning'!FX24/('Blad 3 Inkomstutjämning'!FX21+'Blad 6 Befolkningsförändringar'!GO27)*1000)*'Blad 3 Inkomstutjämning'!FX$37/100))),0))+('Blad 1 Totala intäkter'!GF16+'Blad 1 Totala intäkter'!GF18+'Blad 1 Totala intäkter'!GF20+'Blad 1 Totala intäkter'!GF22))*(GN7+GO27)/1000),0,((ROUND((((('Blad 3 Inkomstutjämning'!FX19-'Blad 3 Inkomstutjämning'!FX24/('Blad 3 Inkomstutjämning'!FX21+'Blad 6 Befolkningsförändringar'!GO27)*1000)*'Blad 3 Inkomstutjämning'!FX$37/100))),0))+('Blad 1 Totala intäkter'!GF16+'Blad 1 Totala intäkter'!GF18+'Blad 1 Totala intäkter'!GF20+'Blad 1 Totala intäkter'!GF22))*(GN7+GO27)/1000)","v":0},{"$f":"IF(ISERROR(((ROUND((((('Blad 3 Inkomstutjämning'!FY19-'Blad 3 Inkomstutjämning'!FY24/('Blad 3 Inkomstutjämning'!FY21+'Blad 6 Befolkningsförändringar'!GP27)*1000)*'Blad 3 Inkomstutjämning'!FY$37/100))),0))+('Blad 1 Totala intäkter'!GG16+'Blad 1 Totala intäkter'!GG18+'Blad 1 Totala intäkter'!GG20+'Blad 1 Totala intäkter'!GG22))*(GO7+GP27)/1000),0,((ROUND((((('Blad 3 Inkomstutjämning'!FY19-'Blad 3 Inkomstutjämning'!FY24/('Blad 3 Inkomstutjämning'!FY21+'Blad 6 Befolkningsförändringar'!GP27)*1000)*'Blad 3 Inkomstutjämning'!FY$37/100))),0))+('Blad 1 Totala intäkter'!GG16+'Blad 1 Totala intäkter'!GG18+'Blad 1 Totala intäkter'!GG20+'Blad 1 Totala intäkter'!GG22))*(GO7+GP27)/1000)","v":0},{"$f":"IF(ISERROR(((ROUND((((('Blad 3 Inkomstutjämning'!FZ19-'Blad 3 Inkomstutjämning'!FZ24/('Blad 3 Inkomstutjämning'!FZ21+'Blad 6 Befolkningsförändringar'!GQ27)*1000)*'Blad 3 Inkomstutjämning'!FZ$37/100))),0))+('Blad 1 Totala intäkter'!GH16+'Blad 1 Totala intäkter'!GH18+'Blad 1 Totala intäkter'!GH20+'Blad 1 Totala intäkter'!GH22))*(GP7+GQ27)/1000),0,((ROUND((((('Blad 3 Inkomstutjämning'!FZ19-'Blad 3 Inkomstutjämning'!FZ24/('Blad 3 Inkomstutjämning'!FZ21+'Blad 6 Befolkningsförändringar'!GQ27)*1000)*'Blad 3 Inkomstutjämning'!FZ$37/100))),0))+('Blad 1 Totala intäkter'!GH16+'Blad 1 Totala intäkter'!GH18+'Blad 1 Totala intäkter'!GH20+'Blad 1 Totala intäkter'!GH22))*(GP7+GQ27)/1000)","v":0},{"$f":"IF(ISERROR(((ROUND((((('Blad 3 Inkomstutjämning'!GA19-'Blad 3 Inkomstutjämning'!GA24/('Blad 3 Inkomstutjämning'!GA21+'Blad 6 Befolkningsförändringar'!GR27)*1000)*'Blad 3 Inkomstutjämning'!GA$37/100))),0))+('Blad 1 Totala intäkter'!GI16+'Blad 1 Totala intäkter'!GI18+'Blad 1 Totala intäkter'!GI20+'Blad 1 Totala intäkter'!GI22))*(GQ7+GR27)/1000),0,((ROUND((((('Blad 3 Inkomstutjämning'!GA19-'Blad 3 Inkomstutjämning'!GA24/('Blad 3 Inkomstutjämning'!GA21+'Blad 6 Befolkningsförändringar'!GR27)*1000)*'Blad 3 Inkomstutjämning'!GA$37/100))),0))+('Blad 1 Totala intäkter'!GI16+'Blad 1 Totala intäkter'!GI18+'Blad 1 Totala intäkter'!GI20+'Blad 1 Totala intäkter'!GI22))*(GQ7+GR27)/1000)","v":0},{"$f":"IF(ISERROR(((ROUND((((('Blad 3 Inkomstutjämning'!GB19-'Blad 3 Inkomstutjämning'!GB24/('Blad 3 Inkomstutjämning'!GB21+'Blad 6 Befolkningsförändringar'!GS27)*1000)*'Blad 3 Inkomstutjämning'!GB$37/100))),0))+('Blad 1 Totala intäkter'!GJ16+'Blad 1 Totala intäkter'!GJ18+'Blad 1 Totala intäkter'!GJ20+'Blad 1 Totala intäkter'!GJ22))*(GR7+GS27)/1000),0,((ROUND((((('Blad 3 Inkomstutjämning'!GB19-'Blad 3 Inkomstutjämning'!GB24/('Blad 3 Inkomstutjämning'!GB21+'Blad 6 Befolkningsförändringar'!GS27)*1000)*'Blad 3 Inkomstutjämning'!GB$37/100))),0))+('Blad 1 Totala intäkter'!GJ16+'Blad 1 Totala intäkter'!GJ18+'Blad 1 Totala intäkter'!GJ20+'Blad 1 Totala intäkter'!GJ22))*(GR7+GS27)/1000)","v":0},{"$f":"IF(ISERROR(((ROUND((((('Blad 3 Inkomstutjämning'!GC19-'Blad 3 Inkomstutjämning'!GC24/('Blad 3 Inkomstutjämning'!GC21+'Blad 6 Befolkningsförändringar'!GT27)*1000)*'Blad 3 Inkomstutjämning'!GC$37/100))),0))+('Blad 1 Totala intäkter'!GK16+'Blad 1 Totala intäkter'!GK18+'Blad 1 Totala intäkter'!GK20+'Blad 1 Totala intäkter'!GK22))*(GS7+GT27)/1000),0,((ROUND((((('Blad 3 Inkomstutjämning'!GC19-'Blad 3 Inkomstutjämning'!GC24/('Blad 3 Inkomstutjämning'!GC21+'Blad 6 Befolkningsförändringar'!GT27)*1000)*'Blad 3 Inkomstutjämning'!GC$37/100))),0))+('Blad 1 Totala intäkter'!GK16+'Blad 1 Totala intäkter'!GK18+'Blad 1 Totala intäkter'!GK20+'Blad 1 Totala intäkter'!GK22))*(GS7+GT27)/1000)","v":0},{"$f":"IF(ISERROR(((ROUND((((('Blad 3 Inkomstutjämning'!GD19-'Blad 3 Inkomstutjämning'!GD24/('Blad 3 Inkomstutjämning'!GD21+'Blad 6 Befolkningsförändringar'!GU27)*1000)*'Blad 3 Inkomstutjämning'!GD$37/100))),0))+('Blad 1 Totala intäkter'!GL16+'Blad 1 Totala intäkter'!GL18+'Blad 1 Totala intäkter'!GL20+'Blad 1 Totala intäkter'!GL22))*(GT7+GU27)/1000),0,((ROUND((((('Blad 3 Inkomstutjämning'!GD19-'Blad 3 Inkomstutjämning'!GD24/('Blad 3 Inkomstutjämning'!GD21+'Blad 6 Befolkningsförändringar'!GU27)*1000)*'Blad 3 Inkomstutjämning'!GD$37/100))),0))+('Blad 1 Totala intäkter'!GL16+'Blad 1 Totala intäkter'!GL18+'Blad 1 Totala intäkter'!GL20+'Blad 1 Totala intäkter'!GL22))*(GT7+GU27)/1000)","v":0},{"$f":"IF(ISERROR(((ROUND((((('Blad 3 Inkomstutjämning'!GE19-'Blad 3 Inkomstutjämning'!GE24/('Blad 3 Inkomstutjämning'!GE21+'Blad 6 Befolkningsförändringar'!GV27)*1000)*'Blad 3 Inkomstutjämning'!GE$37/100))),0))+('Blad 1 Totala intäkter'!GM16+'Blad 1 Totala intäkter'!GM18+'Blad 1 Totala intäkter'!GM20+'Blad 1 Totala intäkter'!GM22))*(GU7+GV27)/1000),0,((ROUND((((('Blad 3 Inkomstutjämning'!GE19-'Blad 3 Inkomstutjämning'!GE24/('Blad 3 Inkomstutjämning'!GE21+'Blad 6 Befolkningsförändringar'!GV27)*1000)*'Blad 3 Inkomstutjämning'!GE$37/100))),0))+('Blad 1 Totala intäkter'!GM16+'Blad 1 Totala intäkter'!GM18+'Blad 1 Totala intäkter'!GM20+'Blad 1 Totala intäkter'!GM22))*(GU7+GV27)/1000)","v":0},{"$f":"IF(ISERROR(((ROUND((((('Blad 3 Inkomstutjämning'!GF19-'Blad 3 Inkomstutjämning'!GF24/('Blad 3 Inkomstutjämning'!GF21+'Blad 6 Befolkningsförändringar'!GW27)*1000)*'Blad 3 Inkomstutjämning'!GF$37/100))),0))+('Blad 1 Totala intäkter'!GN16+'Blad 1 Totala intäkter'!GN18+'Blad 1 Totala intäkter'!GN20+'Blad 1 Totala intäkter'!GN22))*(GV7+GW27)/1000),0,((ROUND((((('Blad 3 Inkomstutjämning'!GF19-'Blad 3 Inkomstutjämning'!GF24/('Blad 3 Inkomstutjämning'!GF21+'Blad 6 Befolkningsförändringar'!GW27)*1000)*'Blad 3 Inkomstutjämning'!GF$37/100))),0))+('Blad 1 Totala intäkter'!GN16+'Blad 1 Totala intäkter'!GN18+'Blad 1 Totala intäkter'!GN20+'Blad 1 Totala intäkter'!GN22))*(GV7+GW27)/1000)","v":0},{"$f":"IF(ISERROR(((ROUND((((('Blad 3 Inkomstutjämning'!GG19-'Blad 3 Inkomstutjämning'!GG24/('Blad 3 Inkomstutjämning'!GG21+'Blad 6 Befolkningsförändringar'!GX27)*1000)*'Blad 3 Inkomstutjämning'!GG$37/100))),0))+('Blad 1 Totala intäkter'!GO16+'Blad 1 Totala intäkter'!GO18+'Blad 1 Totala intäkter'!GO20+'Blad 1 Totala intäkter'!GO22))*(GW7+GX27)/1000),0,((ROUND((((('Blad 3 Inkomstutjämning'!GG19-'Blad 3 Inkomstutjämning'!GG24/('Blad 3 Inkomstutjämning'!GG21+'Blad 6 Befolkningsförändringar'!GX27)*1000)*'Blad 3 Inkomstutjämning'!GG$37/100))),0))+('Blad 1 Totala intäkter'!GO16+'Blad 1 Totala intäkter'!GO18+'Blad 1 Totala intäkter'!GO20+'Blad 1 Totala intäkter'!GO22))*(GW7+GX27)/1000)","v":0},{"$f":"IF(ISERROR(((ROUND((((('Blad 3 Inkomstutjämning'!GH19-'Blad 3 Inkomstutjämning'!GH24/('Blad 3 Inkomstutjämning'!GH21+'Blad 6 Befolkningsförändringar'!GY27)*1000)*'Blad 3 Inkomstutjämning'!GH$37/100))),0))+('Blad 1 Totala intäkter'!GP16+'Blad 1 Totala intäkter'!GP18+'Blad 1 Totala intäkter'!GP20+'Blad 1 Totala intäkter'!GP22))*(GX7+GY27)/1000),0,((ROUND((((('Blad 3 Inkomstutjämning'!GH19-'Blad 3 Inkomstutjämning'!GH24/('Blad 3 Inkomstutjämning'!GH21+'Blad 6 Befolkningsförändringar'!GY27)*1000)*'Blad 3 Inkomstutjämning'!GH$37/100))),0))+('Blad 1 Totala intäkter'!GP16+'Blad 1 Totala intäkter'!GP18+'Blad 1 Totala intäkter'!GP20+'Blad 1 Totala intäkter'!GP22))*(GX7+GY27)/1000)","v":0},{"$f":"IF(ISERROR(((ROUND((((('Blad 3 Inkomstutjämning'!GI19-'Blad 3 Inkomstutjämning'!GI24/('Blad 3 Inkomstutjämning'!GI21+'Blad 6 Befolkningsförändringar'!GZ27)*1000)*'Blad 3 Inkomstutjämning'!GI$37/100))),0))+('Blad 1 Totala intäkter'!GQ16+'Blad 1 Totala intäkter'!GQ18+'Blad 1 Totala intäkter'!GQ20+'Blad 1 Totala intäkter'!GQ22))*(GY7+GZ27)/1000),0,((ROUND((((('Blad 3 Inkomstutjämning'!GI19-'Blad 3 Inkomstutjämning'!GI24/('Blad 3 Inkomstutjämning'!GI21+'Blad 6 Befolkningsförändringar'!GZ27)*1000)*'Blad 3 Inkomstutjämning'!GI$37/100))),0))+('Blad 1 Totala intäkter'!GQ16+'Blad 1 Totala intäkter'!GQ18+'Blad 1 Totala intäkter'!GQ20+'Blad 1 Totala intäkter'!GQ22))*(GY7+GZ27)/1000)","v":0},{"$f":"IF(ISERROR(((ROUND((((('Blad 3 Inkomstutjämning'!GJ19-'Blad 3 Inkomstutjämning'!GJ24/('Blad 3 Inkomstutjämning'!GJ21+'Blad 6 Befolkningsförändringar'!HA27)*1000)*'Blad 3 Inkomstutjämning'!GJ$37/100))),0))+('Blad 1 Totala intäkter'!GR16+'Blad 1 Totala intäkter'!GR18+'Blad 1 Totala intäkter'!GR20+'Blad 1 Totala intäkter'!GR22))*(GZ7+HA27)/1000),0,((ROUND((((('Blad 3 Inkomstutjämning'!GJ19-'Blad 3 Inkomstutjämning'!GJ24/('Blad 3 Inkomstutjämning'!GJ21+'Blad 6 Befolkningsförändringar'!HA27)*1000)*'Blad 3 Inkomstutjämning'!GJ$37/100))),0))+('Blad 1 Totala intäkter'!GR16+'Blad 1 Totala intäkter'!GR18+'Blad 1 Totala intäkter'!GR20+'Blad 1 Totala intäkter'!GR22))*(GZ7+HA27)/1000)","v":0},{"$f":"IF(ISERROR(((ROUND((((('Blad 3 Inkomstutjämning'!GK19-'Blad 3 Inkomstutjämning'!GK24/('Blad 3 Inkomstutjämning'!GK21+'Blad 6 Befolkningsförändringar'!HB27)*1000)*'Blad 3 Inkomstutjämning'!GK$37/100))),0))+('Blad 1 Totala intäkter'!GS16+'Blad 1 Totala intäkter'!GS18+'Blad 1 Totala intäkter'!GS20+'Blad 1 Totala intäkter'!GS22))*(HA7+HB27)/1000),0,((ROUND((((('Blad 3 Inkomstutjämning'!GK19-'Blad 3 Inkomstutjämning'!GK24/('Blad 3 Inkomstutjämning'!GK21+'Blad 6 Befolkningsförändringar'!HB27)*1000)*'Blad 3 Inkomstutjämning'!GK$37/100))),0))+('Blad 1 Totala intäkter'!GS16+'Blad 1 Totala intäkter'!GS18+'Blad 1 Totala intäkter'!GS20+'Blad 1 Totala intäkter'!GS22))*(HA7+HB27)/1000)","v":0},{"$f":"IF(ISERROR(((ROUND((((('Blad 3 Inkomstutjämning'!GL19-'Blad 3 Inkomstutjämning'!GL24/('Blad 3 Inkomstutjämning'!GL21+'Blad 6 Befolkningsförändringar'!HC27)*1000)*'Blad 3 Inkomstutjämning'!GL$37/100))),0))+('Blad 1 Totala intäkter'!GT16+'Blad 1 Totala intäkter'!GT18+'Blad 1 Totala intäkter'!GT20+'Blad 1 Totala intäkter'!GT22))*(HB7+HC27)/1000),0,((ROUND((((('Blad 3 Inkomstutjämning'!GL19-'Blad 3 Inkomstutjämning'!GL24/('Blad 3 Inkomstutjämning'!GL21+'Blad 6 Befolkningsförändringar'!HC27)*1000)*'Blad 3 Inkomstutjämning'!GL$37/100))),0))+('Blad 1 Totala intäkter'!GT16+'Blad 1 Totala intäkter'!GT18+'Blad 1 Totala intäkter'!GT20+'Blad 1 Totala intäkter'!GT22))*(HB7+HC27)/1000)","v":0},{"$f":"IF(ISERROR(((ROUND((((('Blad 3 Inkomstutjämning'!GM19-'Blad 3 Inkomstutjämning'!GM24/('Blad 3 Inkomstutjämning'!GM21+'Blad 6 Befolkningsförändringar'!HD27)*1000)*'Blad 3 Inkomstutjämning'!GM$37/100))),0))+('Blad 1 Totala intäkter'!GU16+'Blad 1 Totala intäkter'!GU18+'Blad 1 Totala intäkter'!GU20+'Blad 1 Totala intäkter'!GU22))*(HC7+HD27)/1000),0,((ROUND((((('Blad 3 Inkomstutjämning'!GM19-'Blad 3 Inkomstutjämning'!GM24/('Blad 3 Inkomstutjämning'!GM21+'Blad 6 Befolkningsförändringar'!HD27)*1000)*'Blad 3 Inkomstutjämning'!GM$37/100))),0))+('Blad 1 Totala intäkter'!GU16+'Blad 1 Totala intäkter'!GU18+'Blad 1 Totala intäkter'!GU20+'Blad 1 Totala intäkter'!GU22))*(HC7+HD27)/1000)","v":0},{"$f":"IF(ISERROR(((ROUND((((('Blad 3 Inkomstutjämning'!GN19-'Blad 3 Inkomstutjämning'!GN24/('Blad 3 Inkomstutjämning'!GN21+'Blad 6 Befolkningsförändringar'!HE27)*1000)*'Blad 3 Inkomstutjämning'!GN$37/100))),0))+('Blad 1 Totala intäkter'!GV16+'Blad 1 Totala intäkter'!GV18+'Blad 1 Totala intäkter'!GV20+'Blad 1 Totala intäkter'!GV22))*(HD7+HE27)/1000),0,((ROUND((((('Blad 3 Inkomstutjämning'!GN19-'Blad 3 Inkomstutjämning'!GN24/('Blad 3 Inkomstutjämning'!GN21+'Blad 6 Befolkningsförändringar'!HE27)*1000)*'Blad 3 Inkomstutjämning'!GN$37/100))),0))+('Blad 1 Totala intäkter'!GV16+'Blad 1 Totala intäkter'!GV18+'Blad 1 Totala intäkter'!GV20+'Blad 1 Totala intäkter'!GV22))*(HD7+HE27)/1000)","v":0},{"$f":"IF(ISERROR(((ROUND((((('Blad 3 Inkomstutjämning'!GO19-'Blad 3 Inkomstutjämning'!GO24/('Blad 3 Inkomstutjämning'!GO21+'Blad 6 Befolkningsförändringar'!HF27)*1000)*'Blad 3 Inkomstutjämning'!GO$37/100))),0))+('Blad 1 Totala intäkter'!GW16+'Blad 1 Totala intäkter'!GW18+'Blad 1 Totala intäkter'!GW20+'Blad 1 Totala intäkter'!GW22))*(HE7+HF27)/1000),0,((ROUND((((('Blad 3 Inkomstutjämning'!GO19-'Blad 3 Inkomstutjämning'!GO24/('Blad 3 Inkomstutjämning'!GO21+'Blad 6 Befolkningsförändringar'!HF27)*1000)*'Blad 3 Inkomstutjämning'!GO$37/100))),0))+('Blad 1 Totala intäkter'!GW16+'Blad 1 Totala intäkter'!GW18+'Blad 1 Totala intäkter'!GW20+'Blad 1 Totala intäkter'!GW22))*(HE7+HF27)/1000)","v":0},{"$f":"IF(ISERROR(((ROUND((((('Blad 3 Inkomstutjämning'!GP19-'Blad 3 Inkomstutjämning'!GP24/('Blad 3 Inkomstutjämning'!GP21+'Blad 6 Befolkningsförändringar'!HG27)*1000)*'Blad 3 Inkomstutjämning'!GP$37/100))),0))+('Blad 1 Totala intäkter'!GX16+'Blad 1 Totala intäkter'!GX18+'Blad 1 Totala intäkter'!GX20+'Blad 1 Totala intäkter'!GX22))*(HF7+HG27)/1000),0,((ROUND((((('Blad 3 Inkomstutjämning'!GP19-'Blad 3 Inkomstutjämning'!GP24/('Blad 3 Inkomstutjämning'!GP21+'Blad 6 Befolkningsförändringar'!HG27)*1000)*'Blad 3 Inkomstutjämning'!GP$37/100))),0))+('Blad 1 Totala intäkter'!GX16+'Blad 1 Totala intäkter'!GX18+'Blad 1 Totala intäkter'!GX20+'Blad 1 Totala intäkter'!GX22))*(HF7+HG27)/1000)","v":0},{"$f":"IF(ISERROR(((ROUND((((('Blad 3 Inkomstutjämning'!GQ19-'Blad 3 Inkomstutjämning'!GQ24/('Blad 3 Inkomstutjämning'!GQ21+'Blad 6 Befolkningsförändringar'!HH27)*1000)*'Blad 3 Inkomstutjämning'!GQ$37/100))),0))+('Blad 1 Totala intäkter'!GY16+'Blad 1 Totala intäkter'!GY18+'Blad 1 Totala intäkter'!GY20+'Blad 1 Totala intäkter'!GY22))*(HG7+HH27)/1000),0,((ROUND((((('Blad 3 Inkomstutjämning'!GQ19-'Blad 3 Inkomstutjämning'!GQ24/('Blad 3 Inkomstutjämning'!GQ21+'Blad 6 Befolkningsförändringar'!HH27)*1000)*'Blad 3 Inkomstutjämning'!GQ$37/100))),0))+('Blad 1 Totala intäkter'!GY16+'Blad 1 Totala intäkter'!GY18+'Blad 1 Totala intäkter'!GY20+'Blad 1 Totala intäkter'!GY22))*(HG7+HH27)/1000)","v":0},{"$f":"IF(ISERROR(((ROUND((((('Blad 3 Inkomstutjämning'!GR19-'Blad 3 Inkomstutjämning'!GR24/('Blad 3 Inkomstutjämning'!GR21+'Blad 6 Befolkningsförändringar'!HI27)*1000)*'Blad 3 Inkomstutjämning'!GR$37/100))),0))+('Blad 1 Totala intäkter'!GZ16+'Blad 1 Totala intäkter'!GZ18+'Blad 1 Totala intäkter'!GZ20+'Blad 1 Totala intäkter'!GZ22))*(HH7+HI27)/1000),0,((ROUND((((('Blad 3 Inkomstutjämning'!GR19-'Blad 3 Inkomstutjämning'!GR24/('Blad 3 Inkomstutjämning'!GR21+'Blad 6 Befolkningsförändringar'!HI27)*1000)*'Blad 3 Inkomstutjämning'!GR$37/100))),0))+('Blad 1 Totala intäkter'!GZ16+'Blad 1 Totala intäkter'!GZ18+'Blad 1 Totala intäkter'!GZ20+'Blad 1 Totala intäkter'!GZ22))*(HH7+HI27)/1000)","v":0},{"$f":"IF(ISERROR(((ROUND((((('Blad 3 Inkomstutjämning'!GS19-'Blad 3 Inkomstutjämning'!GS24/('Blad 3 Inkomstutjämning'!GS21+'Blad 6 Befolkningsförändringar'!HJ27)*1000)*'Blad 3 Inkomstutjämning'!GS$37/100))),0))+('Blad 1 Totala intäkter'!HA16+'Blad 1 Totala intäkter'!HA18+'Blad 1 Totala intäkter'!HA20+'Blad 1 Totala intäkter'!HA22))*(HI7+HJ27)/1000),0,((ROUND((((('Blad 3 Inkomstutjämning'!GS19-'Blad 3 Inkomstutjämning'!GS24/('Blad 3 Inkomstutjämning'!GS21+'Blad 6 Befolkningsförändringar'!HJ27)*1000)*'Blad 3 Inkomstutjämning'!GS$37/100))),0))+('Blad 1 Totala intäkter'!HA16+'Blad 1 Totala intäkter'!HA18+'Blad 1 Totala intäkter'!HA20+'Blad 1 Totala intäkter'!HA22))*(HI7+HJ27)/1000)","v":0},{"$f":"IF(ISERROR(((ROUND((((('Blad 3 Inkomstutjämning'!GT19-'Blad 3 Inkomstutjämning'!GT24/('Blad 3 Inkomstutjämning'!GT21+'Blad 6 Befolkningsförändringar'!HK27)*1000)*'Blad 3 Inkomstutjämning'!GT$37/100))),0))+('Blad 1 Totala intäkter'!HB16+'Blad 1 Totala intäkter'!HB18+'Blad 1 Totala intäkter'!HB20+'Blad 1 Totala intäkter'!HB22))*(HJ7+HK27)/1000),0,((ROUND((((('Blad 3 Inkomstutjämning'!GT19-'Blad 3 Inkomstutjämning'!GT24/('Blad 3 Inkomstutjämning'!GT21+'Blad 6 Befolkningsförändringar'!HK27)*1000)*'Blad 3 Inkomstutjämning'!GT$37/100))),0))+('Blad 1 Totala intäkter'!HB16+'Blad 1 Totala intäkter'!HB18+'Blad 1 Totala intäkter'!HB20+'Blad 1 Totala intäkter'!HB22))*(HJ7+HK27)/1000)","v":0},{"$f":"IF(ISERROR(((ROUND((((('Blad 3 Inkomstutjämning'!GU19-'Blad 3 Inkomstutjämning'!GU24/('Blad 3 Inkomstutjämning'!GU21+'Blad 6 Befolkningsförändringar'!HL27)*1000)*'Blad 3 Inkomstutjämning'!GU$37/100))),0))+('Blad 1 Totala intäkter'!HC16+'Blad 1 Totala intäkter'!HC18+'Blad 1 Totala intäkter'!HC20+'Blad 1 Totala intäkter'!HC22))*(HK7+HL27)/1000),0,((ROUND((((('Blad 3 Inkomstutjämning'!GU19-'Blad 3 Inkomstutjämning'!GU24/('Blad 3 Inkomstutjämning'!GU21+'Blad 6 Befolkningsförändringar'!HL27)*1000)*'Blad 3 Inkomstutjämning'!GU$37/100))),0))+('Blad 1 Totala intäkter'!HC16+'Blad 1 Totala intäkter'!HC18+'Blad 1 Totala intäkter'!HC20+'Blad 1 Totala intäkter'!HC22))*(HK7+HL27)/1000)","v":0},{"$f":"IF(ISERROR(((ROUND((((('Blad 3 Inkomstutjämning'!GV19-'Blad 3 Inkomstutjämning'!GV24/('Blad 3 Inkomstutjämning'!GV21+'Blad 6 Befolkningsförändringar'!HM27)*1000)*'Blad 3 Inkomstutjämning'!GV$37/100))),0))+('Blad 1 Totala intäkter'!HD16+'Blad 1 Totala intäkter'!HD18+'Blad 1 Totala intäkter'!HD20+'Blad 1 Totala intäkter'!HD22))*(HL7+HM27)/1000),0,((ROUND((((('Blad 3 Inkomstutjämning'!GV19-'Blad 3 Inkomstutjämning'!GV24/('Blad 3 Inkomstutjämning'!GV21+'Blad 6 Befolkningsförändringar'!HM27)*1000)*'Blad 3 Inkomstutjämning'!GV$37/100))),0))+('Blad 1 Totala intäkter'!HD16+'Blad 1 Totala intäkter'!HD18+'Blad 1 Totala intäkter'!HD20+'Blad 1 Totala intäkter'!HD22))*(HL7+HM27)/1000)","v":0},{"$f":"IF(ISERROR(((ROUND((((('Blad 3 Inkomstutjämning'!GW19-'Blad 3 Inkomstutjämning'!GW24/('Blad 3 Inkomstutjämning'!GW21+'Blad 6 Befolkningsförändringar'!HN27)*1000)*'Blad 3 Inkomstutjämning'!GW$37/100))),0))+('Blad 1 Totala intäkter'!HE16+'Blad 1 Totala intäkter'!HE18+'Blad 1 Totala intäkter'!HE20+'Blad 1 Totala intäkter'!HE22))*(HM7+HN27)/1000),0,((ROUND((((('Blad 3 Inkomstutjämning'!GW19-'Blad 3 Inkomstutjämning'!GW24/('Blad 3 Inkomstutjämning'!GW21+'Blad 6 Befolkningsförändringar'!HN27)*1000)*'Blad 3 Inkomstutjämning'!GW$37/100))),0))+('Blad 1 Totala intäkter'!HE16+'Blad 1 Totala intäkter'!HE18+'Blad 1 Totala intäkter'!HE20+'Blad 1 Totala intäkter'!HE22))*(HM7+HN27)/1000)","v":0},{"$f":"IF(ISERROR(((ROUND((((('Blad 3 Inkomstutjämning'!GX19-'Blad 3 Inkomstutjämning'!GX24/('Blad 3 Inkomstutjämning'!GX21+'Blad 6 Befolkningsförändringar'!HO27)*1000)*'Blad 3 Inkomstutjämning'!GX$37/100))),0))+('Blad 1 Totala intäkter'!HF16+'Blad 1 Totala intäkter'!HF18+'Blad 1 Totala intäkter'!HF20+'Blad 1 Totala intäkter'!HF22))*(HN7+HO27)/1000),0,((ROUND((((('Blad 3 Inkomstutjämning'!GX19-'Blad 3 Inkomstutjämning'!GX24/('Blad 3 Inkomstutjämning'!GX21+'Blad 6 Befolkningsförändringar'!HO27)*1000)*'Blad 3 Inkomstutjämning'!GX$37/100))),0))+('Blad 1 Totala intäkter'!HF16+'Blad 1 Totala intäkter'!HF18+'Blad 1 Totala intäkter'!HF20+'Blad 1 Totala intäkter'!HF22))*(HN7+HO27)/1000)","v":0},{"$f":"IF(ISERROR(((ROUND((((('Blad 3 Inkomstutjämning'!GY19-'Blad 3 Inkomstutjämning'!GY24/('Blad 3 Inkomstutjämning'!GY21+'Blad 6 Befolkningsförändringar'!HP27)*1000)*'Blad 3 Inkomstutjämning'!GY$37/100))),0))+('Blad 1 Totala intäkter'!HG16+'Blad 1 Totala intäkter'!HG18+'Blad 1 Totala intäkter'!HG20+'Blad 1 Totala intäkter'!HG22))*(HO7+HP27)/1000),0,((ROUND((((('Blad 3 Inkomstutjämning'!GY19-'Blad 3 Inkomstutjämning'!GY24/('Blad 3 Inkomstutjämning'!GY21+'Blad 6 Befolkningsförändringar'!HP27)*1000)*'Blad 3 Inkomstutjämning'!GY$37/100))),0))+('Blad 1 Totala intäkter'!HG16+'Blad 1 Totala intäkter'!HG18+'Blad 1 Totala intäkter'!HG20+'Blad 1 Totala intäkter'!HG22))*(HO7+HP27)/1000)","v":0},{"$f":"IF(ISERROR(((ROUND((((('Blad 3 Inkomstutjämning'!GZ19-'Blad 3 Inkomstutjämning'!GZ24/('Blad 3 Inkomstutjämning'!GZ21+'Blad 6 Befolkningsförändringar'!HQ27)*1000)*'Blad 3 Inkomstutjämning'!GZ$37/100))),0))+('Blad 1 Totala intäkter'!HH16+'Blad 1 Totala intäkter'!HH18+'Blad 1 Totala intäkter'!HH20+'Blad 1 Totala intäkter'!HH22))*(HP7+HQ27)/1000),0,((ROUND((((('Blad 3 Inkomstutjämning'!GZ19-'Blad 3 Inkomstutjämning'!GZ24/('Blad 3 Inkomstutjämning'!GZ21+'Blad 6 Befolkningsförändringar'!HQ27)*1000)*'Blad 3 Inkomstutjämning'!GZ$37/100))),0))+('Blad 1 Totala intäkter'!HH16+'Blad 1 Totala intäkter'!HH18+'Blad 1 Totala intäkter'!HH20+'Blad 1 Totala intäkter'!HH22))*(HP7+HQ27)/1000)","v":0},{"$f":"IF(ISERROR(((ROUND((((('Blad 3 Inkomstutjämning'!HA19-'Blad 3 Inkomstutjämning'!HA24/('Blad 3 Inkomstutjämning'!HA21+'Blad 6 Befolkningsförändringar'!HR27)*1000)*'Blad 3 Inkomstutjämning'!HA$37/100))),0))+('Blad 1 Totala intäkter'!HI16+'Blad 1 Totala intäkter'!HI18+'Blad 1 Totala intäkter'!HI20+'Blad 1 Totala intäkter'!HI22))*(HQ7+HR27)/1000),0,((ROUND((((('Blad 3 Inkomstutjämning'!HA19-'Blad 3 Inkomstutjämning'!HA24/('Blad 3 Inkomstutjämning'!HA21+'Blad 6 Befolkningsförändringar'!HR27)*1000)*'Blad 3 Inkomstutjämning'!HA$37/100))),0))+('Blad 1 Totala intäkter'!HI16+'Blad 1 Totala intäkter'!HI18+'Blad 1 Totala intäkter'!HI20+'Blad 1 Totala intäkter'!HI22))*(HQ7+HR27)/1000)","v":0},{"$f":"IF(ISERROR(((ROUND((((('Blad 3 Inkomstutjämning'!HB19-'Blad 3 Inkomstutjämning'!HB24/('Blad 3 Inkomstutjämning'!HB21+'Blad 6 Befolkningsförändringar'!HS27)*1000)*'Blad 3 Inkomstutjämning'!HB$37/100))),0))+('Blad 1 Totala intäkter'!HJ16+'Blad 1 Totala intäkter'!HJ18+'Blad 1 Totala intäkter'!HJ20+'Blad 1 Totala intäkter'!HJ22))*(HR7+HS27)/1000),0,((ROUND((((('Blad 3 Inkomstutjämning'!HB19-'Blad 3 Inkomstutjämning'!HB24/('Blad 3 Inkomstutjämning'!HB21+'Blad 6 Befolkningsförändringar'!HS27)*1000)*'Blad 3 Inkomstutjämning'!HB$37/100))),0))+('Blad 1 Totala intäkter'!HJ16+'Blad 1 Totala intäkter'!HJ18+'Blad 1 Totala intäkter'!HJ20+'Blad 1 Totala intäkter'!HJ22))*(HR7+HS27)/1000)","v":0},{"$f":"IF(ISERROR(((ROUND((((('Blad 3 Inkomstutjämning'!HC19-'Blad 3 Inkomstutjämning'!HC24/('Blad 3 Inkomstutjämning'!HC21+'Blad 6 Befolkningsförändringar'!HT27)*1000)*'Blad 3 Inkomstutjämning'!HC$37/100))),0))+('Blad 1 Totala intäkter'!HK16+'Blad 1 Totala intäkter'!HK18+'Blad 1 Totala intäkter'!HK20+'Blad 1 Totala intäkter'!HK22))*(HS7+HT27)/1000),0,((ROUND((((('Blad 3 Inkomstutjämning'!HC19-'Blad 3 Inkomstutjämning'!HC24/('Blad 3 Inkomstutjämning'!HC21+'Blad 6 Befolkningsförändringar'!HT27)*1000)*'Blad 3 Inkomstutjämning'!HC$37/100))),0))+('Blad 1 Totala intäkter'!HK16+'Blad 1 Totala intäkter'!HK18+'Blad 1 Totala intäkter'!HK20+'Blad 1 Totala intäkter'!HK22))*(HS7+HT27)/1000)","v":0},{"$f":"IF(ISERROR(((ROUND((((('Blad 3 Inkomstutjämning'!HD19-'Blad 3 Inkomstutjämning'!HD24/('Blad 3 Inkomstutjämning'!HD21+'Blad 6 Befolkningsförändringar'!HU27)*1000)*'Blad 3 Inkomstutjämning'!HD$37/100))),0))+('Blad 1 Totala intäkter'!HL16+'Blad 1 Totala intäkter'!HL18+'Blad 1 Totala intäkter'!HL20+'Blad 1 Totala intäkter'!HL22))*(HT7+HU27)/1000),0,((ROUND((((('Blad 3 Inkomstutjämning'!HD19-'Blad 3 Inkomstutjämning'!HD24/('Blad 3 Inkomstutjämning'!HD21+'Blad 6 Befolkningsförändringar'!HU27)*1000)*'Blad 3 Inkomstutjämning'!HD$37/100))),0))+('Blad 1 Totala intäkter'!HL16+'Blad 1 Totala intäkter'!HL18+'Blad 1 Totala intäkter'!HL20+'Blad 1 Totala intäkter'!HL22))*(HT7+HU27)/1000)","v":0},{"$f":"IF(ISERROR(((ROUND((((('Blad 3 Inkomstutjämning'!HE19-'Blad 3 Inkomstutjämning'!HE24/('Blad 3 Inkomstutjämning'!HE21+'Blad 6 Befolkningsförändringar'!HV27)*1000)*'Blad 3 Inkomstutjämning'!HE$37/100))),0))+('Blad 1 Totala intäkter'!HM16+'Blad 1 Totala intäkter'!HM18+'Blad 1 Totala intäkter'!HM20+'Blad 1 Totala intäkter'!HM22))*(HU7+HV27)/1000),0,((ROUND((((('Blad 3 Inkomstutjämning'!HE19-'Blad 3 Inkomstutjämning'!HE24/('Blad 3 Inkomstutjämning'!HE21+'Blad 6 Befolkningsförändringar'!HV27)*1000)*'Blad 3 Inkomstutjämning'!HE$37/100))),0))+('Blad 1 Totala intäkter'!HM16+'Blad 1 Totala intäkter'!HM18+'Blad 1 Totala intäkter'!HM20+'Blad 1 Totala intäkter'!HM22))*(HU7+HV27)/1000)","v":0},{"$f":"IF(ISERROR(((ROUND((((('Blad 3 Inkomstutjämning'!HF19-'Blad 3 Inkomstutjämning'!HF24/('Blad 3 Inkomstutjämning'!HF21+'Blad 6 Befolkningsförändringar'!HW27)*1000)*'Blad 3 Inkomstutjämning'!HF$37/100))),0))+('Blad 1 Totala intäkter'!HN16+'Blad 1 Totala intäkter'!HN18+'Blad 1 Totala intäkter'!HN20+'Blad 1 Totala intäkter'!HN22))*(HV7+HW27)/1000),0,((ROUND((((('Blad 3 Inkomstutjämning'!HF19-'Blad 3 Inkomstutjämning'!HF24/('Blad 3 Inkomstutjämning'!HF21+'Blad 6 Befolkningsförändringar'!HW27)*1000)*'Blad 3 Inkomstutjämning'!HF$37/100))),0))+('Blad 1 Totala intäkter'!HN16+'Blad 1 Totala intäkter'!HN18+'Blad 1 Totala intäkter'!HN20+'Blad 1 Totala intäkter'!HN22))*(HV7+HW27)/1000)","v":0},{"$f":"IF(ISERROR(((ROUND((((('Blad 3 Inkomstutjämning'!HG19-'Blad 3 Inkomstutjämning'!HG24/('Blad 3 Inkomstutjämning'!HG21+'Blad 6 Befolkningsförändringar'!HX27)*1000)*'Blad 3 Inkomstutjämning'!HG$37/100))),0))+('Blad 1 Totala intäkter'!HO16+'Blad 1 Totala intäkter'!HO18+'Blad 1 Totala intäkter'!HO20+'Blad 1 Totala intäkter'!HO22))*(HW7+HX27)/1000),0,((ROUND((((('Blad 3 Inkomstutjämning'!HG19-'Blad 3 Inkomstutjämning'!HG24/('Blad 3 Inkomstutjämning'!HG21+'Blad 6 Befolkningsförändringar'!HX27)*1000)*'Blad 3 Inkomstutjämning'!HG$37/100))),0))+('Blad 1 Totala intäkter'!HO16+'Blad 1 Totala intäkter'!HO18+'Blad 1 Totala intäkter'!HO20+'Blad 1 Totala intäkter'!HO22))*(HW7+HX27)/1000)","v":0},{"$f":"IF(ISERROR(((ROUND((((('Blad 3 Inkomstutjämning'!HH19-'Blad 3 Inkomstutjämning'!HH24/('Blad 3 Inkomstutjämning'!HH21+'Blad 6 Befolkningsförändringar'!HY27)*1000)*'Blad 3 Inkomstutjämning'!HH$37/100))),0))+('Blad 1 Totala intäkter'!#REF!+'Blad 1 Totala intäkter'!#REF!+'Blad 1 Totala intäkter'!#REF!+'Blad 1 Totala intäkter'!#REF!))*(HX7+HY27)/1000),0,((ROUND((((('Blad 3 Inkomstutjämning'!HH19-'Blad 3 Inkomstutjämning'!HH24/('Blad 3 Inkomstutjämning'!HH21+'Blad 6 Befolkningsförändringar'!HY27)*1000)*'Blad 3 Inkomstutjämning'!HH$37/100))),0))+('Blad 1 Totala intäkter'!#REF!+'Blad 1 Totala intäkter'!#REF!+'Blad 1 Totala intäkter'!#REF!+'Blad 1 Totala intäkter'!#REF!))*(HX7+HY27)/1000)","v":0},{"$f":"IF(ISERROR(((ROUND((((('Blad 3 Inkomstutjämning'!HI19-'Blad 3 Inkomstutjämning'!HI24/('Blad 3 Inkomstutjämning'!HI21+'Blad 6 Befolkningsförändringar'!HZ27)*1000)*'Blad 3 Inkomstutjämning'!HI$37/100))),0))+('Blad 1 Totala intäkter'!#REF!+'Blad 1 Totala intäkter'!#REF!+'Blad 1 Totala intäkter'!#REF!+'Blad 1 Totala intäkter'!#REF!))*(HY7+HZ27)/1000),0,((ROUND((((('Blad 3 Inkomstutjämning'!HI19-'Blad 3 Inkomstutjämning'!HI24/('Blad 3 Inkomstutjämning'!HI21+'Blad 6 Befolkningsförändringar'!HZ27)*1000)*'Blad 3 Inkomstutjämning'!HI$37/100))),0))+('Blad 1 Totala intäkter'!#REF!+'Blad 1 Totala intäkter'!#REF!+'Blad 1 Totala intäkter'!#REF!+'Blad 1 Totala intäkter'!#REF!))*(HY7+HZ27)/1000)","v":0},{"$f":"IF(ISERROR(((ROUND((((('Blad 3 Inkomstutjämning'!HJ19-'Blad 3 Inkomstutjämning'!HJ24/('Blad 3 Inkomstutjämning'!HJ21+'Blad 6 Befolkningsförändringar'!IA27)*1000)*'Blad 3 Inkomstutjämning'!HJ$37/100))),0))+('Blad 1 Totala intäkter'!#REF!+'Blad 1 Totala intäkter'!#REF!+'Blad 1 Totala intäkter'!#REF!+'Blad 1 Totala intäkter'!#REF!))*(HZ7+IA27)/1000),0,((ROUND((((('Blad 3 Inkomstutjämning'!HJ19-'Blad 3 Inkomstutjämning'!HJ24/('Blad 3 Inkomstutjämning'!HJ21+'Blad 6 Befolkningsförändringar'!IA27)*1000)*'Blad 3 Inkomstutjämning'!HJ$37/100))),0))+('Blad 1 Totala intäkter'!#REF!+'Blad 1 Totala intäkter'!#REF!+'Blad 1 Totala intäkter'!#REF!+'Blad 1 Totala intäkter'!#REF!))*(HZ7+IA27)/1000)","v":0},{"$f":"IF(ISERROR(((ROUND((((('Blad 3 Inkomstutjämning'!HK19-'Blad 3 Inkomstutjämning'!HK24/('Blad 3 Inkomstutjämning'!HK21+'Blad 6 Befolkningsförändringar'!IB27)*1000)*'Blad 3 Inkomstutjämning'!HK$37/100))),0))+('Blad 1 Totala intäkter'!#REF!+'Blad 1 Totala intäkter'!#REF!+'Blad 1 Totala intäkter'!#REF!+'Blad 1 Totala intäkter'!#REF!))*(IA7+IB27)/1000),0,((ROUND((((('Blad 3 Inkomstutjämning'!HK19-'Blad 3 Inkomstutjämning'!HK24/('Blad 3 Inkomstutjämning'!HK21+'Blad 6 Befolkningsförändringar'!IB27)*1000)*'Blad 3 Inkomstutjämning'!HK$37/100))),0))+('Blad 1 Totala intäkter'!#REF!+'Blad 1 Totala intäkter'!#REF!+'Blad 1 Totala intäkter'!#REF!+'Blad 1 Totala intäkter'!#REF!))*(IA7+IB27)/1000)","v":0},{"$f":"IF(ISERROR(((ROUND((((('Blad 3 Inkomstutjämning'!HL19-'Blad 3 Inkomstutjämning'!HL24/('Blad 3 Inkomstutjämning'!HL21+'Blad 6 Befolkningsförändringar'!IC27)*1000)*'Blad 3 Inkomstutjämning'!HL$37/100))),0))+('Blad 1 Totala intäkter'!#REF!+'Blad 1 Totala intäkter'!#REF!+'Blad 1 Totala intäkter'!#REF!+'Blad 1 Totala intäkter'!#REF!))*(IB7+IC27)/1000),0,((ROUND((((('Blad 3 Inkomstutjämning'!HL19-'Blad 3 Inkomstutjämning'!HL24/('Blad 3 Inkomstutjämning'!HL21+'Blad 6 Befolkningsförändringar'!IC27)*1000)*'Blad 3 Inkomstutjämning'!HL$37/100))),0))+('Blad 1 Totala intäkter'!#REF!+'Blad 1 Totala intäkter'!#REF!+'Blad 1 Totala intäkter'!#REF!+'Blad 1 Totala intäkter'!#REF!))*(IB7+IC27)/1000)","v":0},{"$f":"IF(ISERROR(((ROUND((((('Blad 3 Inkomstutjämning'!HM19-'Blad 3 Inkomstutjämning'!HM24/('Blad 3 Inkomstutjämning'!HM21+'Blad 6 Befolkningsförändringar'!ID27)*1000)*'Blad 3 Inkomstutjämning'!HM$37/100))),0))+('Blad 1 Totala intäkter'!#REF!+'Blad 1 Totala intäkter'!#REF!+'Blad 1 Totala intäkter'!#REF!+'Blad 1 Totala intäkter'!#REF!))*(IC7+ID27)/1000),0,((ROUND((((('Blad 3 Inkomstutjämning'!HM19-'Blad 3 Inkomstutjämning'!HM24/('Blad 3 Inkomstutjämning'!HM21+'Blad 6 Befolkningsförändringar'!ID27)*1000)*'Blad 3 Inkomstutjämning'!HM$37/100))),0))+('Blad 1 Totala intäkter'!#REF!+'Blad 1 Totala intäkter'!#REF!+'Blad 1 Totala intäkter'!#REF!+'Blad 1 Totala intäkter'!#REF!))*(IC7+ID27)/1000)","v":0},{"$f":"IF(ISERROR(((ROUND((((('Blad 3 Inkomstutjämning'!HN19-'Blad 3 Inkomstutjämning'!HN24/('Blad 3 Inkomstutjämning'!HN21+'Blad 6 Befolkningsförändringar'!IE27)*1000)*'Blad 3 Inkomstutjämning'!HN$37/100))),0))+('Blad 1 Totala intäkter'!#REF!+'Blad 1 Totala intäkter'!#REF!+'Blad 1 Totala intäkter'!#REF!+'Blad 1 Totala intäkter'!#REF!))*(ID7+IE27)/1000),0,((ROUND((((('Blad 3 Inkomstutjämning'!HN19-'Blad 3 Inkomstutjämning'!HN24/('Blad 3 Inkomstutjämning'!HN21+'Blad 6 Befolkningsförändringar'!IE27)*1000)*'Blad 3 Inkomstutjämning'!HN$37/100))),0))+('Blad 1 Totala intäkter'!#REF!+'Blad 1 Totala intäkter'!#REF!+'Blad 1 Totala intäkter'!#REF!+'Blad 1 Totala intäkter'!#REF!))*(ID7+IE27)/1000)","v":0},{"$f":"IF(ISERROR(((ROUND((((('Blad 3 Inkomstutjämning'!HO19-'Blad 3 Inkomstutjämning'!HO24/('Blad 3 Inkomstutjämning'!HO21+'Blad 6 Befolkningsförändringar'!IF27)*1000)*'Blad 3 Inkomstutjämning'!HO$37/100))),0))+('Blad 1 Totala intäkter'!#REF!+'Blad 1 Totala intäkter'!#REF!+'Blad 1 Totala intäkter'!#REF!+'Blad 1 Totala intäkter'!#REF!))*(IE7+IF27)/1000),0,((ROUND((((('Blad 3 Inkomstutjämning'!HO19-'Blad 3 Inkomstutjämning'!HO24/('Blad 3 Inkomstutjämning'!HO21+'Blad 6 Befolkningsförändringar'!IF27)*1000)*'Blad 3 Inkomstutjämning'!HO$37/100))),0))+('Blad 1 Totala intäkter'!#REF!+'Blad 1 Totala intäkter'!#REF!+'Blad 1 Totala intäkter'!#REF!+'Blad 1 Totala intäkter'!#REF!))*(IE7+IF27)/1000)","v":0},{"$f":"IF(ISERROR(((ROUND((((('Blad 3 Inkomstutjämning'!HP19-'Blad 3 Inkomstutjämning'!HP24/('Blad 3 Inkomstutjämning'!HP21+'Blad 6 Befolkningsförändringar'!IG27)*1000)*'Blad 3 Inkomstutjämning'!HP$37/100))),0))+('Blad 1 Totala intäkter'!#REF!+'Blad 1 Totala intäkter'!#REF!+'Blad 1 Totala intäkter'!#REF!+'Blad 1 Totala intäkter'!#REF!))*(IF7+IG27)/1000),0,((ROUND((((('Blad 3 Inkomstutjämning'!HP19-'Blad 3 Inkomstutjämning'!HP24/('Blad 3 Inkomstutjämning'!HP21+'Blad 6 Befolkningsförändringar'!IG27)*1000)*'Blad 3 Inkomstutjämning'!HP$37/100))),0))+('Blad 1 Totala intäkter'!#REF!+'Blad 1 Totala intäkter'!#REF!+'Blad 1 Totala intäkter'!#REF!+'Blad 1 Totala intäkter'!#REF!))*(IF7+IG27)/1000)","v":0},{"$f":"IF(ISERROR(((ROUND((((('Blad 3 Inkomstutjämning'!HQ19-'Blad 3 Inkomstutjämning'!HQ24/('Blad 3 Inkomstutjämning'!HQ21+'Blad 6 Befolkningsförändringar'!IH27)*1000)*'Blad 3 Inkomstutjämning'!HQ$37/100))),0))+('Blad 1 Totala intäkter'!#REF!+'Blad 1 Totala intäkter'!#REF!+'Blad 1 Totala intäkter'!#REF!+'Blad 1 Totala intäkter'!#REF!))*(IG7+IH27)/1000),0,((ROUND((((('Blad 3 Inkomstutjämning'!HQ19-'Blad 3 Inkomstutjämning'!HQ24/('Blad 3 Inkomstutjämning'!HQ21+'Blad 6 Befolkningsförändringar'!IH27)*1000)*'Blad 3 Inkomstutjämning'!HQ$37/100))),0))+('Blad 1 Totala intäkter'!#REF!+'Blad 1 Totala intäkter'!#REF!+'Blad 1 Totala intäkter'!#REF!+'Blad 1 Totala intäkter'!#REF!))*(IG7+IH27)/1000)","v":0},{"$f":"IF(ISERROR(((ROUND((((('Blad 3 Inkomstutjämning'!HR19-'Blad 3 Inkomstutjämning'!HR24/('Blad 3 Inkomstutjämning'!HR21+'Blad 6 Befolkningsförändringar'!II27)*1000)*'Blad 3 Inkomstutjämning'!HR$37/100))),0))+('Blad 1 Totala intäkter'!#REF!+'Blad 1 Totala intäkter'!#REF!+'Blad 1 Totala intäkter'!#REF!+'Blad 1 Totala intäkter'!#REF!))*(IH7+II27)/1000),0,((ROUND((((('Blad 3 Inkomstutjämning'!HR19-'Blad 3 Inkomstutjämning'!HR24/('Blad 3 Inkomstutjämning'!HR21+'Blad 6 Befolkningsförändringar'!II27)*1000)*'Blad 3 Inkomstutjämning'!HR$37/100))),0))+('Blad 1 Totala intäkter'!#REF!+'Blad 1 Totala intäkter'!#REF!+'Blad 1 Totala intäkter'!#REF!+'Blad 1 Totala intäkter'!#REF!))*(IH7+II27)/1000)","v":0},{"$f":"IF(ISERROR(((ROUND((((('Blad 3 Inkomstutjämning'!HS19-'Blad 3 Inkomstutjämning'!HS24/('Blad 3 Inkomstutjämning'!HS21+'Blad 6 Befolkningsförändringar'!IJ27)*1000)*'Blad 3 Inkomstutjämning'!HS$37/100))),0))+('Blad 1 Totala intäkter'!#REF!+'Blad 1 Totala intäkter'!#REF!+'Blad 1 Totala intäkter'!#REF!+'Blad 1 Totala intäkter'!#REF!))*(II7+IJ27)/1000),0,((ROUND((((('Blad 3 Inkomstutjämning'!HS19-'Blad 3 Inkomstutjämning'!HS24/('Blad 3 Inkomstutjämning'!HS21+'Blad 6 Befolkningsförändringar'!IJ27)*1000)*'Blad 3 Inkomstutjämning'!HS$37/100))),0))+('Blad 1 Totala intäkter'!#REF!+'Blad 1 Totala intäkter'!#REF!+'Blad 1 Totala intäkter'!#REF!+'Blad 1 Totala intäkter'!#REF!))*(II7+IJ27)/1000)","v":0},{"$f":"IF(ISERROR(((ROUND((((('Blad 3 Inkomstutjämning'!HT19-'Blad 3 Inkomstutjämning'!HT24/('Blad 3 Inkomstutjämning'!HT21+'Blad 6 Befolkningsförändringar'!IK27)*1000)*'Blad 3 Inkomstutjämning'!HT$37/100))),0))+('Blad 1 Totala intäkter'!#REF!+'Blad 1 Totala intäkter'!#REF!+'Blad 1 Totala intäkter'!#REF!+'Blad 1 Totala intäkter'!#REF!))*(IJ7+IK27)/1000),0,((ROUND((((('Blad 3 Inkomstutjämning'!HT19-'Blad 3 Inkomstutjämning'!HT24/('Blad 3 Inkomstutjämning'!HT21+'Blad 6 Befolkningsförändringar'!IK27)*1000)*'Blad 3 Inkomstutjämning'!HT$37/100))),0))+('Blad 1 Totala intäkter'!#REF!+'Blad 1 Totala intäkter'!#REF!+'Blad 1 Totala intäkter'!#REF!+'Blad 1 Totala intäkter'!#REF!))*(IJ7+IK27)/1000)","v":0},{"$f":"IF(ISERROR(((ROUND((((('Blad 3 Inkomstutjämning'!HU19-'Blad 3 Inkomstutjämning'!HU24/('Blad 3 Inkomstutjämning'!HU21+'Blad 6 Befolkningsförändringar'!IL27)*1000)*'Blad 3 Inkomstutjämning'!HU$37/100))),0))+('Blad 1 Totala intäkter'!#REF!+'Blad 1 Totala intäkter'!#REF!+'Blad 1 Totala intäkter'!#REF!+'Blad 1 Totala intäkter'!#REF!))*(IK7+IL27)/1000),0,((ROUND((((('Blad 3 Inkomstutjämning'!HU19-'Blad 3 Inkomstutjämning'!HU24/('Blad 3 Inkomstutjämning'!HU21+'Blad 6 Befolkningsförändringar'!IL27)*1000)*'Blad 3 Inkomstutjämning'!HU$37/100))),0))+('Blad 1 Totala intäkter'!#REF!+'Blad 1 Totala intäkter'!#REF!+'Blad 1 Totala intäkter'!#REF!+'Blad 1 Totala intäkter'!#REF!))*(IK7+IL27)/1000)","v":0},{"$f":"IF(ISERROR(((ROUND((((('Blad 3 Inkomstutjämning'!HV19-'Blad 3 Inkomstutjämning'!HV24/('Blad 3 Inkomstutjämning'!HV21+'Blad 6 Befolkningsförändringar'!IM27)*1000)*'Blad 3 Inkomstutjämning'!HV$37/100))),0))+('Blad 1 Totala intäkter'!#REF!+'Blad 1 Totala intäkter'!#REF!+'Blad 1 Totala intäkter'!#REF!+'Blad 1 Totala intäkter'!#REF!))*(IL7+IM27)/1000),0,((ROUND((((('Blad 3 Inkomstutjämning'!HV19-'Blad 3 Inkomstutjämning'!HV24/('Blad 3 Inkomstutjämning'!HV21+'Blad 6 Befolkningsförändringar'!IM27)*1000)*'Blad 3 Inkomstutjämning'!HV$37/100))),0))+('Blad 1 Totala intäkter'!#REF!+'Blad 1 Totala intäkter'!#REF!+'Blad 1 Totala intäkter'!#REF!+'Blad 1 Totala intäkter'!#REF!))*(IL7+IM27)/1000)","v":0},{"$f":"IF(ISERROR(((ROUND((((('Blad 3 Inkomstutjämning'!HW19-'Blad 3 Inkomstutjämning'!HW24/('Blad 3 Inkomstutjämning'!HW21+'Blad 6 Befolkningsförändringar'!IN27)*1000)*'Blad 3 Inkomstutjämning'!HW$37/100))),0))+('Blad 1 Totala intäkter'!#REF!+'Blad 1 Totala intäkter'!#REF!+'Blad 1 Totala intäkter'!#REF!+'Blad 1 Totala intäkter'!#REF!))*(IM7+IN27)/1000),0,((ROUND((((('Blad 3 Inkomstutjämning'!HW19-'Blad 3 Inkomstutjämning'!HW24/('Blad 3 Inkomstutjämning'!HW21+'Blad 6 Befolkningsförändringar'!IN27)*1000)*'Blad 3 Inkomstutjämning'!HW$37/100))),0))+('Blad 1 Totala intäkter'!#REF!+'Blad 1 Totala intäkter'!#REF!+'Blad 1 Totala intäkter'!#REF!+'Blad 1 Totala intäkter'!#REF!))*(IM7+IN27)/1000)","v":0},{"$f":"IF(ISERROR(((ROUND((((('Blad 3 Inkomstutjämning'!HX19-'Blad 3 Inkomstutjämning'!HX24/('Blad 3 Inkomstutjämning'!HX21+'Blad 6 Befolkningsförändringar'!IO27)*1000)*'Blad 3 Inkomstutjämning'!HX$37/100))),0))+('Blad 1 Totala intäkter'!#REF!+'Blad 1 Totala intäkter'!#REF!+'Blad 1 Totala intäkter'!#REF!+'Blad 1 Totala intäkter'!#REF!))*(IN7+IO27)/1000),0,((ROUND((((('Blad 3 Inkomstutjämning'!HX19-'Blad 3 Inkomstutjämning'!HX24/('Blad 3 Inkomstutjämning'!HX21+'Blad 6 Befolkningsförändringar'!IO27)*1000)*'Blad 3 Inkomstutjämning'!HX$37/100))),0))+('Blad 1 Totala intäkter'!#REF!+'Blad 1 Totala intäkter'!#REF!+'Blad 1 Totala intäkter'!#REF!+'Blad 1 Totala intäkter'!#REF!))*(IN7+IO27)/1000)","v":0},{"$f":"IF(ISERROR(((ROUND((((('Blad 3 Inkomstutjämning'!HY19-'Blad 3 Inkomstutjämning'!HY24/('Blad 3 Inkomstutjämning'!HY21+'Blad 6 Befolkningsförändringar'!IP27)*1000)*'Blad 3 Inkomstutjämning'!HY$37/100))),0))+('Blad 1 Totala intäkter'!#REF!+'Blad 1 Totala intäkter'!#REF!+'Blad 1 Totala intäkter'!#REF!+'Blad 1 Totala intäkter'!#REF!))*(IO7+IP27)/1000),0,((ROUND((((('Blad 3 Inkomstutjämning'!HY19-'Blad 3 Inkomstutjämning'!HY24/('Blad 3 Inkomstutjämning'!HY21+'Blad 6 Befolkningsförändringar'!IP27)*1000)*'Blad 3 Inkomstutjämning'!HY$37/100))),0))+('Blad 1 Totala intäkter'!#REF!+'Blad 1 Totala intäkter'!#REF!+'Blad 1 Totala intäkter'!#REF!+'Blad 1 Totala intäkter'!#REF!))*(IO7+IP27)/1000)","v":0},{"$f":"IF(ISERROR(((ROUND((((('Blad 3 Inkomstutjämning'!HZ19-'Blad 3 Inkomstutjämning'!HZ24/('Blad 3 Inkomstutjämning'!HZ21+'Blad 6 Befolkningsförändringar'!IQ27)*1000)*'Blad 3 Inkomstutjämning'!HZ$37/100))),0))+('Blad 1 Totala intäkter'!#REF!+'Blad 1 Totala intäkter'!#REF!+'Blad 1 Totala intäkter'!#REF!+'Blad 1 Totala intäkter'!#REF!))*(IP7+IQ27)/1000),0,((ROUND((((('Blad 3 Inkomstutjämning'!HZ19-'Blad 3 Inkomstutjämning'!HZ24/('Blad 3 Inkomstutjämning'!HZ21+'Blad 6 Befolkningsförändringar'!IQ27)*1000)*'Blad 3 Inkomstutjämning'!HZ$37/100))),0))+('Blad 1 Totala intäkter'!#REF!+'Blad 1 Totala intäkter'!#REF!+'Blad 1 Totala intäkter'!#REF!+'Blad 1 Totala intäkter'!#REF!))*(IP7+IQ27)/1000)","v":0},{"$f":"IF(ISERROR(((ROUND((((('Blad 3 Inkomstutjämning'!IA19-'Blad 3 Inkomstutjämning'!IA24/('Blad 3 Inkomstutjämning'!IA21+'Blad 6 Befolkningsförändringar'!IR27)*1000)*'Blad 3 Inkomstutjämning'!IA$37/100))),0))+('Blad 1 Totala intäkter'!#REF!+'Blad 1 Totala intäkter'!#REF!+'Blad 1 Totala intäkter'!#REF!+'Blad 1 Totala intäkter'!#REF!))*(IQ7+IR27)/1000),0,((ROUND((((('Blad 3 Inkomstutjämning'!IA19-'Blad 3 Inkomstutjämning'!IA24/('Blad 3 Inkomstutjämning'!IA21+'Blad 6 Befolkningsförändringar'!IR27)*1000)*'Blad 3 Inkomstutjämning'!IA$37/100))),0))+('Blad 1 Totala intäkter'!#REF!+'Blad 1 Totala intäkter'!#REF!+'Blad 1 Totala intäkter'!#REF!+'Blad 1 Totala intäkter'!#REF!))*(IQ7+IR27)/1000)","v":0},{"$f":"IF(ISERROR(((ROUND((((('Blad 3 Inkomstutjämning'!IB19-'Blad 3 Inkomstutjämning'!IB24/('Blad 3 Inkomstutjämning'!IB21+'Blad 6 Befolkningsförändringar'!IS27)*1000)*'Blad 3 Inkomstutjämning'!IB$37/100))),0))+('Blad 1 Totala intäkter'!#REF!+'Blad 1 Totala intäkter'!#REF!+'Blad 1 Totala intäkter'!#REF!+'Blad 1 Totala intäkter'!#REF!))*(IR7+IS27)/1000),0,((ROUND((((('Blad 3 Inkomstutjämning'!IB19-'Blad 3 Inkomstutjämning'!IB24/('Blad 3 Inkomstutjämning'!IB21+'Blad 6 Befolkningsförändringar'!IS27)*1000)*'Blad 3 Inkomstutjämning'!IB$37/100))),0))+('Blad 1 Totala intäkter'!#REF!+'Blad 1 Totala intäkter'!#REF!+'Blad 1 Totala intäkter'!#REF!+'Blad 1 Totala intäkter'!#REF!))*(IR7+IS27)/1000)","v":0},{"$f":"IF(ISERROR(((ROUND((((('Blad 3 Inkomstutjämning'!IC19-'Blad 3 Inkomstutjämning'!IC24/('Blad 3 Inkomstutjämning'!IC21+'Blad 6 Befolkningsförändringar'!IT27)*1000)*'Blad 3 Inkomstutjämning'!IC$37/100))),0))+('Blad 1 Totala intäkter'!#REF!+'Blad 1 Totala intäkter'!#REF!+'Blad 1 Totala intäkter'!#REF!+'Blad 1 Totala intäkter'!#REF!))*(IS7+IT27)/1000),0,((ROUND((((('Blad 3 Inkomstutjämning'!IC19-'Blad 3 Inkomstutjämning'!IC24/('Blad 3 Inkomstutjämning'!IC21+'Blad 6 Befolkningsförändringar'!IT27)*1000)*'Blad 3 Inkomstutjämning'!IC$37/100))),0))+('Blad 1 Totala intäkter'!#REF!+'Blad 1 Totala intäkter'!#REF!+'Blad 1 Totala intäkter'!#REF!+'Blad 1 Totala intäkter'!#REF!))*(IS7+IT27)/1000)","v":0},{"$f":"IF(ISERROR(((ROUND((((('Blad 3 Inkomstutjämning'!ID19-'Blad 3 Inkomstutjämning'!ID24/('Blad 3 Inkomstutjämning'!ID21+'Blad 6 Befolkningsförändringar'!IU27)*1000)*'Blad 3 Inkomstutjämning'!ID$37/100))),0))+('Blad 1 Totala intäkter'!#REF!+'Blad 1 Totala intäkter'!#REF!+'Blad 1 Totala intäkter'!#REF!+'Blad 1 Totala intäkter'!#REF!))*(IT7+IU27)/1000),0,((ROUND((((('Blad 3 Inkomstutjämning'!ID19-'Blad 3 Inkomstutjämning'!ID24/('Blad 3 Inkomstutjämning'!ID21+'Blad 6 Befolkningsförändringar'!IU27)*1000)*'Blad 3 Inkomstutjämning'!ID$37/100))),0))+('Blad 1 Totala intäkter'!#REF!+'Blad 1 Totala intäkter'!#REF!+'Blad 1 Totala intäkter'!#REF!+'Blad 1 Totala intäkter'!#REF!))*(IT7+IU27)/1000)","v":0},{"$f":"IF(ISERROR(((ROUND((((('Blad 3 Inkomstutjämning'!IE19-'Blad 3 Inkomstutjämning'!IE24/('Blad 3 Inkomstutjämning'!IE21+'Blad 6 Befolkningsförändringar'!IV27)*1000)*'Blad 3 Inkomstutjämning'!IE$37/100))),0))+('Blad 1 Totala intäkter'!#REF!+'Blad 1 Totala intäkter'!#REF!+'Blad 1 Totala intäkter'!#REF!+'Blad 1 Totala intäkter'!#REF!))*(IU7+IV27)/1000),0,((ROUND((((('Blad 3 Inkomstutjämning'!IE19-'Blad 3 Inkomstutjämning'!IE24/('Blad 3 Inkomstutjämning'!IE21+'Blad 6 Befolkningsförändringar'!IV27)*1000)*'Blad 3 Inkomstutjämning'!IE$37/100))),0))+('Blad 1 Totala intäkter'!#REF!+'Blad 1 Totala intäkter'!#REF!+'Blad 1 Totala intäkter'!#REF!+'Blad 1 Totala intäkter'!#REF!))*(IU7+IV27)/1000)","v":0}]
[]
["Ersättning per ersatt",null,null,{"$f":"IF(ISERROR(D35/D27*1000),0,(D35/D27*1000))","v":0},0,0,0,0,0,0,null,null,null,null,null,null,null,null,null,null,null,null,null,null,null,null,0,0,0,0,0,0,0,0,0,0,0,0,0,0,0,0,0,0,0,0,0,0,0,0,0,0,0,0,0,0,0,0,0,0,0,0,0,0,0,0,0,{"$f":"IF(ISERROR(BP35/BP27*1000),0,(BP35/BP27*1000))","v":0},0,0,0,0,0,0,0,0,0,0,0,0,0,0,0,0,0,0,0,0,0,0,0,0,0,0,0,0,0,0,0,0,0,0,0,0,0,0,0,0,0,0,0,0,0,0,0,0,0,0,0,0,0,0,0,0,0,0,0,0,0,0,0,{"$f":"IF(ISERROR(EB35/EB27*1000),0,(EB35/EB27*1000))","v":0},0,0,0,0,0,0,0,0,0,0,0,0,0,0,0,0,0,0,0,0,0,0,0,0,0,0,0,0,0,0,0,0,0,0,0,0,0,0,0,0,0,0,0,0,0,0,0,0,0,0,0,0,0,0,0,0,0,0,0,0,0,0,0,{"$f":"IF(ISERROR(GN35/GN27*1000),0,(GN35/GN27*1000))","v":0},0,0,0,0,0,0,0,0,0,0,0,0,0,0,0,0,0,0,0,0,0,0,0,0,0,0,0,0,0,0,0,0,0,0,0,0,0,0,0,0,0,0,0,0,0,0,0,0,0,0,0,0,0,0,0,0,0,0,0,0]
[]
["Eftersläpningsersättning, tkr",null,{"$f":"+C36*'Blad 2 Indata'!C32/1000","v":0},{"$f":"D31-D30","v":0},{"$f":"E31-E30","v":0},{"$f":"F31-F30","v":0},{"$f":"G31-G30","v":0},{"$f":"H31-H30","v":0},0,0,null,null,null,null,null,null,null,null,null,null,null,null,null,null,null,null,{"$error":"#REF!"},{"$error":"#REF!"},{"$error":"#REF!"},{"$error":"#REF!"},{"$error":"#REF!"},{"$error":"#REF!"},{"$error":"#REF!"},{"$error":"#REF!"},{"$error":"#REF!"},{"$error":"#REF!"},{"$error":"#REF!"},{"$error":"#REF!"},{"$error":"#REF!"},{"$error":"#REF!"},{"$error":"#REF!"},{"$error":"#REF!"},{"$error":"#REF!"},{"$error":"#REF!"},{"$error":"#REF!"},{"$error":"#REF!"},{"$error":"#REF!"},{"$error":"#REF!"},{"$error":"#REF!"},{"$error":"#REF!"},{"$error":"#REF!"},{"$error":"#REF!"},{"$error":"#REF!"},{"$error":"#REF!"},{"$error":"#REF!"},{"$error":"#REF!"},{"$error":"#REF!"},{"$error":"#REF!"},{"$error":"#REF!"},{"$error":"#REF!"},{"$error":"#REF!"},{"$error":"#REF!"},{"$error":"#REF!"},{"$error":"#REF!"},{"$error":"#REF!"},{"$error":"#REF!"},{"$error":"#REF!"},{"$error":"#REF!"},{"$error":"#REF!"},{"$error":"#REF!"},{"$error":"#REF!"},{"$f":"BT31-BT30","v":{"$error":"#REF!"}},{"$error":"#REF!"},{"$error":"#REF!"},{"$error":"#REF!"},{"$error":"#REF!"},{"$error":"#REF!"},{"$error":"#REF!"},{"$error":"#REF!"},{"$error":"#REF!"},{"$error":"#REF!"},{"$error":"#REF!"},{"$error":"#REF!"},{"$error":"#REF!"},{"$error":"#REF!"},{"$error":"#REF!"},{"$error":"#REF!"},{"$error":"#REF!"},{"$error":"#REF!"},{"$error":"#REF!"},{"$error":"#REF!"},{"$error":"#REF!"},{"$error":"#REF!"},{"$error":"#REF!"},{"$error":"#REF!"},{"$error":"#REF!"},{"$error":"#REF!"},{"$error":"#REF!"},{"$error":"#REF!"},{"$error":"#REF!"},{"$error":"#REF!"},{"$error":"#REF!"},{"$error":"#REF!"},{"$error":"#REF!"},{"$error":"#REF!"},{"$error":"#REF!"},{"$error":"#REF!"},{"$error":"#REF!"},{"$error":"#REF!"},{"$error":"#REF!"},{"$error":"#REF!"},{"$error":"#REF!"},{"$error":"#REF!"},{"$error":"#REF!"},{"$error":"#REF!"},{"$error":"#REF!"},{"$error":"#REF!"},{"$error":"#REF!"},{"$error":"#REF!"},{"$error":"#REF!"},{"$error":"#REF!"},{"$error":"#REF!"},{"$error":"#REF!"},{"$error":"#REF!"},{"$error":"#REF!"},{"$error":"#REF!"},{"$error":"#REF!"},{"$error":"#REF!"},{"$error":"#REF!"},{"$error":"#REF!"},{"$error":"#REF!"},{"$error":"#REF!"},{"$error":"#REF!"},{"$error":"#REF!"},{"$error":"#REF!"},{"$f":"EF31-EF30","v":{"$error":"#REF!"}},{"$error":"#REF!"},{"$error":"#REF!"},{"$error":"#REF!"},{"$error":"#REF!"},{"$error":"#REF!"},{"$error":"#REF!"},{"$error":"#REF!"},{"$error":"#REF!"},{"$error":"#REF!"},{"$error":"#REF!"},{"$error":"#REF!"},{"$error":"#REF!"},{"$error":"#REF!"},{"$error":"#REF!"},{"$error":"#REF!"},{"$error":"#REF!"},{"$error":"#REF!"},{"$error":"#REF!"},{"$error":"#REF!"},{"$error":"#REF!"},{"$error":"#REF!"},{"$error":"#REF!"},{"$error":"#REF!"},{"$error":"#REF!"},{"$error":"#REF!"},{"$error":"#REF!"},{"$error":"#REF!"},{"$error":"#REF!"},{"$error":"#REF!"},{"$error":"#REF!"},{"$error":"#REF!"},{"$error":"#REF!"},{"$error":"#REF!"},{"$error":"#REF!"},{"$error":"#REF!"},{"$error":"#REF!"},{"$error":"#REF!"},{"$error":"#REF!"},{"$error":"#REF!"},{"$error":"#REF!"},{"$error":"#REF!"},{"$error":"#REF!"},{"$error":"#REF!"},{"$error":"#REF!"},{"$error":"#REF!"},{"$error":"#REF!"},{"$error":"#REF!"},{"$error":"#REF!"},{"$error":"#REF!"},{"$error":"#REF!"},{"$error":"#REF!"},{"$error":"#REF!"},{"$error":"#REF!"},{"$error":"#REF!"},{"$error":"#REF!"},{"$error":"#REF!"},{"$error":"#REF!"},{"$error":"#REF!"},{"$error":"#REF!"},{"$error":"#REF!"},{"$error":"#REF!"},{"$error":"#REF!"},{"$error":"#REF!"},{"$f":"GR31-GR30","v":{"$error":"#REF!"}},{"$error":"#REF!"},{"$error":"#REF!"},{"$error":"#REF!"},{"$error":"#REF!"},{"$error":"#REF!"},{"$error":"#REF!"},{"$error":"#REF!"},{"$error":"#REF!"},{"$error":"#REF!"},{"$error":"#REF!"},{"$error":"#REF!"},{"$error":"#REF!"},{"$error":"#REF!"},{"$error":"#REF!"},{"$error":"#REF!"},{"$error":"#REF!"},{"$error":"#REF!"},{"$error":"#REF!"},{"$error":"#REF!"},{"$error":"#REF!"},{"$error":"#REF!"},{"$error":"#REF!"},{"$error":"#REF!"},{"$error":"#REF!"},{"$error":"#REF!"},{"$error":"#REF!"},{"$error":"#REF!"},{"$error":"#REF!"},{"$error":"#REF!"},{"$error":"#REF!"},{"$error":"#REF!"},{"$error":"#REF!"},{"$error":"#REF!"},{"$error":"#REF!"},{"$error":"#REF!"},{"$error":"#REF!"},{"$error":"#REF!"},{"$error":"#REF!"},{"$error":"#REF!"},{"$error":"#REF!"},{"$error":"#REF!"},{"$error":"#REF!"},{"$error":"#REF!"},{"$error":"#REF!"},{"$error":"#REF!"},{"$error":"#REF!"},{"$error":"#REF!"},{"$error":"#REF!"},{"$error":"#REF!"},{"$error":"#REF!"},{"$error":"#REF!"},{"$error":"#REF!"},{"$error":"#REF!"},{"$error":"#REF!"},{"$error":"#REF!"},{"$error":"#REF!"}]
["Eftersläpningsersättning, kr per inv",null,{"$f":"'Blad 4 Kostnadsutjämning'!B12-'Blad 6 Befolkningsförändringar'!C46","v":0},{"$f":"IF(ISERROR(D35/D40*1000),0,(D35/D40*1000))","v":0},0,0,0,0,0,0,null,null,null,null,null,null,null,null,null,null,null,null,null,null,null,null,{"$f":"IF(ISERROR(AA35/'Blad 2 Indata'!#REF!*1000),IF(ISERROR(AA35/AA7*1000),0,(AA35/AA7*1000)),(AA35/'Blad 2 Indata'!#REF!*1000))","v":0},{"$f":"IF(ISERROR(AB35/'Blad 2 Indata'!#REF!*1000),IF(ISERROR(AB35/AB7*1000),0,(AB35/AB7*1000)),(AB35/'Blad 2 Indata'!#REF!*1000))","v":0},{"$f":"IF(ISERROR(AC35/'Blad 2 Indata'!#REF!*1000),IF(ISERROR(AC35/AC7*1000),0,(AC35/AC7*1000)),(AC35/'Blad 2 Indata'!#REF!*1000))","v":0},{"$f":"IF(ISERROR(AD35/'Blad 2 Indata'!#REF!*1000),IF(ISERROR(AD35/AD7*1000),0,(AD35/AD7*1000)),(AD35/'Blad 2 Indata'!#REF!*1000))","v":0},{"$f":"IF(ISERROR(AE35/'Blad 2 Indata'!#REF!*1000),IF(ISERROR(AE35/AE7*1000),0,(AE35/AE7*1000)),(AE35/'Blad 2 Indata'!#REF!*1000))","v":0},{"$f":"IF(ISERROR(AF35/'Blad 2 Indata'!#REF!*1000),IF(ISERROR(AF35/AF7*1000),0,(AF35/AF7*1000)),(AF35/'Blad 2 Indata'!#REF!*1000))","v":0},{"$f":"IF(ISERROR(AG35/'Blad 2 Indata'!#REF!*1000),IF(ISERROR(AG35/AG7*1000),0,(AG35/AG7*1000)),(AG35/'Blad 2 Indata'!#REF!*1000))","v":0},{"$f":"IF(ISERROR(AH35/'Blad 2 Indata'!#REF!*1000),IF(ISERROR(AH35/AH7*1000),0,(AH35/AH7*1000)),(AH35/'Blad 2 Indata'!#REF!*1000))","v":0},{"$f":"IF(ISERROR(AI35/'Blad 2 Indata'!#REF!*1000),IF(ISERROR(AI35/AI7*1000),0,(AI35/AI7*1000)),(AI35/'Blad 2 Indata'!#REF!*1000))","v":0},{"$f":"IF(ISERROR(AJ35/'Blad 2 Indata'!#REF!*1000),IF(ISERROR(AJ35/AJ7*1000),0,(AJ35/AJ7*1000)),(AJ35/'Blad 2 Indata'!#REF!*1000))","v":0},{"$f":"IF(ISERROR(AK35/'Blad 2 Indata'!#REF!*1000),IF(ISERROR(AK35/AK7*1000),0,(AK35/AK7*1000)),(AK35/'Blad 2 Indata'!#REF!*1000))","v":0},{"$f":"IF(ISERROR(AL35/'Blad 2 Indata'!#REF!*1000),IF(ISERROR(AL35/AL7*1000),0,(AL35/AL7*1000)),(AL35/'Blad 2 Indata'!#REF!*1000))","v":0},{"$f":"IF(ISERROR(AM35/'Blad 2 Indata'!#REF!*1000),IF(ISERROR(AM35/AM7*1000),0,(AM35/AM7*1000)),(AM35/'Blad 2 Indata'!#REF!*1000))","v":0},{"$f":"IF(ISERROR(AN35/'Blad 2 Indata'!#REF!*1000),IF(ISERROR(AN35/AN7*1000),0,(AN35/AN7*1000)),(AN35/'Blad 2 Indata'!#REF!*1000))","v":0},{"$f":"IF(ISERROR(AO35/'Blad 2 Indata'!#REF!*1000),IF(ISERROR(AO35/AO7*1000),0,(AO35/AO7*1000)),(AO35/'Blad 2 Indata'!#REF!*1000))","v":0},{"$f":"IF(ISERROR(AP35/'Blad 2 Indata'!#REF!*1000),IF(ISERROR(AP35/AP7*1000),0,(AP35/AP7*1000)),(AP35/'Blad 2 Indata'!#REF!*1000))","v":0},{"$f":"IF(ISERROR(AQ35/'Blad 2 Indata'!#REF!*1000),IF(ISERROR(AQ35/AQ7*1000),0,(AQ35/AQ7*1000)),(AQ35/'Blad 2 Indata'!#REF!*1000))","v":0},{"$f":"IF(ISERROR(AR35/'Blad 2 Indata'!#REF!*1000),IF(ISERROR(AR35/AR7*1000),0,(AR35/AR7*1000)),(AR35/'Blad 2 Indata'!#REF!*1000))","v":0},{"$f":"IF(ISERROR(AS35/'Blad 2 Indata'!#REF!*1000),IF(ISERROR(AS35/AS7*1000),0,(AS35/AS7*1000)),(AS35/'Blad 2 Indata'!#REF!*1000))","v":0},{"$f":"IF(ISERROR(AT35/'Blad 2 Indata'!#REF!*1000),IF(ISERROR(AT35/AT7*1000),0,(AT35/AT7*1000)),(AT35/'Blad 2 Indata'!#REF!*1000))","v":0},{"$f":"IF(ISERROR(AU35/'Blad 2 Indata'!#REF!*1000),IF(ISERROR(AU35/AU7*1000),0,(AU35/AU7*1000)),(AU35/'Blad 2 Indata'!#REF!*1000))","v":0},{"$f":"IF(ISERROR(AV35/'Blad 2 Indata'!#REF!*1000),IF(ISERROR(AV35/AV7*1000),0,(AV35/AV7*1000)),(AV35/'Blad 2 Indata'!#REF!*1000))","v":0},{"$f":"IF(ISERROR(AW35/'Blad 2 Indata'!#REF!*1000),IF(ISERROR(AW35/AW7*1000),0,(AW35/AW7*1000)),(AW35/'Blad 2 Indata'!#REF!*1000))","v":0},{"$f":"IF(ISERROR(AX35/'Blad 2 Indata'!#REF!*1000),IF(ISERROR(AX35/AX7*1000),0,(AX35/AX7*1000)),(AX35/'Blad 2 Indata'!#REF!*1000))","v":0},{"$f":"IF(ISERROR(AY35/'Blad 2 Indata'!#REF!*1000),IF(ISERROR(AY35/AY7*1000),0,(AY35/AY7*1000)),(AY35/'Blad 2 Indata'!#REF!*1000))","v":0},{"$f":"IF(ISERROR(AZ35/'Blad 2 Indata'!#REF!*1000),IF(ISERROR(AZ35/AZ7*1000),0,(AZ35/AZ7*1000)),(AZ35/'Blad 2 Indata'!#REF!*1000))","v":0},{"$f":"IF(ISERROR(BA35/'Blad 2 Indata'!#REF!*1000),IF(ISERROR(BA35/BA7*1000),0,(BA35/BA7*1000)),(BA35/'Blad 2 Indata'!#REF!*1000))","v":0},{"$f":"IF(ISERROR(BB35/'Blad 2 Indata'!#REF!*1000),IF(ISERROR(BB35/BB7*1000),0,(BB35/BB7*1000)),(BB35/'Blad 2 Indata'!#REF!*1000))","v":0},{"$f":"IF(ISERROR(BC35/'Blad 2 Indata'!#REF!*1000),IF(ISERROR(BC35/BC7*1000),0,(BC35/BC7*1000)),(BC35/'Blad 2 Indata'!#REF!*1000))","v":0},{"$f":"IF(ISERROR(BD35/'Blad 2 Indata'!#REF!*1000),IF(ISERROR(BD35/BD7*1000),0,(BD35/BD7*1000)),(BD35/'Blad 2 Indata'!#REF!*1000))","v":0},{"$f":"IF(ISERROR(BE35/'Blad 2 Indata'!#REF!*1000),IF(ISERROR(BE35/BE7*1000),0,(BE35/BE7*1000)),(BE35/'Blad 2 Indata'!#REF!*1000))","v":0},{"$f":"IF(ISERROR(BF35/'Blad 2 Indata'!#REF!*1000),IF(ISERROR(BF35/BF7*1000),0,(BF35/BF7*1000)),(BF35/'Blad 2 Indata'!#REF!*1000))","v":0},{"$f":"IF(ISERROR(BG35/'Blad 2 Indata'!#REF!*1000),IF(ISERROR(BG35/BG7*1000),0,(BG35/BG7*1000)),(BG35/'Blad 2 Indata'!#REF!*1000))","v":0},{"$f":"IF(ISERROR(BH35/'Blad 2 Indata'!#REF!*1000),IF(ISERROR(BH35/BH7*1000),0,(BH35/BH7*1000)),(BH35/'Blad 2 Indata'!#REF!*1000))","v":0},{"$f":"IF(ISERROR(BI35/'Blad 2 Indata'!#REF!*1000),IF(ISERROR(BI35/BI7*1000),0,(BI35/BI7*1000)),(BI35/'Blad 2 Indata'!#REF!*1000))","v":0},{"$f":"IF(ISERROR(BJ35/'Blad 2 Indata'!#REF!*1000),IF(ISERROR(BJ35/BJ7*1000),0,(BJ35/BJ7*1000)),(BJ35/'Blad 2 Indata'!#REF!*1000))","v":0},{"$f":"IF(ISERROR(BK35/'Blad 2 Indata'!#REF!*1000),IF(ISERROR(BK35/BK7*1000),0,(BK35/BK7*1000)),(BK35/'Blad 2 Indata'!#REF!*1000))","v":0},{"$f":"IF(ISERROR(BL35/'Blad 2 Indata'!#REF!*1000),IF(ISERROR(BL35/BL7*1000),0,(BL35/BL7*1000)),(BL35/'Blad 2 Indata'!#REF!*1000))","v":0},{"$f":"IF(ISERROR(BM35/'Blad 2 Indata'!#REF!*1000),IF(ISERROR(BM35/BM7*1000),0,(BM35/BM7*1000)),(BM35/'Blad 2 Indata'!#REF!*1000))","v":0},{"$f":"IF(ISERROR(BN35/'Blad 2 Indata'!#REF!*1000),IF(ISERROR(BN35/BN7*1000),0,(BN35/BN7*1000)),(BN35/'Blad 2 Indata'!#REF!*1000))","v":0},{"$f":"IF(ISERROR(BO35/'Blad 2 Indata'!#REF!*1000),IF(ISERROR(BO35/BO7*1000),0,(BO35/BO7*1000)),(BO35/'Blad 2 Indata'!#REF!*1000))","v":0},{"$f":"IF(ISERROR(BP35/'Blad 2 Indata'!#REF!*1000),IF(ISERROR(BP35/BP7*1000),0,(BP35/BP7*1000)),(BP35/'Blad 2 Indata'!#REF!*1000))","v":0},{"$f":"IF(ISERROR(BQ35/'Blad 2 Indata'!#REF!*1000),IF(ISERROR(BQ35/BQ7*1000),0,(BQ35/BQ7*1000)),(BQ35/'Blad 2 Indata'!#REF!*1000))","v":0},{"$f":"IF(ISERROR(BR35/'Blad 2 Indata'!#REF!*1000),IF(ISERROR(BR35/BR7*1000),0,(BR35/BR7*1000)),(BR35/'Blad 2 Indata'!#REF!*1000))","v":0},{"$f":"IF(ISERROR(BS35/'Blad 2 Indata'!#REF!*1000),IF(ISERROR(BS35/BS7*1000),0,(BS35/BS7*1000)),(BS35/'Blad 2 Indata'!#REF!*1000))","v":0},{"$f":"IF(ISERROR(BT35/'Blad 2 Indata'!#REF!*1000),IF(ISERROR(BT35/BT7*1000),0,(BT35/BT7*1000)),(BT35/'Blad 2 Indata'!#REF!*1000))","v":0},{"$f":"IF(ISERROR(BU35/'Blad 2 Indata'!#REF!*1000),IF(ISERROR(BU35/BU7*1000),0,(BU35/BU7*1000)),(BU35/'Blad 2 Indata'!#REF!*1000))","v":0},{"$f":"IF(ISERROR(BV35/'Blad 2 Indata'!#REF!*1000),IF(ISERROR(BV35/BV7*1000),0,(BV35/BV7*1000)),(BV35/'Blad 2 Indata'!#REF!*1000))","v":0},{"$f":"IF(ISERROR(BW35/'Blad 2 Indata'!#REF!*1000),IF(ISERROR(BW35/BW7*1000),0,(BW35/BW7*1000)),(BW35/'Blad 2 Indata'!#REF!*1000))","v":0},{"$f":"IF(ISERROR(BX35/'Blad 2 Indata'!#REF!*1000),IF(ISERROR(BX35/BX7*1000),0,(BX35/BX7*1000)),(BX35/'Blad 2 Indata'!#REF!*1000))","v":0},{"$f":"IF(ISERROR(BY35/'Blad 2 Indata'!#REF!*1000),IF(ISERROR(BY35/BY7*1000),0,(BY35/BY7*1000)),(BY35/'Blad 2 Indata'!#REF!*1000))","v":0},{"$f":"IF(ISERROR(BZ35/'Blad 2 Indata'!#REF!*1000),IF(ISERROR(BZ35/BZ7*1000),0,(BZ35/BZ7*1000)),(BZ35/'Blad 2 Indata'!#REF!*1000))","v":0},{"$f":"IF(ISERROR(CA35/'Blad 2 Indata'!#REF!*1000),IF(ISERROR(CA35/CA7*1000),0,(CA35/CA7*1000)),(CA35/'Blad 2 Indata'!#REF!*1000))","v":0},{"$f":"IF(ISERROR(CB35/'Blad 2 Indata'!#REF!*1000),IF(ISERROR(CB35/CB7*1000),0,(CB35/CB7*1000)),(CB35/'Blad 2 Indata'!#REF!*1000))","v":0},{"$f":"IF(ISERROR(CC35/'Blad 2 Indata'!#REF!*1000),IF(ISERROR(CC35/CC7*1000),0,(CC35/CC7*1000)),(CC35/'Blad 2 Indata'!#REF!*1000))","v":0},{"$f":"IF(ISERROR(CD35/'Blad 2 Indata'!#REF!*1000),IF(ISERROR(CD35/CD7*1000),0,(CD35/CD7*1000)),(CD35/'Blad 2 Indata'!#REF!*1000))","v":0},{"$f":"IF(ISERROR(CE35/'Blad 2 Indata'!#REF!*1000),IF(ISERROR(CE35/CE7*1000),0,(CE35/CE7*1000)),(CE35/'Blad 2 Indata'!#REF!*1000))","v":0},{"$f":"IF(ISERROR(CF35/'Blad 2 Indata'!#REF!*1000),IF(ISERROR(CF35/CF7*1000),0,(CF35/CF7*1000)),(CF35/'Blad 2 Indata'!#REF!*1000))","v":0},{"$f":"IF(ISERROR(CG35/'Blad 2 Indata'!#REF!*1000),IF(ISERROR(CG35/CG7*1000),0,(CG35/CG7*1000)),(CG35/'Blad 2 Indata'!#REF!*1000))","v":0},{"$f":"IF(ISERROR(CH35/'Blad 2 Indata'!#REF!*1000),IF(ISERROR(CH35/CH7*1000),0,(CH35/CH7*1000)),(CH35/'Blad 2 Indata'!#REF!*1000))","v":0},{"$f":"IF(ISERROR(CI35/'Blad 2 Indata'!#REF!*1000),IF(ISERROR(CI35/CI7*1000),0,(CI35/CI7*1000)),(CI35/'Blad 2 Indata'!#REF!*1000))","v":0},{"$f":"IF(ISERROR(CJ35/'Blad 2 Indata'!#REF!*1000),IF(ISERROR(CJ35/CJ7*1000),0,(CJ35/CJ7*1000)),(CJ35/'Blad 2 Indata'!#REF!*1000))","v":0},{"$f":"IF(ISERROR(CK35/'Blad 2 Indata'!#REF!*1000),IF(ISERROR(CK35/CK7*1000),0,(CK35/CK7*1000)),(CK35/'Blad 2 Indata'!#REF!*1000))","v":0},{"$f":"IF(ISERROR(CL35/'Blad 2 Indata'!#REF!*1000),IF(ISERROR(CL35/CL7*1000),0,(CL35/CL7*1000)),(CL35/'Blad 2 Indata'!#REF!*1000))","v":0},{"$f":"IF(ISERROR(CM35/'Blad 2 Indata'!#REF!*1000),IF(ISERROR(CM35/CM7*1000),0,(CM35/CM7*1000)),(CM35/'Blad 2 Indata'!#REF!*1000))","v":0},{"$f":"IF(ISERROR(CN35/'Blad 2 Indata'!#REF!*1000),IF(ISERROR(CN35/CN7*1000),0,(CN35/CN7*1000)),(CN35/'Blad 2 Indata'!#REF!*1000))","v":0},{"$f":"IF(ISERROR(CO35/'Blad 2 Indata'!#REF!*1000),IF(ISERROR(CO35/CO7*1000),0,(CO35/CO7*1000)),(CO35/'Blad 2 Indata'!#REF!*1000))","v":0},{"$f":"IF(ISERROR(CP35/'Blad 2 Indata'!#REF!*1000),IF(ISERROR(CP35/CP7*1000),0,(CP35/CP7*1000)),(CP35/'Blad 2 Indata'!#REF!*1000))","v":0},{"$f":"IF(ISERROR(CQ35/'Blad 2 Indata'!#REF!*1000),IF(ISERROR(CQ35/CQ7*1000),0,(CQ35/CQ7*1000)),(CQ35/'Blad 2 Indata'!#REF!*1000))","v":0},{"$f":"IF(ISERROR(CR35/'Blad 2 Indata'!#REF!*1000),IF(ISERROR(CR35/CR7*1000),0,(CR35/CR7*1000)),(CR35/'Blad 2 Indata'!#REF!*1000))","v":0},{"$f":"IF(ISERROR(CS35/'Blad 2 Indata'!#REF!*1000),IF(ISERROR(CS35/CS7*1000),0,(CS35/CS7*1000)),(CS35/'Blad 2 Indata'!#REF!*1000))","v":0},{"$f":"IF(ISERROR(CT35/'Blad 2 Indata'!#REF!*1000),IF(ISERROR(CT35/CT7*1000),0,(CT35/CT7*1000)),(CT35/'Blad 2 Indata'!#REF!*1000))","v":0},{"$f":"IF(ISERROR(CU35/'Blad 2 Indata'!#REF!*1000),IF(ISERROR(CU35/CU7*1000),0,(CU35/CU7*1000)),(CU35/'Blad 2 Indata'!#REF!*1000))","v":0},{"$f":"IF(ISERROR(CV35/'Blad 2 Indata'!#REF!*1000),IF(ISERROR(CV35/CV7*1000),0,(CV35/CV7*1000)),(CV35/'Blad 2 Indata'!#REF!*1000))","v":0},{"$f":"IF(ISERROR(CW35/'Blad 2 Indata'!#REF!*1000),IF(ISERROR(CW35/CW7*1000),0,(CW35/CW7*1000)),(CW35/'Blad 2 Indata'!#REF!*1000))","v":0},{"$f":"IF(ISERROR(CX35/'Blad 2 Indata'!#REF!*1000),IF(ISERROR(CX35/CX7*1000),0,(CX35/CX7*1000)),(CX35/'Blad 2 Indata'!#REF!*1000))","v":0},{"$f":"IF(ISERROR(CY35/'Blad 2 Indata'!#REF!*1000),IF(ISERROR(CY35/CY7*1000),0,(CY35/CY7*1000)),(CY35/'Blad 2 Indata'!#REF!*1000))","v":0},{"$f":"IF(ISERROR(CZ35/'Blad 2 Indata'!#REF!*1000),IF(ISERROR(CZ35/CZ7*1000),0,(CZ35/CZ7*1000)),(CZ35/'Blad 2 Indata'!#REF!*1000))","v":0},{"$f":"IF(ISERROR(DA35/'Blad 2 Indata'!#REF!*1000),IF(ISERROR(DA35/DA7*1000),0,(DA35/DA7*1000)),(DA35/'Blad 2 Indata'!#REF!*1000))","v":0},{"$f":"IF(ISERROR(DB35/'Blad 2 Indata'!#REF!*1000),IF(ISERROR(DB35/DB7*1000),0,(DB35/DB7*1000)),(DB35/'Blad 2 Indata'!#REF!*1000))","v":0},{"$f":"IF(ISERROR(DC35/'Blad 2 Indata'!#REF!*1000),IF(ISERROR(DC35/DC7*1000),0,(DC35/DC7*1000)),(DC35/'Blad 2 Indata'!#REF!*1000))","v":0},{"$f":"IF(ISERROR(DD35/'Blad 2 Indata'!#REF!*1000),IF(ISERROR(DD35/DD7*1000),0,(DD35/DD7*1000)),(DD35/'Blad 2 Indata'!#REF!*1000))","v":0},{"$f":"IF(ISERROR(DE35/'Blad 2 Indata'!#REF!*1000),IF(ISERROR(DE35/DE7*1000),0,(DE35/DE7*1000)),(DE35/'Blad 2 Indata'!#REF!*1000))","v":0},{"$f":"IF(ISERROR(DF35/'Blad 2 Indata'!#REF!*1000),IF(ISERROR(DF35/DF7*1000),0,(DF35/DF7*1000)),(DF35/'Blad 2 Indata'!#REF!*1000))","v":0},{"$f":"IF(ISERROR(DG35/'Blad 2 Indata'!#REF!*1000),IF(ISERROR(DG35/DG7*1000),0,(DG35/DG7*1000)),(DG35/'Blad 2 Indata'!#REF!*1000))","v":0},{"$f":"IF(ISERROR(DH35/'Blad 2 Indata'!#REF!*1000),IF(ISERROR(DH35/DH7*1000),0,(DH35/DH7*1000)),(DH35/'Blad 2 Indata'!#REF!*1000))","v":0},{"$f":"IF(ISERROR(DI35/'Blad 2 Indata'!#REF!*1000),IF(ISERROR(DI35/DI7*1000),0,(DI35/DI7*1000)),(DI35/'Blad 2 Indata'!#REF!*1000))","v":0},{"$f":"IF(ISERROR(DJ35/'Blad 2 Indata'!#REF!*1000),IF(ISERROR(DJ35/DJ7*1000),0,(DJ35/DJ7*1000)),(DJ35/'Blad 2 Indata'!#REF!*1000))","v":0},{"$f":"IF(ISERROR(DK35/'Blad 2 Indata'!#REF!*1000),IF(ISERROR(DK35/DK7*1000),0,(DK35/DK7*1000)),(DK35/'Blad 2 Indata'!#REF!*1000))","v":0},{"$f":"IF(ISERROR(DL35/'Blad 2 Indata'!#REF!*1000),IF(ISERROR(DL35/DL7*1000),0,(DL35/DL7*1000)),(DL35/'Blad 2 Indata'!#REF!*1000))","v":0},{"$f":"IF(ISERROR(DM35/'Blad 2 Indata'!#REF!*1000),IF(ISERROR(DM35/DM7*1000),0,(DM35/DM7*1000)),(DM35/'Blad 2 Indata'!#REF!*1000))","v":0},{"$f":"IF(ISERROR(DN35/'Blad 2 Indata'!#REF!*1000),IF(ISERROR(DN35/DN7*1000),0,(DN35/DN7*1000)),(DN35/'Blad 2 Indata'!#REF!*1000))","v":0},{"$f":"IF(ISERROR(DO35/'Blad 2 Indata'!#REF!*1000),IF(ISERROR(DO35/DO7*1000),0,(DO35/DO7*1000)),(DO35/'Blad 2 Indata'!#REF!*1000))","v":0},{"$f":"IF(ISERROR(DP35/'Blad 2 Indata'!#REF!*1000),IF(ISERROR(DP35/DP7*1000),0,(DP35/DP7*1000)),(DP35/'Blad 2 Indata'!#REF!*1000))","v":0},{"$f":"IF(ISERROR(DQ35/'Blad 2 Indata'!#REF!*1000),IF(ISERROR(DQ35/DQ7*1000),0,(DQ35/DQ7*1000)),(DQ35/'Blad 2 Indata'!#REF!*1000))","v":0},{"$f":"IF(ISERROR(DR35/'Blad 2 Indata'!#REF!*1000),IF(ISERROR(DR35/DR7*1000),0,(DR35/DR7*1000)),(DR35/'Blad 2 Indata'!#REF!*1000))","v":0},{"$f":"IF(ISERROR(DS35/'Blad 2 Indata'!#REF!*1000),IF(ISERROR(DS35/DS7*1000),0,(DS35/DS7*1000)),(DS35/'Blad 2 Indata'!#REF!*1000))","v":0},{"$f":"IF(ISERROR(DT35/'Blad 2 Indata'!#REF!*1000),IF(ISERROR(DT35/DT7*1000),0,(DT35/DT7*1000)),(DT35/'Blad 2 Indata'!#REF!*1000))","v":0},{"$f":"IF(ISERROR(DU35/'Blad 2 Indata'!#REF!*1000),IF(ISERROR(DU35/DU7*1000),0,(DU35/DU7*1000)),(DU35/'Blad 2 Indata'!#REF!*1000))","v":0},{"$f":"IF(ISERROR(DV35/'Blad 2 Indata'!#REF!*1000),IF(ISERROR(DV35/DV7*1000),0,(DV35/DV7*1000)),(DV35/'Blad 2 Indata'!#REF!*1000))","v":0},{"$f":"IF(ISERROR(DW35/'Blad 2 Indata'!#REF!*1000),IF(ISERROR(DW35/DW7*1000),0,(DW35/DW7*1000)),(DW35/'Blad 2 Indata'!#REF!*1000))","v":0},{"$f":"IF(ISERROR(DX35/'Blad 2 Indata'!#REF!*1000),IF(ISERROR(DX35/DX7*1000),0,(DX35/DX7*1000)),(DX35/'Blad 2 Indata'!#REF!*1000))","v":0},{"$f":"IF(ISERROR(DY35/'Blad 2 Indata'!#REF!*1000),IF(ISERROR(DY35/DY7*1000),0,(DY35/DY7*1000)),(DY35/'Blad 2 Indata'!#REF!*1000))","v":0},{"$f":"IF(ISERROR(DZ35/'Blad 2 Indata'!#REF!*1000),IF(ISERROR(DZ35/DZ7*1000),0,(DZ35/DZ7*1000)),(DZ35/'Blad 2 Indata'!#REF!*1000))","v":0},{"$f":"IF(ISERROR(EA35/'Blad 2 Indata'!#REF!*1000),IF(ISERROR(EA35/EA7*1000),0,(EA35/EA7*1000)),(EA35/'Blad 2 Indata'!#REF!*1000))","v":0},{"$f":"IF(ISERROR(EB35/'Blad 2 Indata'!#REF!*1000),IF(ISERROR(EB35/EB7*1000),0,(EB35/EB7*1000)),(EB35/'Blad 2 Indata'!#REF!*1000))","v":0},{"$f":"IF(ISERROR(EC35/'Blad 2 Indata'!#REF!*1000),IF(ISERROR(EC35/EC7*1000),0,(EC35/EC7*1000)),(EC35/'Blad 2 Indata'!#REF!*1000))","v":0},{"$f":"IF(ISERROR(ED35/'Blad 2 Indata'!#REF!*1000),IF(ISERROR(ED35/ED7*1000),0,(ED35/ED7*1000)),(ED35/'Blad 2 Indata'!#REF!*1000))","v":0},{"$f":"IF(ISERROR(EE35/'Blad 2 Indata'!#REF!*1000),IF(ISERROR(EE35/EE7*1000),0,(EE35/EE7*1000)),(EE35/'Blad 2 Indata'!#REF!*1000))","v":0},{"$f":"IF(ISERROR(EF35/'Blad 2 Indata'!#REF!*1000),IF(ISERROR(EF35/EF7*1000),0,(EF35/EF7*1000)),(EF35/'Blad 2 Indata'!#REF!*1000))","v":0},{"$f":"IF(ISERROR(EG35/'Blad 2 Indata'!#REF!*1000),IF(ISERROR(EG35/EG7*1000),0,(EG35/EG7*1000)),(EG35/'Blad 2 Indata'!#REF!*1000))","v":0},{"$f":"IF(ISERROR(EH35/'Blad 2 Indata'!#REF!*1000),IF(ISERROR(EH35/EH7*1000),0,(EH35/EH7*1000)),(EH35/'Blad 2 Indata'!#REF!*1000))","v":0},{"$f":"IF(ISERROR(EI35/'Blad 2 Indata'!#REF!*1000),IF(ISERROR(EI35/EI7*1000),0,(EI35/EI7*1000)),(EI35/'Blad 2 Indata'!#REF!*1000))","v":0},{"$f":"IF(ISERROR(EJ35/'Blad 2 Indata'!#REF!*1000),IF(ISERROR(EJ35/EJ7*1000),0,(EJ35/EJ7*1000)),(EJ35/'Blad 2 Indata'!#REF!*1000))","v":0},{"$f":"IF(ISERROR(EK35/'Blad 2 Indata'!#REF!*1000),IF(ISERROR(EK35/EK7*1000),0,(EK35/EK7*1000)),(EK35/'Blad 2 Indata'!#REF!*1000))","v":0},{"$f":"IF(ISERROR(EL35/'Blad 2 Indata'!#REF!*1000),IF(ISERROR(EL35/EL7*1000),0,(EL35/EL7*1000)),(EL35/'Blad 2 Indata'!#REF!*1000))","v":0},{"$f":"IF(ISERROR(EM35/'Blad 2 Indata'!#REF!*1000),IF(ISERROR(EM35/EM7*1000),0,(EM35/EM7*1000)),(EM35/'Blad 2 Indata'!#REF!*1000))","v":0},{"$f":"IF(ISERROR(EN35/'Blad 2 Indata'!#REF!*1000),IF(ISERROR(EN35/EN7*1000),0,(EN35/EN7*1000)),(EN35/'Blad 2 Indata'!#REF!*1000))","v":0},{"$f":"IF(ISERROR(EO35/'Blad 2 Indata'!#REF!*1000),IF(ISERROR(EO35/EO7*1000),0,(EO35/EO7*1000)),(EO35/'Blad 2 Indata'!#REF!*1000))","v":0},{"$f":"IF(ISERROR(EP35/'Blad 2 Indata'!#REF!*1000),IF(ISERROR(EP35/EP7*1000),0,(EP35/EP7*1000)),(EP35/'Blad 2 Indata'!#REF!*1000))","v":0},{"$f":"IF(ISERROR(EQ35/'Blad 2 Indata'!#REF!*1000),IF(ISERROR(EQ35/EQ7*1000),0,(EQ35/EQ7*1000)),(EQ35/'Blad 2 Indata'!#REF!*1000))","v":0},{"$f":"IF(ISERROR(ER35/'Blad 2 Indata'!#REF!*1000),IF(ISERROR(ER35/ER7*1000),0,(ER35/ER7*1000)),(ER35/'Blad 2 Indata'!#REF!*1000))","v":0},{"$f":"IF(ISERROR(ES35/'Blad 2 Indata'!#REF!*1000),IF(ISERROR(ES35/ES7*1000),0,(ES35/ES7*1000)),(ES35/'Blad 2 Indata'!#REF!*1000))","v":0},{"$f":"IF(ISERROR(ET35/'Blad 2 Indata'!#REF!*1000),IF(ISERROR(ET35/ET7*1000),0,(ET35/ET7*1000)),(ET35/'Blad 2 Indata'!#REF!*1000))","v":0},{"$f":"IF(ISERROR(EU35/'Blad 2 Indata'!#REF!*1000),IF(ISERROR(EU35/EU7*1000),0,(EU35/EU7*1000)),(EU35/'Blad 2 Indata'!#REF!*1000))","v":0},{"$f":"IF(ISERROR(EV35/'Blad 2 Indata'!#REF!*1000),IF(ISERROR(EV35/EV7*1000),0,(EV35/EV7*1000)),(EV35/'Blad 2 Indata'!#REF!*1000))","v":0},{"$f":"IF(ISERROR(EW35/'Blad 2 Indata'!#REF!*1000),IF(ISERROR(EW35/EW7*1000),0,(EW35/EW7*1000)),(EW35/'Blad 2 Indata'!#REF!*1000))","v":0},{"$f":"IF(ISERROR(EX35/'Blad 2 Indata'!#REF!*1000),IF(ISERROR(EX35/EX7*1000),0,(EX35/EX7*1000)),(EX35/'Blad 2 Indata'!#REF!*1000))","v":0},{"$f":"IF(ISERROR(EY35/'Blad 2 Indata'!#REF!*1000),IF(ISERROR(EY35/EY7*1000),0,(EY35/EY7*1000)),(EY35/'Blad 2 Indata'!#REF!*1000))","v":0},{"$f":"IF(ISERROR(EZ35/'Blad 2 Indata'!#REF!*1000),IF(ISERROR(EZ35/EZ7*1000),0,(EZ35/EZ7*1000)),(EZ35/'Blad 2 Indata'!#REF!*1000))","v":0},{"$f":"IF(ISERROR(FA35/'Blad 2 Indata'!#REF!*1000),IF(ISERROR(FA35/FA7*1000),0,(FA35/FA7*1000)),(FA35/'Blad 2 Indata'!#REF!*1000))","v":0},{"$f":"IF(ISERROR(FB35/'Blad 2 Indata'!#REF!*1000),IF(ISERROR(FB35/FB7*1000),0,(FB35/FB7*1000)),(FB35/'Blad 2 Indata'!#REF!*1000))","v":0},{"$f":"IF(ISERROR(FC35/'Blad 2 Indata'!#REF!*1000),IF(ISERROR(FC35/FC7*1000),0,(FC35/FC7*1000)),(FC35/'Blad 2 Indata'!#REF!*1000))","v":0},{"$f":"IF(ISERROR(FD35/'Blad 2 Indata'!#REF!*1000),IF(ISERROR(FD35/FD7*1000),0,(FD35/FD7*1000)),(FD35/'Blad 2 Indata'!#REF!*1000))","v":0},{"$f":"IF(ISERROR(FE35/'Blad 2 Indata'!#REF!*1000),IF(ISERROR(FE35/FE7*1000),0,(FE35/FE7*1000)),(FE35/'Blad 2 Indata'!#REF!*1000))","v":0},{"$f":"IF(ISERROR(FF35/'Blad 2 Indata'!#REF!*1000),IF(ISERROR(FF35/FF7*1000),0,(FF35/FF7*1000)),(FF35/'Blad 2 Indata'!#REF!*1000))","v":0},{"$f":"IF(ISERROR(FG35/'Blad 2 Indata'!#REF!*1000),IF(ISERROR(FG35/FG7*1000),0,(FG35/FG7*1000)),(FG35/'Blad 2 Indata'!#REF!*1000))","v":0},{"$f":"IF(ISERROR(FH35/'Blad 2 Indata'!#REF!*1000),IF(ISERROR(FH35/FH7*1000),0,(FH35/FH7*1000)),(FH35/'Blad 2 Indata'!#REF!*1000))","v":0},{"$f":"IF(ISERROR(FI35/'Blad 2 Indata'!#REF!*1000),IF(ISERROR(FI35/FI7*1000),0,(FI35/FI7*1000)),(FI35/'Blad 2 Indata'!#REF!*1000))","v":0},{"$f":"IF(ISERROR(FJ35/'Blad 2 Indata'!#REF!*1000),IF(ISERROR(FJ35/FJ7*1000),0,(FJ35/FJ7*1000)),(FJ35/'Blad 2 Indata'!#REF!*1000))","v":0},{"$f":"IF(ISERROR(FK35/'Blad 2 Indata'!#REF!*1000),IF(ISERROR(FK35/FK7*1000),0,(FK35/FK7*1000)),(FK35/'Blad 2 Indata'!#REF!*1000))","v":0},{"$f":"IF(ISERROR(FL35/'Blad 2 Indata'!#REF!*1000),IF(ISERROR(FL35/FL7*1000),0,(FL35/FL7*1000)),(FL35/'Blad 2 Indata'!#REF!*1000))","v":0},{"$f":"IF(ISERROR(FM35/'Blad 2 Indata'!#REF!*1000),IF(ISERROR(FM35/FM7*1000),0,(FM35/FM7*1000)),(FM35/'Blad 2 Indata'!#REF!*1000))","v":0},{"$f":"IF(ISERROR(FN35/'Blad 2 Indata'!#REF!*1000),IF(ISERROR(FN35/FN7*1000),0,(FN35/FN7*1000)),(FN35/'Blad 2 Indata'!#REF!*1000))","v":0},{"$f":"IF(ISERROR(FO35/'Blad 2 Indata'!#REF!*1000),IF(ISERROR(FO35/FO7*1000),0,(FO35/FO7*1000)),(FO35/'Blad 2 Indata'!#REF!*1000))","v":0},{"$f":"IF(ISERROR(FP35/'Blad 2 Indata'!#REF!*1000),IF(ISERROR(FP35/FP7*1000),0,(FP35/FP7*1000)),(FP35/'Blad 2 Indata'!#REF!*1000))","v":0},{"$f":"IF(ISERROR(FQ35/'Blad 2 Indata'!#REF!*1000),IF(ISERROR(FQ35/FQ7*1000),0,(FQ35/FQ7*1000)),(FQ35/'Blad 2 Indata'!#REF!*1000))","v":0},{"$f":"IF(ISERROR(FR35/'Blad 2 Indata'!#REF!*1000),IF(ISERROR(FR35/FR7*1000),0,(FR35/FR7*1000)),(FR35/'Blad 2 Indata'!#REF!*1000))","v":0},{"$f":"IF(ISERROR(FS35/'Blad 2 Indata'!#REF!*1000),IF(ISERROR(FS35/FS7*1000),0,(FS35/FS7*1000)),(FS35/'Blad 2 Indata'!#REF!*1000))","v":0},{"$f":"IF(ISERROR(FT35/'Blad 2 Indata'!#REF!*1000),IF(ISERROR(FT35/FT7*1000),0,(FT35/FT7*1000)),(FT35/'Blad 2 Indata'!#REF!*1000))","v":0},{"$f":"IF(ISERROR(FU35/'Blad 2 Indata'!#REF!*1000),IF(ISERROR(FU35/FU7*1000),0,(FU35/FU7*1000)),(FU35/'Blad 2 Indata'!#REF!*1000))","v":0},{"$f":"IF(ISERROR(FV35/'Blad 2 Indata'!#REF!*1000),IF(ISERROR(FV35/FV7*1000),0,(FV35/FV7*1000)),(FV35/'Blad 2 Indata'!#REF!*1000))","v":0},{"$f":"IF(ISERROR(FW35/'Blad 2 Indata'!#REF!*1000),IF(ISERROR(FW35/FW7*1000),0,(FW35/FW7*1000)),(FW35/'Blad 2 Indata'!#REF!*1000))","v":0},{"$f":"IF(ISERROR(FX35/'Blad 2 Indata'!#REF!*1000),IF(ISERROR(FX35/FX7*1000),0,(FX35/FX7*1000)),(FX35/'Blad 2 Indata'!#REF!*1000))","v":0},{"$f":"IF(ISERROR(FY35/'Blad 2 Indata'!#REF!*1000),IF(ISERROR(FY35/FY7*1000),0,(FY35/FY7*1000)),(FY35/'Blad 2 Indata'!#REF!*1000))","v":0},{"$f":"IF(ISERROR(FZ35/'Blad 2 Indata'!#REF!*1000),IF(ISERROR(FZ35/FZ7*1000),0,(FZ35/FZ7*1000)),(FZ35/'Blad 2 Indata'!#REF!*1000))","v":0},{"$f":"IF(ISERROR(GA35/'Blad 2 Indata'!#REF!*1000),IF(ISERROR(GA35/GA7*1000),0,(GA35/GA7*1000)),(GA35/'Blad 2 Indata'!#REF!*1000))","v":0},{"$f":"IF(ISERROR(GB35/'Blad 2 Indata'!#REF!*1000),IF(ISERROR(GB35/GB7*1000),0,(GB35/GB7*1000)),(GB35/'Blad 2 Indata'!#REF!*1000))","v":0},{"$f":"IF(ISERROR(GC35/'Blad 2 Indata'!#REF!*1000),IF(ISERROR(GC35/GC7*1000),0,(GC35/GC7*1000)),(GC35/'Blad 2 Indata'!#REF!*1000))","v":0},{"$f":"IF(ISERROR(GD35/'Blad 2 Indata'!#REF!*1000),IF(ISERROR(GD35/GD7*1000),0,(GD35/GD7*1000)),(GD35/'Blad 2 Indata'!#REF!*1000))","v":0},{"$f":"IF(ISERROR(GE35/'Blad 2 Indata'!#REF!*1000),IF(ISERROR(GE35/GE7*1000),0,(GE35/GE7*1000)),(GE35/'Blad 2 Indata'!#REF!*1000))","v":0},{"$f":"IF(ISERROR(GF35/'Blad 2 Indata'!#REF!*1000),IF(ISERROR(GF35/GF7*1000),0,(GF35/GF7*1000)),(GF35/'Blad 2 Indata'!#REF!*1000))","v":0},{"$f":"IF(ISERROR(GG35/'Blad 2 Indata'!#REF!*1000),IF(ISERROR(GG35/GG7*1000),0,(GG35/GG7*1000)),(GG35/'Blad 2 Indata'!#REF!*1000))","v":0},{"$f":"IF(ISERROR(GH35/'Blad 2 Indata'!#REF!*1000),IF(ISERROR(GH35/GH7*1000),0,(GH35/GH7*1000)),(GH35/'Blad 2 Indata'!#REF!*1000))","v":0},{"$f":"IF(ISERROR(GI35/'Blad 2 Indata'!#REF!*1000),IF(ISERROR(GI35/GI7*1000),0,(GI35/GI7*1000)),(GI35/'Blad 2 Indata'!#REF!*1000))","v":0},{"$f":"IF(ISERROR(GJ35/'Blad 2 Indata'!#REF!*1000),IF(ISERROR(GJ35/GJ7*1000),0,(GJ35/GJ7*1000)),(GJ35/'Blad 2 Indata'!#REF!*1000))","v":0},{"$f":"IF(ISERROR(GK35/'Blad 2 Indata'!#REF!*1000),IF(ISERROR(GK35/GK7*1000),0,(GK35/GK7*1000)),(GK35/'Blad 2 Indata'!#REF!*1000))","v":0},{"$f":"IF(ISERROR(GL35/'Blad 2 Indata'!#REF!*1000),IF(ISERROR(GL35/GL7*1000),0,(GL35/GL7*1000)),(GL35/'Blad 2 Indata'!#REF!*1000))","v":0},{"$f":"IF(ISERROR(GM35/'Blad 2 Indata'!#REF!*1000),IF(ISERROR(GM35/GM7*1000),0,(GM35/GM7*1000)),(GM35/'Blad 2 Indata'!#REF!*1000))","v":0},{"$f":"IF(ISERROR(GN35/'Blad 2 Indata'!#REF!*1000),IF(ISERROR(GN35/GN7*1000),0,(GN35/GN7*1000)),(GN35/'Blad 2 Indata'!#REF!*1000))","v":0},{"$f":"IF(ISERROR(GO35/'Blad 2 Indata'!#REF!*1000),IF(ISERROR(GO35/GO7*1000),0,(GO35/GO7*1000)),(GO35/'Blad 2 Indata'!#REF!*1000))","v":0},{"$f":"IF(ISERROR(GP35/'Blad 2 Indata'!#REF!*1000),IF(ISERROR(GP35/GP7*1000),0,(GP35/GP7*1000)),(GP35/'Blad 2 Indata'!#REF!*1000))","v":0},{"$f":"IF(ISERROR(GQ35/'Blad 2 Indata'!#REF!*1000),IF(ISERROR(GQ35/GQ7*1000),0,(GQ35/GQ7*1000)),(GQ35/'Blad 2 Indata'!#REF!*1000))","v":0},{"$f":"IF(ISERROR(GR35/'Blad 2 Indata'!#REF!*1000),IF(ISERROR(GR35/GR7*1000),0,(GR35/GR7*1000)),(GR35/'Blad 2 Indata'!#REF!*1000))","v":0},{"$f":"IF(ISERROR(GS35/'Blad 2 Indata'!#REF!*1000),IF(ISERROR(GS35/GS7*1000),0,(GS35/GS7*1000)),(GS35/'Blad 2 Indata'!#REF!*1000))","v":0},{"$f":"IF(ISERROR(GT35/'Blad 2 Indata'!#REF!*1000),IF(ISERROR(GT35/GT7*1000),0,(GT35/GT7*1000)),(GT35/'Blad 2 Indata'!#REF!*1000))","v":0},{"$f":"IF(ISERROR(GU35/'Blad 2 Indata'!#REF!*1000),IF(ISERROR(GU35/GU7*1000),0,(GU35/GU7*1000)),(GU35/'Blad 2 Indata'!#REF!*1000))","v":0},{"$f":"IF(ISERROR(GV35/'Blad 2 Indata'!#REF!*1000),IF(ISERROR(GV35/GV7*1000),0,(GV35/GV7*1000)),(GV35/'Blad 2 Indata'!#REF!*1000))","v":0},{"$f":"IF(ISERROR(GW35/'Blad 2 Indata'!#REF!*1000),IF(ISERROR(GW35/GW7*1000),0,(GW35/GW7*1000)),(GW35/'Blad 2 Indata'!#REF!*1000))","v":0},{"$f":"IF(ISERROR(GX35/'Blad 2 Indata'!#REF!*1000),IF(ISERROR(GX35/GX7*1000),0,(GX35/GX7*1000)),(GX35/'Blad 2 Indata'!#REF!*1000))","v":0},{"$f":"IF(ISERROR(GY35/'Blad 2 Indata'!#REF!*1000),IF(ISERROR(GY35/GY7*1000),0,(GY35/GY7*1000)),(GY35/'Blad 2 Indata'!#REF!*1000))","v":0},{"$f":"IF(ISERROR(GZ35/'Blad 2 Indata'!#REF!*1000),IF(ISERROR(GZ35/GZ7*1000),0,(GZ35/GZ7*1000)),(GZ35/'Blad 2 Indata'!#REF!*1000))","v":0},{"$f":"IF(ISERROR(HA35/'Blad 2 Indata'!#REF!*1000),IF(ISERROR(HA35/HA7*1000),0,(HA35/HA7*1000)),(HA35/'Blad 2 Indata'!#REF!*1000))","v":0},{"$f":"IF(ISERROR(HB35/'Blad 2 Indata'!#REF!*1000),IF(ISERROR(HB35/HB7*1000),0,(HB35/HB7*1000)),(HB35/'Blad 2 Indata'!#REF!*1000))","v":0},{"$f":"IF(ISERROR(HC35/'Blad 2 Indata'!#REF!*1000),IF(ISERROR(HC35/HC7*1000),0,(HC35/HC7*1000)),(HC35/'Blad 2 Indata'!#REF!*1000))","v":0},{"$f":"IF(ISERROR(HD35/'Blad 2 Indata'!#REF!*1000),IF(ISERROR(HD35/HD7*1000),0,(HD35/HD7*1000)),(HD35/'Blad 2 Indata'!#REF!*1000))","v":0},{"$f":"IF(ISERROR(HE35/'Blad 2 Indata'!#REF!*1000),IF(ISERROR(HE35/HE7*1000),0,(HE35/HE7*1000)),(HE35/'Blad 2 Indata'!#REF!*1000))","v":0},{"$f":"IF(ISERROR(HF35/'Blad 2 Indata'!#REF!*1000),IF(ISERROR(HF35/HF7*1000),0,(HF35/HF7*1000)),(HF35/'Blad 2 Indata'!#REF!*1000))","v":0},{"$f":"IF(ISERROR(HG35/'Blad 2 Indata'!#REF!*1000),IF(ISERROR(HG35/HG7*1000),0,(HG35/HG7*1000)),(HG35/'Blad 2 Indata'!#REF!*1000))","v":0},{"$f":"IF(ISERROR(HH35/'Blad 2 Indata'!#REF!*1000),IF(ISERROR(HH35/HH7*1000),0,(HH35/HH7*1000)),(HH35/'Blad 2 Indata'!#REF!*1000))","v":0},{"$f":"IF(ISERROR(HI35/'Blad 2 Indata'!#REF!*1000),IF(ISERROR(HI35/HI7*1000),0,(HI35/HI7*1000)),(HI35/'Blad 2 Indata'!#REF!*1000))","v":0},{"$f":"IF(ISERROR(HJ35/'Blad 2 Indata'!#REF!*1000),IF(ISERROR(HJ35/HJ7*1000),0,(HJ35/HJ7*1000)),(HJ35/'Blad 2 Indata'!#REF!*1000))","v":0},{"$f":"IF(ISERROR(HK35/'Blad 2 Indata'!#REF!*1000),IF(ISERROR(HK35/HK7*1000),0,(HK35/HK7*1000)),(HK35/'Blad 2 Indata'!#REF!*1000))","v":0},{"$f":"IF(ISERROR(HL35/'Blad 2 Indata'!#REF!*1000),IF(ISERROR(HL35/HL7*1000),0,(HL35/HL7*1000)),(HL35/'Blad 2 Indata'!#REF!*1000))","v":0},{"$f":"IF(ISERROR(HM35/'Blad 2 Indata'!#REF!*1000),IF(ISERROR(HM35/HM7*1000),0,(HM35/HM7*1000)),(HM35/'Blad 2 Indata'!#REF!*1000))","v":0},{"$f":"IF(ISERROR(HN35/'Blad 2 Indata'!#REF!*1000),IF(ISERROR(HN35/HN7*1000),0,(HN35/HN7*1000)),(HN35/'Blad 2 Indata'!#REF!*1000))","v":0},{"$f":"IF(ISERROR(HO35/'Blad 2 Indata'!#REF!*1000),IF(ISERROR(HO35/HO7*1000),0,(HO35/HO7*1000)),(HO35/'Blad 2 Indata'!#REF!*1000))","v":0},{"$f":"IF(ISERROR(HP35/'Blad 2 Indata'!#REF!*1000),IF(ISERROR(HP35/HP7*1000),0,(HP35/HP7*1000)),(HP35/'Blad 2 Indata'!#REF!*1000))","v":0},{"$f":"IF(ISERROR(HQ35/'Blad 2 Indata'!#REF!*1000),IF(ISERROR(HQ35/HQ7*1000),0,(HQ35/HQ7*1000)),(HQ35/'Blad 2 Indata'!#REF!*1000))","v":0},{"$f":"IF(ISERROR(HR35/'Blad 2 Indata'!#REF!*1000),IF(ISERROR(HR35/HR7*1000),0,(HR35/HR7*1000)),(HR35/'Blad 2 Indata'!#REF!*1000))","v":0},{"$f":"IF(ISERROR(HS35/'Blad 2 Indata'!#REF!*1000),IF(ISERROR(HS35/HS7*1000),0,(HS35/HS7*1000)),(HS35/'Blad 2 Indata'!#REF!*1000))","v":0},{"$f":"IF(ISERROR(HT35/'Blad 2 Indata'!#REF!*1000),IF(ISERROR(HT35/HT7*1000),0,(HT35/HT7*1000)),(HT35/'Blad 2 Indata'!#REF!*1000))","v":0},{"$f":"IF(ISERROR(HU35/'Blad 2 Indata'!#REF!*1000),IF(ISERROR(HU35/HU7*1000),0,(HU35/HU7*1000)),(HU35/'Blad 2 Indata'!#REF!*1000))","v":0},{"$f":"IF(ISERROR(HV35/'Blad 2 Indata'!#REF!*1000),IF(ISERROR(HV35/HV7*1000),0,(HV35/HV7*1000)),(HV35/'Blad 2 Indata'!#REF!*1000))","v":0},{"$f":"IF(ISERROR(HW35/'Blad 2 Indata'!#REF!*1000),IF(ISERROR(HW35/HW7*1000),0,(HW35/HW7*1000)),(HW35/'Blad 2 Indata'!#REF!*1000))","v":0},{"$f":"IF(ISERROR(HX35/'Blad 2 Indata'!#REF!*1000),IF(ISERROR(HX35/HX7*1000),0,(HX35/HX7*1000)),(HX35/'Blad 2 Indata'!#REF!*1000))","v":0},{"$f":"IF(ISERROR(HY35/'Blad 2 Indata'!#REF!*1000),IF(ISERROR(HY35/HY7*1000),0,(HY35/HY7*1000)),(HY35/'Blad 2 Indata'!#REF!*1000))","v":0},{"$f":"IF(ISERROR(HZ35/'Blad 2 Indata'!#REF!*1000),IF(ISERROR(HZ35/HZ7*1000),0,(HZ35/HZ7*1000)),(HZ35/'Blad 2 Indata'!#REF!*1000))","v":0},{"$f":"IF(ISERROR(IA35/'Blad 2 Indata'!#REF!*1000),IF(ISERROR(IA35/IA7*1000),0,(IA35/IA7*1000)),(IA35/'Blad 2 Indata'!#REF!*1000))","v":0},{"$f":"IF(ISERROR(IB35/'Blad 2 Indata'!#REF!*1000),IF(ISERROR(IB35/IB7*1000),0,(IB35/IB7*1000)),(IB35/'Blad 2 Indata'!#REF!*1000))","v":0},{"$f":"IF(ISERROR(IC35/'Blad 2 Indata'!#REF!*1000),IF(ISERROR(IC35/IC7*1000),0,(IC35/IC7*1000)),(IC35/'Blad 2 Indata'!#REF!*1000))","v":0},{"$f":"IF(ISERROR(ID35/'Blad 2 Indata'!#REF!*1000),IF(ISERROR(ID35/ID7*1000),0,(ID35/ID7*1000)),(ID35/'Blad 2 Indata'!#REF!*1000))","v":0},{"$f":"IF(ISERROR(IE35/'Blad 2 Indata'!#REF!*1000),IF(ISERROR(IE35/IE7*1000),0,(IE35/IE7*1000)),(IE35/'Blad 2 Indata'!#REF!*1000))","v":0},{"$f":"IF(ISERROR(IF35/'Blad 2 Indata'!#REF!*1000),IF(ISERROR(IF35/IF7*1000),0,(IF35/IF7*1000)),(IF35/'Blad 2 Indata'!#REF!*1000))","v":0},{"$f":"IF(ISERROR(IG35/'Blad 2 Indata'!#REF!*1000),IF(ISERROR(IG35/IG7*1000),0,(IG35/IG7*1000)),(IG35/'Blad 2 Indata'!#REF!*1000))","v":0},{"$f":"IF(ISERROR(IH35/'Blad 2 Indata'!#REF!*1000),IF(ISERROR(IH35/IH7*1000),0,(IH35/IH7*1000)),(IH35/'Blad 2 Indata'!#REF!*1000))","v":0},{"$f":"IF(ISERROR(II35/'Blad 2 Indata'!#REF!*1000),IF(ISERROR(II35/II7*1000),0,(II35/II7*1000)),(II35/'Blad 2 Indata'!#REF!*1000))","v":0},{"$f":"IF(ISERROR(IJ35/'Blad 2 Indata'!#REF!*1000),IF(ISERROR(IJ35/IJ7*1000),0,(IJ35/IJ7*1000)),(IJ35/'Blad 2 Indata'!#REF!*1000))","v":0},{"$f":"IF(ISERROR(IK35/'Blad 2 Indata'!#REF!*1000),IF(ISERROR(IK35/IK7*1000),0,(IK35/IK7*1000)),(IK35/'Blad 2 Indata'!#REF!*1000))","v":0},{"$f":"IF(ISERROR(IL35/'Blad 2 Indata'!#REF!*1000),IF(ISERROR(IL35/IL7*1000),0,(IL35/IL7*1000)),(IL35/'Blad 2 Indata'!#REF!*1000))","v":0},{"$f":"IF(ISERROR(IM35/'Blad 2 Indata'!#REF!*1000),IF(ISERROR(IM35/IM7*1000),0,(IM35/IM7*1000)),(IM35/'Blad 2 Indata'!#REF!*1000))","v":0},{"$f":"IF(ISERROR(IN35/'Blad 2 Indata'!#REF!*1000),IF(ISERROR(IN35/IN7*1000),0,(IN35/IN7*1000)),(IN35/'Blad 2 Indata'!#REF!*1000))","v":0},{"$f":"IF(ISERROR(IO35/'Blad 2 Indata'!#REF!*1000),IF(ISERROR(IO35/IO7*1000),0,(IO35/IO7*1000)),(IO35/'Blad 2 Indata'!#REF!*1000))","v":0},{"$f":"IF(ISERROR(IP35/'Blad 2 Indata'!#REF!*1000),IF(ISERROR(IP35/IP7*1000),0,(IP35/IP7*1000)),(IP35/'Blad 2 Indata'!#REF!*1000))","v":0},{"$f":"IF(ISERROR(IQ35/'Blad 2 Indata'!#REF!*1000),IF(ISERROR(IQ35/IQ7*1000),0,(IQ35/IQ7*1000)),(IQ35/'Blad 2 Indata'!#REF!*1000))","v":0},{"$f":"IF(ISERROR(IR35/'Blad 2 Indata'!#REF!*1000),IF(ISERROR(IR35/IR7*1000),0,(IR35/IR7*1000)),(IR35/'Blad 2 Indata'!#REF!*1000))","v":0},{"$f":"IF(ISERROR(IS35/'Blad 2 Indata'!#REF!*1000),IF(ISERROR(IS35/IS7*1000),0,(IS35/IS7*1000)),(IS35/'Blad 2 Indata'!#REF!*1000))","v":0},{"$f":"IF(ISERROR(IT35/'Blad 2 Indata'!#REF!*1000),IF(ISERROR(IT35/IT7*1000),0,(IT35/IT7*1000)),(IT35/'Blad 2 Indata'!#REF!*1000))","v":0},{"$f":"IF(ISERROR(IU35/'Blad 2 Indata'!#REF!*1000),IF(ISERROR(IU35/IU7*1000),0,(IU35/IU7*1000)),(IU35/'Blad 2 Indata'!#REF!*1000))","v":0},{"$f":"IF(ISERROR(IV35/'Blad 2 Indata'!#REF!*1000),IF(ISERROR(IV35/IV7*1000),0,(IV35/IV7*1000)),(IV35/'Blad 2 Indata'!#REF!*1000))","v":0}]
[]
[]
["Ersättning för kraftiga befolkningsförändringar"]
["Totalt befolkning 31/12 året innan",null,{"$f":"IF(ISERROR(VLOOKUP('Blad 2 Indata'!$B1,Data!$A$2:$DK$291,114)),0,(VLOOKUP('Blad 2 Indata'!$B1,Data!$A$2:$DK$291,114)))","v":0},{"$f":"IF(Data!DK3>0,IF(ISERROR(VLOOKUP('Blad 2 Indata'!$B1,Data!$A$2:$DK$291,115)),0,(VLOOKUP('Blad 2 Indata'!$B1,Data!$A$2:$DK$291,115))),IF(ISERROR(('Blad 3 Inkomstutjämning'!D21-'Blad 3 Inkomstutjämning'!C21)/12*2+'Blad 3 Inkomstutjämning'!C21),0,(('Blad 3 Inkomstutjämning'!D21-'Blad 3 Inkomstutjämning'!C21)/12*2+'Blad 3 Inkomstutjämning'!C21)))","v":0},{"$f":"IF(ISERROR(('Blad 3 Inkomstutjämning'!E21-'Blad 3 Inkomstutjämning'!D21)/12*2+'Blad 3 Inkomstutjämning'!D21),0,(('Blad 3 Inkomstutjämning'!E21-'Blad 3 Inkomstutjämning'!D21)/12*2+'Blad 3 Inkomstutjämning'!D21))","v":0},{"$f":"IF(ISERROR(('Blad 3 Inkomstutjämning'!F21-'Blad 3 Inkomstutjämning'!E21)/12*2+'Blad 3 Inkomstutjämning'!E21),0,(('Blad 3 Inkomstutjämning'!F21-'Blad 3 Inkomstutjämning'!E21)/12*2+'Blad 3 Inkomstutjämning'!E21))","v":0},{"$f":"IF(ISERROR(('Blad 3 Inkomstutjämning'!G21-'Blad 3 Inkomstutjämning'!F21)/12*2+'Blad 3 Inkomstutjämning'!F21),0,(('Blad 3 Inkomstutjämning'!G21-'Blad 3 Inkomstutjämning'!F21)/12*2+'Blad 3 Inkomstutjämning'!F21))","v":0},{"$f":"IF(ISERROR(('Blad 3 Inkomstutjämning'!H21-'Blad 3 Inkomstutjämning'!G21)/12*2+'Blad 3 Inkomstutjämning'!G21),0,(('Blad 3 Inkomstutjämning'!H21-'Blad 3 Inkomstutjämning'!G21)/12*2+'Blad 3 Inkomstutjämning'!G21))","v":0},{"$f":"IF(ISERROR(('Blad 3 Inkomstutjämning'!I21-'Blad 3 Inkomstutjämning'!H21)/12*2+'Blad 3 Inkomstutjämning'!H21),0,(('Blad 3 Inkomstutjämning'!I21-'Blad 3 Inkomstutjämning'!H21)/12*2+'Blad 3 Inkomstutjämning'!H21))","v":0},{"$f":"IF(ISERROR(('Blad 3 Inkomstutjämning'!J21-'Blad 3 Inkomstutjämning'!I21)/12*2+'Blad 3 Inkomstutjämning'!I21),0,(('Blad 3 Inkomstutjämning'!J21-'Blad 3 Inkomstutjämning'!I21)/12*2+'Blad 3 Inkomstutjämning'!I21))","v":0}]
["Total befolkning 10 år innan",null,{"$f":"IF(ISERROR(VLOOKUP('Blad 2 Indata'!$B1,Data!$A$2:$DK$291,106)),0,(VLOOKUP('Blad 2 Indata'!$B1,Data!$A$2:$DK$291,106)))","v":0},{"$f":"IF(ISERROR(VLOOKUP('Blad 2 Indata'!$B1,Data!$A$2:$DK$291,107)),0,(VLOOKUP('Blad 2 Indata'!$B1,Data!$A$2:$DK$291,107)))","v":0},{"$f":"IF(ISERROR(VLOOKUP('Blad 2 Indata'!$B1,Data!$A$2:$DK$291,108)),0,(VLOOKUP('Blad 2 Indata'!$B1,Data!$A$2:$DK$291,108)))","v":0},{"$f":"IF(ISERROR(VLOOKUP('Blad 2 Indata'!$B1,Data!$A$2:$DK$291,109)),0,(VLOOKUP('Blad 2 Indata'!$B1,Data!$A$2:$DK$291,109)))","v":0},{"$f":"IF(ISERROR(VLOOKUP('Blad 2 Indata'!$B1,Data!$A$2:$DK$291,110)),0,(VLOOKUP('Blad 2 Indata'!$B1,Data!$A$2:$DK$291,110)))","v":0},{"$f":"IF(ISERROR(VLOOKUP('Blad 2 Indata'!$B1,Data!$A$2:$DK$291,111)),0,(VLOOKUP('Blad 2 Indata'!$B1,Data!$A$2:$DK$291,111)))","v":0},{"$f":"IF(ISERROR(VLOOKUP('Blad 2 Indata'!$B1,Data!$A$2:$DK$291,112)),0,(VLOOKUP('Blad 2 Indata'!$B1,Data!$A$2:$DK$291,112)))","v":0},{"$f":"IF(ISERROR(VLOOKUP('Blad 2 Indata'!$B1,Data!$A$2:$DK$291,113)),0,(VLOOKUP('Blad 2 Indata'!$B1,Data!$A$2:$DK$291,113)))","v":0}]
["Förändring, procent",null,{"$f":"IF(C41<>0,(C40/C41-1)*100,0)","v":0},{"$f":"IF(D41<>0,(D40/D41-1)*100,0)","v":0},{"$f":"IF(E41<>0,(E40/E41-1)*100,0)","v":0},0,0,0,0,0]
["Ersättning per procentenhet",100]
["Förändring riket, procent",null,{"$f":"IF(ISERROR(((SUM(Data!DJ3:DJ23)/SUM(Data!DB3:DB23))-1)*100),0,((SUM(Data!DJ3:DJ23)/SUM(Data!DB3:DB23))-1)*100)","v":10.105418719108727},{"$f":"IFERROR(IF(Data!DK3>0,((SUM(Data!DK3:DK23)/SUM(Data!DC3:DC23))-1)*100,('Blad 2 Indata'!B75/SUM(Data!DC3:DC23)-1)*100),0)","v":9.4023409765031438},{"$f":"IFERROR(('Blad 2 Indata'!C75/SUM(Data!DD3:DD23)-1)*100,0)","v":9.1471994197400264},{"$f":"IFERROR(('Blad 2 Indata'!D75/SUM(Data!DE3:DE23)-1)*100,0)","v":8.5534417410912944},{"$f":"IFERROR(('Blad 2 Indata'!E75/SUM(Data!DF3:DF23)-1)*100,0)","v":7.5074088410652662},{"$f":"IFERROR(('Blad 2 Indata'!F75/SUM(Data!DG3:DG23)-1)*100,0)","v":6.6405625478126007},{"$f":"IFERROR(('Blad 2 Indata'!G75/SUM(Data!DH3:DH23)-1)*100,0)","v":5.954985173777394},{"$f":"IFERROR(('Blad 2 Indata'!H75/SUM(Data!DI3:DI23)-1)*100,0)","v":3.9871699371029967}]
["Gräns för ersättning",2,{"$f":"IF(C44<0,$B45,$B45+C44)","v":12.105418719108727},{"$f":"IF(D44<0,$B45,$B45+D44)","v":11.402340976503144},11.147199419740026,10.553441741091294,9.5074088410652671,8.6405625478125998,7.954985173777394,5.9871699371029967]
["Ersättning kr/inv",null,{"$f":"IF(C42<-2,((C42+$B45)*-$B43),IF(C42>C45,C42-C45,0)*$B43)","v":0},{"$f":"IF(D42<-2,((D42+$B45)*-$B43),IF(D42>D45,D42-D45,0)*$B43)","v":0},0,0,0,0,0,0]

{"sheet":"Blad 7 Statsbidrag","index":9,"n_rows":41,"n_cols":12,"rows_kept":41,"cut":false,"hidden":true,"merged":[]}
[]
[null,null,null,null,2023,2024,2025,2026,2027,2028,2029,2030]
[null,null,null,"Totalt enligt BP2023 EkonomiNytt 15/2022",43847.606,44942,43717,43717,43777,43777,43777,43777]
[null,null,null,"Förstärkning generella statsbidrag",null,3000,3000,3000,3000,3000,3000,3000]
[null,null,null,"Regleringar enligt den kommunala finansieringsprincipen"]
[null,null,null,"Neddragning av kostnadsfri tandvård (utg.omr. 9 avsnitt 3.6.4)",null,null,-576,-576,-576,-576,-576,-576]
[null,null,null,"Tidigare beslutade och förändringar av tidigare aviserade regleringar"]
[null,null,null,"Hälsoundersökningar i skyddat boende",null,10,10,10,10,10,10,10]
[null,null,null,"Övriga ekonomiska regleringar"]
[null,null,null,"Skatteavtalet Sverige Danmark",null,23,23,23,23,23,23,23]
[null,null,null,"Pensionsgruppen",null,null,null,-1012,-1012,-1012,-1012,-1012]
[null,null,null,"Förtstärkning av det förhöjda grundavdraget",null,757,757,757,757,757,757,757]
[null,null,null,"Höjd jämförelseränta vid ränteförmån",null,-39,-79,-79,-79,-79,-79,-79]
[null,null,null,"Senarelagd åldersgränshöjning av förhöjt grundavdrag",null,null,null,1184,1184,1184,1184,1184]
[null,null,null,"Restpost",null,null,null,15,15,15,15,15]
[null,null,null,"Justering skatteväxling",null,1.9725239999999999,1.9725239999999999,1.9725239999999999,1.9725239999999999,1.9725239999999999,1.9725239999999999,1.9725239999999999]
[]
[]
[]
[]
[]
[]
[]
[null,null,null,"Totalt BP24 inkl omföringar=blad 2 rad 35",43847.606,48694.972523999997,46854.972523999997,47039.972523999997,47099.972523999997,47099.972523999997,47099.972523999997,47099.972523999997]
[]
[]
[]
[]
[]
[]
[null,null,null,"Ev. tillskott UO 25 utanför anslaget"]
[]
[]
[]
[]
[]
[]
[null,null,null,"Summa tillskott UO25 utanför anslaget",0,0,0,0,0,0,0]
[]
[null,null,null,"På nedanstående länk finns bl.a. vår specificering av generella statsbidrag som omfattar alla förändringar av anslaget för kommunalekonomisk utjämning sedan BP 2009."]
[null,null,null,"https://skr.se/ekonomijuridik/ekonomi/budgetochplanering/statsbidrag/specificeringavvissastatsbidrag.31839.html"]

{"sheet":"Blad 8 Periodisering","index":10,"n_rows":294,"n_cols":60,"rows_kept":294,"cut":false,"hidden":true,"merged":[]}
["Periodisering"]
[null,"Rikets skatteunderlag"]
[]
[]
[]
[null,{"$f":"'Blad 2 Indata'!B3","v":2023},null,null,{"$f":"'Blad 2 Indata'!C3","v":2024},null,null,null,null,null,null,null,{"$f":"'Blad 2 Indata'!D3","v":2025}]
[null,"Preliminär skatt","Prognos utfall","Avräkning kr/invånare","Preliminär skatt","Prognos utfall","Avräkning kr/invånare","Avräkning mkr",{"$f":"\"Justeringspost\"&\" \"&E6-1 &\" \"& \"kr/inv\"","v":"Justeringspost 2023 kr/inv"},"Kolumn att dölja",{"$f":"\"Justeringspost\"&\" \"&E6-1&\" \"&\"Mkr\"","v":"Justeringspost 2023 Mkr"},{"$f":"\"Skatteintäkter\"&\" \"&E6","v":"Skatteintäkter 2024"},"Preliminär skatt","Prognos utfall","Avräkning kr/invånare","Avräkning mkr",{"$f":"\"Justeringspost\"&\" \"&M6-1 &\" \"& \"kr/inv\"","v":"Justeringspost 2024 kr/inv"},"Kolumn att dölja",{"$f":"\"Justeringspost\"&\" \"&M6-1&\" \"&\"Mkr\"","v":"Justeringspost 2024 Mkr"},{"$f":"\"Skatteintäkter\"&\" \"&M6","v":"Skatteintäkter 2025"}]
[1,{"$f":"(B$46/100+1)*(C$46/100+1)*Data!AQ3*Data!K3/100000000","v":91902.0909816411},{"$f":"Data!C3*Data!K3/100*'Blad 8 Periodisering'!C77/1000000","v":94223.579326199309},{"$f":"(SUM(C$8:C$28)-SUM(B$8:B$28))*1000000/'Blad 2 Indata'!B$28","v":451.6569067344978},{"$f":"(1+('Blad 2 Indata'!B$7/100))*(1+('Blad 2 Indata'!C$7/100))*Data!C3*Data!L3/100000000","v":98818.464254215782},{"$f":"IF('Blad 2 Indata'!C$12<>0,E77*Data!D3*Data!L3/100000000,C52*E52*Data!C3*Data!L3/100000000)","v":99359.319405778355},{"$f":"((((SUM(F$8:F$28)-F$15)-(SUM(E$8:E$28)-E$15))/(((SUM(F$8:F$28)-F$15)-(SUM(E$8:E$28)-E$15))+(G$46/1000-G$45/1000)))*((ROUND(C$59*E$59*Data!C$10*C$48,0)/100000000)-(ROUND((1+('Blad 2 Indata'!B$7/100))*(1+('Blad 2 Indata'!C$7/100))*Data!C$10*C$48,0)/100000000))+(SUM(F$8:F$28)-F$15)-(SUM(E$8:E$28)-E$15))*1000000/'Blad 2 Indata'!C$28","v":-31.740766401809683},{"$f":"G8*Data!F3/1000000","v":-77.952592576934023},{"$f":"((((SUM(J$8:J$28)-J$15)-(SUM(B$8:B$28)-B$15))+((SUM(J$8:J$28)-J$15)-(SUM(B$8:B$28)-B$15))/(((SUM(J$8:J$28)-J$15)-(SUM(B$8:B$28)-B$15))+(F$47/1000-F$45/1000))*((MROUND(Data!C$10*C$59*B$48,100)/100000000-((B$46/100+1)*(C$46/100+1)*Data!AQ$10*B$48/100000000))))*1000000/'Blad 2 Indata'!B$28)-D$28","v":-51.059384115134719},{"$f":"Data!C3*C52*Data!K3/100000000","v":94066.650164041392},{"$f":"I8*Data!E3/1000000","v":-124.43978647127349},{"$f":"H8+E8+K8","v":98616.071875167574},{"$f":"IF('Blad 2 Indata'!C$8=\"\",\"\",(Data!AM3/100*Data!C3*C52*(1+'Blad 2 Indata'!C$8/100)*(1+'Blad 2 Indata'!D$8/100)/1000000))","v":""},{"$f":"IF('Blad 2 Indata'!C$8=\"\",\"\",(Data!AM3/100*Data!C3*C52)*E52*G52/1000000)","v":""},{"$f":"IF(N8=\"\",0,(((SUM(N$8:N$28)-N$15)-(SUM(M$8:M$28)-M$15)+((SUM(N$8:N$28)-N$15)-(SUM(M$8:M$28)-M$15))/(((SUM(N$8:N$28)-N$15)-(SUM(M$8:M$28)-M$15))+(H$46/1000-H$45/1000))*((IF('Blad 2 Indata'!C$8=\"\",\"\",ROUND((D$48/100*Data!C$10*C$59)*E$59*G$59,0)/1000000))-(IF('Blad 2 Indata'!C$8=\"\",\"\",(ROUND(D$48/100*Data!C$10*C$59*(1+'Blad 2 Indata'!C$8/100)*(1+'Blad 2 Indata'!D$8/100),0)/1000000)))))*1000000/'Blad 2 Indata'!D$28))","v":0},{"$f":"IF('Blad 2 Indata'!$P$3=2,Data!R3,Data!G3)/1000000*O8","v":0},{"$f":"(((SUM(R$8:R$28)-R$15)-(SUM(E$8:E$28)-E$15))+((((SUM(R$8:R$28)-R$15)-(SUM(E$8:E$28)-E$15))/(((SUM(R$8:R$28)-R$15)-(SUM(E$8:E$28)-E$15))+(G$47/1000-G$45/1000)))*((MROUND(C$59*E$59*Data!C$10*C$48,100)/100000000)-(ROUND((1+('Blad 2 Indata'!B$7/100))*(1+('Blad 2 Indata'!C$7/100))*Data!C$10*C$48,0)/100000000))))*1000000/'Blad 2 Indata'!C$28-G$28","v":-4.6409986964590644E-9},{"$f":"C52*E52*Data!C3*Data!L3/100000000","v":99359.319405778355},{"$f":"IF('Blad 2 Indata'!C$12<>0,Q8*Data!F3/1000000,0)","v":0},{"$f":"IF(ISERROR(IF('Blad 2 Indata'!C$12<>0,P8+M8+S8,'Blad 8 Periodisering'!P8+'Blad 8 Periodisering'!M8)),0,IF('Blad 2 Indata'!C$12<>0,P8+M8+S8,'Blad 8 Periodisering'!P8+'Blad 8 Periodisering'!M8))","v":0}]
[3,{"$f":"(B$46/100+1)*(C$46/100+1)*Data!AQ4*Data!K4/100000000","v":11891.259056063016},{"$f":"Data!C4*Data!K4/100*'Blad 8 Periodisering'!C78/1000000","v":12177.010340126177},{"$f":"(SUM(C$8:C$28)-SUM(B$8:B$28))*1000000/'Blad 2 Indata'!B$28","v":451.6569067344978},{"$f":"(1+('Blad 2 Indata'!B$7/100))*(1+('Blad 2 Indata'!C$7/100))*Data!C4*Data!L4/100000000","v":12405.86894670417},{"$f":"IF('Blad 2 Indata'!C$12<>0,E78*Data!D4*Data!L4/100000000,C53*E53*Data!C4*Data!L4/100000000)","v":12578.20725682189},{"$f":"((((SUM(F$8:F$28)-F$15)-(SUM(E$8:E$28)-E$15))/(((SUM(F$8:F$28)-F$15)-(SUM(E$8:E$28)-E$15))+(G$46/1000-G$45/1000)))*((ROUND(C$59*E$59*Data!C$10*C$48,0)/100000000)-(ROUND((1+('Blad 2 Indata'!B$7/100))*(1+('Blad 2 Indata'!C$7/100))*Data!C$10*C$48,0)/100000000))+(SUM(F$8:F$28)-F$15)-(SUM(E$8:E$28)-E$15))*1000000/'Blad 2 Indata'!C$28","v":-31.740766401809683},{"$f":"G9*Data!F4/1000000","v":-12.845932533542003},{"$f":"((((SUM(J$8:J$28)-J$15)-(SUM(B$8:B$28)-B$15))+((SUM(J$8:J$28)-J$15)-(SUM(B$8:B$28)-B$15))/(((SUM(J$8:J$28)-J$15)-(SUM(B$8:B$28)-B$15))+(F$47/1000-F$45/1000))*((MROUND(Data!C$10*C$59*B$48,100)/100000000-((B$46/100+1)*(C$46/100+1)*Data!AQ$10*B$48/100000000))))*1000000/'Blad 2 Indata'!B$28)-D$28","v":-51.059384115134719},{"$f":"Data!C4*C53*Data!K4/100000000","v":12156.729556441993},{"$f":"I9*Data!E4/1000000","v":-20.427327802941949},{"$f":"H9+E9+K9","v":12372.595686367686},{"$f":"IF('Blad 2 Indata'!C$8=\"\",\"\",(Data!AM4/100*Data!C4*C53*(1+'Blad 2 Indata'!C$8/100)*(1+'Blad 2 Indata'!D$8/100)/1000000))","v":""},{"$f":"IF('Blad 2 Indata'!C$8=\"\",\"\",(Data!AM4/100*Data!C4*C53)*E53*G53/1000000)","v":""},{"$f":"IF(N9=\"\",0,(((SUM(N$8:N$28)-N$15)-(SUM(M$8:M$28)-M$15)+((SUM(N$8:N$28)-N$15)-(SUM(M$8:M$28)-M$15))/(((SUM(N$8:N$28)-N$15)-(SUM(M$8:M$28)-M$15))+(H$46/1000-H$45/1000))*((IF('Blad 2 Indata'!C$8=\"\",\"\",ROUND((D$48/100*Data!C$10*C$59)*E$59*G$59,0)/1000000))-(IF('Blad 2 Indata'!C$8=\"\",\"\",(ROUND(D$48/100*Data!C$10*C$59*(1+'Blad 2 Indata'!C$8/100)*(1+'Blad 2 Indata'!D$8/100),0)/1000000)))))*1000000/'Blad 2 Indata'!D$28))","v":0},{"$f":"IF('Blad 2 Indata'!$P$3=2,Data!R4,Data!G4)/1000000*O9","v":0},{"$f":"(((SUM(R$8:R$28)-R$15)-(SUM(E$8:E$28)-E$15))+((((SUM(R$8:R$28)-R$15)-(SUM(E$8:E$28)-E$15))/(((SUM(R$8:R$28)-R$15)-(SUM(E$8:E$28)-E$15))+(G$47/1000-G$45/1000)))*((MROUND(C$59*E$59*Data!C$10*C$48,100)/100000000)-(ROUND((1+('Blad 2 Indata'!B$7/100))*(1+('Blad 2 Indata'!C$7/100))*Data!C$10*C$48,0)/100000000))))*1000000/'Blad 2 Indata'!C$28-G$28","v":-4.6409986964590644E-9},{"$f":"C53*E53*Data!C4*Data!L4/100000000","v":12578.20725682189},{"$f":"IF('Blad 2 Indata'!C$12<>0,Q9*Data!F4/1000000,0)","v":0},{"$f":"IF(ISERROR(IF('Blad 2 Indata'!C$12<>0,P9+M9+S9,'Blad 8 Periodisering'!P9+'Blad 8 Periodisering'!M9)),0,IF('Blad 2 Indata'!C$12<>0,P9+M9+S9,'Blad 8 Periodisering'!P9+'Blad 8 Periodisering'!M9))","v":0}]
[4,{"$f":"(B$46/100+1)*(C$46/100+1)*Data!AQ5*Data!K5/100000000","v":7640.4526419211124},{"$f":"Data!C5*Data!K5/100*'Blad 8 Periodisering'!C79/1000000","v":7711.5169191133973},{"$f":"(SUM(C$8:C$28)-SUM(B$8:B$28))*1000000/'Blad 2 Indata'!B$28","v":451.6569067344978},{"$f":"(1+('Blad 2 Indata'!B$7/100))*(1+('Blad 2 Indata'!C$7/100))*Data!C5*Data!L5/100000000","v":7945.6068945228553},{"$f":"IF('Blad 2 Indata'!C$12<>0,E79*Data!D5*Data!L5/100000000,C54*E54*Data!C5*Data!L5/100000000)","v":7869.9422458491617},{"$f":"((((SUM(F$8:F$28)-F$15)-(SUM(E$8:E$28)-E$15))/(((SUM(F$8:F$28)-F$15)-(SUM(E$8:E$28)-E$15))+(G$46/1000-G$45/1000)))*((ROUND(C$59*E$59*Data!C$10*C$48,0)/100000000)-(ROUND((1+('Blad 2 Indata'!B$7/100))*(1+('Blad 2 Indata'!C$7/100))*Data!C$10*C$48,0)/100000000))+(SUM(F$8:F$28)-F$15)-(SUM(E$8:E$28)-E$15))*1000000/'Blad 2 Indata'!C$28","v":-31.740766401809683},{"$f":"G10*Data!F5/1000000","v":-9.5955510909310853},{"$f":"((((SUM(J$8:J$28)-J$15)-(SUM(B$8:B$28)-B$15))+((SUM(J$8:J$28)-J$15)-(SUM(B$8:B$28)-B$15))/(((SUM(J$8:J$28)-J$15)-(SUM(B$8:B$28)-B$15))+(F$47/1000-F$45/1000))*((MROUND(Data!C$10*C$59*B$48,100)/100000000-((B$46/100+1)*(C$46/100+1)*Data!AQ$10*B$48/100000000))))*1000000/'Blad 2 Indata'!B$28)-D$28","v":-51.059384115134719},{"$f":"Data!C5*C54*Data!K5/100000000","v":7698.6734048069266},{"$f":"I10*Data!E5/1000000","v":-15.444085091457143},7920.5672583404676,{"$f":"IF('Blad 2 Indata'!C$8=\"\",\"\",(Data!AM5/100*Data!C5*C54*(1+'Blad 2 Indata'!C$8/100)*(1+'Blad 2 Indata'!D$8/100)/1000000))","v":""},{"$f":"IF('Blad 2 Indata'!C$8=\"\",\"\",(Data!AM5/100*Data!C5*C54)*E54*G54/1000000)","v":""},{"$f":"IF(N10=\"\",0,(((SUM(N$8:N$28)-N$15)-(SUM(M$8:M$28)-M$15)+((SUM(N$8:N$28)-N$15)-(SUM(M$8:M$28)-M$15))/(((SUM(N$8:N$28)-N$15)-(SUM(M$8:M$28)-M$15))+(H$46/1000-H$45/1000))*((IF('Blad 2 Indata'!C$8=\"\",\"\",ROUND((D$48/100*Data!C$10*C$59)*E$59*G$59,0)/1000000))-(IF('Blad 2 Indata'!C$8=\"\",\"\",(ROUND(D$48/100*Data!C$10*C$59*(1+'Blad 2 Indata'!C$8/100)*(1+'Blad 2 Indata'!D$8/100),0)/1000000)))))*1000000/'Blad 2 Indata'!D$28))","v":0},{"$f":"IF('Blad 2 Indata'!$P$3=2,Data!R5,Data!G5)/1000000*O10","v":0},{"$f":"(((SUM(R$8:R$28)-R$15)-(SUM(E$8:E$28)-E$15))+((((SUM(R$8:R$28)-R$15)-(SUM(E$8:E$28)-E$15))/(((SUM(R$8:R$28)-R$15)-(SUM(E$8:E$28)-E$15))+(G$47/1000-G$45/1000)))*((MROUND(C$59*E$59*Data!C$10*C$48,100)/100000000)-(ROUND((1+('Blad 2 Indata'!B$7/100))*(1+('Blad 2 Indata'!C$7/100))*Data!C$10*C$48,0)/100000000))))*1000000/'Blad 2 Indata'!C$28-G$28","v":-4.6409986964590644E-9},{"$f":"C54*E54*Data!C5*Data!L5/100000000","v":7869.9422458491617},{"$f":"IF('Blad 2 Indata'!C$12<>0,Q10*Data!F5/1000000,0)","v":0},{"$f":"IF(ISERROR(IF('Blad 2 Indata'!C$12<>0,P10+M10+S10,'Blad 8 Periodisering'!P10+'Blad 8 Periodisering'!M10)),0,IF('Blad 2 Indata'!C$12<>0,P10+M10+S10,'Blad 8 Periodisering'!P10+'Blad 8 Periodisering'!M10))","v":0}]
[5,{"$f":"(B$46/100+1)*(C$46/100+1)*Data!AQ6*Data!K6/100000000","v":13314.816143837485},{"$f":"Data!C6*Data!K6/100*'Blad 8 Periodisering'!C80/1000000","v":13405.474941315288},{"$f":"(SUM(C$8:C$28)-SUM(B$8:B$28))*1000000/'Blad 2 Indata'!B$28","v":451.6569067344978},{"$f":"(1+('Blad 2 Indata'!B$7/100))*(1+('Blad 2 Indata'!C$7/100))*Data!C6*Data!L6/100000000","v":13793.304066254974},{"$f":"IF('Blad 2 Indata'!C$12<>0,E80*Data!D6*Data!L6/100000000,C55*E55*Data!C6*Data!L6/100000000)","v":13713.291594285512},{"$f":"((((SUM(F$8:F$28)-F$15)-(SUM(E$8:E$28)-E$15))/(((SUM(F$8:F$28)-F$15)-(SUM(E$8:E$28)-E$15))+(G$46/1000-G$45/1000)))*((ROUND(C$59*E$59*Data!C$10*C$48,0)/100000000)-(ROUND((1+('Blad 2 Indata'!B$7/100))*(1+('Blad 2 Indata'!C$7/100))*Data!C$10*C$48,0)/100000000))+(SUM(F$8:F$28)-F$15)-(SUM(E$8:E$28)-E$15))*1000000/'Blad 2 Indata'!C$28","v":-31.740766401809683},{"$f":"G11*Data!F6/1000000","v":-15.002590647479364},{"$f":"((((SUM(J$8:J$28)-J$15)-(SUM(B$8:B$28)-B$15))+((SUM(J$8:J$28)-J$15)-(SUM(B$8:B$28)-B$15))/(((SUM(J$8:J$28)-J$15)-(SUM(B$8:B$28)-B$15))+(F$47/1000-F$45/1000))*((MROUND(Data!C$10*C$59*B$48,100)/100000000-((B$46/100+1)*(C$46/100+1)*Data!AQ$10*B$48/100000000))))*1000000/'Blad 2 Indata'!B$28)-D$28","v":-51.059384115134719},{"$f":"Data!C6*C55*Data!K6/100000000","v":13383.148152565449},{"$f":"I11*Data!E6/1000000","v":-24.089664247368216},13754.211811360125,{"$f":"IF('Blad 2 Indata'!C$8=\"\",\"\",(Data!AM6/100*Data!C6*C55*(1+'Blad 2 Indata'!C$8/100)*(1+'Blad 2 Indata'!D$8/100)/1000000))","v":""},{"$f":"IF('Blad 2 Indata'!C$8=\"\",\"\",(Data!AM6/100*Data!C6*C55)*E55*G55/1000000)","v":""},{"$f":"IF(N11=\"\",0,(((SUM(N$8:N$28)-N$15)-(SUM(M$8:M$28)-M$15)+((SUM(N$8:N$28)-N$15)-(SUM(M$8:M$28)-M$15))/(((SUM(N$8:N$28)-N$15)-(SUM(M$8:M$28)-M$15))+(H$46/1000-H$45/1000))*((IF('Blad 2 Indata'!C$8=\"\",\"\",ROUND((D$48/100*Data!C$10*C$59)*E$59*G$59,0)/1000000))-(IF('Blad 2 Indata'!C$8=\"\",\"\",(ROUND(D$48/100*Data!C$10*C$59*(1+'Blad 2 Indata'!C$8/100)*(1+'Blad 2 Indata'!D$8/100),0)/1000000)))))*1000000/'Blad 2 Indata'!D$28))","v":0},{"$f":"IF('Blad 2 Indata'!$P$3=2,Data!R6,Data!G6)/1000000*O11","v":0},{"$f":"(((SUM(R$8:R$28)-R$15)-(SUM(E$8:E$28)-E$15))+((((SUM(R$8:R$28)-R$15)-(SUM(E$8:E$28)-E$15))/(((SUM(R$8:R$28)-R$15)-(SUM(E$8:E$28)-E$15))+(G$47/1000-G$45/1000)))*((MROUND(C$59*E$59*Data!C$10*C$48,100)/100000000)-(ROUND((1+('Blad 2 Indata'!B$7/100))*(1+('Blad 2 Indata'!C$7/100))*Data!C$10*C$48,0)/100000000))))*1000000/'Blad 2 Indata'!C$28-G$28","v":-4.6409986964590644E-9},{"$f":"C55*E55*Data!C6*Data!L6/100000000","v":13713.291594285512},{"$f":"IF('Blad 2 Indata'!C$12<>0,Q11*Data!F6/1000000,0)","v":0},{"$f":"IF(ISERROR(IF('Blad 2 Indata'!C$12<>0,P11+M11+S11,'Blad 8 Periodisering'!P11+'Blad 8 Periodisering'!M11)),0,IF('Blad 2 Indata'!C$12<>0,P11+M11+S11,'Blad 8 Periodisering'!P11+'Blad 8 Periodisering'!M11))","v":0}]
[6,{"$f":"(B$46/100+1)*(C$46/100+1)*Data!AQ7*Data!K7/100000000","v":10464.227624603855},{"$f":"Data!C7*Data!K7/100*'Blad 8 Periodisering'!C81/1000000","v":10548.181680336887},{"$f":"(SUM(C$8:C$28)-SUM(B$8:B$28))*1000000/'Blad 2 Indata'!B$28","v":451.6569067344978},{"$f":"(1+('Blad 2 Indata'!B$7/100))*(1+('Blad 2 Indata'!C$7/100))*Data!C7*Data!L7/100000000","v":10844.961922539143},{"$f":"IF('Blad 2 Indata'!C$12<>0,E81*Data!D7*Data!L7/100000000,C56*E56*Data!C7*Data!L7/100000000)","v":10777.635291333352},{"$f":"((((SUM(F$8:F$28)-F$15)-(SUM(E$8:E$28)-E$15))/(((SUM(F$8:F$28)-F$15)-(SUM(E$8:E$28)-E$15))+(G$46/1000-G$45/1000)))*((ROUND(C$59*E$59*Data!C$10*C$48,0)/100000000)-(ROUND((1+('Blad 2 Indata'!B$7/100))*(1+('Blad 2 Indata'!C$7/100))*Data!C$10*C$48,0)/100000000))+(SUM(F$8:F$28)-F$15)-(SUM(E$8:E$28)-E$15))*1000000/'Blad 2 Indata'!C$28","v":-31.740766401809683},{"$f":"G12*Data!F7/1000000","v":-11.718722696314536},{"$f":"((((SUM(J$8:J$28)-J$15)-(SUM(B$8:B$28)-B$15))+((SUM(J$8:J$28)-J$15)-(SUM(B$8:B$28)-B$15))/(((SUM(J$8:J$28)-J$15)-(SUM(B$8:B$28)-B$15))+(F$47/1000-F$45/1000))*((MROUND(Data!C$10*C$59*B$48,100)/100000000-((B$46/100+1)*(C$46/100+1)*Data!AQ$10*B$48/100000000))))*1000000/'Blad 2 Indata'!B$28)-D$28","v":-51.059384115134719},{"$f":"Data!C7*C56*Data!K7/100000000","v":10530.613707169005},{"$f":"I12*Data!E7/1000000","v":-18.83902354127245},10814.404176301558,{"$f":"IF('Blad 2 Indata'!C$8=\"\",\"\",(Data!AM7/100*Data!C7*C56*(1+'Blad 2 Indata'!C$8/100)*(1+'Blad 2 Indata'!D$8/100)/1000000))","v":""},{"$f":"IF('Blad 2 Indata'!C$8=\"\",\"\",(Data!AM7/100*Data!C7*C56)*E56*G56/1000000)","v":""},{"$f":"IF(N12=\"\",0,(((SUM(N$8:N$28)-N$15)-(SUM(M$8:M$28)-M$15)+((SUM(N$8:N$28)-N$15)-(SUM(M$8:M$28)-M$15))/(((SUM(N$8:N$28)-N$15)-(SUM(M$8:M$28)-M$15))+(H$46/1000-H$45/1000))*((IF('Blad 2 Indata'!C$8=\"\",\"\",ROUND((D$48/100*Data!C$10*C$59)*E$59*G$59,0)/1000000))-(IF('Blad 2 Indata'!C$8=\"\",\"\",(ROUND(D$48/100*Data!C$10*C$59*(1+'Blad 2 Indata'!C$8/100)*(1+'Blad 2 Indata'!D$8/100),0)/1000000)))))*1000000/'Blad 2 Indata'!D$28))","v":0},{"$f":"IF('Blad 2 Indata'!$P$3=2,Data!R7,Data!G7)/1000000*O12","v":0},{"$f":"(((SUM(R$8:R$28)-R$15)-(SUM(E$8:E$28)-E$15))+((((SUM(R$8:R$28)-R$15)-(SUM(E$8:E$28)-E$15))/(((SUM(R$8:R$28)-R$15)-(SUM(E$8:E$28)-E$15))+(G$47/1000-G$45/1000)))*((MROUND(C$59*E$59*Data!C$10*C$48,100)/100000000)-(ROUND((1+('Blad 2 Indata'!B$7/100))*(1+('Blad 2 Indata'!C$7/100))*Data!C$10*C$48,0)/100000000))))*1000000/'Blad 2 Indata'!C$28-G$28","v":-4.6409986964590644E-9},{"$f":"C56*E56*Data!C7*Data!L7/100000000","v":10777.635291333352},{"$f":"IF('Blad 2 Indata'!C$12<>0,Q12*Data!F7/1000000,0)","v":0},{"$f":"IF(ISERROR(IF('Blad 2 Indata'!C$12<>0,P12+M12+S12,'Blad 8 Periodisering'!P12+'Blad 8 Periodisering'!M12)),0,IF('Blad 2 Indata'!C$12<>0,P12+M12+S12,'Blad 8 Periodisering'!P12+'Blad 8 Periodisering'!M12))","v":0}]
[7,{"$f":"(B$46/100+1)*(C$46/100+1)*Data!AQ8*Data!K8/100000000","v":5750.7062399498873},{"$f":"Data!C8*Data!K8/100*'Blad 8 Periodisering'!C82/1000000","v":5790.4804148274989},{"$f":"(SUM(C$8:C$28)-SUM(B$8:B$28))*1000000/'Blad 2 Indata'!B$28","v":451.6569067344978},{"$f":"(1+('Blad 2 Indata'!B$7/100))*(1+('Blad 2 Indata'!C$7/100))*Data!C8*Data!L8/100000000","v":5958.1276974028797},{"$f":"IF('Blad 2 Indata'!C$12<>0,E82*Data!D8*Data!L8/100000000,C57*E57*Data!C8*Data!L8/100000000)","v":5905.9973865438351},{"$f":"((((SUM(F$8:F$28)-F$15)-(SUM(E$8:E$28)-E$15))/(((SUM(F$8:F$28)-F$15)-(SUM(E$8:E$28)-E$15))+(G$46/1000-G$45/1000)))*((ROUND(C$59*E$59*Data!C$10*C$48,0)/100000000)-(ROUND((1+('Blad 2 Indata'!B$7/100))*(1+('Blad 2 Indata'!C$7/100))*Data!C$10*C$48,0)/100000000))+(SUM(F$8:F$28)-F$15)-(SUM(E$8:E$28)-E$15))*1000000/'Blad 2 Indata'!C$28","v":-31.740766401809683},{"$f":"G13*Data!F8/1000000","v":-6.4760050874284261},{"$f":"((((SUM(J$8:J$28)-J$15)-(SUM(B$8:B$28)-B$15))+((SUM(J$8:J$28)-J$15)-(SUM(B$8:B$28)-B$15))/(((SUM(J$8:J$28)-J$15)-(SUM(B$8:B$28)-B$15))+(F$47/1000-F$45/1000))*((MROUND(Data!C$10*C$59*B$48,100)/100000000-((B$46/100+1)*(C$46/100+1)*Data!AQ$10*B$48/100000000))))*1000000/'Blad 2 Indata'!B$28)-D$28","v":-51.059384115134719},{"$f":"Data!C8*C57*Data!K8/100000000","v":5780.836382553528},{"$f":"I13*Data!E8/1000000","v":-10.429236621205073},5941.2224556942465,{"$f":"IF('Blad 2 Indata'!C$8=\"\",\"\",(Data!AM8/100*Data!C8*C57*(1+'Blad 2 Indata'!C$8/100)*(1+'Blad 2 Indata'!D$8/100)/1000000))","v":""},{"$f":"IF('Blad 2 Indata'!C$8=\"\",\"\",(Data!AM8/100*Data!C8*C57)*E57*G57/1000000)","v":""},{"$f":"IF(N13=\"\",0,(((SUM(N$8:N$28)-N$15)-(SUM(M$8:M$28)-M$15)+((SUM(N$8:N$28)-N$15)-(SUM(M$8:M$28)-M$15))/(((SUM(N$8:N$28)-N$15)-(SUM(M$8:M$28)-M$15))+(H$46/1000-H$45/1000))*((IF('Blad 2 Indata'!C$8=\"\",\"\",ROUND((D$48/100*Data!C$10*C$59)*E$59*G$59,0)/1000000))-(IF('Blad 2 Indata'!C$8=\"\",\"\",(ROUND(D$48/100*Data!C$10*C$59*(1+'Blad 2 Indata'!C$8/100)*(1+'Blad 2 Indata'!D$8/100),0)/1000000)))))*1000000/'Blad 2 Indata'!D$28))","v":0},{"$f":"IF('Blad 2 Indata'!$P$3=2,Data!R8,Data!G8)/1000000*O13","v":0},{"$f":"(((SUM(R$8:R$28)-R$15)-(SUM(E$8:E$28)-E$15))+((((SUM(R$8:R$28)-R$15)-(SUM(E$8:E$28)-E$15))/(((SUM(R$8:R$28)-R$15)-(SUM(E$8:E$28)-E$15))+(G$47/1000-G$45/1000)))*((MROUND(C$59*E$59*Data!C$10*C$48,100)/100000000)-(ROUND((1+('Blad 2 Indata'!B$7/100))*(1+('Blad 2 Indata'!C$7/100))*Data!C$10*C$48,0)/100000000))))*1000000/'Blad 2 Indata'!C$28-G$28","v":-4.6409986964590644E-9},{"$f":"C57*E57*Data!C8*Data!L8/100000000","v":5905.9973865438351},{"$f":"IF('Blad 2 Indata'!C$12<>0,Q13*Data!F8/1000000,0)","v":0},{"$f":"IF(ISERROR(IF('Blad 2 Indata'!C$12<>0,P13+M13+S13,'Blad 8 Periodisering'!P13+'Blad 8 Periodisering'!M13)),0,IF('Blad 2 Indata'!C$12<>0,P13+M13+S13,'Blad 8 Periodisering'!P13+'Blad 8 Periodisering'!M13))","v":0}]
[8,{"$f":"(B$46/100+1)*(C$46/100+1)*Data!AQ9*Data!K9/100000000","v":6824.7569598817381},{"$f":"Data!C9*Data!K9/100*'Blad 8 Periodisering'!C83/1000000","v":6831.108502235199},{"$f":"(SUM(C$8:C$28)-SUM(B$8:B$28))*1000000/'Blad 2 Indata'!B$28","v":451.6569067344978},{"$f":"(1+('Blad 2 Indata'!B$7/100))*(1+('Blad 2 Indata'!C$7/100))*Data!C9*Data!L9/100000000","v":7041.0889229316526},{"$f":"IF('Blad 2 Indata'!C$12<>0,E83*Data!D9*Data!L9/100000000,C58*E58*Data!C9*Data!L9/100000000)","v":6954.7127295222399},{"$f":"((((SUM(F$8:F$28)-F$15)-(SUM(E$8:E$28)-E$15))/(((SUM(F$8:F$28)-F$15)-(SUM(E$8:E$28)-E$15))+(G$46/1000-G$45/1000)))*((ROUND(C$59*E$59*Data!C$10*C$48,0)/100000000)-(ROUND((1+('Blad 2 Indata'!B$7/100))*(1+('Blad 2 Indata'!C$7/100))*Data!C$10*C$48,0)/100000000))+(SUM(F$8:F$28)-F$15)-(SUM(E$8:E$28)-E$15))*1000000/'Blad 2 Indata'!C$28","v":-31.740766401809683},{"$f":"G14*Data!F9/1000000","v":-7.8419689695303054},{"$f":"((((SUM(J$8:J$28)-J$15)-(SUM(B$8:B$28)-B$15))+((SUM(J$8:J$28)-J$15)-(SUM(B$8:B$28)-B$15))/(((SUM(J$8:J$28)-J$15)-(SUM(B$8:B$28)-B$15))+(F$47/1000-F$45/1000))*((MROUND(Data!C$10*C$59*B$48,100)/100000000-((B$46/100+1)*(C$46/100+1)*Data!AQ$10*B$48/100000000))))*1000000/'Blad 2 Indata'!B$28)-D$28","v":-51.059384115134719},{"$f":"Data!C9*C58*Data!K9/100000000","v":6819.7313061922168},{"$f":"I14*Data!E9/1000000","v":-12.652055849273346},7020.5948981128495,{"$f":"IF('Blad 2 Indata'!C$8=\"\",\"\",(Data!AM9/100*Data!C9*C58*(1+'Blad 2 Indata'!C$8/100)*(1+'Blad 2 Indata'!D$8/100)/1000000))","v":""},{"$f":"IF('Blad 2 Indata'!C$8=\"\",\"\",(Data!AM9/100*Data!C9*C58)*E58*G58/1000000)","v":""},{"$f":"IF(N14=\"\",0,(((SUM(N$8:N$28)-N$15)-(SUM(M$8:M$28)-M$15)+((SUM(N$8:N$28)-N$15)-(SUM(M$8:M$28)-M$15))/(((SUM(N$8:N$28)-N$15)-(SUM(M$8:M$28)-M$15))+(H$46/1000-H$45/1000))*((IF('Blad 2 Indata'!C$8=\"\",\"\",ROUND((D$48/100*Data!C$10*C$59)*E$59*G$59,0)/1000000))-(IF('Blad 2 Indata'!C$8=\"\",\"\",(ROUND(D$48/100*Data!C$10*C$59*(1+'Blad 2 Indata'!C$8/100)*(1+'Blad 2 Indata'!D$8/100),0)/1000000)))))*1000000/'Blad 2 Indata'!D$28))","v":0},{"$f":"IF('Blad 2 Indata'!$P$3=2,Data!R9,Data!G9)/1000000*O14","v":0},{"$f":"(((SUM(R$8:R$28)-R$15)-(SUM(E$8:E$28)-E$15))+((((SUM(R$8:R$28)-R$15)-(SUM(E$8:E$28)-E$15))/(((SUM(R$8:R$28)-R$15)-(SUM(E$8:E$28)-E$15))+(G$47/1000-G$45/1000)))*((MROUND(C$59*E$59*Data!C$10*C$48,100)/100000000)-(ROUND((1+('Blad 2 Indata'!B$7/100))*(1+('Blad 2 Indata'!C$7/100))*Data!C$10*C$48,0)/100000000))))*1000000/'Blad 2 Indata'!C$28-G$28","v":-4.6409986964590644E-9},{"$f":"C58*E58*Data!C9*Data!L9/100000000","v":6954.7127295222399},{"$f":"IF('Blad 2 Indata'!C$12<>0,Q14*Data!F9/1000000,0)","v":0},{"$f":"IF(ISERROR(IF('Blad 2 Indata'!C$12<>0,P14+M14+S14,'Blad 8 Periodisering'!P14+'Blad 8 Periodisering'!M14)),0,IF('Blad 2 Indata'!C$12<>0,P14+M14+S14,'Blad 8 Periodisering'!P14+'Blad 8 Periodisering'!M14))","v":0}]
[9,{"$f":"(B$46/100+1)*(C$46/100+1)*Data!AQ10*Data!K10/100000000","v":1551.9376016635235},{"$f":"Data!C10*Data!K10/100*'Blad 8 Periodisering'!C84/1000000","v":1576.8510639919327},{"$f":"(SUM(C$8:C$28)-SUM(B$8:B$28))*1000000/'Blad 2 Indata'!B$28","v":451.6569067344978},{"$f":"(1+('Blad 2 Indata'!B$7/100))*(1+('Blad 2 Indata'!C$7/100))*Data!C10*Data!L10/100000000","v":1625.4009079500622},{"$f":"IF('Blad 2 Indata'!C$12<>0,E84*Data!D10*Data!L10/100000000,C59*E59*Data!C10*Data!L10/100000000)","v":1608.1656326817497},{"$f":"((((SUM(F$8:F$28)-F$15)-(SUM(E$8:E$28)-E$15))/(((SUM(F$8:F$28)-F$15)-(SUM(E$8:E$28)-E$15))+(G$46/1000-G$45/1000)))*((ROUND(C$59*E$59*Data!C$10*C$48,0)/100000000)-(ROUND((1+('Blad 2 Indata'!B$7/100))*(1+('Blad 2 Indata'!C$7/100))*Data!C$10*C$48,0)/100000000))+(SUM(F$8:F$28)-F$15)-(SUM(E$8:E$28)-E$15))*1000000/'Blad 2 Indata'!C$28","v":-31.740766401809683},{"$f":"G15*Data!F10/1000000","v":-1.939138641785759},{"$f":"((((SUM(J$8:J$28)-J$15)-(SUM(B$8:B$28)-B$15))+((SUM(J$8:J$28)-J$15)-(SUM(B$8:B$28)-B$15))/(((SUM(J$8:J$28)-J$15)-(SUM(B$8:B$28)-B$15))+(F$47/1000-F$45/1000))*((MROUND(Data!C$10*C$59*B$48,100)/100000000-((B$46/100+1)*(C$46/100+1)*Data!AQ$10*B$48/100000000))))*1000000/'Blad 2 Indata'!B$28)-D$28","v":-51.059384115134719},{"$f":"Data!C10*C59*Data!K10/100000000","v":1574.2248220460244},{"$f":"I15*Data!E10/1000000","v":-3.1231493481704451},1620.3386199601059,{"$f":"IF('Blad 2 Indata'!C$8=\"\",\"\",(Data!AM10/100*Data!C10*C59*(1+'Blad 2 Indata'!C$8/100)*(1+'Blad 2 Indata'!D$8/100)/1000000))","v":""},{"$f":"IF('Blad 2 Indata'!C$8=\"\",\"\",(Data!AM10/100*Data!C10*C59)*E59*G59/1000000)","v":""},{"$f":"IF(N15=\"\",0,(((SUM(N$8:N$28)-N$15)-(SUM(M$8:M$28)-M$15)+((SUM(N$8:N$28)-N$15)-(SUM(M$8:M$28)-M$15))/(((SUM(N$8:N$28)-N$15)-(SUM(M$8:M$28)-M$15))+(H$46/1000-H$45/1000))*((IF('Blad 2 Indata'!C$8=\"\",\"\",ROUND((D$48/100*Data!C$10*C$59)*E$59*G$59,0)/1000000))-(IF('Blad 2 Indata'!C$8=\"\",\"\",(ROUND(D$48/100*Data!C$10*C$59*(1+'Blad 2 Indata'!C$8/100)*(1+'Blad 2 Indata'!D$8/100),0)/1000000)))))*1000000/'Blad 2 Indata'!D$28))","v":0},{"$f":"IF('Blad 2 Indata'!$P$3=2,Data!R10,Data!G10)/1000000*O15","v":0},{"$f":"(((SUM(R$8:R$28)-R$15)-(SUM(E$8:E$28)-E$15))+((((SUM(R$8:R$28)-R$15)-(SUM(E$8:E$28)-E$15))/(((SUM(R$8:R$28)-R$15)-(SUM(E$8:E$28)-E$15))+(G$47/1000-G$45/1000)))*((MROUND(C$59*E$59*Data!C$10*C$48,100)/100000000)-(ROUND((1+('Blad 2 Indata'!B$7/100))*(1+('Blad 2 Indata'!C$7/100))*Data!C$10*C$48,0)/100000000))))*1000000/'Blad 2 Indata'!C$28-G$28","v":-4.6409986964590644E-9},{"$f":"C59*E59*Data!C10*Data!L10/100000000","v":1608.1656326817497},{"$f":"IF('Blad 2 Indata'!C$12<>0,Q15*Data!F10/1000000,0)","v":0},{"$f":"IF(ISERROR(IF('Blad 2 Indata'!C$12<>0,P15+M15+S15,'Blad 8 Periodisering'!P15+'Blad 8 Periodisering'!M15)),0,IF('Blad 2 Indata'!C$12<>0,P15+M15+S15,'Blad 8 Periodisering'!P15+'Blad 8 Periodisering'!M15))","v":0}]
[10,{"$f":"(B$46/100+1)*(C$46/100+1)*Data!AQ11*Data!K11/100000000","v":4554.3352195406214},{"$f":"Data!C11*Data!K11/100*'Blad 8 Periodisering'!C85/1000000","v":4527.6355965945022},{"$f":"(SUM(C$8:C$28)-SUM(B$8:B$28))*1000000/'Blad 2 Indata'!B$28","v":451.6569067344978},{"$f":"(1+('Blad 2 Indata'!B$7/100))*(1+('Blad 2 Indata'!C$7/100))*Data!C11*Data!L11/100000000","v":4685.5882685323813},{"$f":"IF('Blad 2 Indata'!C$12<>0,E85*Data!D11*Data!L11/100000000,C60*E60*Data!C11*Data!L11/100000000)","v":4604.2282768087625},{"$f":"((((SUM(F$8:F$28)-F$15)-(SUM(E$8:E$28)-E$15))/(((SUM(F$8:F$28)-F$15)-(SUM(E$8:E$28)-E$15))+(G$46/1000-G$45/1000)))*((ROUND(C$59*E$59*Data!C$10*C$48,0)/100000000)-(ROUND((1+('Blad 2 Indata'!B$7/100))*(1+('Blad 2 Indata'!C$7/100))*Data!C$10*C$48,0)/100000000))+(SUM(F$8:F$28)-F$15)-(SUM(E$8:E$28)-E$15))*1000000/'Blad 2 Indata'!C$28","v":-31.740766401809683},{"$f":"G16*Data!F11/1000000","v":-5.0222145046927391},{"$f":"((((SUM(J$8:J$28)-J$15)-(SUM(B$8:B$28)-B$15))+((SUM(J$8:J$28)-J$15)-(SUM(B$8:B$28)-B$15))/(((SUM(J$8:J$28)-J$15)-(SUM(B$8:B$28)-B$15))+(F$47/1000-F$45/1000))*((MROUND(Data!C$10*C$59*B$48,100)/100000000-((B$46/100+1)*(C$46/100+1)*Data!AQ$10*B$48/100000000))))*1000000/'Blad 2 Indata'!B$28)-D$28","v":-51.059384115134719},{"$f":"Data!C11*C60*Data!K11/100000000","v":4520.0948295613362},{"$f":"I16*Data!E11/1000000","v":-8.1121107106761432},4672.4539433170121,{"$f":"IF('Blad 2 Indata'!C$8=\"\",\"\",(Data!AM11/100*Data!C11*C60*(1+'Blad 2 Indata'!C$8/100)*(1+'Blad 2 Indata'!D$8/100)/1000000))","v":""},{"$f":"IF('Blad 2 Indata'!C$8=\"\",\"\",(Data!AM11/100*Data!C11*C60)*E60*G60/1000000)","v":""},{"$f":"IF(N16=\"\",0,(((SUM(N$8:N$28)-N$15)-(SUM(M$8:M$28)-M$15)+((SUM(N$8:N$28)-N$15)-(SUM(M$8:M$28)-M$15))/(((SUM(N$8:N$28)-N$15)-(SUM(M$8:M$28)-M$15))+(H$46/1000-H$45/1000))*((IF('Blad 2 Indata'!C$8=\"\",\"\",ROUND((D$48/100*Data!C$10*C$59)*E$59*G$59,0)/1000000))-(IF('Blad 2 Indata'!C$8=\"\",\"\",(ROUND(D$48/100*Data!C$10*C$59*(1+'Blad 2 Indata'!C$8/100)*(1+'Blad 2 Indata'!D$8/100),0)/1000000)))))*1000000/'Blad 2 Indata'!D$28))","v":0},{"$f":"IF('Blad 2 Indata'!$P$3=2,Data!R11,Data!G11)/1000000*O16","v":0},{"$f":"(((SUM(R$8:R$28)-R$15)-(SUM(E$8:E$28)-E$15))+((((SUM(R$8:R$28)-R$15)-(SUM(E$8:E$28)-E$15))/(((SUM(R$8:R$28)-R$15)-(SUM(E$8:E$28)-E$15))+(G$47/1000-G$45/1000)))*((MROUND(C$59*E$59*Data!C$10*C$48,100)/100000000)-(ROUND((1+('Blad 2 Indata'!B$7/100))*(1+('Blad 2 Indata'!C$7/100))*Data!C$10*C$48,0)/100000000))))*1000000/'Blad 2 Indata'!C$28-G$28","v":-4.6409986964590644E-9},{"$f":"C60*E60*Data!C11*Data!L11/100000000","v":4604.2282768087625},{"$f":"IF('Blad 2 Indata'!C$12<>0,Q16*Data!F11/1000000,0)","v":0},{"$f":"IF(ISERROR(IF('Blad 2 Indata'!C$12<>0,P16+M16+S16,'Blad 8 Periodisering'!P16+'Blad 8 Periodisering'!M16)),0,IF('Blad 2 Indata'!C$12<>0,P16+M16+S16,'Blad 8 Periodisering'!P16+'Blad 8 Periodisering'!M16))","v":0}]
[12,{"$f":"(B$46/100+1)*(C$46/100+1)*Data!AQ12*Data!K12/100000000","v":38228.531345921496},{"$f":"Data!C12*Data!K12/100*'Blad 8 Periodisering'!C86/1000000","v":38781.555843716553},{"$f":"(SUM(C$8:C$28)-SUM(B$8:B$28))*1000000/'Blad 2 Indata'!B$28","v":451.6569067344978},{"$f":"(1+('Blad 2 Indata'!B$7/100))*(1+('Blad 2 Indata'!C$7/100))*Data!C12*Data!L12/100000000","v":39759.856307563459},{"$f":"IF('Blad 2 Indata'!C$12<>0,E86*Data!D12*Data!L12/100000000,C61*E61*Data!C12*Data!L12/100000000)","v":39857.665160666482},{"$f":"((((SUM(F$8:F$28)-F$15)-(SUM(E$8:E$28)-E$15))/(((SUM(F$8:F$28)-F$15)-(SUM(E$8:E$28)-E$15))+(G$46/1000-G$45/1000)))*((ROUND(C$59*E$59*Data!C$10*C$48,0)/100000000)-(ROUND((1+('Blad 2 Indata'!B$7/100))*(1+('Blad 2 Indata'!C$7/100))*Data!C$10*C$48,0)/100000000))+(SUM(F$8:F$28)-F$15)-(SUM(E$8:E$28)-E$15))*1000000/'Blad 2 Indata'!C$28","v":-31.740766401809683},{"$f":"G17*Data!F12/1000000","v":-45.144511164097096},{"$f":"((((SUM(J$8:J$28)-J$15)-(SUM(B$8:B$28)-B$15))+((SUM(J$8:J$28)-J$15)-(SUM(B$8:B$28)-B$15))/(((SUM(J$8:J$28)-J$15)-(SUM(B$8:B$28)-B$15))+(F$47/1000-F$45/1000))*((MROUND(Data!C$10*C$59*B$48,100)/100000000-((B$46/100+1)*(C$46/100+1)*Data!AQ$10*B$48/100000000))))*1000000/'Blad 2 Indata'!B$28)-D$28","v":-51.059384115134719},{"$f":"Data!C12*C61*Data!K12/100000000","v":38716.965248567685},{"$f":"I17*Data!E12/1000000","v":-72.150994505414573},39642.560801893946,{"$f":"IF('Blad 2 Indata'!C$8=\"\",\"\",(Data!AM12/100*Data!C12*C61*(1+'Blad 2 Indata'!C$8/100)*(1+'Blad 2 Indata'!D$8/100)/1000000))","v":""},{"$f":"IF('Blad 2 Indata'!C$8=\"\",\"\",(Data!AM12/100*Data!C12*C61)*E61*G61/1000000)","v":""},{"$f":"IF(N17=\"\",0,(((SUM(N$8:N$28)-N$15)-(SUM(M$8:M$28)-M$15)+((SUM(N$8:N$28)-N$15)-(SUM(M$8:M$28)-M$15))/(((SUM(N$8:N$28)-N$15)-(SUM(M$8:M$28)-M$15))+(H$46/1000-H$45/1000))*((IF('Blad 2 Indata'!C$8=\"\",\"\",ROUND((D$48/100*Data!C$10*C$59)*E$59*G$59,0)/1000000))-(IF('Blad 2 Indata'!C$8=\"\",\"\",(ROUND(D$48/100*Data!C$10*C$59*(1+'Blad 2 Indata'!C$8/100)*(1+'Blad 2 Indata'!D$8/100),0)/1000000)))))*1000000/'Blad 2 Indata'!D$28))","v":0},{"$f":"IF('Blad 2 Indata'!$P$3=2,Data!R12,Data!G12)/1000000*O17","v":0},{"$f":"(((SUM(R$8:R$28)-R$15)-(SUM(E$8:E$28)-E$15))+((((SUM(R$8:R$28)-R$15)-(SUM(E$8:E$28)-E$15))/(((SUM(R$8:R$28)-R$15)-(SUM(E$8:E$28)-E$15))+(G$47/1000-G$45/1000)))*((MROUND(C$59*E$59*Data!C$10*C$48,100)/100000000)-(ROUND((1+('Blad 2 Indata'!B$7/100))*(1+('Blad 2 Indata'!C$7/100))*Data!C$10*C$48,0)/100000000))))*1000000/'Blad 2 Indata'!C$28-G$28","v":-4.6409986964590644E-9},{"$f":"C61*E61*Data!C12*Data!L12/100000000","v":39857.665160666482},{"$f":"IF('Blad 2 Indata'!C$12<>0,Q17*Data!F12/1000000,0)","v":0},{"$f":"IF(ISERROR(IF('Blad 2 Indata'!C$12<>0,P17+M17+S17,'Blad 8 Periodisering'!P17+'Blad 8 Periodisering'!M17)),0,IF('Blad 2 Indata'!C$12<>0,P17+M17+S17,'Blad 8 Periodisering'!P17+'Blad 8 Periodisering'!M17))","v":0}]
[13,{"$f":"(B$46/100+1)*(C$46/100+1)*Data!AQ13*Data!K13/100000000","v":10023.709396332975},{"$f":"Data!C13*Data!K13/100*'Blad 8 Periodisering'!C87/1000000","v":10191.375536933549},{"$f":"(SUM(C$8:C$28)-SUM(B$8:B$28))*1000000/'Blad 2 Indata'!B$28","v":451.6569067344978},{"$f":"(1+('Blad 2 Indata'!B$7/100))*(1+('Blad 2 Indata'!C$7/100))*Data!C13*Data!L13/100000000","v":10454.023912150469},{"$f":"IF('Blad 2 Indata'!C$12<>0,E87*Data!D13*Data!L13/100000000,C62*E62*Data!C13*Data!L13/100000000)","v":10446.776761634894},{"$f":"((((SUM(F$8:F$28)-F$15)-(SUM(E$8:E$28)-E$15))/(((SUM(F$8:F$28)-F$15)-(SUM(E$8:E$28)-E$15))+(G$46/1000-G$45/1000)))*((ROUND(C$59*E$59*Data!C$10*C$48,0)/100000000)-(ROUND((1+('Blad 2 Indata'!B$7/100))*(1+('Blad 2 Indata'!C$7/100))*Data!C$10*C$48,0)/100000000))+(SUM(F$8:F$28)-F$15)-(SUM(E$8:E$28)-E$15))*1000000/'Blad 2 Indata'!C$28","v":-31.740766401809683},{"$f":"G18*Data!F13/1000000","v":-10.918474493792111},{"$f":"((((SUM(J$8:J$28)-J$15)-(SUM(B$8:B$28)-B$15))+((SUM(J$8:J$28)-J$15)-(SUM(B$8:B$28)-B$15))/(((SUM(J$8:J$28)-J$15)-(SUM(B$8:B$28)-B$15))+(F$47/1000-F$45/1000))*((MROUND(Data!C$10*C$59*B$48,100)/100000000-((B$46/100+1)*(C$46/100+1)*Data!AQ$10*B$48/100000000))))*1000000/'Blad 2 Indata'!B$28)-D$28","v":-51.059384115134719},{"$f":"Data!C13*C62*Data!K13/100000000","v":10174.401823605263},{"$f":"I18*Data!E13/1000000","v":-17.495906442123832},10425.609531214553,{"$f":"IF('Blad 2 Indata'!C$8=\"\",\"\",(Data!AM13/100*Data!C13*C62*(1+'Blad 2 Indata'!C$8/100)*(1+'Blad 2 Indata'!D$8/100)/1000000))","v":""},{"$f":"IF('Blad 2 Indata'!C$8=\"\",\"\",(Data!AM13/100*Data!C13*C62)*E62*G62/1000000)","v":""},{"$f":"IF(N18=\"\",0,(((SUM(N$8:N$28)-N$15)-(SUM(M$8:M$28)-M$15)+((SUM(N$8:N$28)-N$15)-(SUM(M$8:M$28)-M$15))/(((SUM(N$8:N$28)-N$15)-(SUM(M$8:M$28)-M$15))+(H$46/1000-H$45/1000))*((IF('Blad 2 Indata'!C$8=\"\",\"\",ROUND((D$48/100*Data!C$10*C$59)*E$59*G$59,0)/1000000))-(IF('Blad 2 Indata'!C$8=\"\",\"\",(ROUND(D$48/100*Data!C$10*C$59*(1+'Blad 2 Indata'!C$8/100)*(1+'Blad 2 Indata'!D$8/100),0)/1000000)))))*1000000/'Blad 2 Indata'!D$28))","v":0},{"$f":"IF('Blad 2 Indata'!$P$3=2,Data!R13,Data!G13)/1000000*O18","v":0},{"$f":"(((SUM(R$8:R$28)-R$15)-(SUM(E$8:E$28)-E$15))+((((SUM(R$8:R$28)-R$15)-(SUM(E$8:E$28)-E$15))/(((SUM(R$8:R$28)-R$15)-(SUM(E$8:E$28)-E$15))+(G$47/1000-G$45/1000)))*((MROUND(C$59*E$59*Data!C$10*C$48,100)/100000000)-(ROUND((1+('Blad 2 Indata'!B$7/100))*(1+('Blad 2 Indata'!C$7/100))*Data!C$10*C$48,0)/100000000))))*1000000/'Blad 2 Indata'!C$28-G$28","v":-4.6409986964590644E-9},{"$f":"C62*E62*Data!C13*Data!L13/100000000","v":10446.776761634894},{"$f":"IF('Blad 2 Indata'!C$12<>0,Q18*Data!F13/1000000,0)","v":0},{"$f":"IF(ISERROR(IF('Blad 2 Indata'!C$12<>0,P18+M18+S18,'Blad 8 Periodisering'!P18+'Blad 8 Periodisering'!M18)),0,IF('Blad 2 Indata'!C$12<>0,P18+M18+S18,'Blad 8 Periodisering'!P18+'Blad 8 Periodisering'!M18))","v":0}]
[14,{"$f":"(B$46/100+1)*(C$46/100+1)*Data!AQ14*Data!K14/100000000","v":52156.388442889998},{"$f":"Data!C14*Data!K14/100*'Blad 8 Periodisering'!C88/1000000","v":53063.674057780219},{"$f":"(SUM(C$8:C$28)-SUM(B$8:B$28))*1000000/'Blad 2 Indata'!B$28","v":451.6569067344978},{"$f":"(1+('Blad 2 Indata'!B$7/100))*(1+('Blad 2 Indata'!C$7/100))*Data!C14*Data!L14/100000000","v":54437.682978850607},{"$f":"IF('Blad 2 Indata'!C$12<>0,E88*Data!D14*Data!L14/100000000,C63*E63*Data!C14*Data!L14/100000000)","v":54504.183701628841},{"$f":"((((SUM(F$8:F$28)-F$15)-(SUM(E$8:E$28)-E$15))/(((SUM(F$8:F$28)-F$15)-(SUM(E$8:E$28)-E$15))+(G$46/1000-G$45/1000)))*((ROUND(C$59*E$59*Data!C$10*C$48,0)/100000000)-(ROUND((1+('Blad 2 Indata'!B$7/100))*(1+('Blad 2 Indata'!C$7/100))*Data!C$10*C$48,0)/100000000))+(SUM(F$8:F$28)-F$15)-(SUM(E$8:E$28)-E$15))*1000000/'Blad 2 Indata'!C$28","v":-31.740766401809683},{"$f":"G19*Data!F14/1000000","v":-56.106280063261273},{"$f":"((((SUM(J$8:J$28)-J$15)-(SUM(B$8:B$28)-B$15))+((SUM(J$8:J$28)-J$15)-(SUM(B$8:B$28)-B$15))/(((SUM(J$8:J$28)-J$15)-(SUM(B$8:B$28)-B$15))+(F$47/1000-F$45/1000))*((MROUND(Data!C$10*C$59*B$48,100)/100000000-((B$46/100+1)*(C$46/100+1)*Data!AQ$10*B$48/100000000))))*1000000/'Blad 2 Indata'!B$28)-D$28","v":-51.059384115134719},{"$f":"Data!C14*C63*Data!K14/100000000","v":52975.29662645721},{"$f":"I19*Data!E14/1000000","v":-89.722826251717606},54291.853872535627,{"$f":"IF('Blad 2 Indata'!C$8=\"\",\"\",(Data!AM14/100*Data!C14*C63*(1+'Blad 2 Indata'!C$8/100)*(1+'Blad 2 Indata'!D$8/100)/1000000))","v":""},{"$f":"IF('Blad 2 Indata'!C$8=\"\",\"\",(Data!AM14/100*Data!C14*C63)*E63*G63/1000000)","v":""},{"$f":"IF(N19=\"\",0,(((SUM(N$8:N$28)-N$15)-(SUM(M$8:M$28)-M$15)+((SUM(N$8:N$28)-N$15)-(SUM(M$8:M$28)-M$15))/(((SUM(N$8:N$28)-N$15)-(SUM(M$8:M$28)-M$15))+(H$46/1000-H$45/1000))*((IF('Blad 2 Indata'!C$8=\"\",\"\",ROUND((D$48/100*Data!C$10*C$59)*E$59*G$59,0)/1000000))-(IF('Blad 2 Indata'!C$8=\"\",\"\",(ROUND(D$48/100*Data!C$10*C$59*(1+'Blad 2 Indata'!C$8/100)*(1+'Blad 2 Indata'!D$8/100),0)/1000000)))))*1000000/'Blad 2 Indata'!D$28))","v":0},{"$f":"IF('Blad 2 Indata'!$P$3=2,Data!R14,Data!G14)/1000000*O19","v":0},{"$f":"(((SUM(R$8:R$28)-R$15)-(SUM(E$8:E$28)-E$15))+((((SUM(R$8:R$28)-R$15)-(SUM(E$8:E$28)-E$15))/(((SUM(R$8:R$28)-R$15)-(SUM(E$8:E$28)-E$15))+(G$47/1000-G$45/1000)))*((MROUND(C$59*E$59*Data!C$10*C$48,100)/100000000)-(ROUND((1+('Blad 2 Indata'!B$7/100))*(1+('Blad 2 Indata'!C$7/100))*Data!C$10*C$48,0)/100000000))))*1000000/'Blad 2 Indata'!C$28-G$28","v":-4.6409986964590644E-9},{"$f":"C63*E63*Data!C14*Data!L14/100000000","v":54504.183701628841},{"$f":"IF('Blad 2 Indata'!C$12<>0,Q19*Data!F14/1000000,0)","v":0},{"$f":"IF(ISERROR(IF('Blad 2 Indata'!C$12<>0,P19+M19+S19,'Blad 8 Periodisering'!P19+'Blad 8 Periodisering'!M19)),0,IF('Blad 2 Indata'!C$12<>0,P19+M19+S19,'Blad 8 Periodisering'!P19+'Blad 8 Periodisering'!M19))","v":0}]
[17,{"$f":"(B$46/100+1)*(C$46/100+1)*Data!AQ15*Data!K15/100000000","v":7655.4539632551396},{"$f":"Data!C15*Data!K15/100*'Blad 8 Periodisering'!C89/1000000","v":7693.962898197804},{"$f":"(SUM(C$8:C$28)-SUM(B$8:B$28))*1000000/'Blad 2 Indata'!B$28","v":451.6569067344978},{"$f":"(1+('Blad 2 Indata'!B$7/100))*(1+('Blad 2 Indata'!C$7/100))*Data!C15*Data!L15/100000000","v":7934.3061597508486},{"$f":"IF('Blad 2 Indata'!C$12<>0,E89*Data!D15*Data!L15/100000000,C64*E64*Data!C15*Data!L15/100000000)","v":7848.2376414052005},{"$f":"((((SUM(F$8:F$28)-F$15)-(SUM(E$8:E$28)-E$15))/(((SUM(F$8:F$28)-F$15)-(SUM(E$8:E$28)-E$15))+(G$46/1000-G$45/1000)))*((ROUND(C$59*E$59*Data!C$10*C$48,0)/100000000)-(ROUND((1+('Blad 2 Indata'!B$7/100))*(1+('Blad 2 Indata'!C$7/100))*Data!C$10*C$48,0)/100000000))+(SUM(F$8:F$28)-F$15)-(SUM(E$8:E$28)-E$15))*1000000/'Blad 2 Indata'!C$28","v":-31.740766401809683},{"$f":"G20*Data!F15/1000000","v":-9.003617538303736},{"$f":"((((SUM(J$8:J$28)-J$15)-(SUM(B$8:B$28)-B$15))+((SUM(J$8:J$28)-J$15)-(SUM(B$8:B$28)-B$15))/(((SUM(J$8:J$28)-J$15)-(SUM(B$8:B$28)-B$15))+(F$47/1000-F$45/1000))*((MROUND(Data!C$10*C$59*B$48,100)/100000000-((B$46/100+1)*(C$46/100+1)*Data!AQ$10*B$48/100000000))))*1000000/'Blad 2 Indata'!B$28)-D$28","v":-51.059384115134719},{"$f":"Data!C15*C64*Data!K15/100000000","v":7681.1486200741883},{"$f":"I20*Data!E15/1000000","v":-14.498363178876618},7910.8041790336683,{"$f":"IF('Blad 2 Indata'!C$8=\"\",\"\",(Data!AM15/100*Data!C15*C64*(1+'Blad 2 Indata'!C$8/100)*(1+'Blad 2 Indata'!D$8/100)/1000000))","v":""},{"$f":"IF('Blad 2 Indata'!C$8=\"\",\"\",(Data!AM15/100*Data!C15*C64)*E64*G64/1000000)","v":""},{"$f":"IF(N20=\"\",0,(((SUM(N$8:N$28)-N$15)-(SUM(M$8:M$28)-M$15)+((SUM(N$8:N$28)-N$15)-(SUM(M$8:M$28)-M$15))/(((SUM(N$8:N$28)-N$15)-(SUM(M$8:M$28)-M$15))+(H$46/1000-H$45/1000))*((IF('Blad 2 Indata'!C$8=\"\",\"\",ROUND((D$48/100*Data!C$10*C$59)*E$59*G$59,0)/1000000))-(IF('Blad 2 Indata'!C$8=\"\",\"\",(ROUND(D$48/100*Data!C$10*C$59*(1+'Blad 2 Indata'!C$8/100)*(1+'Blad 2 Indata'!D$8/100),0)/1000000)))))*1000000/'Blad 2 Indata'!D$28))","v":0},{"$f":"IF('Blad 2 Indata'!$P$3=2,Data!R15,Data!G15)/1000000*O20","v":0},{"$f":"(((SUM(R$8:R$28)-R$15)-(SUM(E$8:E$28)-E$15))+((((SUM(R$8:R$28)-R$15)-(SUM(E$8:E$28)-E$15))/(((SUM(R$8:R$28)-R$15)-(SUM(E$8:E$28)-E$15))+(G$47/1000-G$45/1000)))*((MROUND(C$59*E$59*Data!C$10*C$48,100)/100000000)-(ROUND((1+('Blad 2 Indata'!B$7/100))*(1+('Blad 2 Indata'!C$7/100))*Data!C$10*C$48,0)/100000000))))*1000000/'Blad 2 Indata'!C$28-G$28","v":-4.6409986964590644E-9},{"$f":"C64*E64*Data!C15*Data!L15/100000000","v":7848.2376414052005},{"$f":"IF('Blad 2 Indata'!C$12<>0,Q20*Data!F15/1000000,0)","v":0},{"$f":"IF(ISERROR(IF('Blad 2 Indata'!C$12<>0,P20+M20+S20,'Blad 8 Periodisering'!P20+'Blad 8 Periodisering'!M20)),0,IF('Blad 2 Indata'!C$12<>0,P20+M20+S20,'Blad 8 Periodisering'!P20+'Blad 8 Periodisering'!M20))","v":0}]
[18,{"$f":"(B$46/100+1)*(C$46/100+1)*Data!AQ16*Data!K16/100000000","v":8436.4999656920136},{"$f":"Data!C16*Data!K16/100*'Blad 8 Periodisering'!C90/1000000","v":8486.6931099028607},{"$f":"(SUM(C$8:C$28)-SUM(B$8:B$28))*1000000/'Blad 2 Indata'!B$28","v":451.6569067344978},{"$f":"(1+('Blad 2 Indata'!B$7/100))*(1+('Blad 2 Indata'!C$7/100))*Data!C16*Data!L16/100000000","v":9316.4312032203979},{"$f":"IF('Blad 2 Indata'!C$12<>0,E90*Data!D16*Data!L16/100000000,C65*E65*Data!C16*Data!L16/100000000)","v":9251.1290997751457},{"$f":"((((SUM(F$8:F$28)-F$15)-(SUM(E$8:E$28)-E$15))/(((SUM(F$8:F$28)-F$15)-(SUM(E$8:E$28)-E$15))+(G$46/1000-G$45/1000)))*((ROUND(C$59*E$59*Data!C$10*C$48,0)/100000000)-(ROUND((1+('Blad 2 Indata'!B$7/100))*(1+('Blad 2 Indata'!C$7/100))*Data!C$10*C$48,0)/100000000))+(SUM(F$8:F$28)-F$15)-(SUM(E$8:E$28)-E$15))*1000000/'Blad 2 Indata'!C$28","v":-31.740766401809683},{"$f":"G21*Data!F16/1000000","v":-9.7892649882813298},{"$f":"((((SUM(J$8:J$28)-J$15)-(SUM(B$8:B$28)-B$15))+((SUM(J$8:J$28)-J$15)-(SUM(B$8:B$28)-B$15))/(((SUM(J$8:J$28)-J$15)-(SUM(B$8:B$28)-B$15))+(F$47/1000-F$45/1000))*((MROUND(Data!C$10*C$59*B$48,100)/100000000-((B$46/100+1)*(C$46/100+1)*Data!AQ$10*B$48/100000000))))*1000000/'Blad 2 Indata'!B$28)-D$28","v":-51.059384115134719},{"$f":"Data!C16*C65*Data!K16/100000000","v":8472.5585413717927},{"$f":"I21*Data!E16/1000000","v":-15.708725879325888},9290.9332123527911,{"$f":"IF('Blad 2 Indata'!C$8=\"\",\"\",(Data!AM16/100*Data!C16*C65*(1+'Blad 2 Indata'!C$8/100)*(1+'Blad 2 Indata'!D$8/100)/1000000))","v":""},{"$f":"IF('Blad 2 Indata'!C$8=\"\",\"\",(Data!AM16/100*Data!C16*C65)*E65*G65/1000000)","v":""},{"$f":"IF(N21=\"\",0,(((SUM(N$8:N$28)-N$15)-(SUM(M$8:M$28)-M$15)+((SUM(N$8:N$28)-N$15)-(SUM(M$8:M$28)-M$15))/(((SUM(N$8:N$28)-N$15)-(SUM(M$8:M$28)-M$15))+(H$46/1000-H$45/1000))*((IF('Blad 2 Indata'!C$8=\"\",\"\",ROUND((D$48/100*Data!C$10*C$59)*E$59*G$59,0)/1000000))-(IF('Blad 2 Indata'!C$8=\"\",\"\",(ROUND(D$48/100*Data!C$10*C$59*(1+'Blad 2 Indata'!C$8/100)*(1+'Blad 2 Indata'!D$8/100),0)/1000000)))))*1000000/'Blad 2 Indata'!D$28))","v":0},{"$f":"IF('Blad 2 Indata'!$P$3=2,Data!R16,Data!G16)/1000000*O21","v":0},{"$f":"(((SUM(R$8:R$28)-R$15)-(SUM(E$8:E$28)-E$15))+((((SUM(R$8:R$28)-R$15)-(SUM(E$8:E$28)-E$15))/(((SUM(R$8:R$28)-R$15)-(SUM(E$8:E$28)-E$15))+(G$47/1000-G$45/1000)))*((MROUND(C$59*E$59*Data!C$10*C$48,100)/100000000)-(ROUND((1+('Blad 2 Indata'!B$7/100))*(1+('Blad 2 Indata'!C$7/100))*Data!C$10*C$48,0)/100000000))))*1000000/'Blad 2 Indata'!C$28-G$28","v":-4.6409986964590644E-9},{"$f":"C65*E65*Data!C16*Data!L16/100000000","v":9251.1290997751457},{"$f":"IF('Blad 2 Indata'!C$12<>0,Q21*Data!F16/1000000,0)","v":0},{"$f":"IF(ISERROR(IF('Blad 2 Indata'!C$12<>0,P21+M21+S21,'Blad 8 Periodisering'!P21+'Blad 8 Periodisering'!M21)),0,IF('Blad 2 Indata'!C$12<>0,P21+M21+S21,'Blad 8 Periodisering'!P21+'Blad 8 Periodisering'!M21))","v":0}]
[19,{"$f":"(B$46/100+1)*(C$46/100+1)*Data!AQ17*Data!K17/100000000","v":7442.8232682788512},{"$f":"Data!C17*Data!K17/100*'Blad 8 Periodisering'!C91/1000000","v":7531.498357145997},{"$f":"(SUM(C$8:C$28)-SUM(B$8:B$28))*1000000/'Blad 2 Indata'!B$28","v":451.6569067344978},{"$f":"(1+('Blad 2 Indata'!B$7/100))*(1+('Blad 2 Indata'!C$7/100))*Data!C17*Data!L17/100000000","v":7736.5036921305355},{"$f":"IF('Blad 2 Indata'!C$12<>0,E91*Data!D17*Data!L17/100000000,C66*E66*Data!C17*Data!L17/100000000)","v":7700.812271447262},{"$f":"((((SUM(F$8:F$28)-F$15)-(SUM(E$8:E$28)-E$15))/(((SUM(F$8:F$28)-F$15)-(SUM(E$8:E$28)-E$15))+(G$46/1000-G$45/1000)))*((ROUND(C$59*E$59*Data!C$10*C$48,0)/100000000)-(ROUND((1+('Blad 2 Indata'!B$7/100))*(1+('Blad 2 Indata'!C$7/100))*Data!C$10*C$48,0)/100000000))+(SUM(F$8:F$28)-F$15)-(SUM(E$8:E$28)-E$15))*1000000/'Blad 2 Indata'!C$28","v":-31.740766401809683},{"$f":"G22*Data!F17/1000000","v":-8.9180444320844572},{"$f":"((((SUM(J$8:J$28)-J$15)-(SUM(B$8:B$28)-B$15))+((SUM(J$8:J$28)-J$15)-(SUM(B$8:B$28)-B$15))/(((SUM(J$8:J$28)-J$15)-(SUM(B$8:B$28)-B$15))+(F$47/1000-F$45/1000))*((MROUND(Data!C$10*C$59*B$48,100)/100000000-((B$46/100+1)*(C$46/100+1)*Data!AQ$10*B$48/100000000))))*1000000/'Blad 2 Indata'!B$28)-D$28","v":-51.059384115134719},{"$f":"Data!C17*C66*Data!K17/100000000","v":7518.9546633547752},{"$f":"I22*Data!E17/1000000","v":-14.326446232560961},7713.2592014658903,{"$f":"IF('Blad 2 Indata'!C$8=\"\",\"\",(Data!AM17/100*Data!C17*C66*(1+'Blad 2 Indata'!C$8/100)*(1+'Blad 2 Indata'!D$8/100)/1000000))","v":""},{"$f":"IF('Blad 2 Indata'!C$8=\"\",\"\",(Data!AM17/100*Data!C17*C66)*E66*G66/1000000)","v":""},{"$f":"IF(N22=\"\",0,(((SUM(N$8:N$28)-N$15)-(SUM(M$8:M$28)-M$15)+((SUM(N$8:N$28)-N$15)-(SUM(M$8:M$28)-M$15))/(((SUM(N$8:N$28)-N$15)-(SUM(M$8:M$28)-M$15))+(H$46/1000-H$45/1000))*((IF('Blad 2 Indata'!C$8=\"\",\"\",ROUND((D$48/100*Data!C$10*C$59)*E$59*G$59,0)/1000000))-(IF('Blad 2 Indata'!C$8=\"\",\"\",(ROUND(D$48/100*Data!C$10*C$59*(1+'Blad 2 Indata'!C$8/100)*(1+'Blad 2 Indata'!D$8/100),0)/1000000)))))*1000000/'Blad 2 Indata'!D$28))","v":0},{"$f":"IF('Blad 2 Indata'!$P$3=2,Data!R17,Data!G17)/1000000*O22","v":0},{"$f":"(((SUM(R$8:R$28)-R$15)-(SUM(E$8:E$28)-E$15))+((((SUM(R$8:R$28)-R$15)-(SUM(E$8:E$28)-E$15))/(((SUM(R$8:R$28)-R$15)-(SUM(E$8:E$28)-E$15))+(G$47/1000-G$45/1000)))*((MROUND(C$59*E$59*Data!C$10*C$48,100)/100000000)-(ROUND((1+('Blad 2 Indata'!B$7/100))*(1+('Blad 2 Indata'!C$7/100))*Data!C$10*C$48,0)/100000000))))*1000000/'Blad 2 Indata'!C$28-G$28","v":-4.6409986964590644E-9},{"$f":"C66*E66*Data!C17*Data!L17/100000000","v":7700.812271447262},{"$f":"IF('Blad 2 Indata'!C$12<>0,Q22*Data!F17/1000000,0)","v":0},{"$f":"IF(ISERROR(IF('Blad 2 Indata'!C$12<>0,P22+M22+S22,'Blad 8 Periodisering'!P22+'Blad 8 Periodisering'!M22)),0,IF('Blad 2 Indata'!C$12<>0,P22+M22+S22,'Blad 8 Periodisering'!P22+'Blad 8 Periodisering'!M22))","v":0}]
[20,{"$f":"(B$46/100+1)*(C$46/100+1)*Data!AQ18*Data!K18/100000000","v":7865.1910574742496},{"$f":"Data!C18*Data!K18/100*'Blad 8 Periodisering'!C92/1000000","v":7852.4727975282194},{"$f":"(SUM(C$8:C$28)-SUM(B$8:B$28))*1000000/'Blad 2 Indata'!B$28","v":451.6569067344978},{"$f":"(1+('Blad 2 Indata'!B$7/100))*(1+('Blad 2 Indata'!C$7/100))*Data!C18*Data!L18/100000000","v":8122.0672227136292},{"$f":"IF('Blad 2 Indata'!C$12<>0,E92*Data!D18*Data!L18/100000000,C67*E67*Data!C18*Data!L18/100000000)","v":8000.1834787030466},{"$f":"((((SUM(F$8:F$28)-F$15)-(SUM(E$8:E$28)-E$15))/(((SUM(F$8:F$28)-F$15)-(SUM(E$8:E$28)-E$15))+(G$46/1000-G$45/1000)))*((ROUND(C$59*E$59*Data!C$10*C$48,0)/100000000)-(ROUND((1+('Blad 2 Indata'!B$7/100))*(1+('Blad 2 Indata'!C$7/100))*Data!C$10*C$48,0)/100000000))+(SUM(F$8:F$28)-F$15)-(SUM(E$8:E$28)-E$15))*1000000/'Blad 2 Indata'!C$28","v":-31.740766401809683},{"$f":"G23*Data!F18/1000000","v":-9.1239150429665941},{"$f":"((((SUM(J$8:J$28)-J$15)-(SUM(B$8:B$28)-B$15))+((SUM(J$8:J$28)-J$15)-(SUM(B$8:B$28)-B$15))/(((SUM(J$8:J$28)-J$15)-(SUM(B$8:B$28)-B$15))+(F$47/1000-F$45/1000))*((MROUND(Data!C$10*C$59*B$48,100)/100000000-((B$46/100+1)*(C$46/100+1)*Data!AQ$10*B$48/100000000))))*1000000/'Blad 2 Indata'!B$28)-D$28","v":-51.059384115134719},{"$f":"Data!C18*C67*Data!K18/100000000","v":7839.394521519218},{"$f":"I23*Data!E18/1000000","v":-14.72261599391029},8098.2206916767527,{"$f":"IF('Blad 2 Indata'!C$8=\"\",\"\",(Data!AM18/100*Data!C18*C67*(1+'Blad 2 Indata'!C$8/100)*(1+'Blad 2 Indata'!D$8/100)/1000000))","v":""},{"$f":"IF('Blad 2 Indata'!C$8=\"\",\"\",(Data!AM18/100*Data!C18*C67)*E67*G67/1000000)","v":""},{"$f":"IF(N23=\"\",0,(((SUM(N$8:N$28)-N$15)-(SUM(M$8:M$28)-M$15)+((SUM(N$8:N$28)-N$15)-(SUM(M$8:M$28)-M$15))/(((SUM(N$8:N$28)-N$15)-(SUM(M$8:M$28)-M$15))+(H$46/1000-H$45/1000))*((IF('Blad 2 Indata'!C$8=\"\",\"\",ROUND((D$48/100*Data!C$10*C$59)*E$59*G$59,0)/1000000))-(IF('Blad 2 Indata'!C$8=\"\",\"\",(ROUND(D$48/100*Data!C$10*C$59*(1+'Blad 2 Indata'!C$8/100)*(1+'Blad 2 Indata'!D$8/100),0)/1000000)))))*1000000/'Blad 2 Indata'!D$28))","v":0},{"$f":"IF('Blad 2 Indata'!$P$3=2,Data!R18,Data!G18)/1000000*O23","v":0},{"$f":"(((SUM(R$8:R$28)-R$15)-(SUM(E$8:E$28)-E$15))+((((SUM(R$8:R$28)-R$15)-(SUM(E$8:E$28)-E$15))/(((SUM(R$8:R$28)-R$15)-(SUM(E$8:E$28)-E$15))+(G$47/1000-G$45/1000)))*((MROUND(C$59*E$59*Data!C$10*C$48,100)/100000000)-(ROUND((1+('Blad 2 Indata'!B$7/100))*(1+('Blad 2 Indata'!C$7/100))*Data!C$10*C$48,0)/100000000))))*1000000/'Blad 2 Indata'!C$28-G$28","v":-4.6409986964590644E-9},{"$f":"C67*E67*Data!C18*Data!L18/100000000","v":8000.1834787030466},{"$f":"IF('Blad 2 Indata'!C$12<>0,Q23*Data!F18/1000000,0)","v":0},{"$f":"IF(ISERROR(IF('Blad 2 Indata'!C$12<>0,P23+M23+S23,'Blad 8 Periodisering'!P23+'Blad 8 Periodisering'!M23)),0,IF('Blad 2 Indata'!C$12<>0,P23+M23+S23,'Blad 8 Periodisering'!P23+'Blad 8 Periodisering'!M23))","v":0}]
[21,{"$f":"(B$46/100+1)*(C$46/100+1)*Data!AQ19*Data!K19/100000000","v":7868.9972898929782},{"$f":"Data!C19*Data!K19/100*'Blad 8 Periodisering'!C93/1000000","v":7811.5986624258812},{"$f":"(SUM(C$8:C$28)-SUM(B$8:B$28))*1000000/'Blad 2 Indata'!B$28","v":451.6569067344978},{"$f":"(1+('Blad 2 Indata'!B$7/100))*(1+('Blad 2 Indata'!C$7/100))*Data!C19*Data!L19/100000000","v":8090.2848408802611},{"$f":"IF('Blad 2 Indata'!C$12<>0,E93*Data!D19*Data!L19/100000000,C68*E68*Data!C19*Data!L19/100000000)","v":7939.026178926405},{"$f":"((((SUM(F$8:F$28)-F$15)-(SUM(E$8:E$28)-E$15))/(((SUM(F$8:F$28)-F$15)-(SUM(E$8:E$28)-E$15))+(G$46/1000-G$45/1000)))*((ROUND(C$59*E$59*Data!C$10*C$48,0)/100000000)-(ROUND((1+('Blad 2 Indata'!B$7/100))*(1+('Blad 2 Indata'!C$7/100))*Data!C$10*C$48,0)/100000000))+(SUM(F$8:F$28)-F$15)-(SUM(E$8:E$28)-E$15))*1000000/'Blad 2 Indata'!C$28","v":-31.740766401809683},{"$f":"G24*Data!F19/1000000","v":-9.0805571560617242},{"$f":"((((SUM(J$8:J$28)-J$15)-(SUM(B$8:B$28)-B$15))+((SUM(J$8:J$28)-J$15)-(SUM(B$8:B$28)-B$15))/(((SUM(J$8:J$28)-J$15)-(SUM(B$8:B$28)-B$15))+(F$47/1000-F$45/1000))*((MROUND(Data!C$10*C$59*B$48,100)/100000000-((B$46/100+1)*(C$46/100+1)*Data!AQ$10*B$48/100000000))))*1000000/'Blad 2 Indata'!B$28)-D$28","v":-51.059384115134719},{"$f":"Data!C19*C68*Data!K19/100000000","v":7798.5884621981368},{"$f":"I24*Data!E19/1000000","v":-14.676049835597288},8066.5282338886027,{"$f":"IF('Blad 2 Indata'!C$8=\"\",\"\",(Data!AM19/100*Data!C19*C68*(1+'Blad 2 Indata'!C$8/100)*(1+'Blad 2 Indata'!D$8/100)/1000000))","v":""},{"$f":"IF('Blad 2 Indata'!C$8=\"\",\"\",(Data!AM19/100*Data!C19*C68)*E68*G68/1000000)","v":""},{"$f":"IF(N24=\"\",0,(((SUM(N$8:N$28)-N$15)-(SUM(M$8:M$28)-M$15)+((SUM(N$8:N$28)-N$15)-(SUM(M$8:M$28)-M$15))/(((SUM(N$8:N$28)-N$15)-(SUM(M$8:M$28)-M$15))+(H$46/1000-H$45/1000))*((IF('Blad 2 Indata'!C$8=\"\",\"\",ROUND((D$48/100*Data!C$10*C$59)*E$59*G$59,0)/1000000))-(IF('Blad 2 Indata'!C$8=\"\",\"\",(ROUND(D$48/100*Data!C$10*C$59*(1+'Blad 2 Indata'!C$8/100)*(1+'Blad 2 Indata'!D$8/100),0)/1000000)))))*1000000/'Blad 2 Indata'!D$28))","v":0},{"$f":"IF('Blad 2 Indata'!$P$3=2,Data!R19,Data!G19)/1000000*O24","v":0},{"$f":"(((SUM(R$8:R$28)-R$15)-(SUM(E$8:E$28)-E$15))+((((SUM(R$8:R$28)-R$15)-(SUM(E$8:E$28)-E$15))/(((SUM(R$8:R$28)-R$15)-(SUM(E$8:E$28)-E$15))+(G$47/1000-G$45/1000)))*((MROUND(C$59*E$59*Data!C$10*C$48,100)/100000000)-(ROUND((1+('Blad 2 Indata'!B$7/100))*(1+('Blad 2 Indata'!C$7/100))*Data!C$10*C$48,0)/100000000))))*1000000/'Blad 2 Indata'!C$28-G$28","v":-4.6409986964590644E-9},{"$f":"C68*E68*Data!C19*Data!L19/100000000","v":7939.026178926405},{"$f":"IF('Blad 2 Indata'!C$12<>0,Q24*Data!F19/1000000,0)","v":0},{"$f":"IF(ISERROR(IF('Blad 2 Indata'!C$12<>0,P24+M24+S24,'Blad 8 Periodisering'!P24+'Blad 8 Periodisering'!M24)),0,IF('Blad 2 Indata'!C$12<>0,P24+M24+S24,'Blad 8 Periodisering'!P24+'Blad 8 Periodisering'!M24))","v":0}]
[22,{"$f":"(B$46/100+1)*(C$46/100+1)*Data!AQ20*Data!K20/100000000","v":6733.8899276993507},{"$f":"Data!C20*Data!K20/100*'Blad 8 Periodisering'!C94/1000000","v":6660.3133414408912},{"$f":"(SUM(C$8:C$28)-SUM(B$8:B$28))*1000000/'Blad 2 Indata'!B$28","v":451.6569067344978},{"$f":"(1+('Blad 2 Indata'!B$7/100))*(1+('Blad 2 Indata'!C$7/100))*Data!C20*Data!L20/100000000","v":6912.4975463288865},{"$f":"IF('Blad 2 Indata'!C$12<>0,E94*Data!D20*Data!L20/100000000,C69*E69*Data!C20*Data!L20/100000000)","v":6773.1107349205849},{"$f":"((((SUM(F$8:F$28)-F$15)-(SUM(E$8:E$28)-E$15))/(((SUM(F$8:F$28)-F$15)-(SUM(E$8:E$28)-E$15))+(G$46/1000-G$45/1000)))*((ROUND(C$59*E$59*Data!C$10*C$48,0)/100000000)-(ROUND((1+('Blad 2 Indata'!B$7/100))*(1+('Blad 2 Indata'!C$7/100))*Data!C$10*C$48,0)/100000000))+(SUM(F$8:F$28)-F$15)-(SUM(E$8:E$28)-E$15))*1000000/'Blad 2 Indata'!C$28","v":-31.740766401809683},{"$f":"G25*Data!F20/1000000","v":-7.6921525521137637},{"$f":"((((SUM(J$8:J$28)-J$15)-(SUM(B$8:B$28)-B$15))+((SUM(J$8:J$28)-J$15)-(SUM(B$8:B$28)-B$15))/(((SUM(J$8:J$28)-J$15)-(SUM(B$8:B$28)-B$15))+(F$47/1000-F$45/1000))*((MROUND(Data!C$10*C$59*B$48,100)/100000000-((B$46/100+1)*(C$46/100+1)*Data!AQ$10*B$48/100000000))))*1000000/'Blad 2 Indata'!B$28)-D$28","v":-51.059384115134719},{"$f":"Data!C20*C69*Data!K20/100000000","v":6649.2206043589858},{"$f":"I25*Data!E20/1000000","v":-12.424484174272193},6892.3809096025007,{"$f":"IF('Blad 2 Indata'!C$8=\"\",\"\",(Data!AM20/100*Data!C20*C69*(1+'Blad 2 Indata'!C$8/100)*(1+'Blad 2 Indata'!D$8/100)/1000000))","v":""},{"$f":"IF('Blad 2 Indata'!C$8=\"\",\"\",(Data!AM20/100*Data!C20*C69)*E69*G69/1000000)","v":""},{"$f":"IF(N25=\"\",0,(((SUM(N$8:N$28)-N$15)-(SUM(M$8:M$28)-M$15)+((SUM(N$8:N$28)-N$15)-(SUM(M$8:M$28)-M$15))/(((SUM(N$8:N$28)-N$15)-(SUM(M$8:M$28)-M$15))+(H$46/1000-H$45/1000))*((IF('Blad 2 Indata'!C$8=\"\",\"\",ROUND((D$48/100*Data!C$10*C$59)*E$59*G$59,0)/1000000))-(IF('Blad 2 Indata'!C$8=\"\",\"\",(ROUND(D$48/100*Data!C$10*C$59*(1+'Blad 2 Indata'!C$8/100)*(1+'Blad 2 Indata'!D$8/100),0)/1000000)))))*1000000/'Blad 2 Indata'!D$28))","v":0},{"$f":"IF('Blad 2 Indata'!$P$3=2,Data!R20,Data!G20)/1000000*O25","v":0},{"$f":"(((SUM(R$8:R$28)-R$15)-(SUM(E$8:E$28)-E$15))+((((SUM(R$8:R$28)-R$15)-(SUM(E$8:E$28)-E$15))/(((SUM(R$8:R$28)-R$15)-(SUM(E$8:E$28)-E$15))+(G$47/1000-G$45/1000)))*((MROUND(C$59*E$59*Data!C$10*C$48,100)/100000000)-(ROUND((1+('Blad 2 Indata'!B$7/100))*(1+('Blad 2 Indata'!C$7/100))*Data!C$10*C$48,0)/100000000))))*1000000/'Blad 2 Indata'!C$28-G$28","v":-4.6409986964590644E-9},{"$f":"C69*E69*Data!C20*Data!L20/100000000","v":6773.1107349205849},{"$f":"IF('Blad 2 Indata'!C$12<>0,Q25*Data!F20/1000000,0)","v":0},{"$f":"IF(ISERROR(IF('Blad 2 Indata'!C$12<>0,P25+M25+S25,'Blad 8 Periodisering'!P25+'Blad 8 Periodisering'!M25)),0,IF('Blad 2 Indata'!C$12<>0,P25+M25+S25,'Blad 8 Periodisering'!P25+'Blad 8 Periodisering'!M25))","v":0}]
[23,{"$f":"(B$46/100+1)*(C$46/100+1)*Data!AQ21*Data!K21/100000000","v":3554.7392217657525},{"$f":"Data!C21*Data!K21/100*'Blad 8 Periodisering'!C95/1000000","v":3609.3363726964326},{"$f":"(SUM(C$8:C$28)-SUM(B$8:B$28))*1000000/'Blad 2 Indata'!B$28","v":451.6569067344978},{"$f":"(1+('Blad 2 Indata'!B$7/100))*(1+('Blad 2 Indata'!C$7/100))*Data!C21*Data!L21/100000000","v":3716.3052408482204},{"$f":"IF('Blad 2 Indata'!C$12<>0,E95*Data!D21*Data!L21/100000000,C70*E70*Data!C21*Data!L21/100000000)","v":3684.9718830208021},{"$f":"((((SUM(F$8:F$28)-F$15)-(SUM(E$8:E$28)-E$15))/(((SUM(F$8:F$28)-F$15)-(SUM(E$8:E$28)-E$15))+(G$46/1000-G$45/1000)))*((ROUND(C$59*E$59*Data!C$10*C$48,0)/100000000)-(ROUND((1+('Blad 2 Indata'!B$7/100))*(1+('Blad 2 Indata'!C$7/100))*Data!C$10*C$48,0)/100000000))+(SUM(F$8:F$28)-F$15)-(SUM(E$8:E$28)-E$15))*1000000/'Blad 2 Indata'!C$28","v":-31.740766401809683},{"$f":"G26*Data!F21/1000000","v":-4.2045723621821214},{"$f":"((((SUM(J$8:J$28)-J$15)-(SUM(B$8:B$28)-B$15))+((SUM(J$8:J$28)-J$15)-(SUM(B$8:B$28)-B$15))/(((SUM(J$8:J$28)-J$15)-(SUM(B$8:B$28)-B$15))+(F$47/1000-F$45/1000))*((MROUND(Data!C$10*C$59*B$48,100)/100000000-((B$46/100+1)*(C$46/100+1)*Data!AQ$10*B$48/100000000))))*1000000/'Blad 2 Indata'!B$28)-D$28","v":-51.059384115134719},{"$f":"Data!C21*C70*Data!K21/100000000","v":3603.3250309817167},{"$f":"I26*Data!E21/1000000","v":-6.7645514451095083},3705.3361170409285,{"$f":"IF('Blad 2 Indata'!C$8=\"\",\"\",(Data!AM21/100*Data!C21*C70*(1+'Blad 2 Indata'!C$8/100)*(1+'Blad 2 Indata'!D$8/100)/1000000))","v":""},{"$f":"IF('Blad 2 Indata'!C$8=\"\",\"\",(Data!AM21/100*Data!C21*C70)*E70*G70/1000000)","v":""},{"$f":"IF(N26=\"\",0,(((SUM(N$8:N$28)-N$15)-(SUM(M$8:M$28)-M$15)+((SUM(N$8:N$28)-N$15)-(SUM(M$8:M$28)-M$15))/(((SUM(N$8:N$28)-N$15)-(SUM(M$8:M$28)-M$15))+(H$46/1000-H$45/1000))*((IF('Blad 2 Indata'!C$8=\"\",\"\",ROUND((D$48/100*Data!C$10*C$59)*E$59*G$59,0)/1000000))-(IF('Blad 2 Indata'!C$8=\"\",\"\",(ROUND(D$48/100*Data!C$10*C$59*(1+'Blad 2 Indata'!C$8/100)*(1+'Blad 2 Indata'!D$8/100),0)/1000000)))))*1000000/'Blad 2 Indata'!D$28))","v":0},{"$f":"IF('Blad 2 Indata'!$P$3=2,Data!R21,Data!G21)/1000000*O26","v":0},{"$f":"(((SUM(R$8:R$28)-R$15)-(SUM(E$8:E$28)-E$15))+((((SUM(R$8:R$28)-R$15)-(SUM(E$8:E$28)-E$15))/(((SUM(R$8:R$28)-R$15)-(SUM(E$8:E$28)-E$15))+(G$47/1000-G$45/1000)))*((MROUND(C$59*E$59*Data!C$10*C$48,100)/100000000)-(ROUND((1+('Blad 2 Indata'!B$7/100))*(1+('Blad 2 Indata'!C$7/100))*Data!C$10*C$48,0)/100000000))))*1000000/'Blad 2 Indata'!C$28-G$28","v":-4.6409986964590644E-9},{"$f":"C70*E70*Data!C21*Data!L21/100000000","v":3684.9718830208021},{"$f":"IF('Blad 2 Indata'!C$12<>0,Q26*Data!F21/1000000,0)","v":0},{"$f":"IF(ISERROR(IF('Blad 2 Indata'!C$12<>0,P26+M26+S26,'Blad 8 Periodisering'!P26+'Blad 8 Periodisering'!M26)),0,IF('Blad 2 Indata'!C$12<>0,P26+M26+S26,'Blad 8 Periodisering'!P26+'Blad 8 Periodisering'!M26))","v":0}]
[24,{"$f":"(B$46/100+1)*(C$46/100+1)*Data!AQ22*Data!K22/100000000","v":7645.1968867615969},{"$f":"Data!C22*Data!K22/100*'Blad 8 Periodisering'!C96/1000000","v":7775.8627828952749},{"$f":"(SUM(C$8:C$28)-SUM(B$8:B$28))*1000000/'Blad 2 Indata'!B$28","v":451.6569067344978},{"$f":"(1+('Blad 2 Indata'!B$7/100))*(1+('Blad 2 Indata'!C$7/100))*Data!C22*Data!L22/100000000","v":7994.2306929386014},{"$f":"IF('Blad 2 Indata'!C$12<>0,E96*Data!D22*Data!L22/100000000,C71*E71*Data!C22*Data!L22/100000000)","v":8008.379708616616},{"$f":"((((SUM(F$8:F$28)-F$15)-(SUM(E$8:E$28)-E$15))/(((SUM(F$8:F$28)-F$15)-(SUM(E$8:E$28)-E$15))+(G$46/1000-G$45/1000)))*((ROUND(C$59*E$59*Data!C$10*C$48,0)/100000000)-(ROUND((1+('Blad 2 Indata'!B$7/100))*(1+('Blad 2 Indata'!C$7/100))*Data!C$10*C$48,0)/100000000))+(SUM(F$8:F$28)-F$15)-(SUM(E$8:E$28)-E$15))*1000000/'Blad 2 Indata'!C$28","v":-31.740766401809683},{"$f":"G27*Data!F22/1000000","v":-8.84037477669923},{"$f":"((((SUM(J$8:J$28)-J$15)-(SUM(B$8:B$28)-B$15))+((SUM(J$8:J$28)-J$15)-(SUM(B$8:B$28)-B$15))/(((SUM(J$8:J$28)-J$15)-(SUM(B$8:B$28)-B$15))+(F$47/1000-F$45/1000))*((MROUND(Data!C$10*C$59*B$48,100)/100000000-((B$46/100+1)*(C$46/100+1)*Data!AQ$10*B$48/100000000))))*1000000/'Blad 2 Indata'!B$28)-D$28","v":-51.059384115134719},{"$f":"Data!C22*C71*Data!K22/100000000","v":7762.9121006955447},{"$f":"I27*Data!E22/1000000","v":-14.099334092016841},7971.2909840698858,{"$f":"IF('Blad 2 Indata'!C$8=\"\",\"\",(Data!AM22/100*Data!C22*C71*(1+'Blad 2 Indata'!C$8/100)*(1+'Blad 2 Indata'!D$8/100)/1000000))","v":""},{"$f":"IF('Blad 2 Indata'!C$8=\"\",\"\",(Data!AM22/100*Data!C22*C71)*E71*G71/1000000)","v":""},{"$f":"IF(N27=\"\",0,(((SUM(N$8:N$28)-N$15)-(SUM(M$8:M$28)-M$15)+((SUM(N$8:N$28)-N$15)-(SUM(M$8:M$28)-M$15))/(((SUM(N$8:N$28)-N$15)-(SUM(M$8:M$28)-M$15))+(H$46/1000-H$45/1000))*((IF('Blad 2 Indata'!C$8=\"\",\"\",ROUND((D$48/100*Data!C$10*C$59)*E$59*G$59,0)/1000000))-(IF('Blad 2 Indata'!C$8=\"\",\"\",(ROUND(D$48/100*Data!C$10*C$59*(1+'Blad 2 Indata'!C$8/100)*(1+'Blad 2 Indata'!D$8/100),0)/1000000)))))*1000000/'Blad 2 Indata'!D$28))","v":0},{"$f":"IF('Blad 2 Indata'!$P$3=2,Data!R22,Data!G22)/1000000*O27","v":0},{"$f":"(((SUM(R$8:R$28)-R$15)-(SUM(E$8:E$28)-E$15))+((((SUM(R$8:R$28)-R$15)-(SUM(E$8:E$28)-E$15))/(((SUM(R$8:R$28)-R$15)-(SUM(E$8:E$28)-E$15))+(G$47/1000-G$45/1000)))*((MROUND(C$59*E$59*Data!C$10*C$48,100)/100000000)-(ROUND((1+('Blad 2 Indata'!B$7/100))*(1+('Blad 2 Indata'!C$7/100))*Data!C$10*C$48,0)/100000000))))*1000000/'Blad 2 Indata'!C$28-G$28","v":-4.6409986964590644E-9},{"$f":"C71*E71*Data!C22*Data!L22/100000000","v":8008.379708616616},{"$f":"IF('Blad 2 Indata'!C$12<>0,Q27*Data!F22/1000000,0)","v":0},{"$f":"IF(ISERROR(IF('Blad 2 Indata'!C$12<>0,P27+M27+S27,'Blad 8 Periodisering'!P27+'Blad 8 Periodisering'!M27)),0,IF('Blad 2 Indata'!C$12<>0,P27+M27+S27,'Blad 8 Periodisering'!P27+'Blad 8 Periodisering'!M27))","v":0}]
[25,{"$f":"(B$46/100+1)*(C$46/100+1)*Data!AQ23*Data!K23/100000000","v":7361.950928549757},{"$f":"Data!C23*Data!K23/100*'Blad 8 Periodisering'!C97/1000000","v":7366.8170769350745},{"$f":"(SUM(C$8:C$28)-SUM(B$8:B$28))*1000000/'Blad 2 Indata'!B$28","v":451.6569067344978},{"$f":"(1+('Blad 2 Indata'!B$7/100))*(1+('Blad 2 Indata'!C$7/100))*Data!C23*Data!L23/100000000","v":7632.1918058624387},{"$f":"IF('Blad 2 Indata'!C$12<>0,E97*Data!D23*Data!L23/100000000,C72*E72*Data!C23*Data!L23/100000000)","v":7503.1438472485852},{"$f":"((((SUM(F$8:F$28)-F$15)-(SUM(E$8:E$28)-E$15))/(((SUM(F$8:F$28)-F$15)-(SUM(E$8:E$28)-E$15))+(G$46/1000-G$45/1000)))*((ROUND(C$59*E$59*Data!C$10*C$48,0)/100000000)-(ROUND((1+('Blad 2 Indata'!B$7/100))*(1+('Blad 2 Indata'!C$7/100))*Data!C$10*C$48,0)/100000000))+(SUM(F$8:F$28)-F$15)-(SUM(E$8:E$28)-E$15))*1000000/'Blad 2 Indata'!C$28","v":-31.740766401809683},{"$f":"G28*Data!F23/1000000","v":-7.8924367881091833},{"$f":"((((SUM(J$8:J$28)-J$15)-(SUM(B$8:B$28)-B$15))+((SUM(J$8:J$28)-J$15)-(SUM(B$8:B$28)-B$15))/(((SUM(J$8:J$28)-J$15)-(SUM(B$8:B$28)-B$15))+(F$47/1000-F$45/1000))*((MROUND(Data!C$10*C$59*B$48,100)/100000000-((B$46/100+1)*(C$46/100+1)*Data!AQ$10*B$48/100000000))))*1000000/'Blad 2 Indata'!B$28)-D$28","v":-51.059384115134719},{"$f":"Data!C23*C72*Data!K23/100000000","v":7354.5476594503943},{"$f":"I28*Data!E23/1000000","v":-12.728338569141359},7611.571030505188,{"$f":"IF('Blad 2 Indata'!C$8=\"\",\"\",(Data!AM23/100*Data!C23*C72*(1+'Blad 2 Indata'!C$8/100)*(1+'Blad 2 Indata'!D$8/100)/1000000))","v":""},{"$f":"IF('Blad 2 Indata'!C$8=\"\",\"\",(Data!AM23/100*Data!C23*C72)*E72*G72/1000000)","v":""},{"$f":"IF(N28=\"\",0,(((SUM(N$8:N$28)-N$15)-(SUM(M$8:M$28)-M$15)+((SUM(N$8:N$28)-N$15)-(SUM(M$8:M$28)-M$15))/(((SUM(N$8:N$28)-N$15)-(SUM(M$8:M$28)-M$15))+(H$46/1000-H$45/1000))*((IF('Blad 2 Indata'!C$8=\"\",\"\",ROUND((D$48/100*Data!C$10*C$59)*E$59*G$59,0)/1000000))-(IF('Blad 2 Indata'!C$8=\"\",\"\",(ROUND(D$48/100*Data!C$10*C$59*(1+'Blad 2 Indata'!C$8/100)*(1+'Blad 2 Indata'!D$8/100),0)/1000000)))))*1000000/'Blad 2 Indata'!D$28))","v":0},{"$f":"IF('Blad 2 Indata'!$P$3=2,Data!R23,Data!G23)/1000000*O28","v":0},{"$f":"(((SUM(R$8:R$28)-R$15)-(SUM(E$8:E$28)-E$15))+((((SUM(R$8:R$28)-R$15)-(SUM(E$8:E$28)-E$15))/(((SUM(R$8:R$28)-R$15)-(SUM(E$8:E$28)-E$15))+(G$47/1000-G$45/1000)))*((MROUND(C$59*E$59*Data!C$10*C$48,100)/100000000)-(ROUND((1+('Blad 2 Indata'!B$7/100))*(1+('Blad 2 Indata'!C$7/100))*Data!C$10*C$48,0)/100000000))))*1000000/'Blad 2 Indata'!C$28-G$28","v":-4.6409986964590644E-9},{"$f":"C72*E72*Data!C23*Data!L23/100000000","v":7503.1438472485852},{"$f":"IF('Blad 2 Indata'!C$12<>0,Q28*Data!F23/1000000,0)","v":0},{"$f":"IF(ISERROR(IF('Blad 2 Indata'!C$12<>0,P28+M28+S28,'Blad 8 Periodisering'!P28+'Blad 8 Periodisering'!M28)),0,IF('Blad 2 Indata'!C$12<>0,P28+M28+S28,'Blad 8 Periodisering'!P28+'Blad 8 Periodisering'!M28))","v":0}]
["Enligt redovisning"]
[null,{"$f":"B6","v":2023},null,null,{"$f":"E6","v":2024},null,null,null,null,null,null,null,{"$f":"M6","v":2025}]
[null,"Preliminär skatt mnkr","Prognos utfall","Avräkning kr/invånare","Preliminär skatt mnkr","Prognos utfall","Avräkning kr/invånare","Avräkning mnkr",{"$f":"\"Justeringspost\"&\" \"&E30-1 &\" \"& \"kr/inv\"","v":"Justeringspost 2023 kr/inv"},"Kolumn att dölja",{"$f":"\"Justeringspost\"&\" \"&E30-1&\" \"&\"mnkr\"","v":"Justeringspost 2023 mnkr"},{"$f":"\"Summa skatteintäkter\"&\" \"&E30","v":"Summa skatteintäkter 2024"},"Preliminär skatt mnkr","Prognos utfall","Avräkning kr/invånare","Avräkning mnkr",{"$f":"\"Justeringspost\"&\" \"&M30-1 &\" \"& \"kr/inv\"","v":"Justeringspost 2024 kr/inv"},"Kolumn att dölja",{"$f":"\"Justeringspost\"&\" \"&M30-1&\" \"&\"mnkr\"","v":"Justeringspost 2024 mnkr"},{"$f":"\"Summa skatteintäkter\"&\" \"&M30","v":"Summa skatteintäkter 2025"}]
[{"$f":"'Blad 2 Indata'!A2","v":""},{"$f":"IF(ISERROR(LOOKUP('Blad 2 Indata'!$B1,'Blad 8 Periodisering'!$A8:$A28,'Blad 8 Periodisering'!B8:B28)),0,LOOKUP('Blad 2 Indata'!$B1,'Blad 8 Periodisering'!$A8:$A28,'Blad 8 Periodisering'!B8:B28))","v":0},{"$f":"IF(ISERROR(LOOKUP('Blad 2 Indata'!$B1,'Blad 8 Periodisering'!$A8:$A28,'Blad 8 Periodisering'!C8:C28)),0,LOOKUP('Blad 2 Indata'!$B1,'Blad 8 Periodisering'!$A8:$A28,'Blad 8 Periodisering'!C8:C28))","v":0},{"$f":"IF(ISERROR(LOOKUP('Blad 2 Indata'!$B1,'Blad 8 Periodisering'!$A8:$A28,'Blad 8 Periodisering'!D8:D28)),0,LOOKUP('Blad 2 Indata'!$B1,'Blad 8 Periodisering'!$A8:$A28,'Blad 8 Periodisering'!D8:D28))","v":0},{"$f":"IF(ISERROR(LOOKUP('Blad 2 Indata'!$B1,'Blad 8 Periodisering'!$A8:$A28,'Blad 8 Periodisering'!E8:E28)),0,LOOKUP('Blad 2 Indata'!$B1,'Blad 8 Periodisering'!$A8:$A28,'Blad 8 Periodisering'!E8:E28))","v":0},{"$f":"IF(ISERROR(LOOKUP('Blad 2 Indata'!$B1,'Blad 8 Periodisering'!$A8:$A28,'Blad 8 Periodisering'!F8:F28)),0,LOOKUP('Blad 2 Indata'!$B1,'Blad 8 Periodisering'!$A8:$A28,'Blad 8 Periodisering'!F8:F28))","v":0},{"$f":"IF(ISERROR(LOOKUP('Blad 2 Indata'!$B1,'Blad 8 Periodisering'!$A8:$A28,'Blad 8 Periodisering'!G8:G28)),0,LOOKUP('Blad 2 Indata'!$B1,'Blad 8 Periodisering'!$A8:$A28,'Blad 8 Periodisering'!G8:G28))","v":0},{"$f":"IF(ISERROR(LOOKUP('Blad 2 Indata'!$B1,'Blad 8 Periodisering'!$A8:$A28,'Blad 8 Periodisering'!H8:H28)),0,LOOKUP('Blad 2 Indata'!$B1,'Blad 8 Periodisering'!$A8:$A28,'Blad 8 Periodisering'!H8:H28))","v":0},{"$f":"IF(ISERROR(LOOKUP('Blad 2 Indata'!$B1,'Blad 8 Periodisering'!$A8:$A28,'Blad 8 Periodisering'!I8:I28)),0,LOOKUP('Blad 2 Indata'!$B1,'Blad 8 Periodisering'!$A8:$A28,'Blad 8 Periodisering'!I8:I28))","v":0},{"$f":"IF(ISERROR(LOOKUP('Blad 2 Indata'!$B1,'Blad 8 Periodisering'!$A8:$A28,'Blad 8 Periodisering'!J8:J28)),0,LOOKUP('Blad 2 Indata'!$B1,'Blad 8 Periodisering'!$A8:$A28,'Blad 8 Periodisering'!J8:J28))","v":0},{"$f":"IF(ISERROR(LOOKUP('Blad 2 Indata'!$B1,'Blad 8 Periodisering'!$A8:$A28,'Blad 8 Periodisering'!K8:K28)),0,LOOKUP('Blad 2 Indata'!$B1,'Blad 8 Periodisering'!$A8:$A28,'Blad 8 Periodisering'!K8:K28))","v":0},{"$f":"IF(ISERROR(LOOKUP('Blad 2 Indata'!$B1,'Blad 8 Periodisering'!$A8:$A28,'Blad 8 Periodisering'!L8:L28)),0,LOOKUP('Blad 2 Indata'!$B1,'Blad 8 Periodisering'!$A8:$A28,'Blad 8 Periodisering'!L8:L28))","v":0},{"$f":"IF(ISERROR(LOOKUP('Blad 2 Indata'!$B1,'Blad 8 Periodisering'!$A8:$A28,'Blad 8 Periodisering'!M8:M28)),0,LOOKUP('Blad 2 Indata'!$B1,'Blad 8 Periodisering'!$A8:$A28,'Blad 8 Periodisering'!M8:M28))","v":0},{"$f":"IF(ISERROR(LOOKUP('Blad 2 Indata'!$B1,'Blad 8 Periodisering'!$A8:$A28,'Blad 8 Periodisering'!N8:N28)),0,LOOKUP('Blad 2 Indata'!$B1,'Blad 8 Periodisering'!$A8:$A28,'Blad 8 Periodisering'!N8:N28))","v":0},{"$f":"IF(ISERROR(IF(LOOKUP('Blad 2 Indata'!$B1,'Blad 8 Periodisering'!$A8:$A28,'Blad 8 Periodisering'!O8:O28)=0,\"\",LOOKUP('Blad 2 Indata'!$B1,'Blad 8 Periodisering'!$A8:$A28,'Blad 8 Periodisering'!O8:O28))),0,IF(LOOKUP('Blad 2 Indata'!$B1,'Blad 8 Periodisering'!$A8:$A28,'Blad 8 Periodisering'!O8:O28)=0,\"\",LOOKUP('Blad 2 Indata'!$B1,'Blad 8 Periodisering'!$A8:$A28,'Blad 8 Periodisering'!O8:O28)))","v":0},{"$f":"IF(ISERROR(IF(LOOKUP('Blad 2 Indata'!$B1,'Blad 8 Periodisering'!$A8:$A28,'Blad 8 Periodisering'!P8:P28)=0,\"\",LOOKUP('Blad 2 Indata'!$B1,'Blad 8 Periodisering'!$A8:$A28,'Blad 8 Periodisering'!P8:P28))),0,IF(LOOKUP('Blad 2 Indata'!$B1,'Blad 8 Periodisering'!$A8:$A28,'Blad 8 Periodisering'!P8:P28)=0,\"\",LOOKUP('Blad 2 Indata'!$B1,'Blad 8 Periodisering'!$A8:$A28,'Blad 8 Periodisering'!P8:P28)))","v":0},{"$f":"IF(ISERROR(IF(LOOKUP('Blad 2 Indata'!$B1,'Blad 8 Periodisering'!$A8:$A28,'Blad 8 Periodisering'!Q8:Q28)=0,\"\",LOOKUP('Blad 2 Indata'!$B1,'Blad 8 Periodisering'!$A8:$A28,'Blad 8 Periodisering'!Q8:Q28))),0,IF(LOOKUP('Blad 2 Indata'!$B1,'Blad 8 Periodisering'!$A8:$A28,'Blad 8 Periodisering'!Q8:Q28)=0,\"\",LOOKUP('Blad 2 Indata'!$B1,'Blad 8 Periodisering'!$A8:$A28,'Blad 8 Periodisering'!Q8:Q28)))","v":0},{"$f":"IF(ISERROR(IF(LOOKUP('Blad 2 Indata'!$B1,'Blad 8 Periodisering'!$A8:$A28,'Blad 8 Periodisering'!R8:R28)=0,\"\",LOOKUP('Blad 2 Indata'!$B1,'Blad 8 Periodisering'!$A8:$A28,'Blad 8 Periodisering'!R8:R28))),0,IF(LOOKUP('Blad 2 Indata'!$B1,'Blad 8 Periodisering'!$A8:$A28,'Blad 8 Periodisering'!R8:R28)=0,\"\",LOOKUP('Blad 2 Indata'!$B1,'Blad 8 Periodisering'!$A8:$A28,'Blad 8 Periodisering'!R8:R28)))","v":0},{"$f":"IF(ISERROR(IF(LOOKUP('Blad 2 Indata'!$B1,'Blad 8 Periodisering'!$A8:$A28,'Blad 8 Periodisering'!S8:S28)=0,\"\",LOOKUP('Blad 2 Indata'!$B1,'Blad 8 Periodisering'!$A8:$A28,'Blad 8 Periodisering'!S8:S28))),0,IF(LOOKUP('Blad 2 Indata'!$B1,'Blad 8 Periodisering'!$A8:$A28,'Blad 8 Periodisering'!S8:S28)=0,\"\",LOOKUP('Blad 2 Indata'!$B1,'Blad 8 Periodisering'!$A8:$A28,'Blad 8 Periodisering'!S8:S28)))","v":0},{"$f":"IF(ISERROR(IF(LOOKUP('Blad 2 Indata'!$B1,'Blad 8 Periodisering'!$A8:$A28,'Blad 8 Periodisering'!T8:T28)=0,\"\",LOOKUP('Blad 2 Indata'!$B1,'Blad 8 Periodisering'!$A8:$A28,'Blad 8 Periodisering'!T8:T28))),0,IF(LOOKUP('Blad 2 Indata'!$B1,'Blad 8 Periodisering'!$A8:$A28,'Blad 8 Periodisering'!T8:T28)=0,\"\",LOOKUP('Blad 2 Indata'!$B1,'Blad 8 Periodisering'!$A8:$A28,'Blad 8 Periodisering'!T8:T28)))","v":0}]
[]
[]
[]
[]
["Enligt kassa",null,null,null,null,"Dölj",null,null,null,null,null,null,null,"Dölj"]
["mnkr",{"$f":"M30","v":2025},null,{"$f":"B38+1","v":2026},{"$f":"D38+1","v":2027},null,{"$f":"E38+1","v":2028}]
["Preliminär skatt",{"$f":"'Blad 1 Totala intäkter'!C12/1000","v":0},null,{"$f":"'Blad 1 Totala intäkter'!D12/1000","v":0},{"$f":"'Blad 1 Totala intäkter'!E12/1000","v":0},null,{"$f":"'Blad 1 Totala intäkter'!F12/1000","v":0}]
["Slutavräkning, två år innan",{"$f":"(D32+I32)*'Blad 2 Indata'!B33/1000000","v":0},null,{"$f":"IF(ISERROR(H32+S32),H32,H32+S32)","v":0},{"$f":"IF(ISERROR(P32/1),0,P32)","v":0}]
["Summa skatteintäkter",{"$f":"B39+B40","v":0},null,{"$f":"D39+D40","v":0},{"$f":"E39+E40","v":0},null,{"$f":"G39","v":0}]
[]
[]
["OBS inskrivna värden, måste uppdateras manuellt vid nytt år",null,null,null,null,{"$f":"C50","v":2023},{"$f":"D50","v":2024},{"$f":"F50","v":2025}]
["Gamla fastställda",2022,2023,null,"PREL UTBETALT",562521965.61699998,586869948.98899996,614749429.40900004]
[null,4.8,4.7,null,"PREL UTFALL",569660078.14300001,586213790.39400005,614749429.40900004]
["Gotlands skattesats",{"$f":"F44","v":2023},{"$f":"G44","v":2024},{"$f":"H44","v":2025},"SLUTLIGT UTFALL",569660078.14300001,586213790.39400005,614749429.40900004]
[null,33.6,33.6,33.6]
["Beräkningar för att synka trendalternativet till riksprognosen, allt ändras automatiskt"]
[null,{"$f":"'Blad 2 Indata'!B3","v":2023},{"$f":"B50","v":2023},{"$f":"B50+1","v":2024},{"$f":"C50+1","v":2024},2025,2025,2026,2026,2027,2027,2028,2028,{"$f":"M50+1","v":2029},{"$f":"N50","v":2029},{"$f":"N50+1","v":2030},{"$f":"P50","v":2030},{"$f":"P50+1","v":2031},{"$f":"R50","v":2031}]
[1,2,3,4,5,6,7,8,9,10,11,12,13,{"$f":"M51+1","v":14},{"$f":"N51+1","v":15},{"$f":"O51+1","v":16},{"$f":"P51+1","v":17},{"$f":"Q51+1","v":18},{"$f":"R51+1","v":19}]
[1,{"$f":"IF('Blad 2 Indata'!C$21=0,IF(Data!D3>0,Data!D3/Data!C3*Data!C3,(((1+(IF('Blad 2 Indata'!$M$3=1,'Blad 2 Indata'!B$9,'Blad 2 Indata'!B$10)/100))*(Data!E3/Data!Z3)/('Blad 2 Indata'!B$28/SUM(Data!Z$3:Z$23))-1)+1)*Data!C3),Data!D3)","v":778928297647.80029},{"$f":"IF(Data!D3>0,Data!D3/Data!C3*B$73,(((1+(IF('Blad 2 Indata'!$M$3=1,'Blad 2 Indata'!B$9,'Blad 2 Indata'!B$10)/100))*(Data!E3/Data!Z3)/('Blad 2 Indata'!B$28/SUM(Data!Z$3:Z$23))-1)+1)*B$73)","v":1.0541035956562161},{"$f":"(ROUND(((((1+('Blad 2 Indata'!C$15/100))*(Data!F3/Data!E3)/('Blad 2 Indata'!C$28/'Blad 2 Indata'!B$28)-1)+1)*C52*Data!C3/100),0))*100","v":802832558900},{"$f":"(((1+('Blad 2 Indata'!C$15/100))*(Data!F3/Data!E3)/('Blad 2 Indata'!C$28/'Blad 2 Indata'!B$28)-1)+1)*D$73","v":1.0306690127334897},{"$f":"(((1+('Blad 2 Indata'!D$15/100))*(Data!R3/Data!F3)/('Blad 2 Indata'!D$28/'Blad 2 Indata'!C$28)-1)+1)*E52*C52*Data!C3","v":844656609135.29468},{"$f":"(((1+('Blad 2 Indata'!D$15/100))*(Data!R3/Data!F3)/('Blad 2 Indata'!D$28/'Blad 2 Indata'!C$28)-1)+1)*F$73","v":1.0521064791152379},{"$f":"(((1+('Blad 2 Indata'!E$15/100))*(Data!S3/Data!R3)/('Blad 2 Indata'!E$28/'Blad 2 Indata'!D$28)-1)+1)*G52*E52*C52*Data!C3","v":882674808746.94336},{"$f":"(((1+('Blad 2 Indata'!E$15/100))*(Data!S3/Data!R3)/('Blad 2 Indata'!E$28/'Blad 2 Indata'!D$28)-1)+1)*H$73","v":1.045010790212064},{"$f":"(((1+('Blad 2 Indata'!F$15/100))*(Data!T3/Data!S3)/('Blad 2 Indata'!F$28/'Blad 2 Indata'!E$28)-1)+1)*I52*G52*E52*C52*Data!C3","v":921085010820.08374},{"$f":"(((1+('Blad 2 Indata'!F$15/100))*(Data!T3/Data!S3)/('Blad 2 Indata'!F$28/'Blad 2 Indata'!E$28)-1)+1)*J$73","v":1.0435164498288469},{"$f":"(((1+('Blad 2 Indata'!G$15/100))*(Data!U3/Data!T3)/('Blad 2 Indata'!G$28/'Blad 2 Indata'!F$28)-1)+1)*K52*I52*G52*E52*C52*Data!C3","v":961778801131.49304},{"$f":"(((1+('Blad 2 Indata'!G$15/100))*(Data!U3/Data!T3)/('Blad 2 Indata'!G$28/'Blad 2 Indata'!F$28)-1)+1)*L$73","v":1.0441804601384732},{"$f":"(((1+('Blad 2 Indata'!H$15/100))*(Data!BP3/Data!U3)/('Blad 2 Indata'!H$28/'Blad 2 Indata'!G$28)-1)+1)*$M52*$K52*$I52*$G52*$E52*$C52*Data!$C3","v":1004247283848.1775},{"$f":"(((1+('Blad 2 Indata'!H$15/100))*(Data!BP3/Data!U3)/('Blad 2 Indata'!H$28/'Blad 2 Indata'!G$28)-1)+1)*N$73","v":1.0441570528354873},{"$f":"(((1+('Blad 2 Indata'!I$15/100))*(Data!BQ3/Data!BP3)/('Blad 2 Indata'!I$28/'Blad 2 Indata'!H$28)-1)+1)*$O52*$M52*$K52*$I52*$G52*$E52*$C52*Data!$C3","v":1047524542643.8605},{"$f":"(((1+('Blad 2 Indata'!I$15/100))*(Data!BQ3/Data!BP3)/('Blad 2 Indata'!I$28/'Blad 2 Indata'!H$28)-1)+1)*P$73","v":1.0430946201186886},{"$f":"(((1+('Blad 2 Indata'!J$15/100))*(Data!BR3/Data!BQ3)/('Blad 2 Indata'!J$28/'Blad 2 Indata'!I$28)-1)+1)*$Q52*$O52*$M52*$K52*$I52*$G52*$E52*$C52*Data!$C3","v":1089344253437.9506},{"$f":"(((1+('Blad 2 Indata'!J$15/100))*(Data!BR3/Data!BQ3)/('Blad 2 Indata'!J$28/'Blad 2 Indata'!I$28)-1)+1)*R$73","v":1.0399230150848602}]
[3,{"$f":"IF('Blad 2 Indata'!C$21=0,IF(Data!D4>0,Data!D4/Data!C4*Data!C4,(((1+(IF('Blad 2 Indata'!$M$3=1,'Blad 2 Indata'!B$9,'Blad 2 Indata'!B$10)/100))*(Data!E4/Data!Z4)/('Blad 2 Indata'!B$28/SUM(Data!Z$3:Z$23))-1)+1)*Data!C4),Data!D4)","v":103845718997.65915},{"$f":"IF(Data!D4>0,Data!D4/Data!C4*B$73,(((1+(IF('Blad 2 Indata'!$M$3=1,'Blad 2 Indata'!B$9,'Blad 2 Indata'!B$10)/100))*(Data!E4/Data!Z4)/('Blad 2 Indata'!B$28/SUM(Data!Z$3:Z$23))-1)+1)*B$73)","v":1.0588186255471668},{"$f":"(ROUND(((((1+('Blad 2 Indata'!C$15/100))*(Data!F4/Data!E4)/('Blad 2 Indata'!C$28/'Blad 2 Indata'!B$28)-1)+1)*C53*Data!C4/100),0))*100","v":107448130900},{"$f":"(((1+('Blad 2 Indata'!C$15/100))*(Data!F4/Data!E4)/('Blad 2 Indata'!C$28/'Blad 2 Indata'!B$28)-1)+1)*D$73","v":1.0346703197124718},{"$f":"(((1+('Blad 2 Indata'!D$15/100))*(Data!R4/Data!F4)/('Blad 2 Indata'!D$28/'Blad 2 Indata'!C$28)-1)+1)*E53*C53*Data!C4","v":113517882507.00748},{"$f":"(((1+('Blad 2 Indata'!D$15/100))*(Data!R4/Data!F4)/('Blad 2 Indata'!D$28/'Blad 2 Indata'!C$28)-1)+1)*F$73","v":1.0565009789851494},{"$f":"(((1+('Blad 2 Indata'!E$15/100))*(Data!S4/Data!R4)/('Blad 2 Indata'!E$28/'Blad 2 Indata'!D$28)-1)+1)*G53*E53*C53*Data!C4","v":119123052858.99834},{"$f":"(((1+('Blad 2 Indata'!E$15/100))*(Data!S4/Data!R4)/('Blad 2 Indata'!E$28/'Blad 2 Indata'!D$28)-1)+1)*H$73","v":1.0493775302573503},{"$f":"(((1+('Blad 2 Indata'!F$15/100))*(Data!T4/Data!S4)/('Blad 2 Indata'!F$28/'Blad 2 Indata'!E$28)-1)+1)*I53*G53*E53*C53*Data!C4","v":124826148933.81975},{"$f":"(((1+('Blad 2 Indata'!F$15/100))*(Data!T4/Data!S4)/('Blad 2 Indata'!F$28/'Blad 2 Indata'!E$28)-1)+1)*J$73","v":1.0478764353503061},{"$f":"(((1+('Blad 2 Indata'!G$15/100))*(Data!U4/Data!T4)/('Blad 2 Indata'!G$28/'Blad 2 Indata'!F$28)-1)+1)*K53*I53*G53*E53*C53*Data!C4","v":130885622531.5558},{"$f":"(((1+('Blad 2 Indata'!G$15/100))*(Data!U4/Data!T4)/('Blad 2 Indata'!G$28/'Blad 2 Indata'!F$28)-1)+1)*L$73","v":1.0485434877877047},{"$f":"(((1+('Blad 2 Indata'!H$15/100))*(Data!BP4/Data!U4)/('Blad 2 Indata'!H$28/'Blad 2 Indata'!G$28)-1)+1)*$M53*$K53*$I53*$G53*$E53*$C53*Data!$C4","v":137235936283.42139},{"$f":"(((1+('Blad 2 Indata'!H$15/100))*(Data!BP4/Data!U4)/('Blad 2 Indata'!H$28/'Blad 2 Indata'!G$28)-1)+1)*N$73","v":1.0485189105158821},{"$f":"(((1+('Blad 2 Indata'!I$15/100))*(Data!BQ4/Data!BP4)/('Blad 2 Indata'!I$28/'Blad 2 Indata'!H$28)-1)+1)*$O53*$M53*$K53*$I53*$G53*$E53*$C53*Data!$C4","v":143748175257.58279},{"$f":"(((1+('Blad 2 Indata'!I$15/100))*(Data!BQ4/Data!BP4)/('Blad 2 Indata'!I$28/'Blad 2 Indata'!H$28)-1)+1)*P$73","v":1.0474532658725251},{"$f":"(((1+('Blad 2 Indata'!J$15/100))*(Data!BR4/Data!BQ4)/('Blad 2 Indata'!J$28/'Blad 2 Indata'!I$28)-1)+1)*$Q53*$O53*$M53*$K53*$I53*$G53*$E53*$C53*Data!$C4","v":150111470608.16196},{"$f":"(((1+('Blad 2 Indata'!J$15/100))*(Data!BR4/Data!BQ4)/('Blad 2 Indata'!J$28/'Blad 2 Indata'!I$28)-1)+1)*R$73","v":1.0442675657223335}]
[4,{"$f":"IF('Blad 2 Indata'!C$21=0,IF(Data!D5>0,Data!D5/Data!C5*Data!C5,(((1+(IF('Blad 2 Indata'!$M$3=1,'Blad 2 Indata'!B$9,'Blad 2 Indata'!B$10)/100))*(Data!E5/Data!Z5)/('Blad 2 Indata'!B$28/SUM(Data!Z$3:Z$23))-1)+1)*Data!C5),Data!D5)","v":71107625587.615829},{"$f":"IF(Data!D5>0,Data!D5/Data!C5*B$73,(((1+(IF('Blad 2 Indata'!$M$3=1,'Blad 2 Indata'!B$9,'Blad 2 Indata'!B$10)/100))*(Data!E5/Data!Z5)/('Blad 2 Indata'!B$28/SUM(Data!Z$3:Z$23))-1)+1)*B$73)","v":1.0469376726590134},{"$f":"(ROUND(((((1+('Blad 2 Indata'!C$15/100))*(Data!F5/Data!E5)/('Blad 2 Indata'!C$28/'Blad 2 Indata'!B$28)-1)+1)*C54*Data!C5/100),0))*100","v":72690909400},{"$f":"(((1+('Blad 2 Indata'!C$15/100))*(Data!F5/Data!E5)/('Blad 2 Indata'!C$28/'Blad 2 Indata'!B$28)-1)+1)*D$73","v":1.0222465393759006},{"$f":"(((1+('Blad 2 Indata'!D$15/100))*(Data!R5/Data!F5)/('Blad 2 Indata'!D$28/'Blad 2 Indata'!C$28)-1)+1)*E54*C54*Data!C5","v":75905282091.855743},{"$f":"(((1+('Blad 2 Indata'!D$15/100))*(Data!R5/Data!F5)/('Blad 2 Indata'!D$28/'Blad 2 Indata'!C$28)-1)+1)*F$73","v":1.0442305235191451},{"$f":"(((1+('Blad 2 Indata'!E$15/100))*(Data!S5/Data!R5)/('Blad 2 Indata'!E$28/'Blad 2 Indata'!D$28)-1)+1)*G54*E54*C54*Data!C5","v":78727945949.229706},{"$f":"(((1+('Blad 2 Indata'!E$15/100))*(Data!S5/Data!R5)/('Blad 2 Indata'!E$28/'Blad 2 Indata'!D$28)-1)+1)*H$73","v":1.0371872018751638},{"$f":"(((1+('Blad 2 Indata'!F$15/100))*(Data!T5/Data!S5)/('Blad 2 Indata'!F$28/'Blad 2 Indata'!E$28)-1)+1)*I54*G54*E54*C54*Data!C5","v":81538792110.406311},{"$f":"(((1+('Blad 2 Indata'!F$15/100))*(Data!T5/Data!S5)/('Blad 2 Indata'!F$28/'Blad 2 Indata'!E$28)-1)+1)*J$73","v":1.035704038916293},{"$f":"(((1+('Blad 2 Indata'!G$15/100))*(Data!U5/Data!T5)/('Blad 2 Indata'!G$28/'Blad 2 Indata'!F$28)-1)+1)*K54*I54*G54*E54*C54*Data!C5","v":84504014144.555557},{"$f":"(((1+('Blad 2 Indata'!G$15/100))*(Data!U5/Data!T5)/('Blad 2 Indata'!G$28/'Blad 2 Indata'!F$28)-1)+1)*L$73","v":1.0363659655960547},{"$f":"(((1+('Blad 2 Indata'!H$15/100))*(Data!BP5/Data!U5)/('Blad 2 Indata'!H$28/'Blad 2 Indata'!G$28)-1)+1)*$M54*$K54*$I54*$G54*$E54*$C54*Data!$C5","v":87574988812.986679},{"$f":"(((1+('Blad 2 Indata'!H$15/100))*(Data!BP5/Data!U5)/('Blad 2 Indata'!H$28/'Blad 2 Indata'!G$28)-1)+1)*N$73","v":1.0363420304030433},{"$f":"(((1+('Blad 2 Indata'!I$15/100))*(Data!BQ5/Data!BP5)/('Blad 2 Indata'!I$28/'Blad 2 Indata'!H$28)-1)+1)*$O54*$M54*$K54*$I54*$G54*$E54*$C54*Data!$C5","v":90665115192.693878},{"$f":"(((1+('Blad 2 Indata'!I$15/100))*(Data!BQ5/Data!BP5)/('Blad 2 Indata'!I$28/'Blad 2 Indata'!H$28)-1)+1)*P$73","v":1.0352858816349528},{"$f":"(((1+('Blad 2 Indata'!J$15/100))*(Data!BR5/Data!BQ5)/('Blad 2 Indata'!J$28/'Blad 2 Indata'!I$28)-1)+1)*$Q54*$O54*$M54*$K54*$I54*$G54*$E54*$C54*Data!$C5","v":93578873766.699265},{"$f":"(((1+('Blad 2 Indata'!J$15/100))*(Data!BR5/Data!BQ5)/('Blad 2 Indata'!J$28/'Blad 2 Indata'!I$28)-1)+1)*R$73","v":1.0321381874090541}]
[5,{"$f":"IF('Blad 2 Indata'!C$21=0,IF(Data!D6>0,Data!D6/Data!C6*Data!C6,(((1+(IF('Blad 2 Indata'!$M$3=1,'Blad 2 Indata'!B$9,'Blad 2 Indata'!B$10)/100))*(Data!E6/Data!Z6)/('Blad 2 Indata'!B$28/SUM(Data!Z$3:Z$23))-1)+1)*Data!C6),Data!D6)","v":115905765284.47237},{"$f":"IF(Data!D6>0,Data!D6/Data!C6*B$73,(((1+(IF('Blad 2 Indata'!$M$3=1,'Blad 2 Indata'!B$9,'Blad 2 Indata'!B$10)/100))*(Data!E6/Data!Z6)/('Blad 2 Indata'!B$28/SUM(Data!Z$3:Z$23))-1)+1)*B$73)","v":1.0483878558794038},{"$f":"(ROUND(((((1+('Blad 2 Indata'!C$15/100))*(Data!F6/Data!E6)/('Blad 2 Indata'!C$28/'Blad 2 Indata'!B$28)-1)+1)*C55*Data!C6/100),0))*100","v":118767260800},{"$f":"(((1+('Blad 2 Indata'!C$15/100))*(Data!F6/Data!E6)/('Blad 2 Indata'!C$28/'Blad 2 Indata'!B$28)-1)+1)*D$73","v":1.024668593514507},{"$f":"(((1+('Blad 2 Indata'!D$15/100))*(Data!R6/Data!F6)/('Blad 2 Indata'!D$28/'Blad 2 Indata'!C$28)-1)+1)*E55*C55*Data!C6","v":124251907093.40149},{"$f":"(((1+('Blad 2 Indata'!D$15/100))*(Data!R6/Data!F6)/('Blad 2 Indata'!D$28/'Blad 2 Indata'!C$28)-1)+1)*F$73","v":1.0461905926225041},{"$f":"(((1+('Blad 2 Indata'!E$15/100))*(Data!S6/Data!R6)/('Blad 2 Indata'!E$28/'Blad 2 Indata'!D$28)-1)+1)*G55*E55*C55*Data!C6","v":129114432636.86563},{"$f":"(((1+('Blad 2 Indata'!E$15/100))*(Data!S6/Data!R6)/('Blad 2 Indata'!E$28/'Blad 2 Indata'!D$28)-1)+1)*H$73","v":1.0391349574508948},{"$f":"(((1+('Blad 2 Indata'!F$15/100))*(Data!T6/Data!S6)/('Blad 2 Indata'!F$28/'Blad 2 Indata'!E$28)-1)+1)*I55*G55*E55*C55*Data!C6","v":133975579219.22563},{"$f":"(((1+('Blad 2 Indata'!F$15/100))*(Data!T6/Data!S6)/('Blad 2 Indata'!F$28/'Blad 2 Indata'!E$28)-1)+1)*J$73","v":1.0376506655526816},{"$f":"(((1+('Blad 2 Indata'!G$15/100))*(Data!U6/Data!T6)/('Blad 2 Indata'!G$28/'Blad 2 Indata'!F$28)-1)+1)*K55*I55*G55*E55*C55*Data!C6","v":139108240760.7027},{"$f":"(((1+('Blad 2 Indata'!G$15/100))*(Data!U6/Data!T6)/('Blad 2 Indata'!G$28/'Blad 2 Indata'!F$28)-1)+1)*L$73","v":1.0383106089733789},{"$f":"(((1+('Blad 2 Indata'!H$15/100))*(Data!BP6/Data!U6)/('Blad 2 Indata'!H$28/'Blad 2 Indata'!G$28)-1)+1)*$M55*$K55*$I55*$G55*$E55*$C55*Data!$C6","v":144434188356.3653},{"$f":"(((1+('Blad 2 Indata'!H$15/100))*(Data!BP6/Data!U6)/('Blad 2 Indata'!H$28/'Blad 2 Indata'!G$28)-1)+1)*N$73","v":1.0382872186758942},{"$f":"(((1+('Blad 2 Indata'!I$15/100))*(Data!BQ6/Data!BP6)/('Blad 2 Indata'!I$28/'Blad 2 Indata'!H$28)-1)+1)*$O55*$M55*$K55*$I55*$G55*$E55*$C55*Data!$C6","v":149811391801.77808},{"$f":"(((1+('Blad 2 Indata'!I$15/100))*(Data!BQ6/Data!BP6)/('Blad 2 Indata'!I$28/'Blad 2 Indata'!H$28)-1)+1)*P$73","v":1.0372298290219508},{"$f":"(((1+('Blad 2 Indata'!J$15/100))*(Data!BR6/Data!BQ6)/('Blad 2 Indata'!J$28/'Blad 2 Indata'!I$28)-1)+1)*$Q55*$O55*$M55*$K55*$I55*$G55*$E55*$C55*Data!$C6","v":154916466062.34537},{"$f":"(((1+('Blad 2 Indata'!J$15/100))*(Data!BR6/Data!BQ6)/('Blad 2 Indata'!J$28/'Blad 2 Indata'!I$28)-1)+1)*R$73","v":1.0340772715034205}]
[6,{"$f":"IF('Blad 2 Indata'!C$21=0,IF(Data!D7>0,Data!D7/Data!C7*Data!C7,(((1+(IF('Blad 2 Indata'!$M$3=1,'Blad 2 Indata'!B$9,'Blad 2 Indata'!B$10)/100))*(Data!E7/Data!Z7)/('Blad 2 Indata'!B$28/SUM(Data!Z$3:Z$23))-1)+1)*Data!C7),Data!D7)","v":89572582877.807053},{"$f":"IF(Data!D7>0,Data!D7/Data!C7*B$73,(((1+(IF('Blad 2 Indata'!$M$3=1,'Blad 2 Indata'!B$9,'Blad 2 Indata'!B$10)/100))*(Data!E7/Data!Z7)/('Blad 2 Indata'!B$28/SUM(Data!Z$3:Z$23))-1)+1)*B$73)","v":1.0491984889310493},{"$f":"(ROUND(((((1+('Blad 2 Indata'!C$15/100))*(Data!F7/Data!E7)/('Blad 2 Indata'!C$28/'Blad 2 Indata'!B$28)-1)+1)*C56*Data!C7/100),0))*100","v":91675476300},{"$f":"(((1+('Blad 2 Indata'!C$15/100))*(Data!F7/Data!E7)/('Blad 2 Indata'!C$28/'Blad 2 Indata'!B$28)-1)+1)*D$73","v":1.0234574727583239},{"$f":"(((1+('Blad 2 Indata'!D$15/100))*(Data!R7/Data!F7)/('Blad 2 Indata'!D$28/'Blad 2 Indata'!C$28)-1)+1)*E56*C56*Data!C7","v":95889457134.473618},{"$f":"(((1+('Blad 2 Indata'!D$15/100))*(Data!R7/Data!F7)/('Blad 2 Indata'!D$28/'Blad 2 Indata'!C$28)-1)+1)*F$73","v":1.0459770898374661},{"$f":"(((1+('Blad 2 Indata'!E$15/100))*(Data!S7/Data!R7)/('Blad 2 Indata'!E$28/'Blad 2 Indata'!D$28)-1)+1)*G56*E56*C56*Data!C7","v":99621672040.565613},{"$f":"(((1+('Blad 2 Indata'!E$15/100))*(Data!S7/Data!R7)/('Blad 2 Indata'!E$28/'Blad 2 Indata'!D$28)-1)+1)*H$73","v":1.0389226004670136},{"$f":"(((1+('Blad 2 Indata'!F$15/100))*(Data!T7/Data!S7)/('Blad 2 Indata'!F$28/'Blad 2 Indata'!E$28)-1)+1)*I56*G56*E56*C56*Data!C7","v":103351124996.8503},{"$f":"(((1+('Blad 2 Indata'!F$15/100))*(Data!T7/Data!S7)/('Blad 2 Indata'!F$28/'Blad 2 Indata'!E$28)-1)+1)*J$73","v":1.0374369178652023},{"$f":"(((1+('Blad 2 Indata'!G$15/100))*(Data!U7/Data!T7)/('Blad 2 Indata'!G$28/'Blad 2 Indata'!F$28)-1)+1)*K56*I56*G56*E56*C56*Data!C7","v":107288399405.64706},{"$f":"(((1+('Blad 2 Indata'!G$15/100))*(Data!U7/Data!T7)/('Blad 2 Indata'!G$28/'Blad 2 Indata'!F$28)-1)+1)*L$73","v":1.0380962790093367},{"$f":"(((1+('Blad 2 Indata'!H$15/100))*(Data!BP7/Data!U7)/('Blad 2 Indata'!H$28/'Blad 2 Indata'!G$28)-1)+1)*$M56*$K56*$I56*$G56*$E56*$C56*Data!$C7","v":111373249312.26909},{"$f":"(((1+('Blad 2 Indata'!H$15/100))*(Data!BP7/Data!U7)/('Blad 2 Indata'!H$28/'Blad 2 Indata'!G$28)-1)+1)*N$73","v":1.0380744096338699},{"$f":"(((1+('Blad 2 Indata'!I$15/100))*(Data!BQ7/Data!BP7)/('Blad 2 Indata'!I$28/'Blad 2 Indata'!H$28)-1)+1)*$O56*$M56*$K56*$I56*$G56*$E56*$C56*Data!$C7","v":115495974346.09769},{"$f":"(((1+('Blad 2 Indata'!I$15/100))*(Data!BQ7/Data!BP7)/('Blad 2 Indata'!I$28/'Blad 2 Indata'!H$28)-1)+1)*P$73","v":1.0370175851524099},{"$f":"(((1+('Blad 2 Indata'!J$15/100))*(Data!BR7/Data!BQ7)/('Blad 2 Indata'!J$28/'Blad 2 Indata'!I$28)-1)+1)*$Q56*$O56*$M56*$K56*$I56*$G56*$E56*$C56*Data!$C7","v":119407216445.49925},{"$f":"(((1+('Blad 2 Indata'!J$15/100))*(Data!BR7/Data!BQ7)/('Blad 2 Indata'!J$28/'Blad 2 Indata'!I$28)-1)+1)*R$73","v":1.033865343661587}]
[7,{"$f":"IF('Blad 2 Indata'!C$21=0,IF(Data!D8>0,Data!D8/Data!C8*Data!C8,(((1+(IF('Blad 2 Indata'!$M$3=1,'Blad 2 Indata'!B$9,'Blad 2 Indata'!B$10)/100))*(Data!E8/Data!Z8)/('Blad 2 Indata'!B$28/SUM(Data!Z$3:Z$23))-1)+1)*Data!C8),Data!D8)","v":48187918688.373558},{"$f":"IF(Data!D8>0,Data!D8/Data!C8*B$73,(((1+(IF('Blad 2 Indata'!$M$3=1,'Blad 2 Indata'!B$9,'Blad 2 Indata'!B$10)/100))*(Data!E8/Data!Z8)/('Blad 2 Indata'!B$28/SUM(Data!Z$3:Z$23))-1)+1)*B$73)","v":1.0483658766036024},{"$f":"(ROUND(((((1+('Blad 2 Indata'!C$15/100))*(Data!F8/Data!E8)/('Blad 2 Indata'!C$28/'Blad 2 Indata'!B$28)-1)+1)*C57*Data!C8/100),0))*100","v":49232174500},{"$f":"(((1+('Blad 2 Indata'!C$15/100))*(Data!F8/Data!E8)/('Blad 2 Indata'!C$28/'Blad 2 Indata'!B$28)-1)+1)*D$73","v":1.021651019974902},{"$f":"(((1+('Blad 2 Indata'!D$15/100))*(Data!R8/Data!F8)/('Blad 2 Indata'!D$28/'Blad 2 Indata'!C$28)-1)+1)*E57*C57*Data!C8","v":51429429715.567673},{"$f":"(((1+('Blad 2 Indata'!D$15/100))*(Data!R8/Data!F8)/('Blad 2 Indata'!D$28/'Blad 2 Indata'!C$28)-1)+1)*F$73","v":1.0446412669968022},{"$f":"(((1+('Blad 2 Indata'!E$15/100))*(Data!S8/Data!R8)/('Blad 2 Indata'!E$28/'Blad 2 Indata'!D$28)-1)+1)*G57*E57*C57*Data!C8","v":53362860387.765312},{"$f":"(((1+('Blad 2 Indata'!E$15/100))*(Data!S8/Data!R8)/('Blad 2 Indata'!E$28/'Blad 2 Indata'!D$28)-1)+1)*H$73","v":1.037594400770486},{"$f":"(((1+('Blad 2 Indata'!F$15/100))*(Data!T8/Data!S8)/('Blad 2 Indata'!F$28/'Blad 2 Indata'!E$28)-1)+1)*I57*G57*E57*C57*Data!C8","v":55289678444.069038},{"$f":"(((1+('Blad 2 Indata'!F$15/100))*(Data!T8/Data!S8)/('Blad 2 Indata'!F$28/'Blad 2 Indata'!E$28)-1)+1)*J$73","v":1.0361086039549832},{"$f":"(((1+('Blad 2 Indata'!G$15/100))*(Data!U8/Data!T8)/('Blad 2 Indata'!G$28/'Blad 2 Indata'!F$28)-1)+1)*K57*I57*G57*E57*C57*Data!C8","v":57322512107.132896},{"$f":"(((1+('Blad 2 Indata'!G$15/100))*(Data!U8/Data!T8)/('Blad 2 Indata'!G$28/'Blad 2 Indata'!F$28)-1)+1)*L$73","v":1.0367671473272644},{"$f":"(((1+('Blad 2 Indata'!H$15/100))*(Data!BP8/Data!U8)/('Blad 2 Indata'!H$28/'Blad 2 Indata'!G$28)-1)+1)*$M57*$K57*$I57*$G57*$E57*$C57*Data!$C8","v":59428846218.382195},{"$f":"(((1+('Blad 2 Indata'!H$15/100))*(Data!BP8/Data!U8)/('Blad 2 Indata'!H$28/'Blad 2 Indata'!G$28)-1)+1)*N$73","v":1.036746182688135},{"$f":"(((1+('Blad 2 Indata'!I$15/100))*(Data!BQ8/Data!BP8)/('Blad 2 Indata'!I$28/'Blad 2 Indata'!H$28)-1)+1)*$O57*$M57*$K57*$I57*$G57*$E57*$C57*Data!$C8","v":61549913440.565704},{"$f":"(((1+('Blad 2 Indata'!I$15/100))*(Data!BQ8/Data!BP8)/('Blad 2 Indata'!I$28/'Blad 2 Indata'!H$28)-1)+1)*P$73","v":1.0356912618876786},{"$f":"(((1+('Blad 2 Indata'!J$15/100))*(Data!BR8/Data!BQ8)/('Blad 2 Indata'!J$28/'Blad 2 Indata'!I$28)-1)+1)*$Q57*$O57*$M57*$K57*$I57*$G57*$E57*$C57*Data!$C8","v":63552838484.294441},{"$f":"(((1+('Blad 2 Indata'!J$15/100))*(Data!BR8/Data!BQ8)/('Blad 2 Indata'!J$28/'Blad 2 Indata'!I$28)-1)+1)*R$73","v":1.0325420708188164}]
[8,{"$f":"IF('Blad 2 Indata'!C$21=0,IF(Data!D9>0,Data!D9/Data!C9*Data!C9,(((1+(IF('Blad 2 Indata'!$M$3=1,'Blad 2 Indata'!B$9,'Blad 2 Indata'!B$10)/100))*(Data!E9/Data!Z9)/('Blad 2 Indata'!B$28/SUM(Data!Z$3:Z$23))-1)+1)*Data!C9),Data!D9)","v":57518998062.43763},{"$f":"IF(Data!D9>0,Data!D9/Data!C9*B$73,(((1+(IF('Blad 2 Indata'!$M$3=1,'Blad 2 Indata'!B$9,'Blad 2 Indata'!B$10)/100))*(Data!E9/Data!Z9)/('Blad 2 Indata'!B$28/SUM(Data!Z$3:Z$23))-1)+1)*B$73)","v":1.0465486961122035},{"$f":"(ROUND(((((1+('Blad 2 Indata'!C$15/100))*(Data!F9/Data!E9)/('Blad 2 Indata'!C$28/'Blad 2 Indata'!B$28)-1)+1)*C58*Data!C9/100),0))*100","v":58658576600},{"$f":"(((1+('Blad 2 Indata'!C$15/100))*(Data!F9/Data!E9)/('Blad 2 Indata'!C$28/'Blad 2 Indata'!B$28)-1)+1)*D$73","v":1.0197927773499613},{"$f":"(((1+('Blad 2 Indata'!D$15/100))*(Data!R9/Data!F9)/('Blad 2 Indata'!D$28/'Blad 2 Indata'!C$28)-1)+1)*E58*C58*Data!C9","v":61167676449.997925},{"$f":"(((1+('Blad 2 Indata'!D$15/100))*(Data!R9/Data!F9)/('Blad 2 Indata'!D$28/'Blad 2 Indata'!C$28)-1)+1)*F$73","v":1.0427854204148004},{"$f":"(((1+('Blad 2 Indata'!E$15/100))*(Data!S9/Data!R9)/('Blad 2 Indata'!E$28/'Blad 2 Indata'!D$28)-1)+1)*G58*E58*C58*Data!C9","v":63354515294.630722},{"$f":"(((1+('Blad 2 Indata'!E$15/100))*(Data!S9/Data!R9)/('Blad 2 Indata'!E$28/'Blad 2 Indata'!D$28)-1)+1)*H$73","v":1.0357520854020157},{"$f":"(((1+('Blad 2 Indata'!F$15/100))*(Data!T9/Data!S9)/('Blad 2 Indata'!F$28/'Blad 2 Indata'!E$28)-1)+1)*I58*G58*E58*C58*Data!C9","v":65525573953.326424},{"$f":"(((1+('Blad 2 Indata'!F$15/100))*(Data!T9/Data!S9)/('Blad 2 Indata'!F$28/'Blad 2 Indata'!E$28)-1)+1)*J$73","v":1.0342691669458726},{"$f":"(((1+('Blad 2 Indata'!G$15/100))*(Data!U9/Data!T9)/('Blad 2 Indata'!G$28/'Blad 2 Indata'!F$28)-1)+1)*K58*I58*G58*E58*C58*Data!C9","v":67814080303.9879},{"$f":"(((1+('Blad 2 Indata'!G$15/100))*(Data!U9/Data!T9)/('Blad 2 Indata'!G$28/'Blad 2 Indata'!F$28)-1)+1)*L$73","v":1.0349255740818732},{"$f":"(((1+('Blad 2 Indata'!H$15/100))*(Data!BP9/Data!U9)/('Blad 2 Indata'!H$28/'Blad 2 Indata'!G$28)-1)+1)*$M58*$K58*$I58*$G58*$E58*$C58*Data!$C9","v":70181010317.747879},{"$f":"(((1+('Blad 2 Indata'!H$15/100))*(Data!BP9/Data!U9)/('Blad 2 Indata'!H$28/'Blad 2 Indata'!G$28)-1)+1)*N$73","v":1.0349040837825891},{"$f":"(((1+('Blad 2 Indata'!I$15/100))*(Data!BQ9/Data!BP9)/('Blad 2 Indata'!I$28/'Blad 2 Indata'!H$28)-1)+1)*$O58*$M58*$K58*$I58*$G58*$E58*$C58*Data!$C9","v":72556640344.295486},{"$f":"(((1+('Blad 2 Indata'!I$15/100))*(Data!BQ9/Data!BP9)/('Blad 2 Indata'!I$28/'Blad 2 Indata'!H$28)-1)+1)*P$73","v":1.0338504315179478},{"$f":"(((1+('Blad 2 Indata'!J$15/100))*(Data!BR9/Data!BQ9)/('Blad 2 Indata'!J$28/'Blad 2 Indata'!I$28)-1)+1)*$Q58*$O58*$M58*$K58*$I58*$G58*$E58*$C58*Data!$C9","v":74784653851.476624},{"$f":"(((1+('Blad 2 Indata'!J$15/100))*(Data!BR9/Data!BQ9)/('Blad 2 Indata'!J$28/'Blad 2 Indata'!I$28)-1)+1)*R$73","v":1.0307078244396495}]
[9,{"$f":"IF('Blad 2 Indata'!C$21=0,IF(Data!D10>0,Data!D10/Data!C10*Data!C10,(((1+(IF('Blad 2 Indata'!$M$3=1,'Blad 2 Indata'!B$9,'Blad 2 Indata'!B$10)/100))*(Data!E10/Data!Z10)/('Blad 2 Indata'!B$28/SUM(Data!Z$3:Z$23))-1)+1)*Data!C10),Data!D10)","v":13873934244.025877},{"$f":"IF(Data!D10>0,Data!D10/Data!C10*B$73,(((1+(IF('Blad 2 Indata'!$M$3=1,'Blad 2 Indata'!B$9,'Blad 2 Indata'!B$10)/100))*(Data!E10/Data!Z10)/('Blad 2 Indata'!B$28/SUM(Data!Z$3:Z$23))-1)+1)*B$73)","v":1.0464976658668053},{"$f":"(ROUND(((((1+('Blad 2 Indata'!C$15/100))*(Data!F10/Data!E10)/('Blad 2 Indata'!C$28/'Blad 2 Indata'!B$28)-1)+1)*C59*Data!C10/100),0))*100","v":14173331000},{"$f":"(((1+('Blad 2 Indata'!C$15/100))*(Data!F10/Data!E10)/('Blad 2 Indata'!C$28/'Blad 2 Indata'!B$28)-1)+1)*D$73","v":1.0215603325270988},{"$f":"(((1+('Blad 2 Indata'!D$15/100))*(Data!R10/Data!F10)/('Blad 2 Indata'!D$28/'Blad 2 Indata'!C$28)-1)+1)*E59*C59*Data!C10","v":14792059991.221779},{"$f":"(((1+('Blad 2 Indata'!D$15/100))*(Data!R10/Data!F10)/('Blad 2 Indata'!D$28/'Blad 2 Indata'!C$28)-1)+1)*F$73","v":1.0436652371530546},{"$f":"(((1+('Blad 2 Indata'!E$15/100))*(Data!S10/Data!R10)/('Blad 2 Indata'!E$28/'Blad 2 Indata'!D$28)-1)+1)*G59*E59*C59*Data!C10","v":15333833174.796759},{"$f":"(((1+('Blad 2 Indata'!E$15/100))*(Data!S10/Data!R10)/('Blad 2 Indata'!E$28/'Blad 2 Indata'!D$28)-1)+1)*H$73","v":1.0366264879060445},{"$f":"(((1+('Blad 2 Indata'!F$15/100))*(Data!T10/Data!S10)/('Blad 2 Indata'!F$28/'Blad 2 Indata'!E$28)-1)+1)*I59*G59*E59*C59*Data!C10","v":15872772128.523129},{"$f":"(((1+('Blad 2 Indata'!F$15/100))*(Data!T10/Data!S10)/('Blad 2 Indata'!F$28/'Blad 2 Indata'!E$28)-1)+1)*J$73","v":1.0351478020666498},{"$f":"(((1+('Blad 2 Indata'!G$15/100))*(Data!U10/Data!T10)/('Blad 2 Indata'!G$28/'Blad 2 Indata'!F$28)-1)+1)*K59*I59*G59*E59*C59*Data!C10","v":16441028070.647707},{"$f":"(((1+('Blad 2 Indata'!G$15/100))*(Data!U10/Data!T10)/('Blad 2 Indata'!G$28/'Blad 2 Indata'!F$28)-1)+1)*L$73","v":1.0358008564282066},{"$f":"(((1+('Blad 2 Indata'!H$15/100))*(Data!BP10/Data!U10)/('Blad 2 Indata'!H$28/'Blad 2 Indata'!G$28)-1)+1)*$M59*$K59*$I59*$G59*$E59*$C59*Data!$C10","v":17029281016.949093},{"$f":"(((1+('Blad 2 Indata'!H$15/100))*(Data!BP10/Data!U10)/('Blad 2 Indata'!H$28/'Blad 2 Indata'!G$28)-1)+1)*N$73","v":1.035780432747675},{"$f":"(((1+('Blad 2 Indata'!I$15/100))*(Data!BQ10/Data!BP10)/('Blad 2 Indata'!I$28/'Blad 2 Indata'!H$28)-1)+1)*$O59*$M59*$K59*$I59*$G59*$E59*$C59*Data!$C10","v":17620503189.888542},{"$f":"(((1+('Blad 2 Indata'!I$15/100))*(Data!BQ10/Data!BP10)/('Blad 2 Indata'!I$28/'Blad 2 Indata'!H$28)-1)+1)*P$73","v":1.0347183677542189},{"$f":"(((1+('Blad 2 Indata'!J$15/100))*(Data!BR10/Data!BQ10)/('Blad 2 Indata'!J$28/'Blad 2 Indata'!I$28)-1)+1)*$Q59*$O59*$M59*$K59*$I59*$G59*$E59*$C59*Data!$C10","v":18176994696.197231},{"$f":"(((1+('Blad 2 Indata'!J$15/100))*(Data!BR10/Data!BQ10)/('Blad 2 Indata'!J$28/'Blad 2 Indata'!I$28)-1)+1)*R$73","v":1.0315826380181623}]
[10,{"$f":"IF('Blad 2 Indata'!C$21=0,IF(Data!D11>0,Data!D11/Data!C11*Data!C11,(((1+(IF('Blad 2 Indata'!$M$3=1,'Blad 2 Indata'!B$9,'Blad 2 Indata'!B$10)/100))*(Data!E11/Data!Z11)/('Blad 2 Indata'!B$28/SUM(Data!Z$3:Z$23))-1)+1)*Data!C11),Data!D11)","v":37553446131.116554},{"$f":"IF(Data!D11>0,Data!D11/Data!C11*B$73,(((1+(IF('Blad 2 Indata'!$M$3=1,'Blad 2 Indata'!B$9,'Blad 2 Indata'!B$10)/100))*(Data!E11/Data!Z11)/('Blad 2 Indata'!B$28/SUM(Data!Z$3:Z$23))-1)+1)*B$73)","v":1.0423544590651226},{"$f":"(ROUND(((((1+('Blad 2 Indata'!C$15/100))*(Data!F11/Data!E11)/('Blad 2 Indata'!C$28/'Blad 2 Indata'!B$28)-1)+1)*C60*Data!C11/100),0))*100","v":38253165100},{"$f":"(((1+('Blad 2 Indata'!C$15/100))*(Data!F11/Data!E11)/('Blad 2 Indata'!C$28/'Blad 2 Indata'!B$28)-1)+1)*D$73","v":1.0186132040189058},{"$f":"(((1+('Blad 2 Indata'!D$15/100))*(Data!R11/Data!F11)/('Blad 2 Indata'!D$28/'Blad 2 Indata'!C$28)-1)+1)*E60*C60*Data!C11","v":39786194533.816368},{"$f":"(((1+('Blad 2 Indata'!D$15/100))*(Data!R11/Data!F11)/('Blad 2 Indata'!D$28/'Blad 2 Indata'!C$28)-1)+1)*F$73","v":1.0400866325835423},{"$f":"(((1+('Blad 2 Indata'!E$15/100))*(Data!S11/Data!R11)/('Blad 2 Indata'!E$28/'Blad 2 Indata'!D$28)-1)+1)*G60*E60*C60*Data!C11","v":41102095167.352692},{"$f":"(((1+('Blad 2 Indata'!E$15/100))*(Data!S11/Data!R11)/('Blad 2 Indata'!E$28/'Blad 2 Indata'!D$28)-1)+1)*H$73","v":1.0330748430187899},{"$f":"(((1+('Blad 2 Indata'!F$15/100))*(Data!T11/Data!S11)/('Blad 2 Indata'!F$28/'Blad 2 Indata'!E$28)-1)+1)*I60*G60*E60*C60*Data!C11","v":42400929377.701759},{"$f":"(((1+('Blad 2 Indata'!F$15/100))*(Data!T11/Data!S11)/('Blad 2 Indata'!F$28/'Blad 2 Indata'!E$28)-1)+1)*J$73","v":1.0316009472924992},{"$f":"(((1+('Blad 2 Indata'!G$15/100))*(Data!U11/Data!T11)/('Blad 2 Indata'!G$28/'Blad 2 Indata'!F$28)-1)+1)*K60*I60*G60*E60*C60*Data!C11","v":43768496651.900795},{"$f":"(((1+('Blad 2 Indata'!G$15/100))*(Data!U11/Data!T11)/('Blad 2 Indata'!G$28/'Blad 2 Indata'!F$28)-1)+1)*L$73","v":1.032253419876525},{"$f":"(((1+('Blad 2 Indata'!H$15/100))*(Data!BP11/Data!U11)/('Blad 2 Indata'!H$28/'Blad 2 Indata'!G$28)-1)+1)*$M60*$K60*$I60*$G60*$E60*$C60*Data!$C11","v":45179237364.914352},{"$f":"(((1+('Blad 2 Indata'!H$15/100))*(Data!BP11/Data!U11)/('Blad 2 Indata'!H$28/'Blad 2 Indata'!G$28)-1)+1)*N$73","v":1.0322327328784808},{"$f":"(((1+('Blad 2 Indata'!I$15/100))*(Data!BQ11/Data!BP11)/('Blad 2 Indata'!I$28/'Blad 2 Indata'!H$28)-1)+1)*$O60*$M60*$K60*$I60*$G60*$E60*$C60*Data!$C11","v":46587960582.763405},{"$f":"(((1+('Blad 2 Indata'!I$15/100))*(Data!BQ11/Data!BP11)/('Blad 2 Indata'!I$28/'Blad 2 Indata'!H$28)-1)+1)*P$73","v":1.031181155990053},{"$f":"(((1+('Blad 2 Indata'!J$15/100))*(Data!BR11/Data!BQ11)/('Blad 2 Indata'!J$28/'Blad 2 Indata'!I$28)-1)+1)*$Q60*$O60*$M60*$K60*$I60*$G60*$E60*$C60*Data!$C11","v":47894372574.670303},{"$f":"(((1+('Blad 2 Indata'!J$15/100))*(Data!BR11/Data!BQ11)/('Blad 2 Indata'!J$28/'Blad 2 Indata'!I$28)-1)+1)*R$73","v":1.0280424289157024}]
[12,{"$f":"IF('Blad 2 Indata'!C$21=0,IF(Data!D12>0,Data!D12/Data!C12*Data!C12,(((1+(IF('Blad 2 Indata'!$M$3=1,'Blad 2 Indata'!B$9,'Blad 2 Indata'!B$10)/100))*(Data!E12/Data!Z12)/('Blad 2 Indata'!B$28/SUM(Data!Z$3:Z$23))-1)+1)*Data!C12),Data!D12)","v":346408262710.12311},{"$f":"IF(Data!D12>0,Data!D12/Data!C12*B$73,(((1+(IF('Blad 2 Indata'!$M$3=1,'Blad 2 Indata'!B$9,'Blad 2 Indata'!B$10)/100))*(Data!E12/Data!Z12)/('Blad 2 Indata'!B$28/SUM(Data!Z$3:Z$23))-1)+1)*B$73)","v":1.0521762838587967},{"$f":"(ROUND(((((1+('Blad 2 Indata'!C$15/100))*(Data!F12/Data!E12)/('Blad 2 Indata'!C$28/'Blad 2 Indata'!B$28)-1)+1)*C61*Data!C12/100),0))*100","v":356621124000},{"$f":"(((1+('Blad 2 Indata'!C$15/100))*(Data!F12/Data!E12)/('Blad 2 Indata'!C$28/'Blad 2 Indata'!B$28)-1)+1)*D$73","v":1.0294625341830219},{"$f":"(((1+('Blad 2 Indata'!D$15/100))*(Data!R12/Data!F12)/('Blad 2 Indata'!D$28/'Blad 2 Indata'!C$28)-1)+1)*E61*C61*Data!C12","v":374636934391.7738},{"$f":"(((1+('Blad 2 Indata'!D$15/100))*(Data!R12/Data!F12)/('Blad 2 Indata'!D$28/'Blad 2 Indata'!C$28)-1)+1)*F$73","v":1.0505289233433883},{"$f":"(((1+('Blad 2 Indata'!E$15/100))*(Data!S12/Data!R12)/('Blad 2 Indata'!E$28/'Blad 2 Indata'!D$28)-1)+1)*G61*E61*C61*Data!C12","v":390912360992.22449},{"$f":"(((1+('Blad 2 Indata'!E$15/100))*(Data!S12/Data!R12)/('Blad 2 Indata'!E$28/'Blad 2 Indata'!D$28)-1)+1)*H$73","v":1.0434437441565287},{"$f":"(((1+('Blad 2 Indata'!F$15/100))*(Data!T12/Data!S12)/('Blad 2 Indata'!F$28/'Blad 2 Indata'!E$28)-1)+1)*I61*G61*E61*C61*Data!C12","v":407311412272.01404},{"$f":"(((1+('Blad 2 Indata'!F$15/100))*(Data!T12/Data!S12)/('Blad 2 Indata'!F$28/'Blad 2 Indata'!E$28)-1)+1)*J$73","v":1.0419514706136623},{"$f":"(((1+('Blad 2 Indata'!G$15/100))*(Data!U12/Data!T12)/('Blad 2 Indata'!G$28/'Blad 2 Indata'!F$28)-1)+1)*K61*I61*G61*E61*C61*Data!C12","v":424668769412.47534},{"$f":"(((1+('Blad 2 Indata'!G$15/100))*(Data!U12/Data!T12)/('Blad 2 Indata'!G$28/'Blad 2 Indata'!F$28)-1)+1)*L$73","v":1.0426146466023736},{"$f":"(((1+('Blad 2 Indata'!H$15/100))*(Data!BP12/Data!U12)/('Blad 2 Indata'!H$28/'Blad 2 Indata'!G$28)-1)+1)*$M61*$K61*$I61*$G61*$E61*$C61*Data!$C12","v":442755543103.1283},{"$f":"(((1+('Blad 2 Indata'!H$15/100))*(Data!BP12/Data!U12)/('Blad 2 Indata'!H$28/'Blad 2 Indata'!G$28)-1)+1)*N$73","v":1.0425911744954686},{"$f":"(((1+('Blad 2 Indata'!I$15/100))*(Data!BQ12/Data!BP12)/('Blad 2 Indata'!I$28/'Blad 2 Indata'!H$28)-1)+1)*$O61*$M61*$K61*$I61*$G61*$E61*$C61*Data!$C12","v":461143253260.2074},{"$f":"(((1+('Blad 2 Indata'!I$15/100))*(Data!BQ12/Data!BP12)/('Blad 2 Indata'!I$28/'Blad 2 Indata'!H$28)-1)+1)*P$73","v":1.0415305577774163},{"$f":"(((1+('Blad 2 Indata'!J$15/100))*(Data!BR12/Data!BQ12)/('Blad 2 Indata'!J$28/'Blad 2 Indata'!I$28)-1)+1)*$Q61*$O61*$M61*$K61*$I61*$G61*$E61*$C61*Data!$C12","v":478834048280.32477},{"$f":"(((1+('Blad 2 Indata'!J$15/100))*(Data!BR12/Data!BQ12)/('Blad 2 Indata'!J$28/'Blad 2 Indata'!I$28)-1)+1)*R$73","v":1.0383635034070473}]
[13,{"$f":"IF('Blad 2 Indata'!C$21=0,IF(Data!D13>0,Data!D13/Data!C13*Data!C13,(((1+(IF('Blad 2 Indata'!$M$3=1,'Blad 2 Indata'!B$9,'Blad 2 Indata'!B$10)/100))*(Data!E13/Data!Z13)/('Blad 2 Indata'!B$28/SUM(Data!Z$3:Z$23))-1)+1)*Data!C13),Data!D13)","v":89275598734.866928},{"$f":"IF(Data!D13>0,Data!D13/Data!C13*B$73,(((1+(IF('Blad 2 Indata'!$M$3=1,'Blad 2 Indata'!B$9,'Blad 2 Indata'!B$10)/100))*(Data!E13/Data!Z13)/('Blad 2 Indata'!B$28/SUM(Data!Z$3:Z$23))-1)+1)*B$73)","v":1.051616526040339},{"$f":"(ROUND(((((1+('Blad 2 Indata'!C$15/100))*(Data!F13/Data!E13)/('Blad 2 Indata'!C$28/'Blad 2 Indata'!B$28)-1)+1)*C62*Data!C13/100),0))*100","v":91667307800},{"$f":"(((1+('Blad 2 Indata'!C$15/100))*(Data!F13/Data!E13)/('Blad 2 Indata'!C$28/'Blad 2 Indata'!B$28)-1)+1)*D$73","v":1.0267706094915283},{"$f":"(((1+('Blad 2 Indata'!D$15/100))*(Data!R13/Data!F13)/('Blad 2 Indata'!D$28/'Blad 2 Indata'!C$28)-1)+1)*E62*C62*Data!C13","v":96146551509.316971},{"$f":"(((1+('Blad 2 Indata'!D$15/100))*(Data!R13/Data!F13)/('Blad 2 Indata'!D$28/'Blad 2 Indata'!C$28)-1)+1)*F$73","v":1.0488749727739923},{"$f":"(((1+('Blad 2 Indata'!E$15/100))*(Data!S13/Data!R13)/('Blad 2 Indata'!E$28/'Blad 2 Indata'!D$28)-1)+1)*G62*E62*C62*Data!C13","v":100165422944.3609},{"$f":"(((1+('Blad 2 Indata'!E$15/100))*(Data!S13/Data!R13)/('Blad 2 Indata'!E$28/'Blad 2 Indata'!D$28)-1)+1)*H$73","v":1.0417999790881918},{"$f":"(((1+('Blad 2 Indata'!F$15/100))*(Data!T13/Data!S13)/('Blad 2 Indata'!F$28/'Blad 2 Indata'!E$28)-1)+1)*I62*G62*E62*C62*Data!C13","v":104203139072.94881},{"$f":"(((1+('Blad 2 Indata'!F$15/100))*(Data!T13/Data!S13)/('Blad 2 Indata'!F$28/'Blad 2 Indata'!E$28)-1)+1)*J$73","v":1.0403112374405947},{"$f":"(((1+('Blad 2 Indata'!G$15/100))*(Data!U13/Data!T13)/('Blad 2 Indata'!G$28/'Blad 2 Indata'!F$28)-1)+1)*K62*I62*G62*E62*C62*Data!C13","v":108472685507.25374},{"$f":"(((1+('Blad 2 Indata'!G$15/100))*(Data!U13/Data!T13)/('Blad 2 Indata'!G$28/'Blad 2 Indata'!F$28)-1)+1)*L$73","v":1.0409734828121373},{"$f":"(((1+('Blad 2 Indata'!H$15/100))*(Data!BP13/Data!U13)/('Blad 2 Indata'!H$28/'Blad 2 Indata'!G$28)-1)+1)*$M62*$K62*$I62*$G62*$E62*$C62*Data!$C13","v":112914537858.40018},{"$f":"(((1+('Blad 2 Indata'!H$15/100))*(Data!BP13/Data!U13)/('Blad 2 Indata'!H$28/'Blad 2 Indata'!G$28)-1)+1)*N$73","v":1.0409499052469884},{"$f":"(((1+('Blad 2 Indata'!I$15/100))*(Data!BQ13/Data!BP13)/('Blad 2 Indata'!I$28/'Blad 2 Indata'!H$28)-1)+1)*$O62*$M62*$K62*$I62*$G62*$E62*$C62*Data!$C13","v":117418651963.15436},{"$f":"(((1+('Blad 2 Indata'!I$15/100))*(Data!BQ13/Data!BP13)/('Blad 2 Indata'!I$28/'Blad 2 Indata'!H$28)-1)+1)*P$73","v":1.0398899789527203},{"$f":"(((1+('Blad 2 Indata'!J$15/100))*(Data!BR13/Data!BQ13)/('Blad 2 Indata'!J$28/'Blad 2 Indata'!I$28)-1)+1)*$Q62*$O62*$M62*$K62*$I62*$G62*$E62*$C62*Data!$C13","v":121731348058.9447},{"$f":"(((1+('Blad 2 Indata'!J$15/100))*(Data!BR13/Data!BQ13)/('Blad 2 Indata'!J$28/'Blad 2 Indata'!I$28)-1)+1)*R$73","v":1.036729822097656}]
[14,{"$f":"IF('Blad 2 Indata'!C$21=0,IF(Data!D14>0,Data!D14/Data!C14*Data!C14,(((1+(IF('Blad 2 Indata'!$M$3=1,'Blad 2 Indata'!B$9,'Blad 2 Indata'!B$10)/100))*(Data!E14/Data!Z14)/('Blad 2 Indata'!B$28/SUM(Data!Z$3:Z$23))-1)+1)*Data!C14),Data!D14)","v":461594097165.40192},{"$f":"IF(Data!D14>0,Data!D14/Data!C14*B$73,(((1+(IF('Blad 2 Indata'!$M$3=1,'Blad 2 Indata'!B$9,'Blad 2 Indata'!B$10)/100))*(Data!E14/Data!Z14)/('Blad 2 Indata'!B$28/SUM(Data!Z$3:Z$23))-1)+1)*B$73)","v":1.0514915115410901},{"$f":"(ROUND(((((1+('Blad 2 Indata'!C$15/100))*(Data!F14/Data!E14)/('Blad 2 Indata'!C$28/'Blad 2 Indata'!B$28)-1)+1)*C63*Data!C14/100),0))*100","v":474924927700},{"$f":"(((1+('Blad 2 Indata'!C$15/100))*(Data!F14/Data!E14)/('Blad 2 Indata'!C$28/'Blad 2 Indata'!B$28)-1)+1)*D$73","v":1.0288603778087777},{"$f":"(((1+('Blad 2 Indata'!D$15/100))*(Data!R14/Data!F14)/('Blad 2 Indata'!D$28/'Blad 2 Indata'!C$28)-1)+1)*E63*C63*Data!C14","v":498609090973.63196},{"$f":"(((1+('Blad 2 Indata'!D$15/100))*(Data!R14/Data!F14)/('Blad 2 Indata'!D$28/'Blad 2 Indata'!C$28)-1)+1)*F$73","v":1.0498801261597379},{"$f":"(((1+('Blad 2 Indata'!E$15/100))*(Data!S14/Data!R14)/('Blad 2 Indata'!E$28/'Blad 2 Indata'!D$28)-1)+1)*G63*E63*C63*Data!C14","v":519948710051.30408},{"$f":"(((1+('Blad 2 Indata'!E$15/100))*(Data!S14/Data!R14)/('Blad 2 Indata'!E$28/'Blad 2 Indata'!D$28)-1)+1)*H$73","v":1.0427988408270461},{"$f":"(((1+('Blad 2 Indata'!F$15/100))*(Data!T14/Data!S14)/('Blad 2 Indata'!F$28/'Blad 2 Indata'!E$28)-1)+1)*I63*G63*E63*C63*Data!C14","v":541426240776.3916},{"$f":"(((1+('Blad 2 Indata'!F$15/100))*(Data!T14/Data!S14)/('Blad 2 Indata'!F$28/'Blad 2 Indata'!E$28)-1)+1)*J$73","v":1.0413077776619974},{"$f":"(((1+('Blad 2 Indata'!G$15/100))*(Data!U14/Data!T14)/('Blad 2 Indata'!G$28/'Blad 2 Indata'!F$28)-1)+1)*K63*I63*G63*E63*C63*Data!C14","v":564149948893.84741},{"$f":"(((1+('Blad 2 Indata'!G$15/100))*(Data!U14/Data!T14)/('Blad 2 Indata'!G$28/'Blad 2 Indata'!F$28)-1)+1)*L$73","v":1.041970273526293},{"$f":"(((1+('Blad 2 Indata'!H$15/100))*(Data!BP14/Data!U14)/('Blad 2 Indata'!H$28/'Blad 2 Indata'!G$28)-1)+1)*$M63*$K63*$I63*$G63*$E63*$C63*Data!$C14","v":587813876137.48047},{"$f":"(((1+('Blad 2 Indata'!H$15/100))*(Data!BP14/Data!U14)/('Blad 2 Indata'!H$28/'Blad 2 Indata'!G$28)-1)+1)*N$73","v":1.0419470316657566},{"$f":"(((1+('Blad 2 Indata'!I$15/100))*(Data!BQ14/Data!BP14)/('Blad 2 Indata'!I$28/'Blad 2 Indata'!H$28)-1)+1)*$O63*$M63*$K63*$I63*$G63*$E63*$C63*Data!$C14","v":611847668435.42163},{"$f":"(((1+('Blad 2 Indata'!I$15/100))*(Data!BQ14/Data!BP14)/('Blad 2 Indata'!I$28/'Blad 2 Indata'!H$28)-1)+1)*P$73","v":1.0408871324931361},{"$f":"(((1+('Blad 2 Indata'!J$15/100))*(Data!BR14/Data!BQ14)/('Blad 2 Indata'!J$28/'Blad 2 Indata'!I$28)-1)+1)*$Q63*$O63*$M63*$K63*$I63*$G63*$E63*$C63*Data!$C14","v":634927497494.78455},{"$f":"(((1+('Blad 2 Indata'!J$15/100))*(Data!BR14/Data!BQ14)/('Blad 2 Indata'!J$28/'Blad 2 Indata'!I$28)-1)+1)*R$73","v":1.0377221257634426}]
[17,{"$f":"IF('Blad 2 Indata'!C$21=0,IF(Data!D15>0,Data!D15/Data!C15*Data!C15,(((1+(IF('Blad 2 Indata'!$M$3=1,'Blad 2 Indata'!B$9,'Blad 2 Indata'!B$10)/100))*(Data!E15/Data!Z15)/('Blad 2 Indata'!B$28/SUM(Data!Z$3:Z$23))-1)+1)*Data!C15),Data!D15)","v":65782755743.032295},{"$f":"IF(Data!D15>0,Data!D15/Data!C15*B$73,(((1+(IF('Blad 2 Indata'!$M$3=1,'Blad 2 Indata'!B$9,'Blad 2 Indata'!B$10)/100))*(Data!E15/Data!Z15)/('Blad 2 Indata'!B$28/SUM(Data!Z$3:Z$23))-1)+1)*B$73)","v":1.04604223451417},{"$f":"(ROUND(((((1+('Blad 2 Indata'!C$15/100))*(Data!F15/Data!E15)/('Blad 2 Indata'!C$28/'Blad 2 Indata'!B$28)-1)+1)*C64*Data!C15/100),0))*100","v":67215017500},{"$f":"(((1+('Blad 2 Indata'!C$15/100))*(Data!F15/Data!E15)/('Blad 2 Indata'!C$28/'Blad 2 Indata'!B$28)-1)+1)*D$73","v":1.0217531295898032},{"$f":"(((1+('Blad 2 Indata'!D$15/100))*(Data!R15/Data!F15)/('Blad 2 Indata'!D$28/'Blad 2 Indata'!C$28)-1)+1)*E64*C64*Data!C15","v":70140354273.386978},{"$f":"(((1+('Blad 2 Indata'!D$15/100))*(Data!R15/Data!F15)/('Blad 2 Indata'!D$28/'Blad 2 Indata'!C$28)-1)+1)*F$73","v":1.0435328544539977},{"$f":"(((1+('Blad 2 Indata'!E$15/100))*(Data!S15/Data!R15)/('Blad 2 Indata'!E$28/'Blad 2 Indata'!D$28)-1)+1)*G64*E64*C64*Data!C15","v":72699990041.328308},{"$f":"(((1+('Blad 2 Indata'!E$15/100))*(Data!S15/Data!R15)/('Blad 2 Indata'!E$28/'Blad 2 Indata'!D$28)-1)+1)*H$73","v":1.0364935967567399},{"$f":"(((1+('Blad 2 Indata'!F$15/100))*(Data!T15/Data!S15)/('Blad 2 Indata'!F$28/'Blad 2 Indata'!E$28)-1)+1)*I64*G64*E64*C64*Data!C15","v":75245422512.425797},{"$f":"(((1+('Blad 2 Indata'!F$15/100))*(Data!T15/Data!S15)/('Blad 2 Indata'!F$28/'Blad 2 Indata'!E$28)-1)+1)*J$73","v":1.0350135861539802},{"$f":"(((1+('Blad 2 Indata'!G$15/100))*(Data!U15/Data!T15)/('Blad 2 Indata'!G$28/'Blad 2 Indata'!F$28)-1)+1)*K64*I64*G64*E64*C64*Data!C15","v":77929571547.938965},{"$f":"(((1+('Blad 2 Indata'!G$15/100))*(Data!U15/Data!T15)/('Blad 2 Indata'!G$28/'Blad 2 Indata'!F$28)-1)+1)*L$73","v":1.0356721068622023},{"$f":"(((1+('Blad 2 Indata'!H$15/100))*(Data!BP15/Data!U15)/('Blad 2 Indata'!H$28/'Blad 2 Indata'!G$28)-1)+1)*$M64*$K64*$I64*$G64*$E64*$C64*Data!$C15","v":80707535598.525345},{"$f":"(((1+('Blad 2 Indata'!H$15/100))*(Data!BP15/Data!U15)/('Blad 2 Indata'!H$28/'Blad 2 Indata'!G$28)-1)+1)*N$73","v":1.0356479712478339},{"$f":"(((1+('Blad 2 Indata'!I$15/100))*(Data!BQ15/Data!BP15)/('Blad 2 Indata'!I$28/'Blad 2 Indata'!H$28)-1)+1)*$O64*$M64*$K64*$I64*$G64*$E64*$C64*Data!$C15","v":83499523225.348267},{"$f":"(((1+('Blad 2 Indata'!I$15/100))*(Data!BQ15/Data!BP15)/('Blad 2 Indata'!I$28/'Blad 2 Indata'!H$28)-1)+1)*P$73","v":1.0345942817386937},{"$f":"(((1+('Blad 2 Indata'!J$15/100))*(Data!BR15/Data!BQ15)/('Blad 2 Indata'!J$28/'Blad 2 Indata'!I$28)-1)+1)*$Q64*$O64*$M64*$K64*$I64*$G64*$E64*$C64*Data!$C15","v":86125362405.089096},{"$f":"(((1+('Blad 2 Indata'!J$15/100))*(Data!BR15/Data!BQ15)/('Blad 2 Indata'!J$28/'Blad 2 Indata'!I$28)-1)+1)*R$73","v":1.0314479493481785}]
[18,{"$f":"IF('Blad 2 Indata'!C$21=0,IF(Data!D16>0,Data!D16/Data!C16*Data!C16,(((1+(IF('Blad 2 Indata'!$M$3=1,'Blad 2 Indata'!B$9,'Blad 2 Indata'!B$10)/100))*(Data!E16/Data!Z16)/('Blad 2 Indata'!B$28/SUM(Data!Z$3:Z$23))-1)+1)*Data!C16),Data!D16)","v":73377233103.927429},{"$f":"IF(Data!D16>0,Data!D16/Data!C16*B$73,(((1+(IF('Blad 2 Indata'!$M$3=1,'Blad 2 Indata'!B$9,'Blad 2 Indata'!B$10)/100))*(Data!E16/Data!Z16)/('Blad 2 Indata'!B$28/SUM(Data!Z$3:Z$23))-1)+1)*B$73)","v":1.0464539707941085},{"$f":"(ROUND(((((1+('Blad 2 Indata'!C$15/100))*(Data!F16/Data!E16)/('Blad 2 Indata'!C$28/'Blad 2 Indata'!B$28)-1)+1)*C65*Data!C16/100),0))*100","v":75236163900},{"$f":"(((1+('Blad 2 Indata'!C$15/100))*(Data!F16/Data!E16)/('Blad 2 Indata'!C$28/'Blad 2 Indata'!B$28)-1)+1)*D$73","v":1.0253143509796816},{"$f":"(((1+('Blad 2 Indata'!D$15/100))*(Data!R16/Data!F16)/('Blad 2 Indata'!D$28/'Blad 2 Indata'!C$28)-1)+1)*E65*C65*Data!C16","v":78662821768.977783},{"$f":"(((1+('Blad 2 Indata'!D$15/100))*(Data!R16/Data!F16)/('Blad 2 Indata'!D$28/'Blad 2 Indata'!C$28)-1)+1)*F$73","v":1.0455561595864071},{"$f":"(((1+('Blad 2 Indata'!E$15/100))*(Data!S16/Data!R16)/('Blad 2 Indata'!E$28/'Blad 2 Indata'!D$28)-1)+1)*G65*E65*C65*Data!C16","v":81691706058.782303},{"$f":"(((1+('Blad 2 Indata'!E$15/100))*(Data!S16/Data!R16)/('Blad 2 Indata'!E$28/'Blad 2 Indata'!D$28)-1)+1)*H$73","v":1.0385051916969501},{"$f":"(((1+('Blad 2 Indata'!F$15/100))*(Data!T16/Data!S16)/('Blad 2 Indata'!F$28/'Blad 2 Indata'!E$28)-1)+1)*I65*G65*E65*C65*Data!C16","v":84715815603.097565},{"$f":"(((1+('Blad 2 Indata'!F$15/100))*(Data!T16/Data!S16)/('Blad 2 Indata'!F$28/'Blad 2 Indata'!E$28)-1)+1)*J$73","v":1.0370193192520649},{"$f":"(((1+('Blad 2 Indata'!G$15/100))*(Data!U16/Data!T16)/('Blad 2 Indata'!G$28/'Blad 2 Indata'!F$28)-1)+1)*K65*I65*G65*E65*C65*Data!C16","v":87907723577.50679},{"$f":"(((1+('Blad 2 Indata'!G$15/100))*(Data!U16/Data!T16)/('Blad 2 Indata'!G$28/'Blad 2 Indata'!F$28)-1)+1)*L$73","v":1.0376780111870696},{"$f":"(((1+('Blad 2 Indata'!H$15/100))*(Data!BP16/Data!U16)/('Blad 2 Indata'!H$28/'Blad 2 Indata'!G$28)-1)+1)*$M65*$K65*$I65*$G65*$E65*$C65*Data!$C16","v":91217803410.469269},{"$f":"(((1+('Blad 2 Indata'!H$15/100))*(Data!BP16/Data!U16)/('Blad 2 Indata'!H$28/'Blad 2 Indata'!G$28)-1)+1)*N$73","v":1.0376548897929778},{"$f":"(((1+('Blad 2 Indata'!I$15/100))*(Data!BQ16/Data!BP16)/('Blad 2 Indata'!I$28/'Blad 2 Indata'!H$28)-1)+1)*$O65*$M65*$K65*$I65*$G65*$E65*$C65*Data!$C16","v":94556239046.203522},{"$f":"(((1+('Blad 2 Indata'!I$15/100))*(Data!BQ16/Data!BP16)/('Blad 2 Indata'!I$28/'Blad 2 Indata'!H$28)-1)+1)*P$73","v":1.0365989016741719},{"$f":"(((1+('Blad 2 Indata'!J$15/100))*(Data!BR16/Data!BQ16)/('Blad 2 Indata'!J$28/'Blad 2 Indata'!I$28)-1)+1)*$Q65*$O65*$M65*$K65*$I65*$G65*$E65*$C65*Data!$C16","v":97718929919.424316},{"$f":"(((1+('Blad 2 Indata'!J$15/100))*(Data!BR16/Data!BQ16)/('Blad 2 Indata'!J$28/'Blad 2 Indata'!I$28)-1)+1)*R$73","v":1.0334483179406244}]
[19,{"$f":"IF('Blad 2 Indata'!C$21=0,IF(Data!D17>0,Data!D17/Data!C17*Data!C17,(((1+(IF('Blad 2 Indata'!$M$3=1,'Blad 2 Indata'!B$9,'Blad 2 Indata'!B$10)/100))*(Data!E17/Data!Z17)/('Blad 2 Indata'!B$28/SUM(Data!Z$3:Z$23))-1)+1)*Data!C17),Data!D17)","v":69128527830.78891},{"$f":"IF(Data!D17>0,Data!D17/Data!C17*B$73,(((1+(IF('Blad 2 Indata'!$M$3=1,'Blad 2 Indata'!B$9,'Blad 2 Indata'!B$10)/100))*(Data!E17/Data!Z17)/('Blad 2 Indata'!B$28/SUM(Data!Z$3:Z$23))-1)+1)*B$73)","v":1.0501340370589838},{"$f":"(ROUND(((((1+('Blad 2 Indata'!C$15/100))*(Data!F17/Data!E17)/('Blad 2 Indata'!C$28/'Blad 2 Indata'!B$28)-1)+1)*C66*Data!C17/100),0))*100","v":70801858000},{"$f":"(((1+('Blad 2 Indata'!C$15/100))*(Data!F17/Data!E17)/('Blad 2 Indata'!C$28/'Blad 2 Indata'!B$28)-1)+1)*D$73","v":1.0241865546787785},{"$f":"(((1+('Blad 2 Indata'!D$15/100))*(Data!R17/Data!F17)/('Blad 2 Indata'!D$28/'Blad 2 Indata'!C$28)-1)+1)*E66*C66*Data!C17","v":74115873757.947845},{"$f":"(((1+('Blad 2 Indata'!D$15/100))*(Data!R17/Data!F17)/('Blad 2 Indata'!D$28/'Blad 2 Indata'!C$28)-1)+1)*F$73","v":1.0468177203182845},{"$f":"(((1+('Blad 2 Indata'!E$15/100))*(Data!S17/Data!R17)/('Blad 2 Indata'!E$28/'Blad 2 Indata'!D$28)-1)+1)*G66*E66*C66*Data!C17","v":77062281721.932449},{"$f":"(((1+('Blad 2 Indata'!E$15/100))*(Data!S17/Data!R17)/('Blad 2 Indata'!E$28/'Blad 2 Indata'!D$28)-1)+1)*H$73","v":1.039754618467887},{"$f":"(((1+('Blad 2 Indata'!F$15/100))*(Data!T17/Data!S17)/('Blad 2 Indata'!F$28/'Blad 2 Indata'!E$28)-1)+1)*I66*G66*E66*C66*Data!C17","v":80011201408.372864},{"$f":"(((1+('Blad 2 Indata'!F$15/100))*(Data!T17/Data!S17)/('Blad 2 Indata'!F$28/'Blad 2 Indata'!E$28)-1)+1)*J$73","v":1.038267463549241},{"$f":"(((1+('Blad 2 Indata'!G$15/100))*(Data!U17/Data!T17)/('Blad 2 Indata'!G$28/'Blad 2 Indata'!F$28)-1)+1)*K66*I66*G66*E66*C66*Data!C17","v":83125952804.314468},{"$f":"(((1+('Blad 2 Indata'!G$15/100))*(Data!U17/Data!T17)/('Blad 2 Indata'!G$28/'Blad 2 Indata'!F$28)-1)+1)*L$73","v":1.0389291245854184},{"$f":"(((1+('Blad 2 Indata'!H$15/100))*(Data!BP17/Data!U17)/('Blad 2 Indata'!H$28/'Blad 2 Indata'!G$28)-1)+1)*$M66*$K66*$I66*$G66*$E66*$C66*Data!$C17","v":86360122110.951782},{"$f":"(((1+('Blad 2 Indata'!H$15/100))*(Data!BP17/Data!U17)/('Blad 2 Indata'!H$28/'Blad 2 Indata'!G$28)-1)+1)*N$73","v":1.0389077173933345},{"$f":"(((1+('Blad 2 Indata'!I$15/100))*(Data!BQ17/Data!BP17)/('Blad 2 Indata'!I$28/'Blad 2 Indata'!H$28)-1)+1)*$O66*$M66*$K66*$I66*$G66*$E66*$C66*Data!$C17","v":89628825844.515182},{"$f":"(((1+('Blad 2 Indata'!I$15/100))*(Data!BQ17/Data!BP17)/('Blad 2 Indata'!I$28/'Blad 2 Indata'!H$28)-1)+1)*P$73","v":1.0378500813944971},{"$f":"(((1+('Blad 2 Indata'!J$15/100))*(Data!BR17/Data!BQ17)/('Blad 2 Indata'!J$28/'Blad 2 Indata'!I$28)-1)+1)*$Q66*$O66*$M66*$K66*$I66*$G66*$E66*$C66*Data!$C17","v":92738288844.693588},{"$f":"(((1+('Blad 2 Indata'!J$15/100))*(Data!BR17/Data!BQ17)/('Blad 2 Indata'!J$28/'Blad 2 Indata'!I$28)-1)+1)*R$73","v":1.0346932627570475}]
[20,{"$f":"IF('Blad 2 Indata'!C$21=0,IF(Data!D18>0,Data!D18/Data!C18*Data!C18,(((1+(IF('Blad 2 Indata'!$M$3=1,'Blad 2 Indata'!B$9,'Blad 2 Indata'!B$10)/100))*(Data!E18/Data!Z18)/('Blad 2 Indata'!B$28/SUM(Data!Z$3:Z$23))-1)+1)*Data!C18),Data!D18)","v":67426643919.325882},{"$f":"IF(Data!D18>0,Data!D18/Data!C18*B$73,(((1+(IF('Blad 2 Indata'!$M$3=1,'Blad 2 Indata'!B$9,'Blad 2 Indata'!B$10)/100))*(Data!E18/Data!Z18)/('Blad 2 Indata'!B$28/SUM(Data!Z$3:Z$23))-1)+1)*B$73)","v":1.0438094229022503},{"$f":"(ROUND(((((1+('Blad 2 Indata'!C$15/100))*(Data!F18/Data!E18)/('Blad 2 Indata'!C$28/'Blad 2 Indata'!B$28)-1)+1)*C67*Data!C18/100),0))*100","v":68751785400},{"$f":"(((1+('Blad 2 Indata'!C$15/100))*(Data!F18/Data!E18)/('Blad 2 Indata'!C$28/'Blad 2 Indata'!B$28)-1)+1)*D$73","v":1.0196336524332203},{"$f":"(((1+('Blad 2 Indata'!D$15/100))*(Data!R18/Data!F18)/('Blad 2 Indata'!D$28/'Blad 2 Indata'!C$28)-1)+1)*E67*C67*Data!C18","v":71593126389.068115},{"$f":"(((1+('Blad 2 Indata'!D$15/100))*(Data!R18/Data!F18)/('Blad 2 Indata'!D$28/'Blad 2 Indata'!C$28)-1)+1)*F$73","v":1.0413382829178428},{"$f":"(((1+('Blad 2 Indata'!E$15/100))*(Data!S18/Data!R18)/('Blad 2 Indata'!E$28/'Blad 2 Indata'!D$28)-1)+1)*G67*E67*C67*Data!C18","v":74049578829.031021},{"$f":"(((1+('Blad 2 Indata'!E$15/100))*(Data!S18/Data!R18)/('Blad 2 Indata'!E$28/'Blad 2 Indata'!D$28)-1)+1)*H$73","v":1.0343118300214573},{"$f":"(((1+('Blad 2 Indata'!F$15/100))*(Data!T18/Data!S18)/('Blad 2 Indata'!F$28/'Blad 2 Indata'!E$28)-1)+1)*I67*G67*E67*C67*Data!C18","v":76480911759.784729},{"$f":"(((1+('Blad 2 Indata'!F$15/100))*(Data!T18/Data!S18)/('Blad 2 Indata'!F$28/'Blad 2 Indata'!E$28)-1)+1)*J$73","v":1.0328346057348805},{"$f":"(((1+('Blad 2 Indata'!G$15/100))*(Data!U18/Data!T18)/('Blad 2 Indata'!G$28/'Blad 2 Indata'!F$28)-1)+1)*K67*I67*G67*E67*C67*Data!C18","v":79042288335.948471},{"$f":"(((1+('Blad 2 Indata'!G$15/100))*(Data!U18/Data!T18)/('Blad 2 Indata'!G$28/'Blad 2 Indata'!F$28)-1)+1)*L$73","v":1.0334905851712635},{"$f":"(((1+('Blad 2 Indata'!H$15/100))*(Data!BP18/Data!U18)/('Blad 2 Indata'!H$28/'Blad 2 Indata'!G$28)-1)+1)*$M67*$K67*$I67*$G67*$E67*$C67*Data!$C18","v":81687589163.990189},{"$f":"(((1+('Blad 2 Indata'!H$15/100))*(Data!BP18/Data!U18)/('Blad 2 Indata'!H$28/'Blad 2 Indata'!G$28)-1)+1)*N$73","v":1.0334677648327},{"$f":"(((1+('Blad 2 Indata'!I$15/100))*(Data!BQ18/Data!BP18)/('Blad 2 Indata'!I$28/'Blad 2 Indata'!H$28)-1)+1)*$O67*$M67*$K67*$I67*$G67*$E67*$C67*Data!$C18","v":84335670451.984604},{"$f":"(((1+('Blad 2 Indata'!I$15/100))*(Data!BQ18/Data!BP18)/('Blad 2 Indata'!I$28/'Blad 2 Indata'!H$28)-1)+1)*P$73","v":1.0324175707671259},{"$f":"(((1+('Blad 2 Indata'!J$15/100))*(Data!BR18/Data!BQ18)/('Blad 2 Indata'!J$28/'Blad 2 Indata'!I$28)-1)+1)*$Q67*$O67*$M67*$K67*$I67*$G67*$E67*$C67*Data!$C18","v":86804885882.788345},{"$f":"(((1+('Blad 2 Indata'!J$15/100))*(Data!BR18/Data!BQ18)/('Blad 2 Indata'!J$28/'Blad 2 Indata'!I$28)-1)+1)*R$73","v":1.0292790157016138}]
[21,{"$f":"IF('Blad 2 Indata'!C$21=0,IF(Data!D19>0,Data!D19/Data!C19*Data!C19,(((1+(IF('Blad 2 Indata'!$M$3=1,'Blad 2 Indata'!B$9,'Blad 2 Indata'!B$10)/100))*(Data!E19/Data!Z19)/('Blad 2 Indata'!B$28/SUM(Data!Z$3:Z$23))-1)+1)*Data!C19),Data!D19)","v":67774982889.789574},{"$f":"IF(Data!D19>0,Data!D19/Data!C19*B$73,(((1+(IF('Blad 2 Indata'!$M$3=1,'Blad 2 Indata'!B$9,'Blad 2 Indata'!B$10)/100))*(Data!E19/Data!Z19)/('Blad 2 Indata'!B$28/SUM(Data!Z$3:Z$23))-1)+1)*B$73)","v":1.0415597687510545},{"$f":"(ROUND(((((1+('Blad 2 Indata'!C$15/100))*(Data!F19/Data!E19)/('Blad 2 Indata'!C$28/'Blad 2 Indata'!B$28)-1)+1)*C68*Data!C19/100),0))*100","v":68996796000},{"$f":"(((1+('Blad 2 Indata'!C$15/100))*(Data!F19/Data!E19)/('Blad 2 Indata'!C$28/'Blad 2 Indata'!B$28)-1)+1)*D$73","v":1.0180080943377134},{"$f":"(((1+('Blad 2 Indata'!D$15/100))*(Data!R19/Data!F19)/('Blad 2 Indata'!D$28/'Blad 2 Indata'!C$28)-1)+1)*E68*C68*Data!C19","v":71713524000.263947},{"$f":"(((1+('Blad 2 Indata'!D$15/100))*(Data!R19/Data!F19)/('Blad 2 Indata'!D$28/'Blad 2 Indata'!C$28)-1)+1)*F$73","v":1.0393854372042179},{"$f":"(((1+('Blad 2 Indata'!E$15/100))*(Data!S19/Data!R19)/('Blad 2 Indata'!E$28/'Blad 2 Indata'!D$28)-1)+1)*G68*E68*C68*Data!C19","v":74035232270.321869},{"$f":"(((1+('Blad 2 Indata'!E$15/100))*(Data!S19/Data!R19)/('Blad 2 Indata'!E$28/'Blad 2 Indata'!D$28)-1)+1)*H$73","v":1.0323753021249749},{"$f":"(((1+('Blad 2 Indata'!F$15/100))*(Data!T19/Data!S19)/('Blad 2 Indata'!F$28/'Blad 2 Indata'!E$28)-1)+1)*I68*G68*E68*C68*Data!C19","v":76322769523.134979},{"$f":"(((1+('Blad 2 Indata'!F$15/100))*(Data!T19/Data!S19)/('Blad 2 Indata'!F$28/'Blad 2 Indata'!E$28)-1)+1)*J$73","v":1.0308987067673794},{"$f":"(((1+('Blad 2 Indata'!G$15/100))*(Data!U19/Data!T19)/('Blad 2 Indata'!G$28/'Blad 2 Indata'!F$28)-1)+1)*K68*I68*G68*E68*C68*Data!C19","v":78731053156.960388},{"$f":"(((1+('Blad 2 Indata'!G$15/100))*(Data!U19/Data!T19)/('Blad 2 Indata'!G$28/'Blad 2 Indata'!F$28)-1)+1)*L$73","v":1.0315541155960628},{"$f":"(((1+('Blad 2 Indata'!H$15/100))*(Data!BP19/Data!U19)/('Blad 2 Indata'!H$28/'Blad 2 Indata'!G$28)-1)+1)*$M68*$K68*$I68*$G68*$E68*$C68*Data!$C19","v":81213322286.46434},{"$f":"(((1+('Blad 2 Indata'!H$15/100))*(Data!BP19/Data!U19)/('Blad 2 Indata'!H$28/'Blad 2 Indata'!G$28)-1)+1)*N$73","v":1.0315293207144129},{"$f":"(((1+('Blad 2 Indata'!I$15/100))*(Data!BQ19/Data!BP19)/('Blad 2 Indata'!I$28/'Blad 2 Indata'!H$28)-1)+1)*$O68*$M68*$K68*$I68*$G68*$E68*$C68*Data!$C19","v":83688871221.851868},{"$f":"(((1+('Blad 2 Indata'!I$15/100))*(Data!BQ19/Data!BP19)/('Blad 2 Indata'!I$28/'Blad 2 Indata'!H$28)-1)+1)*P$73","v":1.0304824446956751},{"$f":"(((1+('Blad 2 Indata'!J$15/100))*(Data!BR19/Data!BQ19)/('Blad 2 Indata'!J$28/'Blad 2 Indata'!I$28)-1)+1)*$Q68*$O68*$M68*$K68*$I68*$G68*$E68*$C68*Data!$C19","v":85977514432.25293},{"$f":"(((1+('Blad 2 Indata'!J$15/100))*(Data!BR19/Data!BQ19)/('Blad 2 Indata'!J$28/'Blad 2 Indata'!I$28)-1)+1)*R$73","v":1.0273476352242743}]
[22,{"$f":"IF('Blad 2 Indata'!C$21=0,IF(Data!D20>0,Data!D20/Data!C20*Data!C20,(((1+(IF('Blad 2 Indata'!$M$3=1,'Blad 2 Indata'!B$9,'Blad 2 Indata'!B$10)/100))*(Data!E20/Data!Z20)/('Blad 2 Indata'!B$28/SUM(Data!Z$3:Z$23))-1)+1)*Data!C20),Data!D20)","v":58912240182.526474},{"$f":"IF(Data!D20>0,Data!D20/Data!C20*B$73,(((1+(IF('Blad 2 Indata'!$M$3=1,'Blad 2 Indata'!B$9,'Blad 2 Indata'!B$10)/100))*(Data!E20/Data!Z20)/('Blad 2 Indata'!B$28/SUM(Data!Z$3:Z$23))-1)+1)*B$73)","v":1.0393642096547846},{"$f":"(ROUND(((((1+('Blad 2 Indata'!C$15/100))*(Data!F20/Data!E20)/('Blad 2 Indata'!C$28/'Blad 2 Indata'!B$28)-1)+1)*C69*Data!C20/100),0))*100","v":60011053100},{"$f":"(((1+('Blad 2 Indata'!C$15/100))*(Data!F20/Data!E20)/('Blad 2 Indata'!C$28/'Blad 2 Indata'!B$28)-1)+1)*D$73","v":1.018632278568165},{"$f":"(((1+('Blad 2 Indata'!D$15/100))*(Data!R20/Data!F20)/('Blad 2 Indata'!D$28/'Blad 2 Indata'!C$28)-1)+1)*E69*C69*Data!C20","v":62327121045.07592},{"$f":"(((1+('Blad 2 Indata'!D$15/100))*(Data!R20/Data!F20)/('Blad 2 Indata'!D$28/'Blad 2 Indata'!C$28)-1)+1)*F$73","v":1.0386047549061468},{"$f":"(((1+('Blad 2 Indata'!E$15/100))*(Data!S20/Data!R20)/('Blad 2 Indata'!E$28/'Blad 2 Indata'!D$28)-1)+1)*G69*E69*C69*Data!C20","v":64296674994.580269},{"$f":"(((1+('Blad 2 Indata'!E$15/100))*(Data!S20/Data!R20)/('Blad 2 Indata'!E$28/'Blad 2 Indata'!D$28)-1)+1)*H$73","v":1.0316008112852944},{"$f":"(((1+('Blad 2 Indata'!F$15/100))*(Data!T20/Data!S20)/('Blad 2 Indata'!F$28/'Blad 2 Indata'!E$28)-1)+1)*I69*G69*E69*C69*Data!C20","v":66233602752.412247},{"$f":"(((1+('Blad 2 Indata'!F$15/100))*(Data!T20/Data!S20)/('Blad 2 Indata'!F$28/'Blad 2 Indata'!E$28)-1)+1)*J$73","v":1.0301256025639369},{"$f":"(((1+('Blad 2 Indata'!G$15/100))*(Data!U20/Data!T20)/('Blad 2 Indata'!G$28/'Blad 2 Indata'!F$28)-1)+1)*K69*I69*G69*E69*C69*Data!C20","v":68272419095.578346},{"$f":"(((1+('Blad 2 Indata'!G$15/100))*(Data!U20/Data!T20)/('Blad 2 Indata'!G$28/'Blad 2 Indata'!F$28)-1)+1)*L$73","v":1.030782386520138},{"$f":"(((1+('Blad 2 Indata'!H$15/100))*(Data!BP20/Data!U20)/('Blad 2 Indata'!H$28/'Blad 2 Indata'!G$28)-1)+1)*$M69*$K69*$I69*$G69*$E69*$C69*Data!$C20","v":70372243314.737793},{"$f":"(((1+('Blad 2 Indata'!H$15/100))*(Data!BP20/Data!U20)/('Blad 2 Indata'!H$28/'Blad 2 Indata'!G$28)-1)+1)*N$73","v":1.0307574088148446},{"$f":"(((1+('Blad 2 Indata'!I$15/100))*(Data!BQ20/Data!BP20)/('Blad 2 Indata'!I$28/'Blad 2 Indata'!H$28)-1)+1)*$O69*$M69*$K69*$I69*$G69*$E69*$C69*Data!$C20","v":72463122951.283157},{"$f":"(((1+('Blad 2 Indata'!I$15/100))*(Data!BQ20/Data!BP20)/('Blad 2 Indata'!I$28/'Blad 2 Indata'!H$28)-1)+1)*P$73","v":1.0297120989717277},{"$f":"(((1+('Blad 2 Indata'!J$15/100))*(Data!BR20/Data!BQ20)/('Blad 2 Indata'!J$28/'Blad 2 Indata'!I$28)-1)+1)*$Q69*$O69*$M69*$K69*$I69*$G69*$E69*$C69*Data!$C20","v":74389013201.89537},{"$f":"(((1+('Blad 2 Indata'!J$15/100))*(Data!BR20/Data!BQ20)/('Blad 2 Indata'!J$28/'Blad 2 Indata'!I$28)-1)+1)*R$73","v":1.026578113263358}]
[23,{"$f":"IF('Blad 2 Indata'!C$21=0,IF(Data!D21>0,Data!D21/Data!C21*Data!C21,(((1+(IF('Blad 2 Indata'!$M$3=1,'Blad 2 Indata'!B$9,'Blad 2 Indata'!B$10)/100))*(Data!E21/Data!Z21)/('Blad 2 Indata'!B$28/SUM(Data!Z$3:Z$23))-1)+1)*Data!C21),Data!D21)","v":30806780499.215984},{"$f":"IF(Data!D21>0,Data!D21/Data!C21*B$73,(((1+(IF('Blad 2 Indata'!$M$3=1,'Blad 2 Indata'!B$9,'Blad 2 Indata'!B$10)/100))*(Data!E21/Data!Z21)/('Blad 2 Indata'!B$28/SUM(Data!Z$3:Z$23))-1)+1)*B$73)","v":1.0476689355413789},{"$f":"(ROUND(((((1+('Blad 2 Indata'!C$15/100))*(Data!F21/Data!E21)/('Blad 2 Indata'!C$28/'Blad 2 Indata'!B$28)-1)+1)*C70*Data!C21/100),0))*100","v":31505424100},{"$f":"(((1+('Blad 2 Indata'!C$15/100))*(Data!F21/Data!E21)/('Blad 2 Indata'!C$28/'Blad 2 Indata'!B$28)-1)+1)*D$73","v":1.0226587530508844},{"$f":"(((1+('Blad 2 Indata'!D$15/100))*(Data!R21/Data!F21)/('Blad 2 Indata'!D$28/'Blad 2 Indata'!C$28)-1)+1)*E70*C70*Data!C21","v":32916630291.418198},{"$f":"(((1+('Blad 2 Indata'!D$15/100))*(Data!R21/Data!F21)/('Blad 2 Indata'!D$28/'Blad 2 Indata'!C$28)-1)+1)*F$73","v":1.044803278562062},{"$f":"(((1+('Blad 2 Indata'!E$15/100))*(Data!S21/Data!R21)/('Blad 2 Indata'!E$28/'Blad 2 Indata'!D$28)-1)+1)*G70*E70*C70*Data!C21","v":34159618453.80653},{"$f":"(((1+('Blad 2 Indata'!E$15/100))*(Data!S21/Data!R21)/('Blad 2 Indata'!E$28/'Blad 2 Indata'!D$28)-1)+1)*H$73","v":1.0377622503884008},{"$f":"(((1+('Blad 2 Indata'!F$15/100))*(Data!T21/Data!S21)/('Blad 2 Indata'!F$28/'Blad 2 Indata'!E$28)-1)+1)*I70*G70*E70*C70*Data!C21","v":35398655435.643105},{"$f":"(((1+('Blad 2 Indata'!F$15/100))*(Data!T21/Data!S21)/('Blad 2 Indata'!F$28/'Blad 2 Indata'!E$28)-1)+1)*J$73","v":1.036272735534391},{"$f":"(((1+('Blad 2 Indata'!G$15/100))*(Data!U21/Data!T21)/('Blad 2 Indata'!G$28/'Blad 2 Indata'!F$28)-1)+1)*K70*I70*G70*E70*C70*Data!C21","v":36706192921.270645},{"$f":"(((1+('Blad 2 Indata'!G$15/100))*(Data!U21/Data!T21)/('Blad 2 Indata'!G$28/'Blad 2 Indata'!F$28)-1)+1)*L$73","v":1.0369376726487753},{"$f":"(((1+('Blad 2 Indata'!H$15/100))*(Data!BP21/Data!U21)/('Blad 2 Indata'!H$28/'Blad 2 Indata'!G$28)-1)+1)*$M70*$K70*$I70*$G70*$E70*$C70*Data!$C21","v":38060937390.408501},{"$f":"(((1+('Blad 2 Indata'!H$15/100))*(Data!BP21/Data!U21)/('Blad 2 Indata'!H$28/'Blad 2 Indata'!G$28)-1)+1)*N$73","v":1.0369086520127029},{"$f":"(((1+('Blad 2 Indata'!I$15/100))*(Data!BQ21/Data!BP21)/('Blad 2 Indata'!I$28/'Blad 2 Indata'!H$28)-1)+1)*$O70*$M70*$K70*$I70*$G70*$E70*$C70*Data!$C21","v":39425606391.406769},{"$f":"(((1+('Blad 2 Indata'!I$15/100))*(Data!BQ21/Data!BP21)/('Blad 2 Indata'!I$28/'Blad 2 Indata'!H$28)-1)+1)*P$73","v":1.0358552367363218},{"$f":"(((1+('Blad 2 Indata'!J$15/100))*(Data!BR21/Data!BQ21)/('Blad 2 Indata'!J$28/'Blad 2 Indata'!I$28)-1)+1)*$Q70*$O70*$M70*$K70*$I70*$G70*$E70*$C70*Data!$C21","v":40715100196.710197},{"$f":"(((1+('Blad 2 Indata'!J$15/100))*(Data!BR21/Data!BQ21)/('Blad 2 Indata'!J$28/'Blad 2 Indata'!I$28)-1)+1)*R$73","v":1.0327076073153345}]
[24,{"$f":"IF('Blad 2 Indata'!C$21=0,IF(Data!D22>0,Data!D22/Data!C22*Data!C22,(((1+(IF('Blad 2 Indata'!$M$3=1,'Blad 2 Indata'!B$9,'Blad 2 Indata'!B$10)/100))*(Data!E22/Data!Z22)/('Blad 2 Indata'!B$28/SUM(Data!Z$3:Z$23))-1)+1)*Data!C22),Data!D22)","v":68415978784.543625},{"$f":"IF(Data!D22>0,Data!D22/Data!C22*B$73,(((1+(IF('Blad 2 Indata'!$M$3=1,'Blad 2 Indata'!B$9,'Blad 2 Indata'!B$10)/100))*(Data!E22/Data!Z22)/('Blad 2 Indata'!B$28/SUM(Data!Z$3:Z$23))-1)+1)*B$73)","v":1.0492524646090757},{"$f":"(ROUND(((((1+('Blad 2 Indata'!C$15/100))*(Data!F22/Data!E22)/('Blad 2 Indata'!C$28/'Blad 2 Indata'!B$28)-1)+1)*C71*Data!C22/100),0))*100","v":70580675200},{"$f":"(((1+('Blad 2 Indata'!C$15/100))*(Data!F22/Data!E22)/('Blad 2 Indata'!C$28/'Blad 2 Indata'!B$28)-1)+1)*D$73","v":1.0316205574321882},{"$f":"(((1+('Blad 2 Indata'!D$15/100))*(Data!R22/Data!F22)/('Blad 2 Indata'!D$28/'Blad 2 Indata'!C$28)-1)+1)*E71*C71*Data!C22","v":74120734146.409882},{"$f":"(((1+('Blad 2 Indata'!D$15/100))*(Data!R22/Data!F22)/('Blad 2 Indata'!D$28/'Blad 2 Indata'!C$28)-1)+1)*F$73","v":1.0501670578700402},{"$f":"(((1+('Blad 2 Indata'!E$15/100))*(Data!S22/Data!R22)/('Blad 2 Indata'!E$28/'Blad 2 Indata'!D$28)-1)+1)*G71*E71*C71*Data!C22","v":77314166214.286041},{"$f":"(((1+('Blad 2 Indata'!E$15/100))*(Data!S22/Data!R22)/('Blad 2 Indata'!E$28/'Blad 2 Indata'!D$28)-1)+1)*H$73","v":1.0430847394607963},{"$f":"(((1+('Blad 2 Indata'!F$15/100))*(Data!T22/Data!S22)/('Blad 2 Indata'!F$28/'Blad 2 Indata'!E$28)-1)+1)*I71*G71*E71*C71*Data!C22","v":80529716332.482361},{"$f":"(((1+('Blad 2 Indata'!F$15/100))*(Data!T22/Data!S22)/('Blad 2 Indata'!F$28/'Blad 2 Indata'!E$28)-1)+1)*J$73","v":1.041591457611142},{"$f":"(((1+('Blad 2 Indata'!G$15/100))*(Data!U22/Data!T22)/('Blad 2 Indata'!G$28/'Blad 2 Indata'!F$28)-1)+1)*K71*I71*G71*E71*C71*Data!C22","v":83932687361.348068},{"$f":"(((1+('Blad 2 Indata'!G$15/100))*(Data!U22/Data!T22)/('Blad 2 Indata'!G$28/'Blad 2 Indata'!F$28)-1)+1)*L$73","v":1.0422575163276617},{"$f":"(((1+('Blad 2 Indata'!H$15/100))*(Data!BP22/Data!U22)/('Blad 2 Indata'!H$28/'Blad 2 Indata'!G$28)-1)+1)*$M71*$K71*$I71*$G71*$E71*$C71*Data!$C22","v":87477267110.753326},{"$f":"(((1+('Blad 2 Indata'!H$15/100))*(Data!BP22/Data!U22)/('Blad 2 Indata'!H$28/'Blad 2 Indata'!G$28)-1)+1)*N$73","v":1.0422320857631859},{"$f":"(((1+('Blad 2 Indata'!I$15/100))*(Data!BQ22/Data!BP22)/('Blad 2 Indata'!I$28/'Blad 2 Indata'!H$28)-1)+1)*$O71*$M71*$K71*$I71*$G71*$E71*$C71*Data!$C22","v":91078746456.127945},{"$f":"(((1+('Blad 2 Indata'!I$15/100))*(Data!BQ22/Data!BP22)/('Blad 2 Indata'!I$28/'Blad 2 Indata'!H$28)-1)+1)*P$73","v":1.0411708542183009},{"$f":"(((1+('Blad 2 Indata'!J$15/100))*(Data!BR22/Data!BQ22)/('Blad 2 Indata'!J$28/'Blad 2 Indata'!I$28)-1)+1)*$Q71*$O71*$M71*$K71*$I71*$G71*$E71*$C71*Data!$C22","v":94540335401.684631},{"$f":"(((1+('Blad 2 Indata'!J$15/100))*(Data!BR22/Data!BQ22)/('Blad 2 Indata'!J$28/'Blad 2 Indata'!I$28)-1)+1)*R$73","v":1.038007147918143}]
[25,{"$f":"IF('Blad 2 Indata'!C$21=0,IF(Data!D23>0,Data!D23/Data!C23*Data!C23,(((1+(IF('Blad 2 Indata'!$M$3=1,'Blad 2 Indata'!B$9,'Blad 2 Indata'!B$10)/100))*(Data!E23/Data!Z23)/('Blad 2 Indata'!B$28/SUM(Data!Z$3:Z$23))-1)+1)*Data!C23),Data!D23)","v":64874145343.037903},{"$f":"IF(Data!D23>0,Data!D23/Data!C23*B$73,(((1+(IF('Blad 2 Indata'!$M$3=1,'Blad 2 Indata'!B$9,'Blad 2 Indata'!B$10)/100))*(Data!E23/Data!Z23)/('Blad 2 Indata'!B$28/SUM(Data!Z$3:Z$23))-1)+1)*B$73)","v":1.0412108775607531},{"$f":"(ROUND(((((1+('Blad 2 Indata'!C$15/100))*(Data!F23/Data!E23)/('Blad 2 Indata'!C$28/'Blad 2 Indata'!B$28)-1)+1)*C72*Data!C23/100),0))*100","v":66186167200},{"$f":"(((1+('Blad 2 Indata'!C$15/100))*(Data!F23/Data!E23)/('Blad 2 Indata'!C$28/'Blad 2 Indata'!B$28)-1)+1)*D$73","v":1.0202046671908163},{"$f":"(((1+('Blad 2 Indata'!D$15/100))*(Data!R23/Data!F23)/('Blad 2 Indata'!D$28/'Blad 2 Indata'!C$28)-1)+1)*E72*C72*Data!C23","v":68854861411.398468},{"$f":"(((1+('Blad 2 Indata'!D$15/100))*(Data!R23/Data!F23)/('Blad 2 Indata'!D$28/'Blad 2 Indata'!C$28)-1)+1)*F$73","v":1.0403317769102873},{"$f":"(((1+('Blad 2 Indata'!E$15/100))*(Data!S23/Data!R23)/('Blad 2 Indata'!E$28/'Blad 2 Indata'!D$28)-1)+1)*G72*E72*C72*Data!C23","v":71148675222.818481},{"$f":"(((1+('Blad 2 Indata'!E$15/100))*(Data!S23/Data!R23)/('Blad 2 Indata'!E$28/'Blad 2 Indata'!D$28)-1)+1)*H$73","v":1.0333142931381312},{"$f":"(((1+('Blad 2 Indata'!F$15/100))*(Data!T23/Data!S23)/('Blad 2 Indata'!F$28/'Blad 2 Indata'!E$28)-1)+1)*I72*G72*E72*C72*Data!C23","v":73413724749.810425},{"$f":"(((1+('Blad 2 Indata'!F$15/100))*(Data!T23/Data!S23)/('Blad 2 Indata'!F$28/'Blad 2 Indata'!E$28)-1)+1)*J$73","v":1.031836194802396},{"$f":"(((1+('Blad 2 Indata'!G$15/100))*(Data!U23/Data!T23)/('Blad 2 Indata'!G$28/'Blad 2 Indata'!F$28)-1)+1)*K72*I72*G72*E72*C72*Data!C23","v":75799198217.145218},{"$f":"(((1+('Blad 2 Indata'!G$15/100))*(Data!U23/Data!T23)/('Blad 2 Indata'!G$28/'Blad 2 Indata'!F$28)-1)+1)*L$73","v":1.0324937444287914},{"$f":"(((1+('Blad 2 Indata'!H$15/100))*(Data!BP23/Data!U23)/('Blad 2 Indata'!H$28/'Blad 2 Indata'!G$28)-1)+1)*$M72*$K72*$I72*$G72*$E72*$C72*Data!$C23","v":78260326928.923019},{"$f":"(((1+('Blad 2 Indata'!H$15/100))*(Data!BP23/Data!U23)/('Blad 2 Indata'!H$28/'Blad 2 Indata'!G$28)-1)+1)*N$73","v":1.0324699180350756},{"$f":"(((1+('Blad 2 Indata'!I$15/100))*(Data!BQ23/Data!BP23)/('Blad 2 Indata'!I$28/'Blad 2 Indata'!H$28)-1)+1)*$O72*$M72*$K72*$I72*$G72*$E72*$C72*Data!$C23","v":80719266795.684891},{"$f":"(((1+('Blad 2 Indata'!I$15/100))*(Data!BQ23/Data!BP23)/('Blad 2 Indata'!I$28/'Blad 2 Indata'!H$28)-1)+1)*P$73","v":1.0314203953555079},{"$f":"(((1+('Blad 2 Indata'!J$15/100))*(Data!BR23/Data!BQ23)/('Blad 2 Indata'!J$28/'Blad 2 Indata'!I$28)-1)+1)*$Q72*$O72*$M72*$K72*$I72*$G72*$E72*$C72*Data!$C23","v":83002172688.301575},{"$f":"(((1+('Blad 2 Indata'!J$15/100))*(Data!BR23/Data!BQ23)/('Blad 2 Indata'!J$28/'Blad 2 Indata'!I$28)-1)+1)*R$73","v":1.0282826366235771}]
[null,{"$f":"IF('Blad 2 Indata'!C21=0,('Blad 2 Indata'!B21*1000000*(1+(IF('Blad 2 Indata'!$M3=1,'Blad 2 Indata'!B9,'Blad 2 Indata'!B10)/100)))/SUM(B52:B72),'Blad 2 Indata'!B21*1000000*(1+('Blad 2 Indata'!B11/100))/SUM(B52:B72))","v":0.999703615190635},null,{"$f":"(1+('Blad 2 Indata'!C15/100))/(SUM(D52:D72)/SUMPRODUCT(Data!C3:C23,C52:C72))","v":0.99968456408260864},null,{"$f":"(1+('Blad 2 Indata'!D15/100))/(SUM(F52:F72)/SUMPRODUCT(E52:E72,C52:C72,Data!C3:C23))","v":0.99969489370846276},null,{"$f":"(1+('Blad 2 Indata'!E15/100))/(SUM(H52:H72)/SUMPRODUCT(Data!C3:C23,'Blad 8 Periodisering'!C52:C72,'Blad 8 Periodisering'!E52:E72,'Blad 8 Periodisering'!G52:G72))","v":0.9996954167577935},null,{"$f":"(1+('Blad 2 Indata'!F15/100))/(SUM(J52:J72)/SUMPRODUCT(I52:I72,G52:G72,E52:E72,C52:C72,Data!C3:C23))","v":0.99969614606313273},null,{"$f":"(1+('Blad 2 Indata'!G15/100))/(SUM(L52:L72)/SUMPRODUCT(I52:I72,G52:G72,E52:E72,C52:C72,K52:K72,Data!C3:C23))","v":0.99969632203065484},null,{"$f":"(1+('Blad 2 Indata'!H15/100))/(SUM(N52:N72)/SUMPRODUCT($C52:$C72,$E52:$E72,$G52:$G72,$I52:$I72,$K52:$K72,$M52:$M72,Data!C3:C23))","v":0.9996971528693217},null,{"$f":"(1+('Blad 2 Indata'!I15/100))/(SUM(P52:P72)/SUMPRODUCT($C52:$C72,$E52:$E72,$G52:$G72,$I52:$I72,$K52:$K72,$M52:$M72,O52:O72,Data!$C3:$C23))","v":0.99969753117733462},null,{"$f":"(1+('Blad 2 Indata'!J15/100))/(SUM(R52:R72)/SUMPRODUCT($C52:$C72,$E52:$E72,$G52:$G72,$I52:$I72,$K52:$K72,$M52:$M72,$O52:$O72,$Q52:$Q72,Data!$C3:$C23))","v":0.99969810687587446}]
[]
["Uträkning av BUF:en. Prognos utfall"]
[null,{"$f":"B50","v":2023},{"$f":"C50","v":2023},{"$f":"D50","v":2024},{"$f":"E50","v":2024}]
[1,{"$f":"(((1+('Blad 2 Indata'!B$9)/100))*(((Data!E3/Data!Z3)/('Blad 2 Indata'!B$28/SUM(Data!Z$3:Z$23))-1)+1)*Data!C3)","v":778928297647.80029},{"$f":"(((1+('Blad 2 Indata'!B$9/100))*(Data!E3/Data!Z3)/('Blad 2 Indata'!B$28/SUM(Data!Z$3:Z$23))-1)+1)*B$98","v":1.0558621316921599},{"$f":"IF('Blad 2 Indata'!C$12<>0,(ROUND(((((1+('Blad 2 Indata'!C$12/100))*(Data!F3/Data!E3)/('Blad 2 Indata'!C$28/'Blad 2 Indata'!B$28)-1)+1)*C52*Data!C3/100),0))*100,0)","v":0},{"$f":"(((1+('Blad 2 Indata'!C$12/100))*(Data!F3/Data!E3)/('Blad 2 Indata'!C$28/'Blad 2 Indata'!B$28)-1)+1)*D$98","v":0}]
[3,{"$f":"(((1+('Blad 2 Indata'!B$9)/100))*(((Data!E4/Data!Z4)/('Blad 2 Indata'!B$28/SUM(Data!Z$3:Z$23))-1)+1)*Data!C4)","v":103845718997.65918},{"$f":"(((1+('Blad 2 Indata'!B$9/100))*(Data!E4/Data!Z4)/('Blad 2 Indata'!B$28/SUM(Data!Z$3:Z$23))-1)+1)*B$98","v":1.0605850275556847},{"$f":"IF('Blad 2 Indata'!C$12<>0,(ROUND(((((1+('Blad 2 Indata'!C$12/100))*(Data!F4/Data!E4)/('Blad 2 Indata'!C$28/'Blad 2 Indata'!B$28)-1)+1)*C53*Data!C4/100),0))*100,0)","v":0},{"$f":"(((1+('Blad 2 Indata'!C$12/100))*(Data!F4/Data!E4)/('Blad 2 Indata'!C$28/'Blad 2 Indata'!B$28)-1)+1)*D$98","v":0}]
[4,{"$f":"(((1+('Blad 2 Indata'!B$9)/100))*(((Data!E5/Data!Z5)/('Blad 2 Indata'!B$28/SUM(Data!Z$3:Z$23))-1)+1)*Data!C5)","v":71107625587.615829},{"$f":"(((1+('Blad 2 Indata'!B$9/100))*(Data!E5/Data!Z5)/('Blad 2 Indata'!B$28/SUM(Data!Z$3:Z$23))-1)+1)*B$98","v":1.0486842539555241},{"$f":"IF('Blad 2 Indata'!C$12<>0,(ROUND(((((1+('Blad 2 Indata'!C$12/100))*(Data!F5/Data!E5)/('Blad 2 Indata'!C$28/'Blad 2 Indata'!B$28)-1)+1)*C54*Data!C5/100),0))*100,0)","v":0},{"$f":"(((1+('Blad 2 Indata'!C$12/100))*(Data!F5/Data!E5)/('Blad 2 Indata'!C$28/'Blad 2 Indata'!B$28)-1)+1)*D$98","v":0}]
[5,{"$f":"(((1+('Blad 2 Indata'!B$9)/100))*(((Data!E6/Data!Z6)/('Blad 2 Indata'!B$28/SUM(Data!Z$3:Z$23))-1)+1)*Data!C6)","v":115905765284.47237},{"$f":"(((1+('Blad 2 Indata'!B$9/100))*(Data!E6/Data!Z6)/('Blad 2 Indata'!B$28/SUM(Data!Z$3:Z$23))-1)+1)*B$98","v":1.0501368564821976},{"$f":"IF('Blad 2 Indata'!C$12<>0,(ROUND(((((1+('Blad 2 Indata'!C$12/100))*(Data!F6/Data!E6)/('Blad 2 Indata'!C$28/'Blad 2 Indata'!B$28)-1)+1)*C55*Data!C6/100),0))*100,0)","v":0},{"$f":"(((1+('Blad 2 Indata'!C$12/100))*(Data!F6/Data!E6)/('Blad 2 Indata'!C$28/'Blad 2 Indata'!B$28)-1)+1)*D$98","v":0}]
[6,{"$f":"(((1+('Blad 2 Indata'!B$9)/100))*(((Data!E7/Data!Z7)/('Blad 2 Indata'!B$28/SUM(Data!Z$3:Z$23))-1)+1)*Data!C7)","v":89572582877.807053},{"$f":"(((1+('Blad 2 Indata'!B$9/100))*(Data!E7/Data!Z7)/('Blad 2 Indata'!B$28/SUM(Data!Z$3:Z$23))-1)+1)*B$98","v":1.0509488418937429},{"$f":"IF('Blad 2 Indata'!C$12<>0,(ROUND(((((1+('Blad 2 Indata'!C$12/100))*(Data!F7/Data!E7)/('Blad 2 Indata'!C$28/'Blad 2 Indata'!B$28)-1)+1)*C56*Data!C7/100),0))*100,0)","v":0},{"$f":"(((1+('Blad 2 Indata'!C$12/100))*(Data!F7/Data!E7)/('Blad 2 Indata'!C$28/'Blad 2 Indata'!B$28)-1)+1)*D$98","v":0}]
[7,{"$f":"(((1+('Blad 2 Indata'!B$9)/100))*(((Data!E8/Data!Z8)/('Blad 2 Indata'!B$28/SUM(Data!Z$3:Z$23))-1)+1)*Data!C8)","v":48187918688.373558},{"$f":"(((1+('Blad 2 Indata'!B$9/100))*(Data!E8/Data!Z8)/('Blad 2 Indata'!B$28/SUM(Data!Z$3:Z$23))-1)+1)*B$98","v":1.0501148405388916},{"$f":"IF('Blad 2 Indata'!C$12<>0,(ROUND(((((1+('Blad 2 Indata'!C$12/100))*(Data!F8/Data!E8)/('Blad 2 Indata'!C$28/'Blad 2 Indata'!B$28)-1)+1)*C57*Data!C8/100),0))*100,0)","v":0},{"$f":"(((1+('Blad 2 Indata'!C$12/100))*(Data!F8/Data!E8)/('Blad 2 Indata'!C$28/'Blad 2 Indata'!B$28)-1)+1)*D$98","v":0}]
[8,{"$f":"(((1+('Blad 2 Indata'!B$9)/100))*(((Data!E9/Data!Z9)/('Blad 2 Indata'!B$28/SUM(Data!Z$3:Z$23))-1)+1)*Data!C9)","v":57518998062.43763},{"$f":"(((1+('Blad 2 Indata'!B$9/100))*(Data!E9/Data!Z9)/('Blad 2 Indata'!B$28/SUM(Data!Z$3:Z$23))-1)+1)*B$98","v":1.0482946284883639},{"$f":"IF('Blad 2 Indata'!C$12<>0,(ROUND(((((1+('Blad 2 Indata'!C$12/100))*(Data!F9/Data!E9)/('Blad 2 Indata'!C$28/'Blad 2 Indata'!B$28)-1)+1)*C58*Data!C9/100),0))*100,0)","v":0},{"$f":"(((1+('Blad 2 Indata'!C$12/100))*(Data!F9/Data!E9)/('Blad 2 Indata'!C$28/'Blad 2 Indata'!B$28)-1)+1)*D$98","v":0}]
[9,{"$f":"(((1+('Blad 2 Indata'!B$9)/100))*(((Data!E10/Data!Z10)/('Blad 2 Indata'!B$28/SUM(Data!Z$3:Z$23))-1)+1)*Data!C10)","v":13873934244.025877},{"$f":"(((1+('Blad 2 Indata'!B$9/100))*(Data!E10/Data!Z10)/('Blad 2 Indata'!B$28/SUM(Data!Z$3:Z$23))-1)+1)*B$98","v":1.0482435131104171},{"$f":"IF('Blad 2 Indata'!C$12<>0,(ROUND(((((1+('Blad 2 Indata'!C$12/100))*(Data!F10/Data!E10)/('Blad 2 Indata'!C$28/'Blad 2 Indata'!B$28)-1)+1)*C59*Data!C10/100),0))*100,0)","v":0},{"$f":"(((1+('Blad 2 Indata'!C$12/100))*(Data!F10/Data!E10)/('Blad 2 Indata'!C$28/'Blad 2 Indata'!B$28)-1)+1)*D$98","v":0}]
[10,{"$f":"(((1+('Blad 2 Indata'!B$9)/100))*(((Data!E11/Data!Z11)/('Blad 2 Indata'!B$28/SUM(Data!Z$3:Z$23))-1)+1)*Data!C11)","v":37553446131.116554},{"$f":"(((1+('Blad 2 Indata'!B$9/100))*(Data!E11/Data!Z11)/('Blad 2 Indata'!B$28/SUM(Data!Z$3:Z$23))-1)+1)*B$98","v":1.0440933942950623},{"$f":"IF('Blad 2 Indata'!C$12<>0,(ROUND(((((1+('Blad 2 Indata'!C$12/100))*(Data!F11/Data!E11)/('Blad 2 Indata'!C$28/'Blad 2 Indata'!B$28)-1)+1)*C60*Data!C11/100),0))*100,0)","v":0},{"$f":"(((1+('Blad 2 Indata'!C$12/100))*(Data!F11/Data!E11)/('Blad 2 Indata'!C$28/'Blad 2 Indata'!B$28)-1)+1)*D$98","v":0}]
[12,{"$f":"(((1+('Blad 2 Indata'!B$9)/100))*(((Data!E12/Data!Z12)/('Blad 2 Indata'!B$28/SUM(Data!Z$3:Z$23))-1)+1)*Data!C12)","v":346408262710.12311},{"$f":"(((1+('Blad 2 Indata'!B$9/100))*(Data!E12/Data!Z12)/('Blad 2 Indata'!B$28/SUM(Data!Z$3:Z$23))-1)+1)*B$98","v":1.0539316046061653},{"$f":"IF('Blad 2 Indata'!C$12<>0,(ROUND(((((1+('Blad 2 Indata'!C$12/100))*(Data!F12/Data!E12)/('Blad 2 Indata'!C$28/'Blad 2 Indata'!B$28)-1)+1)*C61*Data!C12/100),0))*100,0)","v":0},{"$f":"(((1+('Blad 2 Indata'!C$12/100))*(Data!F12/Data!E12)/('Blad 2 Indata'!C$28/'Blad 2 Indata'!B$28)-1)+1)*D$98","v":0}]
[13,{"$f":"(((1+('Blad 2 Indata'!B$9)/100))*(((Data!E13/Data!Z13)/('Blad 2 Indata'!B$28/SUM(Data!Z$3:Z$23))-1)+1)*Data!C13)","v":89275598734.866928},{"$f":"(((1+('Blad 2 Indata'!B$9/100))*(Data!E13/Data!Z13)/('Blad 2 Indata'!B$28/SUM(Data!Z$3:Z$23))-1)+1)*B$98","v":1.0533709129570108},{"$f":"IF('Blad 2 Indata'!C$12<>0,(ROUND(((((1+('Blad 2 Indata'!C$12/100))*(Data!F13/Data!E13)/('Blad 2 Indata'!C$28/'Blad 2 Indata'!B$28)-1)+1)*C62*Data!C13/100),0))*100,0)","v":0},{"$f":"(((1+('Blad 2 Indata'!C$12/100))*(Data!F13/Data!E13)/('Blad 2 Indata'!C$28/'Blad 2 Indata'!B$28)-1)+1)*D$98","v":0}]
[14,{"$f":"(((1+('Blad 2 Indata'!B$9)/100))*(((Data!E14/Data!Z14)/('Blad 2 Indata'!B$28/SUM(Data!Z$3:Z$23))-1)+1)*Data!C14)","v":461594097165.40192},{"$f":"(((1+('Blad 2 Indata'!B$9/100))*(Data!E14/Data!Z14)/('Blad 2 Indata'!B$28/SUM(Data!Z$3:Z$23))-1)+1)*B$98","v":1.053245689899037},{"$f":"IF('Blad 2 Indata'!C$12<>0,(ROUND(((((1+('Blad 2 Indata'!C$12/100))*(Data!F14/Data!E14)/('Blad 2 Indata'!C$28/'Blad 2 Indata'!B$28)-1)+1)*C63*Data!C14/100),0))*100,0)","v":0},{"$f":"(((1+('Blad 2 Indata'!C$12/100))*(Data!F14/Data!E14)/('Blad 2 Indata'!C$28/'Blad 2 Indata'!B$28)-1)+1)*D$98","v":0}]
[17,{"$f":"(((1+('Blad 2 Indata'!B$9)/100))*(((Data!E15/Data!Z15)/('Blad 2 Indata'!B$28/SUM(Data!Z$3:Z$23))-1)+1)*Data!C15)","v":65782755743.032295},{"$f":"(((1+('Blad 2 Indata'!B$9/100))*(Data!E15/Data!Z15)/('Blad 2 Indata'!B$28/SUM(Data!Z$3:Z$23))-1)+1)*B$98","v":1.0477873219724547},{"$f":"IF('Blad 2 Indata'!C$12<>0,(ROUND(((((1+('Blad 2 Indata'!C$12/100))*(Data!F15/Data!E15)/('Blad 2 Indata'!C$28/'Blad 2 Indata'!B$28)-1)+1)*C64*Data!C15/100),0))*100,0)","v":0},{"$f":"(((1+('Blad 2 Indata'!C$12/100))*(Data!F15/Data!E15)/('Blad 2 Indata'!C$28/'Blad 2 Indata'!B$28)-1)+1)*D$98","v":0}]
[18,{"$f":"(((1+('Blad 2 Indata'!B$9)/100))*(((Data!E16/Data!Z16)/('Blad 2 Indata'!B$28/SUM(Data!Z$3:Z$23))-1)+1)*Data!C16)","v":73377233103.927429},{"$f":"(((1+('Blad 2 Indata'!B$9/100))*(Data!E16/Data!Z16)/('Blad 2 Indata'!B$28/SUM(Data!Z$3:Z$23))-1)+1)*B$98","v":1.0481997451422669},{"$f":"IF('Blad 2 Indata'!C$12<>0,(ROUND(((((1+('Blad 2 Indata'!C$12/100))*(Data!F16/Data!E16)/('Blad 2 Indata'!C$28/'Blad 2 Indata'!B$28)-1)+1)*C65*Data!C16/100),0))*100,0)","v":0},{"$f":"(((1+('Blad 2 Indata'!C$12/100))*(Data!F16/Data!E16)/('Blad 2 Indata'!C$28/'Blad 2 Indata'!B$28)-1)+1)*D$98","v":0}]
[19,{"$f":"(((1+('Blad 2 Indata'!B$9)/100))*(((Data!E17/Data!Z17)/('Blad 2 Indata'!B$28/SUM(Data!Z$3:Z$23))-1)+1)*Data!C17)","v":69128527830.78891},{"$f":"(((1+('Blad 2 Indata'!B$9/100))*(Data!E17/Data!Z17)/('Blad 2 Indata'!B$28/SUM(Data!Z$3:Z$23))-1)+1)*B$98","v":1.0518859507744378},{"$f":"IF('Blad 2 Indata'!C$12<>0,(ROUND(((((1+('Blad 2 Indata'!C$12/100))*(Data!F17/Data!E17)/('Blad 2 Indata'!C$28/'Blad 2 Indata'!B$28)-1)+1)*C66*Data!C17/100),0))*100,0)","v":0},{"$f":"(((1+('Blad 2 Indata'!C$12/100))*(Data!F17/Data!E17)/('Blad 2 Indata'!C$28/'Blad 2 Indata'!B$28)-1)+1)*D$98","v":0}]
[20,{"$f":"(((1+('Blad 2 Indata'!B$9)/100))*(((Data!E18/Data!Z18)/('Blad 2 Indata'!B$28/SUM(Data!Z$3:Z$23))-1)+1)*Data!C18)","v":67426643919.325897},{"$f":"(((1+('Blad 2 Indata'!B$9/100))*(Data!E18/Data!Z18)/('Blad 2 Indata'!B$28/SUM(Data!Z$3:Z$23))-1)+1)*B$98","v":1.0455507854138626},{"$f":"IF('Blad 2 Indata'!C$12<>0,(ROUND(((((1+('Blad 2 Indata'!C$12/100))*(Data!F18/Data!E18)/('Blad 2 Indata'!C$28/'Blad 2 Indata'!B$28)-1)+1)*C67*Data!C18/100),0))*100,0)","v":0},{"$f":"(((1+('Blad 2 Indata'!C$12/100))*(Data!F18/Data!E18)/('Blad 2 Indata'!C$28/'Blad 2 Indata'!B$28)-1)+1)*D$98","v":0}]
[21,{"$f":"(((1+('Blad 2 Indata'!B$9)/100))*(((Data!E19/Data!Z19)/('Blad 2 Indata'!B$28/SUM(Data!Z$3:Z$23))-1)+1)*Data!C19)","v":67774982889.789574},{"$f":"(((1+('Blad 2 Indata'!B$9/100))*(Data!E19/Data!Z19)/('Blad 2 Indata'!B$28/SUM(Data!Z$3:Z$23))-1)+1)*B$98","v":1.0432973782179855},{"$f":"IF('Blad 2 Indata'!C$12<>0,(ROUND(((((1+('Blad 2 Indata'!C$12/100))*(Data!F19/Data!E19)/('Blad 2 Indata'!C$28/'Blad 2 Indata'!B$28)-1)+1)*C68*Data!C19/100),0))*100,0)","v":0},{"$f":"(((1+('Blad 2 Indata'!C$12/100))*(Data!F19/Data!E19)/('Blad 2 Indata'!C$28/'Blad 2 Indata'!B$28)-1)+1)*D$98","v":0}]
[22,{"$f":"(((1+('Blad 2 Indata'!B$9)/100))*(((Data!E20/Data!Z20)/('Blad 2 Indata'!B$28/SUM(Data!Z$3:Z$23))-1)+1)*Data!C20)","v":58912240182.526474},{"$f":"(((1+('Blad 2 Indata'!B$9/100))*(Data!E20/Data!Z20)/('Blad 2 Indata'!B$28/SUM(Data!Z$3:Z$23))-1)+1)*B$98","v":1.0410981563225314},{"$f":"IF('Blad 2 Indata'!C$12<>0,(ROUND(((((1+('Blad 2 Indata'!C$12/100))*(Data!F20/Data!E20)/('Blad 2 Indata'!C$28/'Blad 2 Indata'!B$28)-1)+1)*C69*Data!C20/100),0))*100,0)","v":0},{"$f":"(((1+('Blad 2 Indata'!C$12/100))*(Data!F20/Data!E20)/('Blad 2 Indata'!C$28/'Blad 2 Indata'!B$28)-1)+1)*D$98","v":0}]
[23,{"$f":"(((1+('Blad 2 Indata'!B$9)/100))*(((Data!E21/Data!Z21)/('Blad 2 Indata'!B$28/SUM(Data!Z$3:Z$23))-1)+1)*Data!C21)","v":30806780499.215988},{"$f":"(((1+('Blad 2 Indata'!B$9/100))*(Data!E21/Data!Z21)/('Blad 2 Indata'!B$28/SUM(Data!Z$3:Z$23))-1)+1)*B$98","v":1.0494167367864182},{"$f":"IF('Blad 2 Indata'!C$12<>0,(ROUND(((((1+('Blad 2 Indata'!C$12/100))*(Data!F21/Data!E21)/('Blad 2 Indata'!C$28/'Blad 2 Indata'!B$28)-1)+1)*C70*Data!C21/100),0))*100,0)","v":0},{"$f":"(((1+('Blad 2 Indata'!C$12/100))*(Data!F21/Data!E21)/('Blad 2 Indata'!C$28/'Blad 2 Indata'!B$28)-1)+1)*D$98","v":0}]
[24,{"$f":"(((1+('Blad 2 Indata'!B$9)/100))*(((Data!E22/Data!Z22)/('Blad 2 Indata'!B$28/SUM(Data!Z$3:Z$23))-1)+1)*Data!C22)","v":68415978784.54361},{"$f":"(((1+('Blad 2 Indata'!B$9/100))*(Data!E22/Data!Z22)/('Blad 2 Indata'!B$28/SUM(Data!Z$3:Z$23))-1)+1)*B$98","v":1.0510029076181133},{"$f":"IF('Blad 2 Indata'!C$12<>0,(ROUND(((((1+('Blad 2 Indata'!C$12/100))*(Data!F22/Data!E22)/('Blad 2 Indata'!C$28/'Blad 2 Indata'!B$28)-1)+1)*C71*Data!C22/100),0))*100,0)","v":0},{"$f":"(((1+('Blad 2 Indata'!C$12/100))*(Data!F22/Data!E22)/('Blad 2 Indata'!C$28/'Blad 2 Indata'!B$28)-1)+1)*D$98","v":0}]
[25,{"$f":"(((1+('Blad 2 Indata'!B$9)/100))*(((Data!E23/Data!Z23)/('Blad 2 Indata'!B$28/SUM(Data!Z$3:Z$23))-1)+1)*Data!C23)","v":64874145343.037903},{"$f":"(((1+('Blad 2 Indata'!B$9/100))*(Data!E23/Data!Z23)/('Blad 2 Indata'!B$28/SUM(Data!Z$3:Z$23))-1)+1)*B$98","v":1.0429479049807833},{"$f":"IF('Blad 2 Indata'!C$12<>0,(ROUND(((((1+('Blad 2 Indata'!C$12/100))*(Data!F23/Data!E23)/('Blad 2 Indata'!C$28/'Blad 2 Indata'!B$28)-1)+1)*C72*Data!C23/100),0))*100,0)","v":0},{"$f":"(((1+('Blad 2 Indata'!C$12/100))*(Data!F23/Data!E23)/('Blad 2 Indata'!C$28/'Blad 2 Indata'!B$28)-1)+1)*D$98","v":0}]
[null,{"$f":"'Blad 2 Indata'!B21*('Blad 2 Indata'!B12/100+1)*1000000/SUM(B77:B97)","v":1.0013713970289861},null,{"$f":"IF('Blad 2 Indata'!C12<>0,(('Blad 2 Indata'!C12/100+1)*SUM(Data!D3:D23))/SUM('Blad 8 Periodisering'!D77:D97),0)","v":0},null,null,null,null,null,null,null,null,null,null,null,null,null,null,null,null,null,null,null,null,null,null,null,null,null,null,null,null,null,null,null,{"$f":"'Blad 3 Inkomstutjämning'!D30","v":0},null,null,null,{"$f":"'Blad 3 Inkomstutjämning'!E30","v":0},null,null,null,{"$f":"'Blad 3 Inkomstutjämning'!F30","v":0},null,null,null,{"$f":"'Blad 3 Inkomstutjämning'!G30","v":0},null,null,null,{"$f":"'Blad 3 Inkomstutjämning'!H30","v":0},null,null,null,{"$f":"'Blad 3 Inkomstutjämning'!I30","v":0},null,null,null,{"$f":"'Blad 3 Inkomstutjämning'!J30","v":0}]
[]
["Beräkningar för att räkna ut inkomsutjämningsbidrag",null,null,null,null,null,null,null,null,null,null,null,null,null,null,null,null,null,null,null,{"$f":"$B128","v":2023},{"$f":"$B128","v":2023},{"$f":"$B128","v":2023},{"$f":"$B128","v":2023},{"$f":"$C128","v":2024},{"$f":"$C128","v":2024},{"$f":"$C128","v":2024},{"$f":"$C128","v":2024},{"$f":"$D128","v":2025},{"$f":"AC100","v":2025},{"$f":"AC100","v":2025},{"$f":"AC100","v":2025},{"$f":"AC100","v":2025},{"$f":"AC100","v":2025},{"$f":"AC100","v":2025},{"$f":"AC100","v":2025},{"$f":"$E128","v":2026},{"$f":"AK100","v":2026},{"$f":"AK100","v":2026},{"$f":"AK100","v":2026},{"$f":"$F128","v":2027},{"$f":"AO100","v":2027},{"$f":"AO100","v":2027},{"$f":"AO100","v":2027},{"$f":"$G128","v":2028},{"$f":"AS100","v":2028},{"$f":"AS100","v":2028},{"$f":"AS100","v":2028},{"$f":"AS100+1","v":2029},{"$f":"AW100","v":2029},{"$f":"AW100","v":2029},{"$f":"AW100","v":2029},{"$f":"AW100+1","v":2030},{"$f":"BA100","v":2030},{"$f":"BA100","v":2030},{"$f":"BA100","v":2030},{"$f":"BA100+1","v":2031},{"$f":"BE100","v":2031},{"$f":"BE100","v":2031},{"$f":"BE100","v":2031}]
[null,null,null,null,null,null,null,null,null,null,null,{"$f":"D102","v":2025},{"$f":"L101","v":2025},{"$f":"E102","v":2026},2027,2028,2029,2030,2031,null,"Genomsnittlig skattekraft per inv","Andel av rikets skattekraft ",null,"Del av underlag utj 115-125% ","Genomsnittlig skattekraft per inv","Andel av rikets skattekraft ",null,"Underlag utj >115% ","Genomsnittlig skattekraft per invånare",null,"Andel av rikets skattekraft",null,null,null,"Underlag utj uppgår >115% ",null,"Genomsnittlig skattekraft per inv","Andel av rikets skattekraft",null,"Underlag utj uppgår >115% ","Genomsnittlig skattekraft per inv","Andel av rikets skattekraft",null,"Underlag utj uppgår >115% ","Genomsnittlig skattekraft per inv","Andel av rikets skattekraft",null,"Underlag utj uppgår >115% ","Genomsnittlig skattekraft per inv","Andel av rikets skattekraft",null,"Underlag utj uppgår >115% ","Genomsnittlig skattekraft per inv","Andel av rikets skattekraft",null,"Underlag utj uppgår >115% ","Genomsnittlig skattekraft per inv","Andel av rikets skattekraft",null,"Underlag utj uppgår >115% "]
[null,{"$f":"B76","v":2023},{"$f":"B102+1","v":2024},2025,2026,2027,2028,2029,2030,2031,null,"Fastställda","Trend","Trend","Trend","Trend","Trend","Trend","Trend",null,"Fastställd","Fastställd","Fastställd","Fastställd","Fastställd","Fastställd","Fastställd","Fastställd","Fastställd","Trend","Fastställd","Trend",null,null,"Fastställd","Trend","Trend","Trend",null,"Trend","Trend","Trend","Trend","Trend","Trend","Trend","Trend","Trend","Trend","Trend","Trend","Trend","Trend","Trend","Trend","Trend","Trend","Trend","Trend","Trend"]
[1,{"$f":"IF((ROUND('Blad 3 Inkomstutjämning'!B$16*'Blad 2 Indata'!B$55*Data!E3,0)-ROUND((Data!AQ3*($B$46/100+1)*($C$46/100+1)),0))<0,ROUND((ROUND(W103*Data!AT3/100/Data!E3,0)+ROUND('Blad 8 Periodisering'!X103*Data!AS3/100/Data!E3,0)),0),ROUND((ROUND('Blad 3 Inkomstutjämning'!B$16*'Blad 2 Indata'!B$55*Data!E3,0)-ROUND((Data!AQ3*('Blad 8 Periodisering'!$B$46/100+1)*('Blad 8 Periodisering'!$C$46/100+1)),0))*Data!AR3/100/Data!E3,0))*Data!E3","v":-2802731700},{"$f":"IF((ROUND('Blad 3 Inkomstutjämning'!C$16*'Blad 2 Indata'!C$55*Data!F3,0)-ROUND((Data!C3*('Blad 2 Indata'!B$7/100+1)*('Blad 2 Indata'!C$7/100+1)),0))<0,ROUND((ROUND('Blad 8 Periodisering'!AB103*Data!N3/100/Data!F3,0)),0),ROUND((ROUND('Blad 3 Inkomstutjämning'!C$16*'Blad 2 Indata'!C$55*Data!F3,0)-ROUND((Data!C3*('Blad 2 Indata'!B$7/100+1)*('Blad 2 Indata'!C$7/100+1)),0))*Data!M3/100/Data!F3,0))*Data!F3","v":-3187776372},{"$f":"IF('Blad 2 Indata'!D$8<>0,'Blad 8 Periodisering'!L103,'Blad 8 Periodisering'!M103)","v":-3330495168},{"$f":"'Blad 8 Periodisering'!N103","v":-3457004886},{"$f":"'Blad 8 Periodisering'!O103","v":-3586919102},{"$f":"P103","v":-3719391552},{"$f":"Q103","v":-3861402896},{"$f":"R103","v":-4000162500},{"$f":"S103","v":-4133020780},null,{"$f":"IF($AI103>=0,ROUND((('Blad 3 Inkomstutjämning'!$D$19-$AC103)*Data!$R3)*Data!$AN3/100/Data!$R3,0),ROUND('Blad 8 Periodisering'!$AI103*Data!$AO3/100/Data!$R3,0))*Data!$R3","v":-79778245118},{"$f":"IF($AJ103>=0,ROUND((('Blad 3 Inkomstutjämning'!$D$19-$AD103)*Data!$R3)*Data!$AN3/100/Data!$R3,0),ROUND('Blad 8 Periodisering'!$AJ103*Data!$AO3/100/Data!$R3,0))*Data!$R3","v":-3330495168},{"$f":"IF($AN103>=0,ROUND((('Blad 3 Inkomstutjämning'!$E$19-$AK103)*Data!$S3)*Data!$AN3/100/Data!$S3,0),ROUND('Blad 8 Periodisering'!$AN103*Data!$AO3/100/Data!$S3,0))*Data!$S3","v":-3457004886},{"$f":"IF($AR103>=0,ROUND((('Blad 3 Inkomstutjämning'!$F$19-$AO103)*Data!$T3)*Data!$AN3/100/Data!$T3,0),ROUND('Blad 8 Periodisering'!$AR103*Data!$AO3/100/Data!$T3,0))*Data!$T3","v":-3586919102},{"$f":"IF($AV103>=0,ROUND((('Blad 3 Inkomstutjämning'!$G$19-$AS103)*Data!$U3)*Data!$AN3/100/Data!$U3,0),ROUND('Blad 8 Periodisering'!$AV103*Data!$AO3/100/Data!$U3,0))*Data!$U3","v":-3719391552},{"$f":"IF($AZ103>=0,ROUND((('Blad 3 Inkomstutjämning'!$H$19-$AW103)*Data!$BP3)*Data!$AN3/100/Data!$BP3,0),ROUND('Blad 8 Periodisering'!$AZ103*Data!$AO3/100/Data!$BP3,0))*Data!$BP3","v":-3861402896},{"$f":"IF($BD103>=0,ROUND((('Blad 3 Inkomstutjämning'!$I$19-$BA103)*Data!$BQ3)*Data!$AN3/100/Data!$BQ3,0),ROUND('Blad 8 Periodisering'!$BD103*Data!$AO3/100/Data!$BQ3,0))*Data!$BQ3","v":-4000162500},{"$f":"IF($BH103>=0,ROUND((('Blad 3 Inkomstutjämning'!$J$19-$BE103)*Data!$BR3)*Data!$AN3/100/Data!$BR3,0),ROUND('Blad 8 Periodisering'!$BH103*Data!$AO3/100/Data!$BR3,0))*Data!$BR3","v":-4133020780},null,{"$f":"(Data!$AQ3*('Blad 8 Periodisering'!$B$46/100+1)*('Blad 8 Periodisering'!$C$46/100+1))/Data!$E3","v":312158.21824216761},{"$f":"U103/'Blad 3 Inkomstutjämning'!$B$16","v":1.1963385234323936},null,{"$f":"IF(V103>'Blad 2 Indata'!$B$55,ROUND(Data!$E3*'Blad 3 Inkomstutjämning'!$B$16*'Blad 2 Indata'!$B$55,0)-(U103*Data!$E3),0)","v":-29467721836.644775},{"$f":"(Data!$C3*('Blad 3 Inkomstutjämning'!$B$10/100+1)*('Blad 3 Inkomstutjämning'!$C$10/100+1))/Data!$F3","v":325015.67040676967},{"$f":"Y103/'Blad 3 Inkomstutjämning'!$C$16","v":1.2004139212003917},null,{"$f":"IF(Z103>'Blad 2 Indata'!$C$55,ROUND(Data!$F3*'Blad 3 Inkomstutjämning'!$C$16*'Blad 2 Indata'!$C$55,0)-(Y103*Data!$F3),0)","v":-33522539443.371338},{"$f":"IF('Blad 3 Inkomstutjämning'!$C$11<>0,((Data!$C3*$C52*('Blad 3 Inkomstutjämning'!$C$11/100+1)*('Blad 3 Inkomstutjämning'!$D$11/100+1))/Data!$R3),((Data!$C3*$C52*('Blad 3 Inkomstutjämning'!$C$12/100+1)*('Blad 3 Inkomstutjämning'!$D$12/100+1))/Data!$R3))","v":338531.41590560845},{"$f":"(Data!$C3*C52*('Blad 3 Inkomstutjämning'!$C$12/100+1)*('Blad 3 Inkomstutjämning'!$D$12/100+1))/Data!R3","v":338531.41590560845},{"$f":"IF('Blad 3 Inkomstutjämning'!$C$11<>0,AC103/'Blad 3 Inkomstutjämning'!$D$16,'Blad 8 Periodisering'!AC103/'Blad 3 Inkomstutjämning'!$D$17)","v":1.2000957715371798},{"$f":"AD103/('Blad 3 Inkomstutjämning'!$D$19/'Blad 2 Indata'!$D$55)","v":1.2000957715371798},null,null,{"$f":"IF(AE103>'Blad 2 Indata'!$D$55,ROUND(Data!$R3*'Blad 3 Inkomstutjämning'!$D$16*'Blad 2 Indata'!$D$55,0)-('Blad 8 Periodisering'!AC103*Data!$R3),0)","v":-838896759590.64526},{"$f":"IF(AF103>'Blad 2 Indata'!$D$55,ROUND(Data!$R3*('Blad 3 Inkomstutjämning'!$D$19/'Blad 2 Indata'!$D$55)*'Blad 2 Indata'!$D$55,0)-('Blad 8 Periodisering'!AD103*Data!$R3),0)","v":-35018188888.645264},{"$f":"(Data!$C3*$C52*$E52*('Blad 3 Inkomstutjämning'!$D$12/100+1)*('Blad 3 Inkomstutjämning'!$E$12/100+1))/Data!S3","v":350721.45103857009},{"$f":"AK103/'Blad 3 Inkomstutjämning'!$E$17","v":1.1997572959000369},null,{"$f":"IF(AL103>'Blad 2 Indata'!$E$55,ROUND(Data!$S3*'Blad 3 Inkomstutjämning'!$E$17*'Blad 2 Indata'!$E$55,0)-('Blad 8 Periodisering'!AK103*Data!$S3),0)","v":-36358295342.953369},{"$f":"(Data!$C3*$C52*$E52*$G52*('Blad 3 Inkomstutjämning'!$E$12/100+1)*('Blad 3 Inkomstutjämning'!$F$12/100+1))/Data!T3","v":362941.49370662676},{"$f":"AO103/'Blad 3 Inkomstutjämning'!$F$17","v":1.1994338741238317},null,{"$f":"IF(AP103>'Blad 2 Indata'!$F$55,ROUND(Data!$T3*'Blad 3 Inkomstutjämning'!$F$17*'Blad 2 Indata'!$F$55,0)-('Blad 8 Periodisering'!AO103*Data!$T3),0)","v":-37705234098.457642},{"$f":"(Data!$C3*$C52*$E52*$G52*$I52*('Blad 3 Inkomstutjämning'!$F$12/100+1)*('Blad 3 Inkomstutjämning'!$G$12/100+1))/Data!U3","v":376020.89975154377},{"$f":"AS103/'Blad 3 Inkomstutjämning'!$G$17","v":1.1991074154023922},null,{"$f":"IF(AT103>'Blad 2 Indata'!$G$55,ROUND(Data!$U3*'Blad 3 Inkomstutjämning'!$G$17*'Blad 2 Indata'!$G$55,0)-('Blad 8 Periodisering'!AS103*Data!$U3),0)","v":-39122968170.980103},{"$f":"(Data!$C3*$C52*$E52*$G52*$I52*$K52*('Blad 3 Inkomstutjämning'!$G$12/100+1)*('Blad 3 Inkomstutjämning'!$H$12/100+1))/Data!BP3","v":389563.91677752149},{"$f":"AW103/'Blad 3 Inkomstutjämning'!$H$17","v":1.1987836166784263},null,{"$f":"IF(AX103>'Blad 2 Indata'!$H$55,ROUND(Data!$BP3*'Blad 3 Inkomstutjämning'!$H$17*'Blad 2 Indata'!$H$55,0)-('Blad 8 Periodisering'!AW103*Data!$BP3),0)","v":-40593424996.522827},{"$f":"(Data!$C3*$C52*$E52*$G52*$I52*$K52*$M52*('Blad 3 Inkomstutjämning'!$H$12/100+1)*('Blad 3 Inkomstutjämning'!$I$12/100+1))/Data!BQ3","v":403194.04332696035},{"$f":"BA103/'Blad 3 Inkomstutjämning'!$I$17","v":1.1984592298684718},null,{"$f":"IF(BB103>'Blad 2 Indata'!$I$55,ROUND(Data!$BQ3*'Blad 3 Inkomstutjämning'!$I$17*'Blad 2 Indata'!$I$55,0)-('Blad 8 Periodisering'!BA103*Data!$BQ3),0)","v":-42073950028.052979},{"$f":"(Data!$C3*$C52*$E52*$G52*$I52*$K52*$M52*$O52*('Blad 3 Inkomstutjämning'!$I$12/100+1)*('Blad 3 Inkomstutjämning'!$J$12/100+1))/Data!$BR3","v":416036.44500598003},{"$f":"BE103/'Blad 3 Inkomstutjämning'!$J$17","v":1.1981339690355004},null,{"$f":"IF(BF103>'Blad 2 Indata'!$J$55,ROUND(Data!$BR3*'Blad 3 Inkomstutjämning'!$J$17*'Blad 2 Indata'!$J$55,0)-('Blad 8 Periodisering'!BE103*Data!$BR3),0)","v":-43473175188.454224}]
[3,{"$f":"IF((ROUND('Blad 3 Inkomstutjämning'!B$16*'Blad 2 Indata'!B$55*Data!E4,0)-ROUND((Data!AQ4*($B$46/100+1)*($C$46/100+1)),0))<0,ROUND((ROUND(#REF!*Data!AT4/100/Data!E4,0)+ROUND('Blad 8 Periodisering'!T104*Data!AS4/100/Data!E4,0)),0),ROUND((ROUND('Blad 3 Inkomstutjämning'!B$16*'Blad 2 Indata'!B$55*Data!E4,0)-ROUND((Data!AQ4*('Blad 8 Periodisering'!$B$46/100+1)*('Blad 8 Periodisering'!$C$46/100+1)),0))*Data!AR4/100/Data!E4,0))*Data!E4","v":1838721720},{"$f":"IF((ROUND('Blad 3 Inkomstutjämning'!C$16*'Blad 2 Indata'!C$55*Data!F4,0)-ROUND((Data!C4*('Blad 2 Indata'!B$7/100+1)*('Blad 2 Indata'!C$7/100+1)),0))<0,ROUND((ROUND('Blad 8 Periodisering'!AB104*Data!N4/100/Data!F4,0)),0),ROUND((ROUND('Blad 3 Inkomstutjämning'!C$16*'Blad 2 Indata'!C$55*Data!F4,0)-ROUND((Data!C4*('Blad 2 Indata'!B$7/100+1)*('Blad 2 Indata'!C$7/100+1)),0))*Data!M4/100/Data!F4,0))*Data!F4","v":1995240020},{"$f":"IF('Blad 2 Indata'!D$8<>0,'Blad 8 Periodisering'!L104,'Blad 8 Periodisering'!M104)","v":2105694045},{"$f":"'Blad 8 Periodisering'!N104","v":2217239722},{"$f":"'Blad 8 Periodisering'!O104","v":2327257262},2444398110,2567470904,2693972502,2818269520,null,{"$f":"IF($AI104>=0,ROUND((('Blad 3 Inkomstutjämning'!$D$19-$AC104)*Data!$R4)*Data!$AN4/100/Data!$R4,0),ROUND('Blad 8 Periodisering'!$AI104*Data!$AO4/100/Data!$R4,0))*Data!$R4","v":2105694045},{"$f":"IF($AJ104>=0,ROUND((('Blad 3 Inkomstutjämning'!$D$19-$AD104)*Data!$R4)*Data!$AN4/100/Data!$R4,0),ROUND('Blad 8 Periodisering'!$AJ104*Data!$AO4/100/Data!$R4,0))*Data!$R4","v":2105694045},{"$f":"IF($AN104>=0,ROUND((('Blad 3 Inkomstutjämning'!$E$19-$AK104)*Data!$S4)*Data!$AN4/100/Data!$S4,0),ROUND('Blad 8 Periodisering'!$AN104*Data!$AO4/100/Data!$S4,0))*Data!$S4","v":2217239722},{"$f":"IF($AR104>=0,ROUND((('Blad 3 Inkomstutjämning'!$F$19-$AO104)*Data!$T4)*Data!$AN4/100/Data!$T4,0),ROUND('Blad 8 Periodisering'!$AR104*Data!$AO4/100/Data!$T4,0))*Data!$T4","v":2327257262},{"$f":"IF($AV104>=0,ROUND((('Blad 3 Inkomstutjämning'!$G$19-$AS104)*Data!$U4)*Data!$AN4/100/Data!$U4,0),ROUND('Blad 8 Periodisering'!$AV104*Data!$AO4/100/Data!$U4,0))*Data!$U4","v":2444398110},{"$f":"IF($AZ104>=0,ROUND((('Blad 3 Inkomstutjämning'!$H$19-$AW104)*Data!$BP4)*Data!$AN4/100/Data!$BP4,0),ROUND('Blad 8 Periodisering'!$AZ104*Data!$AO4/100/Data!$BP4,0))*Data!$BP4","v":2567470904},{"$f":"IF($BD104>=0,ROUND((('Blad 3 Inkomstutjämning'!$I$19-$BA104)*Data!$BQ4)*Data!$AN4/100/Data!$BQ4,0),ROUND('Blad 8 Periodisering'!$BD104*Data!$AO4/100/Data!$BQ4,0))*Data!$BQ4","v":2693972502},{"$f":"IF($BH104>=0,ROUND((('Blad 3 Inkomstutjämning'!$J$19-$BE104)*Data!$BR4)*Data!$AN4/100/Data!$BR4,0),ROUND('Blad 8 Periodisering'!$BH104*Data!$AO4/100/Data!$BR4,0))*Data!$BR4","v":2818269520},null,{"$f":"(Data!$AQ4*('Blad 8 Periodisering'!$B$46/100+1)*('Blad 8 Periodisering'!$C$46/100+1))/Data!$E4","v":253825.32984274748},{"$f":"U104/'Blad 3 Inkomstutjämning'!$B$16","v":0.97277919519080924},null,{"$f":"IF(V104>'Blad 2 Indata'!$B$55,ROUND(Data!$E4*'Blad 3 Inkomstutjämning'!$B$16*'Blad 2 Indata'!$B$55,0)-(U104*Data!$E4),0)","v":0},{"$f":"(Data!$C4*('Blad 3 Inkomstutjämning'!$B$10/100+1)*('Blad 3 Inkomstutjämning'!$C$10/100+1))/Data!$F4","v":261771.32186980388},{"$f":"Y104/'Blad 3 Inkomstutjämning'!$C$16","v":0.9668270411400941},null,{"$f":"IF(Z104>'Blad 2 Indata'!$C$55,ROUND(Data!$F4*'Blad 3 Inkomstutjämning'!$C$16*'Blad 2 Indata'!$C$55,0)-(Y104*Data!$F4),0)","v":0},{"$f":"IF('Blad 3 Inkomstutjämning'!$C$11<>0,((Data!$C4*$C53*('Blad 3 Inkomstutjämning'!$C$11/100+1)*('Blad 3 Inkomstutjämning'!$D$11/100+1))/Data!$R4),((Data!$C4*$C53*('Blad 3 Inkomstutjämning'!$C$12/100+1)*('Blad 3 Inkomstutjämning'!$D$12/100+1))/Data!$R4))","v":272737.47272721049},{"$f":"(Data!$C4*C53*('Blad 3 Inkomstutjämning'!$C$12/100+1)*('Blad 3 Inkomstutjämning'!$D$12/100+1))/Data!R4","v":272737.47272721049},{"$f":"IF('Blad 3 Inkomstutjämning'!$C$11<>0,AC104/'Blad 3 Inkomstutjämning'!$D$16,'Blad 8 Periodisering'!AC104/'Blad 3 Inkomstutjämning'!$D$17)","v":0.96685587328452038},{"$f":"AD104/('Blad 3 Inkomstutjämning'!$D$19/'Blad 2 Indata'!$D$55)","v":0.96685587328452038},null,null,{"$f":"IF(AE104>'Blad 2 Indata'!$D$55,ROUND(Data!$R4*'Blad 3 Inkomstutjämning'!$D$16*'Blad 2 Indata'!$D$55,0)-('Blad 8 Periodisering'!AC104*Data!$R4),0)","v":0},{"$f":"IF(AF104>'Blad 2 Indata'!$D$55,ROUND(Data!$R4*('Blad 3 Inkomstutjämning'!$D$19/'Blad 2 Indata'!$D$55)*'Blad 2 Indata'!$D$55,0)-('Blad 8 Periodisering'!AD104*Data!$R4),0)","v":0},{"$f":"(Data!$C4*$C53*$E53*('Blad 3 Inkomstutjämning'!$D$12/100+1)*('Blad 3 Inkomstutjämning'!$E$12/100+1))/Data!S4","v":282474.95602315926},{"$f":"AK104/'Blad 3 Inkomstutjämning'!$E$17","v":0.96629786514129468},null,{"$f":"IF(AL104>'Blad 2 Indata'!$E$55,ROUND(Data!$S4*'Blad 3 Inkomstutjämning'!$E$17*'Blad 2 Indata'!$E$55,0)-('Blad 8 Periodisering'!AK104*Data!$S4),0)","v":0},{"$f":"(Data!$C4*$C53*$E53*$G53*('Blad 3 Inkomstutjämning'!$E$12/100+1)*('Blad 3 Inkomstutjämning'!$F$12/100+1))/Data!T4","v":292316.73347261344},{"$f":"AO104/'Blad 3 Inkomstutjämning'!$F$17","v":0.9660361192641409},null,{"$f":"IF(AP104>'Blad 2 Indata'!$F$55,ROUND(Data!$T4*'Blad 3 Inkomstutjämning'!$F$17*'Blad 2 Indata'!$F$55,0)-('Blad 8 Periodisering'!AO104*Data!$T4),0)","v":0},{"$f":"(Data!$C4*$C53*$E53*$G53*$I53*('Blad 3 Inkomstutjämning'!$F$12/100+1)*('Blad 3 Inkomstutjämning'!$G$12/100+1))/Data!U4","v":302851.0889056804},{"$f":"AS104/'Blad 3 Inkomstutjämning'!$G$17","v":0.96577340969462855},null,{"$f":"IF(AT104>'Blad 2 Indata'!$G$55,ROUND(Data!$U4*'Blad 3 Inkomstutjämning'!$G$17*'Blad 2 Indata'!$G$55,0)-('Blad 8 Periodisering'!AS104*Data!$U4),0)","v":0},{"$f":"(Data!$C4*$C53*$E53*$G53*$I53*$K53*('Blad 3 Inkomstutjämning'!$G$12/100+1)*('Blad 3 Inkomstutjämning'!$H$12/100+1))/Data!BP4","v":313759.01441227907},{"$f":"AW104/'Blad 3 Inkomstutjämning'!$H$17","v":0.96551335958924644},null,{"$f":"IF(AX104>'Blad 2 Indata'!$H$55,ROUND(Data!$BP4*'Blad 3 Inkomstutjämning'!$H$17*'Blad 2 Indata'!$H$55,0)-('Blad 8 Periodisering'!AW104*Data!$BP4),0)","v":0},{"$f":"(Data!$C4*$C53*$E53*$G53*$I53*$K53*$M53*('Blad 3 Inkomstutjämning'!$H$12/100+1)*('Blad 3 Inkomstutjämning'!$I$12/100+1))/Data!BQ4","v":324736.81842245854},{"$f":"BA104/'Blad 3 Inkomstutjämning'!$I$17","v":0.96525195190177526},null,{"$f":"IF(BB104>'Blad 2 Indata'!$I$55,ROUND(Data!$BQ4*'Blad 3 Inkomstutjämning'!$I$17*'Blad 2 Indata'!$I$55,0)-('Blad 8 Periodisering'!BA104*Data!$BQ4),0)","v":0},{"$f":"(Data!$C4*$C53*$E53*$G53*$I53*$K53*$M53*$O53*('Blad 3 Inkomstutjämning'!$I$12/100+1)*('Blad 3 Inkomstutjämning'!$J$12/100+1))/Data!$BR4","v":335080.10484097159},{"$f":"BE104/'Blad 3 Inkomstutjämning'!$J$17","v":0.96498963198326093},null,{"$f":"IF(BF104>'Blad 2 Indata'!$J$55,ROUND(Data!$BR4*'Blad 3 Inkomstutjämning'!$J$17*'Blad 2 Indata'!$J$55,0)-('Blad 8 Periodisering'!BE104*Data!$BR4),0)","v":0}]
[4,{"$f":"IF((ROUND('Blad 3 Inkomstutjämning'!B$16*'Blad 2 Indata'!B$55*Data!E5,0)-ROUND((Data!AQ5*($B$46/100+1)*($C$46/100+1)),0))<0,ROUND((ROUND(#REF!*Data!AT5/100/Data!E5,0)+ROUND('Blad 8 Periodisering'!T105*Data!AS5/100/Data!E5,0)),0),ROUND((ROUND('Blad 3 Inkomstutjämning'!B$16*'Blad 2 Indata'!B$55*Data!E5,0)-ROUND((Data!AQ5*('Blad 8 Periodisering'!$B$46/100+1)*('Blad 8 Periodisering'!$C$46/100+1)),0))*Data!AR5/100/Data!E5,0))*Data!E5","v":1861721315},{"$f":"IF((ROUND('Blad 3 Inkomstutjämning'!C$16*'Blad 2 Indata'!C$55*Data!F5,0)-ROUND((Data!C5*('Blad 2 Indata'!B$7/100+1)*('Blad 2 Indata'!C$7/100+1)),0))<0,ROUND((ROUND('Blad 8 Periodisering'!AB105*Data!N5/100/Data!F5,0)),0),ROUND((ROUND('Blad 3 Inkomstutjämning'!C$16*'Blad 2 Indata'!C$55*Data!F5,0)-ROUND((Data!C5*('Blad 2 Indata'!B$7/100+1)*('Blad 2 Indata'!C$7/100+1)),0))*Data!M5/100/Data!F5,0))*Data!F5","v":1912110750},{"$f":"IF('Blad 2 Indata'!D$8<>0,'Blad 8 Periodisering'!L105,'Blad 8 Periodisering'!M105)","v":1992101580},{"$f":"'Blad 8 Periodisering'!N105","v":2074133829},{"$f":"'Blad 8 Periodisering'!O105","v":2150857850},2231725734,2315677728,2400535065,2480865089,null,{"$f":"IF($AI105>=0,ROUND((('Blad 3 Inkomstutjämning'!$D$19-$AC105)*Data!$R5)*Data!$AN5/100/Data!$R5,0),ROUND('Blad 8 Periodisering'!$AI105*Data!$AO5/100/Data!$R5,0))*Data!$R5","v":1992101580},{"$f":"IF($AJ105>=0,ROUND((('Blad 3 Inkomstutjämning'!$D$19-$AD105)*Data!$R5)*Data!$AN5/100/Data!$R5,0),ROUND('Blad 8 Periodisering'!$AJ105*Data!$AO5/100/Data!$R5,0))*Data!$R5","v":1992101580},{"$f":"IF($AN105>=0,ROUND((('Blad 3 Inkomstutjämning'!$E$19-$AK105)*Data!$S5)*Data!$AN5/100/Data!$S5,0),ROUND('Blad 8 Periodisering'!$AN105*Data!$AO5/100/Data!$S5,0))*Data!$S5","v":2074133829},{"$f":"IF($AR105>=0,ROUND((('Blad 3 Inkomstutjämning'!$F$19-$AO105)*Data!$T5)*Data!$AN5/100/Data!$T5,0),ROUND('Blad 8 Periodisering'!$AR105*Data!$AO5/100/Data!$T5,0))*Data!$T5","v":2150857850},{"$f":"IF($AV105>=0,ROUND((('Blad 3 Inkomstutjämning'!$G$19-$AS105)*Data!$U5)*Data!$AN5/100/Data!$U5,0),ROUND('Blad 8 Periodisering'!$AV105*Data!$AO5/100/Data!$U5,0))*Data!$U5","v":2231725734},{"$f":"IF($AZ105>=0,ROUND((('Blad 3 Inkomstutjämning'!$H$19-$AW105)*Data!$BP5)*Data!$AN5/100/Data!$BP5,0),ROUND('Blad 8 Periodisering'!$AZ105*Data!$AO5/100/Data!$BP5,0))*Data!$BP5","v":2315677728},{"$f":"IF($BD105>=0,ROUND((('Blad 3 Inkomstutjämning'!$I$19-$BA105)*Data!$BQ5)*Data!$AN5/100/Data!$BQ5,0),ROUND('Blad 8 Periodisering'!$BD105*Data!$AO5/100/Data!$BQ5,0))*Data!$BQ5","v":2400535065},{"$f":"IF($BH105>=0,ROUND((('Blad 3 Inkomstutjämning'!$J$19-$BE105)*Data!$BR5)*Data!$AN5/100/Data!$BR5,0),ROUND('Blad 8 Periodisering'!$BH105*Data!$AO5/100/Data!$BR5,0))*Data!$BR5","v":2480865089},null,{"$f":"(Data!$AQ5*('Blad 8 Periodisering'!$B$46/100+1)*('Blad 8 Periodisering'!$C$46/100+1))/Data!$E5","v":233240.52900351697},{"$f":"U105/'Blad 3 Inkomstutjämning'!$B$16","v":0.89388846349765827},null,{"$f":"IF(V105>'Blad 2 Indata'!$B$55,ROUND(Data!$E5*'Blad 3 Inkomstutjämning'!$B$16*'Blad 2 Indata'!$B$55,0)-(U105*Data!$E5),0)","v":0},{"$f":"(Data!$C5*('Blad 3 Inkomstutjämning'!$B$10/100+1)*('Blad 3 Inkomstutjämning'!$C$10/100+1))/Data!$F5","v":242686.77182991235},{"$f":"Y105/'Blad 3 Inkomstutjämning'!$C$16","v":0.89634010271321962},null,{"$f":"IF(Z105>'Blad 2 Indata'!$C$55,ROUND(Data!$F5*'Blad 3 Inkomstutjämning'!$C$16*'Blad 2 Indata'!$C$55,0)-(Y105*Data!$F5),0)","v":0},{"$f":"IF('Blad 3 Inkomstutjämning'!$C$11<>0,((Data!$C5*$C54*('Blad 3 Inkomstutjämning'!$C$11/100+1)*('Blad 3 Inkomstutjämning'!$D$11/100+1))/Data!$R5),((Data!$C5*$C54*('Blad 3 Inkomstutjämning'!$C$12/100+1)*('Blad 3 Inkomstutjämning'!$D$12/100+1))/Data!$R5))","v":252954.04344385749},{"$f":"(Data!$C5*C54*('Blad 3 Inkomstutjämning'!$C$12/100+1)*('Blad 3 Inkomstutjämning'!$D$12/100+1))/Data!R5","v":252954.04344385749},{"$f":"IF('Blad 3 Inkomstutjämning'!$C$11<>0,AC105/'Blad 3 Inkomstutjämning'!$D$16,'Blad 8 Periodisering'!AC105/'Blad 3 Inkomstutjämning'!$D$17)","v":0.89672350531523071},{"$f":"AD105/('Blad 3 Inkomstutjämning'!$D$19/'Blad 2 Indata'!$D$55)","v":0.89672350531523071},null,null,{"$f":"IF(AE105>'Blad 2 Indata'!$D$55,ROUND(Data!$R5*'Blad 3 Inkomstutjämning'!$D$16*'Blad 2 Indata'!$D$55,0)-('Blad 8 Periodisering'!AC105*Data!$R5),0)","v":0},{"$f":"IF(AF105>'Blad 2 Indata'!$D$55,ROUND(Data!$R5*('Blad 3 Inkomstutjämning'!$D$19/'Blad 2 Indata'!$D$55)*'Blad 2 Indata'!$D$55,0)-('Blad 8 Periodisering'!AD105*Data!$R5),0)","v":0},{"$f":"(Data!$C5*$C54*$E54*('Blad 3 Inkomstutjämning'!$D$12/100+1)*('Blad 3 Inkomstutjämning'!$E$12/100+1))/Data!S5","v":261881.62854793339},{"$f":"AK105/'Blad 3 Inkomstutjämning'!$E$17","v":0.89585166114636483},null,{"$f":"IF(AL105>'Blad 2 Indata'!$E$55,ROUND(Data!$S5*'Blad 3 Inkomstutjämning'!$E$17*'Blad 2 Indata'!$E$55,0)-('Blad 8 Periodisering'!AK105*Data!$S5),0)","v":0},{"$f":"(Data!$C5*$C54*$E54*$G54*('Blad 3 Inkomstutjämning'!$E$12/100+1)*('Blad 3 Inkomstutjämning'!$F$12/100+1))/Data!T5","v":271006.46066657477},{"$f":"AO105/'Blad 3 Inkomstutjämning'!$F$17","v":0.89561082065928199},null,{"$f":"IF(AP105>'Blad 2 Indata'!$F$55,ROUND(Data!$T5*'Blad 3 Inkomstutjämning'!$F$17*'Blad 2 Indata'!$F$55,0)-('Blad 8 Periodisering'!AO105*Data!$T5),0)","v":0},{"$f":"(Data!$C5*$C54*$E54*$G54*$I54*('Blad 3 Inkomstutjämning'!$F$12/100+1)*('Blad 3 Inkomstutjämning'!$G$12/100+1))/Data!U5","v":280772.00323433254},{"$f":"AS105/'Blad 3 Inkomstutjämning'!$G$17","v":0.89536456973038336},null,{"$f":"IF(AT105>'Blad 2 Indata'!$G$55,ROUND(Data!$U5*'Blad 3 Inkomstutjämning'!$G$17*'Blad 2 Indata'!$G$55,0)-('Blad 8 Periodisering'!AS105*Data!$U5),0)","v":0},{"$f":"(Data!$C5*$C54*$E54*$G54*$I54*$K54*('Blad 3 Inkomstutjämning'!$G$12/100+1)*('Blad 3 Inkomstutjämning'!$H$12/100+1))/Data!BP5","v":290883.85997239139},{"$f":"AW105/'Blad 3 Inkomstutjämning'!$H$17","v":0.8951209048712524},null,{"$f":"IF(AX105>'Blad 2 Indata'!$H$55,ROUND(Data!$BP5*'Blad 3 Inkomstutjämning'!$H$17*'Blad 2 Indata'!$H$55,0)-('Blad 8 Periodisering'!AW105*Data!$BP5),0)","v":0},{"$f":"(Data!$C5*$C54*$E54*$G54*$I54*$K54*$M54*('Blad 3 Inkomstutjämning'!$H$12/100+1)*('Blad 3 Inkomstutjämning'!$I$12/100+1))/Data!BQ5","v":301062.04168203886},{"$f":"BA105/'Blad 3 Inkomstutjämning'!$I$17","v":0.89488073692669989},null,{"$f":"IF(BB105>'Blad 2 Indata'!$I$55,ROUND(Data!$BQ5*'Blad 3 Inkomstutjämning'!$I$17*'Blad 2 Indata'!$I$55,0)-('Blad 8 Periodisering'!BA105*Data!$BQ5),0)","v":0},{"$f":"(Data!$C5*$C54*$E54*$G54*$I54*$K54*$M54*$O54*('Blad 3 Inkomstutjämning'!$I$12/100+1)*('Blad 3 Inkomstutjämning'!$J$12/100+1))/Data!$BR5","v":310651.81900611188},{"$f":"BE105/'Blad 3 Inkomstutjämning'!$J$17","v":0.89463916289482937},null,{"$f":"IF(BF105>'Blad 2 Indata'!$J$55,ROUND(Data!$BR5*'Blad 3 Inkomstutjämning'!$J$17*'Blad 2 Indata'!$J$55,0)-('Blad 8 Periodisering'!BE105*Data!$BR5),0)","v":0}]
[5,{"$f":"IF((ROUND('Blad 3 Inkomstutjämning'!B$16*'Blad 2 Indata'!B$55*Data!E6,0)-ROUND((Data!AQ6*($B$46/100+1)*($C$46/100+1)),0))<0,ROUND((ROUND(#REF!*Data!AT6/100/Data!E6,0)+ROUND('Blad 8 Periodisering'!T106*Data!AS6/100/Data!E6,0)),0),ROUND((ROUND('Blad 3 Inkomstutjämning'!B$16*'Blad 2 Indata'!B$55*Data!E6,0)-ROUND((Data!AQ6*('Blad 8 Periodisering'!$B$46/100+1)*('Blad 8 Periodisering'!$C$46/100+1)),0))*Data!AR6/100/Data!E6,0))*Data!E6","v":2668483832},{"$f":"IF((ROUND('Blad 3 Inkomstutjämning'!C$16*'Blad 2 Indata'!C$55*Data!F6,0)-ROUND((Data!C6*('Blad 2 Indata'!B$7/100+1)*('Blad 2 Indata'!C$7/100+1)),0))<0,ROUND((ROUND('Blad 8 Periodisering'!AB106*Data!N6/100/Data!F6,0)),0),ROUND((ROUND('Blad 3 Inkomstutjämning'!C$16*'Blad 2 Indata'!C$55*Data!F6,0)-ROUND((Data!C6*('Blad 2 Indata'!B$7/100+1)*('Blad 2 Indata'!C$7/100+1)),0))*Data!M6/100/Data!F6,0))*Data!F6","v":2816580940},{"$f":"IF('Blad 2 Indata'!D$8<>0,'Blad 8 Periodisering'!L106,'Blad 8 Periodisering'!M106)","v":2945017980},{"$f":"'Blad 8 Periodisering'!N106","v":3067191088},{"$f":"'Blad 8 Periodisering'!O106","v":3187704121},3314791766,3446731728,3580110240,3707288064,null,{"$f":"IF($AI106>=0,ROUND((('Blad 3 Inkomstutjämning'!$D$19-$AC106)*Data!$R6)*Data!$AN6/100/Data!$R6,0),ROUND('Blad 8 Periodisering'!$AI106*Data!$AO6/100/Data!$R6,0))*Data!$R6","v":2945017980},{"$f":"IF($AJ106>=0,ROUND((('Blad 3 Inkomstutjämning'!$D$19-$AD106)*Data!$R6)*Data!$AN6/100/Data!$R6,0),ROUND('Blad 8 Periodisering'!$AJ106*Data!$AO6/100/Data!$R6,0))*Data!$R6","v":2945017980},{"$f":"IF($AN106>=0,ROUND((('Blad 3 Inkomstutjämning'!$E$19-$AK106)*Data!$S6)*Data!$AN6/100/Data!$S6,0),ROUND('Blad 8 Periodisering'!$AN106*Data!$AO6/100/Data!$S6,0))*Data!$S6","v":3067191088},{"$f":"IF($AR106>=0,ROUND((('Blad 3 Inkomstutjämning'!$F$19-$AO106)*Data!$T6)*Data!$AN6/100/Data!$T6,0),ROUND('Blad 8 Periodisering'!$AR106*Data!$AO6/100/Data!$T6,0))*Data!$T6","v":3187704121},{"$f":"IF($AV106>=0,ROUND((('Blad 3 Inkomstutjämning'!$G$19-$AS106)*Data!$U6)*Data!$AN6/100/Data!$U6,0),ROUND('Blad 8 Periodisering'!$AV106*Data!$AO6/100/Data!$U6,0))*Data!$U6","v":3314791766},{"$f":"IF($AZ106>=0,ROUND((('Blad 3 Inkomstutjämning'!$H$19-$AW106)*Data!$BP6)*Data!$AN6/100/Data!$BP6,0),ROUND('Blad 8 Periodisering'!$AZ106*Data!$AO6/100/Data!$BP6,0))*Data!$BP6","v":3446731728},{"$f":"IF($BD106>=0,ROUND((('Blad 3 Inkomstutjämning'!$I$19-$BA106)*Data!$BQ6)*Data!$AN6/100/Data!$BQ6,0),ROUND('Blad 8 Periodisering'!$BD106*Data!$AO6/100/Data!$BQ6,0))*Data!$BQ6","v":3580110240},{"$f":"IF($BH106>=0,ROUND((('Blad 3 Inkomstutjämning'!$J$19-$BE106)*Data!$BR6)*Data!$AN6/100/Data!$BR6,0),ROUND('Blad 8 Periodisering'!$BH106*Data!$AO6/100/Data!$BR6,0))*Data!$BR6","v":3707288064},null,{"$f":"(Data!$AQ6*('Blad 8 Periodisering'!$B$46/100+1)*('Blad 8 Periodisering'!$C$46/100+1))/Data!$E6","v":244341.93827671304},{"$f":"U106/'Blad 3 Inkomstutjämning'!$B$16","v":0.93643433543626231},null,{"$f":"IF(V106>'Blad 2 Indata'!$B$55,ROUND(Data!$E6*'Blad 3 Inkomstutjämning'!$B$16*'Blad 2 Indata'!$B$55,0)-(U106*Data!$E6),0)","v":0},{"$f":"(Data!$C6*('Blad 3 Inkomstutjämning'!$B$10/100+1)*('Blad 3 Inkomstutjämning'!$C$10/100+1))/Data!$F6","v":252660.57214103499},{"$f":"Y106/'Blad 3 Inkomstutjämning'!$C$16","v":0.9331773688233741},null,{"$f":"IF(Z106>'Blad 2 Indata'!$C$55,ROUND(Data!$F6*'Blad 3 Inkomstutjämning'!$C$16*'Blad 2 Indata'!$C$55,0)-(Y106*Data!$F6),0)","v":0},{"$f":"IF('Blad 3 Inkomstutjämning'!$C$11<>0,((Data!$C6*$C55*('Blad 3 Inkomstutjämning'!$C$11/100+1)*('Blad 3 Inkomstutjämning'!$D$11/100+1))/Data!$R6),((Data!$C6*$C55*('Blad 3 Inkomstutjämning'!$C$12/100+1)*('Blad 3 Inkomstutjämning'!$D$12/100+1))/Data!$R6))","v":263220.50841782143},{"$f":"(Data!$C6*C55*('Blad 3 Inkomstutjämning'!$C$12/100+1)*('Blad 3 Inkomstutjämning'!$D$12/100+1))/Data!R6","v":263220.50841782143},{"$f":"IF('Blad 3 Inkomstutjämning'!$C$11<>0,AC106/'Blad 3 Inkomstutjämning'!$D$16,'Blad 8 Periodisering'!AC106/'Blad 3 Inkomstutjämning'!$D$17)","v":0.93311818133349433},{"$f":"AD106/('Blad 3 Inkomstutjämning'!$D$19/'Blad 2 Indata'!$D$55)","v":0.93311818133349433},null,null,{"$f":"IF(AE106>'Blad 2 Indata'!$D$55,ROUND(Data!$R6*'Blad 3 Inkomstutjämning'!$D$16*'Blad 2 Indata'!$D$55,0)-('Blad 8 Periodisering'!AC106*Data!$R6),0)","v":0},{"$f":"IF(AF106>'Blad 2 Indata'!$D$55,ROUND(Data!$R6*('Blad 3 Inkomstutjämning'!$D$19/'Blad 2 Indata'!$D$55)*'Blad 2 Indata'!$D$55,0)-('Blad 8 Periodisering'!AD106*Data!$R6),0)","v":0},{"$f":"(Data!$C6*$C55*$E55*('Blad 3 Inkomstutjämning'!$D$12/100+1)*('Blad 3 Inkomstutjämning'!$E$12/100+1))/Data!S6","v":272644.09804467199},{"$f":"AK106/'Blad 3 Inkomstutjämning'!$E$17","v":0.9326682039109353},null,{"$f":"IF(AL106>'Blad 2 Indata'!$E$55,ROUND(Data!$S6*'Blad 3 Inkomstutjämning'!$E$17*'Blad 2 Indata'!$E$55,0)-('Blad 8 Periodisering'!AK106*Data!$S6),0)","v":0},{"$f":"(Data!$C6*$C55*$E55*$G55*('Blad 3 Inkomstutjämning'!$E$12/100+1)*('Blad 3 Inkomstutjämning'!$F$12/100+1))/Data!T6","v":282143.23394626006},{"$f":"AO106/'Blad 3 Inkomstutjämning'!$F$17","v":0.93241516337488539},null,{"$f":"IF(AP106>'Blad 2 Indata'!$F$55,ROUND(Data!$T6*'Blad 3 Inkomstutjämning'!$F$17*'Blad 2 Indata'!$F$55,0)-('Blad 8 Periodisering'!AO106*Data!$T6),0)","v":0},{"$f":"(Data!$C6*$C55*$E55*$G55*$I55*('Blad 3 Inkomstutjämning'!$F$12/100+1)*('Blad 3 Inkomstutjämning'!$G$12/100+1))/Data!U6","v":292310.5249263171},{"$f":"AS106/'Blad 3 Inkomstutjämning'!$G$17","v":0.93216020245394249},null,{"$f":"IF(AT106>'Blad 2 Indata'!$G$55,ROUND(Data!$U6*'Blad 3 Inkomstutjämning'!$G$17*'Blad 2 Indata'!$G$55,0)-('Blad 8 Periodisering'!AS106*Data!$U6),0)","v":0},{"$f":"(Data!$C6*$C55*$E55*$G55*$I55*$K55*('Blad 3 Inkomstutjämning'!$G$12/100+1)*('Blad 3 Inkomstutjämning'!$H$12/100+1))/Data!BP6","v":302838.70475974027},{"$f":"AW106/'Blad 3 Inkomstutjämning'!$H$17","v":0.93190889126782572},null,{"$f":"IF(AX106>'Blad 2 Indata'!$H$55,ROUND(Data!$BP6*'Blad 3 Inkomstutjämning'!$H$17*'Blad 2 Indata'!$H$55,0)-('Blad 8 Periodisering'!AW106*Data!$BP6),0)","v":0},{"$f":"(Data!$C6*$C55*$E55*$G55*$I55*$K55*$M55*('Blad 3 Inkomstutjämning'!$H$12/100+1)*('Blad 3 Inkomstutjämning'!$I$12/100+1))/Data!BQ6","v":313434.79076405702},{"$f":"BA106/'Blad 3 Inkomstutjämning'!$I$17","v":0.93165765757224306},null,{"$f":"IF(BB106>'Blad 2 Indata'!$I$55,ROUND(Data!$BQ6*'Blad 3 Inkomstutjämning'!$I$17*'Blad 2 Indata'!$I$55,0)-('Blad 8 Periodisering'!BA106*Data!$BQ6),0)","v":0},{"$f":"(Data!$C6*$C55*$E55*$G55*$I55*$K55*$M55*$O55*('Blad 3 Inkomstutjämning'!$I$12/100+1)*('Blad 3 Inkomstutjämning'!$J$12/100+1))/Data!$BR6","v":323418.12054794712},{"$f":"BE106/'Blad 3 Inkomstutjämning'!$J$17","v":0.93140454660058436},null,{"$f":"IF(BF106>'Blad 2 Indata'!$J$55,ROUND(Data!$BR6*'Blad 3 Inkomstutjämning'!$J$17*'Blad 2 Indata'!$J$55,0)-('Blad 8 Periodisering'!BE106*Data!$BR6),0)","v":0}]
[6,{"$f":"IF((ROUND('Blad 3 Inkomstutjämning'!B$16*'Blad 2 Indata'!B$55*Data!E7,0)-ROUND((Data!AQ7*($B$46/100+1)*($C$46/100+1)),0))<0,ROUND((ROUND(#REF!*Data!AT7/100/Data!E7,0)+ROUND('Blad 8 Periodisering'!T107*Data!AS7/100/Data!E7,0)),0),ROUND((ROUND('Blad 3 Inkomstutjämning'!B$16*'Blad 2 Indata'!B$55*Data!E7,0)-ROUND((Data!AQ7*('Blad 8 Periodisering'!$B$46/100+1)*('Blad 8 Periodisering'!$C$46/100+1)),0))*Data!AR7/100/Data!E7,0))*Data!E7","v":2160278365},{"$f":"IF((ROUND('Blad 3 Inkomstutjämning'!C$16*'Blad 2 Indata'!C$55*Data!F7,0)-ROUND((Data!C7*('Blad 2 Indata'!B$7/100+1)*('Blad 2 Indata'!C$7/100+1)),0))<0,ROUND((ROUND('Blad 8 Periodisering'!AB107*Data!N7/100/Data!F7,0)),0),ROUND((ROUND('Blad 3 Inkomstutjämning'!C$16*'Blad 2 Indata'!C$55*Data!F7,0)-ROUND((Data!C7*('Blad 2 Indata'!B$7/100+1)*('Blad 2 Indata'!C$7/100+1)),0))*Data!M7/100/Data!F7,0))*Data!F7","v":2260248522},{"$f":"IF('Blad 2 Indata'!D$8<>0,'Blad 8 Periodisering'!L107,'Blad 8 Periodisering'!M107)","v":2353254732},{"$f":"'Blad 8 Periodisering'!N107","v":2460213216},{"$f":"'Blad 8 Periodisering'!O107","v":2555824128},2656873584,2762055516,2868327514,2969354295,null,{"$f":"IF($AI107>=0,ROUND((('Blad 3 Inkomstutjämning'!$D$19-$AC107)*Data!$R7)*Data!$AN7/100/Data!$R7,0),ROUND('Blad 8 Periodisering'!$AI107*Data!$AO7/100/Data!$R7,0))*Data!$R7","v":2353254732},{"$f":"IF($AJ107>=0,ROUND((('Blad 3 Inkomstutjämning'!$D$19-$AD107)*Data!$R7)*Data!$AN7/100/Data!$R7,0),ROUND('Blad 8 Periodisering'!$AJ107*Data!$AO7/100/Data!$R7,0))*Data!$R7","v":2353254732},{"$f":"IF($AN107>=0,ROUND((('Blad 3 Inkomstutjämning'!$E$19-$AK107)*Data!$S7)*Data!$AN7/100/Data!$S7,0),ROUND('Blad 8 Periodisering'!$AN107*Data!$AO7/100/Data!$S7,0))*Data!$S7","v":2460213216},{"$f":"IF($AR107>=0,ROUND((('Blad 3 Inkomstutjämning'!$F$19-$AO107)*Data!$T7)*Data!$AN7/100/Data!$T7,0),ROUND('Blad 8 Periodisering'!$AR107*Data!$AO7/100/Data!$T7,0))*Data!$T7","v":2555824128},{"$f":"IF($AV107>=0,ROUND((('Blad 3 Inkomstutjämning'!$G$19-$AS107)*Data!$U7)*Data!$AN7/100/Data!$U7,0),ROUND('Blad 8 Periodisering'!$AV107*Data!$AO7/100/Data!$U7,0))*Data!$U7","v":2656873584},{"$f":"IF($AZ107>=0,ROUND((('Blad 3 Inkomstutjämning'!$H$19-$AW107)*Data!$BP7)*Data!$AN7/100/Data!$BP7,0),ROUND('Blad 8 Periodisering'!$AZ107*Data!$AO7/100/Data!$BP7,0))*Data!$BP7","v":2762055516},{"$f":"IF($BD107>=0,ROUND((('Blad 3 Inkomstutjämning'!$I$19-$BA107)*Data!$BQ7)*Data!$AN7/100/Data!$BQ7,0),ROUND('Blad 8 Periodisering'!$BD107*Data!$AO7/100/Data!$BQ7,0))*Data!$BQ7","v":2868327514},{"$f":"IF($BH107>=0,ROUND((('Blad 3 Inkomstutjämning'!$J$19-$BE107)*Data!$BR7)*Data!$AN7/100/Data!$BR7,0),ROUND('Blad 8 Periodisering'!$BH107*Data!$AO7/100/Data!$BR7,0))*Data!$BR7","v":2969354295},null,{"$f":"(Data!$AQ7*('Blad 8 Periodisering'!$B$46/100+1)*('Blad 8 Periodisering'!$C$46/100+1))/Data!$E7","v":241166.53274203863},{"$f":"U107/'Blad 3 Inkomstutjämning'!$B$16","v":0.92426467355760455},null,{"$f":"IF(V107>'Blad 2 Indata'!$B$55,ROUND(Data!$E7*'Blad 3 Inkomstutjämning'!$B$16*'Blad 2 Indata'!$B$55,0)-(U107*Data!$E7),0)","v":0},{"$f":"(Data!$C7*('Blad 3 Inkomstutjämning'!$B$10/100+1)*('Blad 3 Inkomstutjämning'!$C$10/100+1))/Data!$F7","v":249780.10343192349},{"$f":"Y107/'Blad 3 Inkomstutjämning'!$C$16","v":0.92253863643957223},null,{"$f":"IF(Z107>'Blad 2 Indata'!$C$55,ROUND(Data!$F7*'Blad 3 Inkomstutjämning'!$C$16*'Blad 2 Indata'!$C$55,0)-(Y107*Data!$F7),0)","v":0},{"$f":"IF('Blad 3 Inkomstutjämning'!$C$11<>0,((Data!$C7*$C56*('Blad 3 Inkomstutjämning'!$C$11/100+1)*('Blad 3 Inkomstutjämning'!$D$11/100+1))/Data!$R7),((Data!$C7*$C56*('Blad 3 Inkomstutjämning'!$C$12/100+1)*('Blad 3 Inkomstutjämning'!$D$12/100+1))/Data!$R7))","v":260474.01394175962},{"$f":"(Data!$C7*C56*('Blad 3 Inkomstutjämning'!$C$12/100+1)*('Blad 3 Inkomstutjämning'!$D$12/100+1))/Data!R7","v":260474.01394175962},{"$f":"IF('Blad 3 Inkomstutjämning'!$C$11<>0,AC107/'Blad 3 Inkomstutjämning'!$D$16,'Blad 8 Periodisering'!AC107/'Blad 3 Inkomstutjämning'!$D$17)","v":0.92338184298375903},{"$f":"AD107/('Blad 3 Inkomstutjämning'!$D$19/'Blad 2 Indata'!$D$55)","v":0.92338184298375903},null,null,{"$f":"IF(AE107>'Blad 2 Indata'!$D$55,ROUND(Data!$R7*'Blad 3 Inkomstutjämning'!$D$16*'Blad 2 Indata'!$D$55,0)-('Blad 8 Periodisering'!AC107*Data!$R7),0)","v":0},{"$f":"IF(AF107>'Blad 2 Indata'!$D$55,ROUND(Data!$R7*('Blad 3 Inkomstutjämning'!$D$19/'Blad 2 Indata'!$D$55)*'Blad 2 Indata'!$D$55,0)-('Blad 8 Periodisering'!AD107*Data!$R7),0)","v":0},{"$f":"(Data!$C7*$C56*$E56*('Blad 3 Inkomstutjämning'!$D$12/100+1)*('Blad 3 Inkomstutjämning'!$E$12/100+1))/Data!S7","v":269535.46522184432},{"$f":"AK107/'Blad 3 Inkomstutjämning'!$E$17","v":0.9220341098216871},null,{"$f":"IF(AL107>'Blad 2 Indata'!$E$55,ROUND(Data!$S7*'Blad 3 Inkomstutjämning'!$E$17*'Blad 2 Indata'!$E$55,0)-('Blad 8 Periodisering'!AK107*Data!$S7),0)","v":0},{"$f":"(Data!$C7*$C56*$E56*$G56*('Blad 3 Inkomstutjämning'!$E$12/100+1)*('Blad 3 Inkomstutjämning'!$F$12/100+1))/Data!T7","v":278926.82831339975},{"$f":"AO107/'Blad 3 Inkomstutjämning'!$F$17","v":0.92178572051461616},null,{"$f":"IF(AP107>'Blad 2 Indata'!$F$55,ROUND(Data!$T7*'Blad 3 Inkomstutjämning'!$F$17*'Blad 2 Indata'!$F$55,0)-('Blad 8 Periodisering'!AO107*Data!$T7),0)","v":0},{"$f":"(Data!$C7*$C56*$E56*$G56*$I56*('Blad 3 Inkomstutjämning'!$F$12/100+1)*('Blad 3 Inkomstutjämning'!$G$12/100+1))/Data!U7","v":288978.80927823577},{"$f":"AS107/'Blad 3 Inkomstutjämning'!$G$17","v":0.9215355671151455},null,{"$f":"IF(AT107>'Blad 2 Indata'!$G$55,ROUND(Data!$U7*'Blad 3 Inkomstutjämning'!$G$17*'Blad 2 Indata'!$G$55,0)-('Blad 8 Periodisering'!AS107*Data!$U7),0)","v":0},{"$f":"(Data!$C7*$C56*$E56*$G56*$I56*$K56*('Blad 3 Inkomstutjämning'!$G$12/100+1)*('Blad 3 Inkomstutjämning'!$H$12/100+1))/Data!BP7","v":299386.68182006653},{"$f":"AW107/'Blad 3 Inkomstutjämning'!$H$17","v":0.92128617092270126},null,{"$f":"IF(AX107>'Blad 2 Indata'!$H$55,ROUND(Data!$BP7*'Blad 3 Inkomstutjämning'!$H$17*'Blad 2 Indata'!$H$55,0)-('Blad 8 Periodisering'!AW107*Data!$BP7),0)","v":0},{"$f":"(Data!$C7*$C56*$E56*$G56*$I56*$K56*$M56*('Blad 3 Inkomstutjämning'!$H$12/100+1)*('Blad 3 Inkomstutjämning'!$I$12/100+1))/Data!BQ7","v":309861.42761477968},{"$f":"BA107/'Blad 3 Inkomstutjämning'!$I$17","v":0.92103614636988018},null,{"$f":"IF(BB107>'Blad 2 Indata'!$I$55,ROUND(Data!$BQ7*'Blad 3 Inkomstutjämning'!$I$17*'Blad 2 Indata'!$I$55,0)-('Blad 8 Periodisering'!BA107*Data!$BQ7),0)","v":0},{"$f":"(Data!$C7*$C56*$E56*$G56*$I56*$K56*$M56*$O56*('Blad 3 Inkomstutjämning'!$I$12/100+1)*('Blad 3 Inkomstutjämning'!$J$12/100+1))/Data!$BR7","v":319730.93519433076},{"$f":"BE107/'Blad 3 Inkomstutjämning'!$J$17","v":0.92078590471156807},null,{"$f":"IF(BF107>'Blad 2 Indata'!$J$55,ROUND(Data!$BR7*'Blad 3 Inkomstutjämning'!$J$17*'Blad 2 Indata'!$J$55,0)-('Blad 8 Periodisering'!BE107*Data!$BR7),0)","v":0}]
[7,{"$f":"IF((ROUND('Blad 3 Inkomstutjämning'!B$16*'Blad 2 Indata'!B$55*Data!E8,0)-ROUND((Data!AQ8*($B$46/100+1)*($C$46/100+1)),0))<0,ROUND((ROUND(#REF!*Data!AT8/100/Data!E8,0)+ROUND('Blad 8 Periodisering'!T108*Data!AS8/100/Data!E8,0)),0),ROUND((ROUND('Blad 3 Inkomstutjämning'!B$16*'Blad 2 Indata'!B$55*Data!E8,0)-ROUND((Data!AQ8*('Blad 8 Periodisering'!$B$46/100+1)*('Blad 8 Periodisering'!$C$46/100+1)),0))*Data!AR8/100/Data!E8,0))*Data!E8","v":1244537901},{"$f":"IF((ROUND('Blad 3 Inkomstutjämning'!C$16*'Blad 2 Indata'!C$55*Data!F8,0)-ROUND((Data!C8*('Blad 2 Indata'!B$7/100+1)*('Blad 2 Indata'!C$7/100+1)),0))<0,ROUND((ROUND('Blad 8 Periodisering'!AB108*Data!N8/100/Data!F8,0)),0),ROUND((ROUND('Blad 3 Inkomstutjämning'!C$16*'Blad 2 Indata'!C$55*Data!F8,0)-ROUND((Data!C8*('Blad 2 Indata'!B$7/100+1)*('Blad 2 Indata'!C$7/100+1)),0))*Data!M8/100/Data!F8,0))*Data!F8","v":1291905296},{"$f":"IF('Blad 2 Indata'!D$8<>0,'Blad 8 Periodisering'!L108,'Blad 8 Periodisering'!M108)","v":1341720984},{"$f":"'Blad 8 Periodisering'!N108","v":1402359400},{"$f":"'Blad 8 Periodisering'!O108","v":1454750157},1510181784,1567746271,1625765106,1680764848,null,{"$f":"IF($AI108>=0,ROUND((('Blad 3 Inkomstutjämning'!$D$19-$AC108)*Data!$R8)*Data!$AN8/100/Data!$R8,0),ROUND('Blad 8 Periodisering'!$AI108*Data!$AO8/100/Data!$R8,0))*Data!$R8","v":1341720984},{"$f":"IF($AJ108>=0,ROUND((('Blad 3 Inkomstutjämning'!$D$19-$AD108)*Data!$R8)*Data!$AN8/100/Data!$R8,0),ROUND('Blad 8 Periodisering'!$AJ108*Data!$AO8/100/Data!$R8,0))*Data!$R8","v":1341720984},{"$f":"IF($AN108>=0,ROUND((('Blad 3 Inkomstutjämning'!$E$19-$AK108)*Data!$S8)*Data!$AN8/100/Data!$S8,0),ROUND('Blad 8 Periodisering'!$AN108*Data!$AO8/100/Data!$S8,0))*Data!$S8","v":1402359400},{"$f":"IF($AR108>=0,ROUND((('Blad 3 Inkomstutjämning'!$F$19-$AO108)*Data!$T8)*Data!$AN8/100/Data!$T8,0),ROUND('Blad 8 Periodisering'!$AR108*Data!$AO8/100/Data!$T8,0))*Data!$T8","v":1454750157},{"$f":"IF($AV108>=0,ROUND((('Blad 3 Inkomstutjämning'!$G$19-$AS108)*Data!$U8)*Data!$AN8/100/Data!$U8,0),ROUND('Blad 8 Periodisering'!$AV108*Data!$AO8/100/Data!$U8,0))*Data!$U8","v":1510181784},{"$f":"IF($AZ108>=0,ROUND((('Blad 3 Inkomstutjämning'!$H$19-$AW108)*Data!$BP8)*Data!$AN8/100/Data!$BP8,0),ROUND('Blad 8 Periodisering'!$AZ108*Data!$AO8/100/Data!$BP8,0))*Data!$BP8","v":1567746271},{"$f":"IF($BD108>=0,ROUND((('Blad 3 Inkomstutjämning'!$I$19-$BA108)*Data!$BQ8)*Data!$AN8/100/Data!$BQ8,0),ROUND('Blad 8 Periodisering'!$BD108*Data!$AO8/100/Data!$BQ8,0))*Data!$BQ8","v":1625765106},{"$f":"IF($BH108>=0,ROUND((('Blad 3 Inkomstutjämning'!$J$19-$BE108)*Data!$BR8)*Data!$AN8/100/Data!$BR8,0),ROUND('Blad 8 Periodisering'!$BH108*Data!$AO8/100/Data!$BR8,0))*Data!$BR8","v":1680764848},null,{"$f":"(Data!$AQ8*('Blad 8 Periodisering'!$B$46/100+1)*('Blad 8 Periodisering'!$C$46/100+1))/Data!$E8","v":234618.89677995077},{"$f":"U108/'Blad 3 Inkomstutjämning'!$B$16","v":0.89917102334724819},null,{"$f":"IF(V108>'Blad 2 Indata'!$B$55,ROUND(Data!$E8*'Blad 3 Inkomstutjämning'!$B$16*'Blad 2 Indata'!$B$55,0)-(U108*Data!$E8),0)","v":0},{"$f":"(Data!$C8*('Blad 3 Inkomstutjämning'!$B$10/100+1)*('Blad 3 Inkomstutjämning'!$C$10/100+1))/Data!$F8","v":243354.1677859117},{"$f":"Y108/'Blad 3 Inkomstutjämning'!$C$16","v":0.89880506508113189},null,{"$f":"IF(Z108>'Blad 2 Indata'!$C$55,ROUND(Data!$F8*'Blad 3 Inkomstutjämning'!$C$16*'Blad 2 Indata'!$C$55,0)-(Y108*Data!$F8),0)","v":0},{"$f":"IF('Blad 3 Inkomstutjämning'!$C$11<>0,((Data!$C8*$C57*('Blad 3 Inkomstutjämning'!$C$11/100+1)*('Blad 3 Inkomstutjämning'!$D$11/100+1))/Data!$R8),((Data!$C8*$C57*('Blad 3 Inkomstutjämning'!$C$12/100+1)*('Blad 3 Inkomstutjämning'!$D$12/100+1))/Data!$R8))","v":253895.82789995192},{"$f":"(Data!$C8*C57*('Blad 3 Inkomstutjämning'!$C$12/100+1)*('Blad 3 Inkomstutjämning'!$D$12/100+1))/Data!R8","v":253895.82789995192},{"$f":"IF('Blad 3 Inkomstutjämning'!$C$11<>0,AC108/'Blad 3 Inkomstutjämning'!$D$16,'Blad 8 Periodisering'!AC108/'Blad 3 Inkomstutjämning'!$D$17)","v":0.90006213650381595},{"$f":"AD108/('Blad 3 Inkomstutjämning'!$D$19/'Blad 2 Indata'!$D$55)","v":0.90006213650381595},null,null,{"$f":"IF(AE108>'Blad 2 Indata'!$D$55,ROUND(Data!$R8*'Blad 3 Inkomstutjämning'!$D$16*'Blad 2 Indata'!$D$55,0)-('Blad 8 Periodisering'!AC108*Data!$R8),0)","v":0},{"$f":"IF(AF108>'Blad 2 Indata'!$D$55,ROUND(Data!$R8*('Blad 3 Inkomstutjämning'!$D$19/'Blad 2 Indata'!$D$55)*'Blad 2 Indata'!$D$55,0)-('Blad 8 Periodisering'!AD108*Data!$R8),0)","v":0},{"$f":"(Data!$C8*$C57*$E57*('Blad 3 Inkomstutjämning'!$D$12/100+1)*('Blad 3 Inkomstutjämning'!$E$12/100+1))/Data!S8","v":262600.42533762759},{"$f":"AK108/'Blad 3 Inkomstutjämning'!$E$17","v":0.89831054037987457},null,{"$f":"IF(AL108>'Blad 2 Indata'!$E$55,ROUND(Data!$S8*'Blad 3 Inkomstutjämning'!$E$17*'Blad 2 Indata'!$E$55,0)-('Blad 8 Periodisering'!AK108*Data!$S8),0)","v":0},{"$f":"(Data!$C8*$C57*$E57*$G57*('Blad 3 Inkomstutjämning'!$E$12/100+1)*('Blad 3 Inkomstutjämning'!$F$12/100+1))/Data!T8","v":271751.04357243236},{"$f":"AO108/'Blad 3 Inkomstutjämning'!$F$17","v":0.89807148711617668},null,{"$f":"IF(AP108>'Blad 2 Indata'!$F$55,ROUND(Data!$T8*'Blad 3 Inkomstutjämning'!$F$17*'Blad 2 Indata'!$F$55,0)-('Blad 8 Periodisering'!AO108*Data!$T8),0)","v":0},{"$f":"(Data!$C8*$C57*$E57*$G57*$I57*('Blad 3 Inkomstutjämning'!$F$12/100+1)*('Blad 3 Inkomstutjämning'!$G$12/100+1))/Data!U8","v":281544.96316345193},{"$f":"AS108/'Blad 3 Inkomstutjämning'!$G$17","v":0.897829491184027},null,{"$f":"IF(AT108>'Blad 2 Indata'!$G$55,ROUND(Data!$U8*'Blad 3 Inkomstutjämning'!$G$17*'Blad 2 Indata'!$G$55,0)-('Blad 8 Periodisering'!AS108*Data!$U8),0)","v":0},{"$f":"(Data!$C8*$C57*$E57*$G57*$I57*$K57*('Blad 3 Inkomstutjämning'!$G$12/100+1)*('Blad 3 Inkomstutjämning'!$H$12/100+1))/Data!BP8","v":291684.84389010351},{"$f":"AW108/'Blad 3 Inkomstutjämning'!$H$17","v":0.89758572863039054},null,{"$f":"IF(AX108>'Blad 2 Indata'!$H$55,ROUND(Data!$BP8*'Blad 3 Inkomstutjämning'!$H$17*'Blad 2 Indata'!$H$55,0)-('Blad 8 Periodisering'!AW108*Data!$BP8),0)","v":0},{"$f":"(Data!$C8*$C57*$E57*$G57*$I57*$K57*$M57*('Blad 3 Inkomstutjämning'!$H$12/100+1)*('Blad 3 Inkomstutjämning'!$I$12/100+1))/Data!BQ8","v":301889.70676613197},{"$f":"BA108/'Blad 3 Inkomstutjämning'!$I$17","v":0.89734089941096273},null,{"$f":"IF(BB108>'Blad 2 Indata'!$I$55,ROUND(Data!$BQ8*'Blad 3 Inkomstutjämning'!$I$17*'Blad 2 Indata'!$I$55,0)-('Blad 8 Periodisering'!BA108*Data!$BQ8),0)","v":0},{"$f":"(Data!$C8*$C57*$E57*$G57*$I57*$K57*$M57*$O57*('Blad 3 Inkomstutjämning'!$I$12/100+1)*('Blad 3 Inkomstutjämning'!$J$12/100+1))/Data!$BR8","v":311505.43436318496},{"$f":"BE108/'Blad 3 Inkomstutjämning'!$J$17","v":0.89709747049762834},null,{"$f":"IF(BF108>'Blad 2 Indata'!$J$55,ROUND(Data!$BR8*'Blad 3 Inkomstutjämning'!$J$17*'Blad 2 Indata'!$J$55,0)-('Blad 8 Periodisering'!BE108*Data!$BR8),0)","v":0}]
[8,{"$f":"IF((ROUND('Blad 3 Inkomstutjämning'!B$16*'Blad 2 Indata'!B$55*Data!E9,0)-ROUND((Data!AQ9*($B$46/100+1)*($C$46/100+1)),0))<0,ROUND((ROUND(#REF!*Data!AT9/100/Data!E9,0)+ROUND('Blad 8 Periodisering'!T109*Data!AS9/100/Data!E9,0)),0),ROUND((ROUND('Blad 3 Inkomstutjämning'!B$16*'Blad 2 Indata'!B$55*Data!E9,0)-ROUND((Data!AQ9*('Blad 8 Periodisering'!$B$46/100+1)*('Blad 8 Periodisering'!$C$46/100+1)),0))*Data!AR9/100/Data!E9,0))*Data!E9","v":1465683765},{"$f":"IF((ROUND('Blad 3 Inkomstutjämning'!C$16*'Blad 2 Indata'!C$55*Data!F9,0)-ROUND((Data!C9*('Blad 2 Indata'!B$7/100+1)*('Blad 2 Indata'!C$7/100+1)),0))<0,ROUND((ROUND('Blad 8 Periodisering'!AB109*Data!N9/100/Data!F9,0)),0),ROUND((ROUND('Blad 3 Inkomstutjämning'!C$16*'Blad 2 Indata'!C$55*Data!F9,0)-ROUND((Data!C9*('Blad 2 Indata'!B$7/100+1)*('Blad 2 Indata'!C$7/100+1)),0))*Data!M9/100/Data!F9,0))*Data!F9","v":1531049411},{"$f":"IF('Blad 2 Indata'!D$8<>0,'Blad 8 Periodisering'!L109,'Blad 8 Periodisering'!M109)","v":1587495425},{"$f":"'Blad 8 Periodisering'!N109","v":1656062304},{"$f":"'Blad 8 Periodisering'!O109","v":1714699665},1776794560,1840973776,1905707160,1966594145,null,{"$f":"IF($AI109>=0,ROUND((('Blad 3 Inkomstutjämning'!$D$19-$AC109)*Data!$R9)*Data!$AN9/100/Data!$R9,0),ROUND('Blad 8 Periodisering'!$AI109*Data!$AO9/100/Data!$R9,0))*Data!$R9","v":1587495425},{"$f":"IF($AJ109>=0,ROUND((('Blad 3 Inkomstutjämning'!$D$19-$AD109)*Data!$R9)*Data!$AN9/100/Data!$R9,0),ROUND('Blad 8 Periodisering'!$AJ109*Data!$AO9/100/Data!$R9,0))*Data!$R9","v":1587495425},{"$f":"IF($AN109>=0,ROUND((('Blad 3 Inkomstutjämning'!$E$19-$AK109)*Data!$S9)*Data!$AN9/100/Data!$S9,0),ROUND('Blad 8 Periodisering'!$AN109*Data!$AO9/100/Data!$S9,0))*Data!$S9","v":1656062304},{"$f":"IF($AR109>=0,ROUND((('Blad 3 Inkomstutjämning'!$F$19-$AO109)*Data!$T9)*Data!$AN9/100/Data!$T9,0),ROUND('Blad 8 Periodisering'!$AR109*Data!$AO9/100/Data!$T9,0))*Data!$T9","v":1714699665},{"$f":"IF($AV109>=0,ROUND((('Blad 3 Inkomstutjämning'!$G$19-$AS109)*Data!$U9)*Data!$AN9/100/Data!$U9,0),ROUND('Blad 8 Periodisering'!$AV109*Data!$AO9/100/Data!$U9,0))*Data!$U9","v":1776794560},{"$f":"IF($AZ109>=0,ROUND((('Blad 3 Inkomstutjämning'!$H$19-$AW109)*Data!$BP9)*Data!$AN9/100/Data!$BP9,0),ROUND('Blad 8 Periodisering'!$AZ109*Data!$AO9/100/Data!$BP9,0))*Data!$BP9","v":1840973776},{"$f":"IF($BD109>=0,ROUND((('Blad 3 Inkomstutjämning'!$I$19-$BA109)*Data!$BQ9)*Data!$AN9/100/Data!$BQ9,0),ROUND('Blad 8 Periodisering'!$BD109*Data!$AO9/100/Data!$BQ9,0))*Data!$BQ9","v":1905707160},{"$f":"IF($BH109>=0,ROUND((('Blad 3 Inkomstutjämning'!$J$19-$BE109)*Data!$BR9)*Data!$AN9/100/Data!$BR9,0),ROUND('Blad 8 Periodisering'!$BH109*Data!$AO9/100/Data!$BR9,0))*Data!$BR9","v":1966594145},null,{"$f":"(Data!$AQ9*('Blad 8 Periodisering'!$B$46/100+1)*('Blad 8 Periodisering'!$C$46/100+1))/Data!$E9","v":232229.2784059082},{"$f":"U109/'Blad 3 Inkomstutjämning'!$B$16","v":0.89001287100620941},null,{"$f":"IF(V109>'Blad 2 Indata'!$B$55,ROUND(Data!$E9*'Blad 3 Inkomstutjämning'!$B$16*'Blad 2 Indata'!$B$55,0)-(U109*Data!$E9),0)","v":0},{"$f":"(Data!$C9*('Blad 3 Inkomstutjämning'!$B$10/100+1)*('Blad 3 Inkomstutjämning'!$C$10/100+1))/Data!$F9","v":240296.49130571634},{"$f":"Y109/'Blad 3 Inkomstutjämning'!$C$16","v":0.88751183294632496},null,{"$f":"IF(Z109>'Blad 2 Indata'!$C$55,ROUND(Data!$F9*'Blad 3 Inkomstutjämning'!$C$16*'Blad 2 Indata'!$C$55,0)-(Y109*Data!$F9),0)","v":0},{"$f":"IF('Blad 3 Inkomstutjämning'!$C$11<>0,((Data!$C9*$C58*('Blad 3 Inkomstutjämning'!$C$11/100+1)*('Blad 3 Inkomstutjämning'!$D$11/100+1))/Data!$R9),((Data!$C9*$C58*('Blad 3 Inkomstutjämning'!$C$12/100+1)*('Blad 3 Inkomstutjämning'!$D$12/100+1))/Data!$R9))","v":250716.54666197367},{"$f":"(Data!$C9*C58*('Blad 3 Inkomstutjämning'!$C$12/100+1)*('Blad 3 Inkomstutjämning'!$D$12/100+1))/Data!R9","v":250716.54666197367},{"$f":"IF('Blad 3 Inkomstutjämning'!$C$11<>0,AC109/'Blad 3 Inkomstutjämning'!$D$16,'Blad 8 Periodisering'!AC109/'Blad 3 Inkomstutjämning'!$D$17)","v":0.88879156665132975},{"$f":"AD109/('Blad 3 Inkomstutjämning'!$D$19/'Blad 2 Indata'!$D$55)","v":0.88879156665132975},null,null,{"$f":"IF(AE109>'Blad 2 Indata'!$D$55,ROUND(Data!$R9*'Blad 3 Inkomstutjämning'!$D$16*'Blad 2 Indata'!$D$55,0)-('Blad 8 Periodisering'!AC109*Data!$R9),0)","v":0},{"$f":"IF(AF109>'Blad 2 Indata'!$D$55,ROUND(Data!$R9*('Blad 3 Inkomstutjämning'!$D$19/'Blad 2 Indata'!$D$55)*'Blad 2 Indata'!$D$55,0)-('Blad 8 Periodisering'!AD109*Data!$R9),0)","v":0},{"$f":"(Data!$C9*$C58*$E58*('Blad 3 Inkomstutjämning'!$D$12/100+1)*('Blad 3 Inkomstutjämning'!$E$12/100+1))/Data!S9","v":259300.89746422184},{"$f":"AK109/'Blad 3 Inkomstutjämning'!$E$17","v":0.88702342740910634},null,{"$f":"IF(AL109>'Blad 2 Indata'!$E$55,ROUND(Data!$S9*'Blad 3 Inkomstutjämning'!$E$17*'Blad 2 Indata'!$E$55,0)-('Blad 8 Periodisering'!AK109*Data!$S9),0)","v":0},{"$f":"(Data!$C9*$C58*$E58*$G58*('Blad 3 Inkomstutjämning'!$E$12/100+1)*('Blad 3 Inkomstutjämning'!$F$12/100+1))/Data!T9","v":268336.2152444672},{"$f":"AO109/'Blad 3 Inkomstutjämning'!$F$17","v":0.88678630522901047},null,{"$f":"IF(AP109>'Blad 2 Indata'!$F$55,ROUND(Data!$T9*'Blad 3 Inkomstutjämning'!$F$17*'Blad 2 Indata'!$F$55,0)-('Blad 8 Periodisering'!AO109*Data!$T9),0)","v":0},{"$f":"(Data!$C9*$C58*$E58*$G58*$I58*('Blad 3 Inkomstutjämning'!$F$12/100+1)*('Blad 3 Inkomstutjämning'!$G$12/100+1))/Data!U9","v":278007.25948686537},{"$f":"AS109/'Blad 3 Inkomstutjämning'!$G$17","v":0.88654797275009367},null,{"$f":"IF(AT109>'Blad 2 Indata'!$G$55,ROUND(Data!$U9*'Blad 3 Inkomstutjämning'!$G$17*'Blad 2 Indata'!$G$55,0)-('Blad 8 Periodisering'!AS109*Data!$U9),0)","v":0},{"$f":"(Data!$C9*$C58*$E58*$G58*$I58*$K58*('Blad 3 Inkomstutjämning'!$G$12/100+1)*('Blad 3 Inkomstutjämning'!$H$12/100+1))/Data!BP9","v":288020.15512993146},{"$f":"AW109/'Blad 3 Inkomstutjämning'!$H$17","v":0.88630858345159635},null,{"$f":"IF(AX109>'Blad 2 Indata'!$H$55,ROUND(Data!$BP9*'Blad 3 Inkomstutjämning'!$H$17*'Blad 2 Indata'!$H$55,0)-('Blad 8 Periodisering'!AW109*Data!$BP9),0)","v":0},{"$f":"(Data!$C9*$C58*$E58*$G58*$I58*$K58*$M58*('Blad 3 Inkomstutjämning'!$H$12/100+1)*('Blad 3 Inkomstutjämning'!$I$12/100+1))/Data!BQ9","v":298097.14232438401},{"$f":"BA109/'Blad 3 Inkomstutjämning'!$I$17","v":0.8860678314296534},null,{"$f":"IF(BB109>'Blad 2 Indata'!$I$55,ROUND(Data!$BQ9*'Blad 3 Inkomstutjämning'!$I$17*'Blad 2 Indata'!$I$55,0)-('Blad 8 Periodisering'!BA109*Data!$BQ9),0)","v":0},{"$f":"(Data!$C9*$C58*$E58*$G58*$I58*$K58*$M58*$O58*('Blad 3 Inkomstutjämning'!$I$12/100+1)*('Blad 3 Inkomstutjämning'!$J$12/100+1))/Data!$BR9","v":307591.95576804999},{"$f":"BE109/'Blad 3 Inkomstutjämning'!$J$17","v":0.88582713180925421},null,{"$f":"IF(BF109>'Blad 2 Indata'!$J$55,ROUND(Data!$BR9*'Blad 3 Inkomstutjämning'!$J$17*'Blad 2 Indata'!$J$55,0)-('Blad 8 Periodisering'!BE109*Data!$BR9),0)","v":0}]
[9,{"$f":"IF((ROUND('Blad 3 Inkomstutjämning'!B$16*'Blad 2 Indata'!B$55*Data!E10,0)-ROUND((Data!AQ10*($B$46/100+1)*($C$46/100+1)),0))<0,ROUND((ROUND(#REF!*Data!AT10/100/Data!E10,0)+ROUND('Blad 8 Periodisering'!T110*Data!AS10/100/Data!E10,0)),0),ROUND((ROUND('Blad 3 Inkomstutjämning'!B$16*'Blad 2 Indata'!B$55*Data!E10,0)-ROUND((Data!AQ10*('Blad 8 Periodisering'!$B$46/100+1)*('Blad 8 Periodisering'!$C$46/100+1)),0))*Data!AR10/100/Data!E10,0))*Data!E10","v":443705418},{"$f":"IF((ROUND('Blad 3 Inkomstutjämning'!C$16*'Blad 2 Indata'!C$55*Data!F10,0)-ROUND((Data!C10*('Blad 2 Indata'!B$7/100+1)*('Blad 2 Indata'!C$7/100+1)),0))<0,ROUND((ROUND('Blad 8 Periodisering'!AB110*Data!N10/100/Data!F10,0)),0),ROUND((ROUND('Blad 3 Inkomstutjämning'!C$16*'Blad 2 Indata'!C$55*Data!F10,0)-ROUND((Data!C10*('Blad 2 Indata'!B$7/100+1)*('Blad 2 Indata'!C$7/100+1)),0))*Data!M10/100/Data!F10,0))*Data!F10","v":445734528},{"$f":"IF('Blad 2 Indata'!D$8<>0,'Blad 8 Periodisering'!L110,'Blad 8 Periodisering'!M110)","v":463998612},{"$f":"'Blad 8 Periodisering'!N110","v":482765430},{"$f":"'Blad 8 Periodisering'!O110","v":500306018},518811210,537982119,557249590,575529705,null,{"$f":"IF($AI110>=0,ROUND((('Blad 3 Inkomstutjämning'!$D$19-$AC110)*Data!$R10)*Data!$AN10/100/Data!$R10,0),ROUND('Blad 8 Periodisering'!$AI110*Data!$AO10/100/Data!$R10,0))*Data!$R10","v":463998612},{"$f":"IF($AJ110>=0,ROUND((('Blad 3 Inkomstutjämning'!$D$19-$AD110)*Data!$R10)*Data!$AN10/100/Data!$R10,0),ROUND('Blad 8 Periodisering'!$AJ110*Data!$AO10/100/Data!$R10,0))*Data!$R10","v":463998612},{"$f":"IF($AN110>=0,ROUND((('Blad 3 Inkomstutjämning'!$E$19-$AK110)*Data!$S10)*Data!$AN10/100/Data!$S10,0),ROUND('Blad 8 Periodisering'!$AN110*Data!$AO10/100/Data!$S10,0))*Data!$S10","v":482765430},{"$f":"IF($AR110>=0,ROUND((('Blad 3 Inkomstutjämning'!$F$19-$AO110)*Data!$T10)*Data!$AN10/100/Data!$T10,0),ROUND('Blad 8 Periodisering'!$AR110*Data!$AO10/100/Data!$T10,0))*Data!$T10","v":500306018},{"$f":"IF($AV110>=0,ROUND((('Blad 3 Inkomstutjämning'!$G$19-$AS110)*Data!$U10)*Data!$AN10/100/Data!$U10,0),ROUND('Blad 8 Periodisering'!$AV110*Data!$AO10/100/Data!$U10,0))*Data!$U10","v":518811210},{"$f":"IF($AZ110>=0,ROUND((('Blad 3 Inkomstutjämning'!$H$19-$AW110)*Data!$BP10)*Data!$AN10/100/Data!$BP10,0),ROUND('Blad 8 Periodisering'!$AZ110*Data!$AO10/100/Data!$BP10,0))*Data!$BP10","v":537982119},{"$f":"IF($BD110>=0,ROUND((('Blad 3 Inkomstutjämning'!$I$19-$BA110)*Data!$BQ10)*Data!$AN10/100/Data!$BQ10,0),ROUND('Blad 8 Periodisering'!$BD110*Data!$AO10/100/Data!$BQ10,0))*Data!$BQ10","v":557249590},{"$f":"IF($BH110>=0,ROUND((('Blad 3 Inkomstutjämning'!$J$19-$BE110)*Data!$BR10)*Data!$AN10/100/Data!$BR10,0),ROUND('Blad 8 Periodisering'!$BH110*Data!$AO10/100/Data!$BR10,0))*Data!$BR10","v":575529705},null,{"$f":"(Data!$AQ10*('Blad 8 Periodisering'!$B$46/100+1)*('Blad 8 Periodisering'!$C$46/100+1))/Data!$E10","v":223543.07135372996},{"$f":"U110/'Blad 3 Inkomstutjämning'!$B$16","v":0.85672320085897247},null,{"$f":"IF(V110>'Blad 2 Indata'!$B$55,ROUND(Data!$E10*'Blad 3 Inkomstutjämning'!$B$16*'Blad 2 Indata'!$B$55,0)-(U110*Data!$E10),0)","v":0},{"$f":"(Data!$C10*('Blad 3 Inkomstutjämning'!$B$10/100+1)*('Blad 3 Inkomstutjämning'!$C$10/100+1))/Data!$F10","v":234408.4075978426},{"$f":"Y110/'Blad 3 Inkomstutjämning'!$C$16","v":0.86576476566406502},null,{"$f":"IF(Z110>'Blad 2 Indata'!$C$55,ROUND(Data!$F10*'Blad 3 Inkomstutjämning'!$C$16*'Blad 2 Indata'!$C$55,0)-(Y110*Data!$F10),0)","v":0},{"$f":"IF('Blad 3 Inkomstutjämning'!$C$11<>0,((Data!$C10*$C59*('Blad 3 Inkomstutjämning'!$C$11/100+1)*('Blad 3 Inkomstutjämning'!$D$11/100+1))/Data!$R10),((Data!$C10*$C59*('Blad 3 Inkomstutjämning'!$C$12/100+1)*('Blad 3 Inkomstutjämning'!$D$12/100+1))/Data!$R10))","v":244355.04381650029},{"$f":"(Data!$C10*C59*('Blad 3 Inkomstutjämning'!$C$12/100+1)*('Blad 3 Inkomstutjämning'!$D$12/100+1))/Data!R10","v":244355.04381650029},{"$f":"IF('Blad 3 Inkomstutjämning'!$C$11<>0,AC110/'Blad 3 Inkomstutjämning'!$D$16,'Blad 8 Periodisering'!AC110/'Blad 3 Inkomstutjämning'!$D$17)","v":0.86624000331989881},{"$f":"AD110/('Blad 3 Inkomstutjämning'!$D$19/'Blad 2 Indata'!$D$55)","v":0.86624000331989881},null,null,{"$f":"IF(AE110>'Blad 2 Indata'!$D$55,ROUND(Data!$R10*'Blad 3 Inkomstutjämning'!$D$16*'Blad 2 Indata'!$D$55,0)-('Blad 8 Periodisering'!AC110*Data!$R10),0)","v":0},{"$f":"IF(AF110>'Blad 2 Indata'!$D$55,ROUND(Data!$R10*('Blad 3 Inkomstutjämning'!$D$19/'Blad 2 Indata'!$D$55)*'Blad 2 Indata'!$D$55,0)-('Blad 8 Periodisering'!AD110*Data!$R10),0)","v":0},{"$f":"(Data!$C10*$C59*$E59*('Blad 3 Inkomstutjämning'!$D$12/100+1)*('Blad 3 Inkomstutjämning'!$E$12/100+1))/Data!S10","v":252946.06884211593},{"$f":"AK110/'Blad 3 Inkomstutjämning'!$E$17","v":0.86528466013100369},null,{"$f":"IF(AL110>'Blad 2 Indata'!$E$55,ROUND(Data!$S10*'Blad 3 Inkomstutjämning'!$E$17*'Blad 2 Indata'!$E$55,0)-('Blad 8 Periodisering'!AK110*Data!$S10),0)","v":0},{"$f":"(Data!$C10*$C59*$E59*$G59*('Blad 3 Inkomstutjämning'!$E$12/100+1)*('Blad 3 Inkomstutjämning'!$F$12/100+1))/Data!T10","v":261758.43499050225},{"$f":"AO110/'Blad 3 Inkomstutjämning'!$F$17","v":0.86504833205715337},null,{"$f":"IF(AP110>'Blad 2 Indata'!$F$55,ROUND(Data!$T10*'Blad 3 Inkomstutjämning'!$F$17*'Blad 2 Indata'!$F$55,0)-('Blad 8 Periodisering'!AO110*Data!$T10),0)","v":0},{"$f":"(Data!$C10*$C59*$E59*$G59*$I59*('Blad 3 Inkomstutjämning'!$F$12/100+1)*('Blad 3 Inkomstutjämning'!$G$12/100+1))/Data!U10","v":271191.99791156204},{"$f":"AS110/'Blad 3 Inkomstutjämning'!$G$17","v":0.86481452469374087},null,{"$f":"IF(AT110>'Blad 2 Indata'!$G$55,ROUND(Data!$U10*'Blad 3 Inkomstutjämning'!$G$17*'Blad 2 Indata'!$G$55,0)-('Blad 8 Periodisering'!AS110*Data!$U10),0)","v":0},{"$f":"(Data!$C10*$C59*$E59*$G59*$I59*$K59*('Blad 3 Inkomstutjämning'!$G$12/100+1)*('Blad 3 Inkomstutjämning'!$H$12/100+1))/Data!BP10","v":280960.19696587534},{"$f":"AW110/'Blad 3 Inkomstutjämning'!$H$17","v":0.86458336246215095},null,{"$f":"IF(AX110>'Blad 2 Indata'!$H$55,ROUND(Data!$BP10*'Blad 3 Inkomstutjämning'!$H$17*'Blad 2 Indata'!$H$55,0)-('Blad 8 Periodisering'!AW110*Data!$BP10),0)","v":0},{"$f":"(Data!$C10*$C59*$E59*$G59*$I59*$K59*$M59*('Blad 3 Inkomstutjämning'!$H$12/100+1)*('Blad 3 Inkomstutjämning'!$I$12/100+1))/Data!BQ10","v":290791.98572439444},{"$f":"BA110/'Blad 3 Inkomstutjämning'!$I$17","v":0.86435388873186292},null,{"$f":"IF(BB110>'Blad 2 Indata'!$I$55,ROUND(Data!$BQ10*'Blad 3 Inkomstutjämning'!$I$17*'Blad 2 Indata'!$I$55,0)-('Blad 8 Periodisering'!BA110*Data!$BQ10),0)","v":0},{"$f":"(Data!$C10*$C59*$E59*$G59*$I59*$K59*$M59*$O59*('Blad 3 Inkomstutjämning'!$I$12/100+1)*('Blad 3 Inkomstutjämning'!$J$12/100+1))/Data!$BR10","v":300053.53268746444},{"$f":"BE110/'Blad 3 Inkomstutjämning'!$J$17","v":0.86411739730346837},null,{"$f":"IF(BF110>'Blad 2 Indata'!$J$55,ROUND(Data!$BR10*'Blad 3 Inkomstutjämning'!$J$17*'Blad 2 Indata'!$J$55,0)-('Blad 8 Periodisering'!BE110*Data!$BR10),0)","v":0}]
[10,{"$f":"IF((ROUND('Blad 3 Inkomstutjämning'!B$16*'Blad 2 Indata'!B$55*Data!E11,0)-ROUND((Data!AQ11*($B$46/100+1)*($C$46/100+1)),0))<0,ROUND((ROUND(#REF!*Data!AT11/100/Data!E11,0)+ROUND('Blad 8 Periodisering'!T111*Data!AS11/100/Data!E11,0)),0),ROUND((ROUND('Blad 3 Inkomstutjämning'!B$16*'Blad 2 Indata'!B$55*Data!E11,0)-ROUND((Data!AQ11*('Blad 8 Periodisering'!$B$46/100+1)*('Blad 8 Periodisering'!$C$46/100+1)),0))*Data!AR11/100/Data!E11,0))*Data!E11","v":981694804},{"$f":"IF((ROUND('Blad 3 Inkomstutjämning'!C$16*'Blad 2 Indata'!C$55*Data!F11,0)-ROUND((Data!C11*('Blad 2 Indata'!B$7/100+1)*('Blad 2 Indata'!C$7/100+1)),0))<0,ROUND((ROUND('Blad 8 Periodisering'!AB111*Data!N11/100/Data!F11,0)),0),ROUND((ROUND('Blad 3 Inkomstutjämning'!C$16*'Blad 2 Indata'!C$55*Data!F11,0)-ROUND((Data!C11*('Blad 2 Indata'!B$7/100+1)*('Blad 2 Indata'!C$7/100+1)),0))*Data!M11/100/Data!F11,0))*Data!F11","v":1031791746},{"$f":"IF('Blad 2 Indata'!D$8<>0,'Blad 8 Periodisering'!L111,'Blad 8 Periodisering'!M111)","v":1072283432},{"$f":"'Blad 8 Periodisering'!N111","v":1110351175},{"$f":"'Blad 8 Periodisering'!O111","v":1147073967},1185599136,1225387521,1265304835,1302423221,null,{"$f":"IF($AI111>=0,ROUND((('Blad 3 Inkomstutjämning'!$D$19-$AC111)*Data!$R11)*Data!$AN11/100/Data!$R11,0),ROUND('Blad 8 Periodisering'!$AI111*Data!$AO11/100/Data!$R11,0))*Data!$R11","v":1072283432},{"$f":"IF($AJ111>=0,ROUND((('Blad 3 Inkomstutjämning'!$D$19-$AD111)*Data!$R11)*Data!$AN11/100/Data!$R11,0),ROUND('Blad 8 Periodisering'!$AJ111*Data!$AO11/100/Data!$R11,0))*Data!$R11","v":1072283432},{"$f":"IF($AN111>=0,ROUND((('Blad 3 Inkomstutjämning'!$E$19-$AK111)*Data!$S11)*Data!$AN11/100/Data!$S11,0),ROUND('Blad 8 Periodisering'!$AN111*Data!$AO11/100/Data!$S11,0))*Data!$S11","v":1110351175},{"$f":"IF($AR111>=0,ROUND((('Blad 3 Inkomstutjämning'!$F$19-$AO111)*Data!$T11)*Data!$AN11/100/Data!$T11,0),ROUND('Blad 8 Periodisering'!$AR111*Data!$AO11/100/Data!$T11,0))*Data!$T11","v":1147073967},{"$f":"IF($AV111>=0,ROUND((('Blad 3 Inkomstutjämning'!$G$19-$AS111)*Data!$U11)*Data!$AN11/100/Data!$U11,0),ROUND('Blad 8 Periodisering'!$AV111*Data!$AO11/100/Data!$U11,0))*Data!$U11","v":1185599136},{"$f":"IF($AZ111>=0,ROUND((('Blad 3 Inkomstutjämning'!$H$19-$AW111)*Data!$BP11)*Data!$AN11/100/Data!$BP11,0),ROUND('Blad 8 Periodisering'!$AZ111*Data!$AO11/100/Data!$BP11,0))*Data!$BP11","v":1225387521},{"$f":"IF($BD111>=0,ROUND((('Blad 3 Inkomstutjämning'!$I$19-$BA111)*Data!$BQ11)*Data!$AN11/100/Data!$BQ11,0),ROUND('Blad 8 Periodisering'!$BD111*Data!$AO11/100/Data!$BQ11,0))*Data!$BQ11","v":1265304835},{"$f":"IF($BH111>=0,ROUND((('Blad 3 Inkomstutjämning'!$J$19-$BE111)*Data!$BR11)*Data!$AN11/100/Data!$BR11,0),ROUND('Blad 8 Periodisering'!$BH111*Data!$AO11/100/Data!$BR11,0))*Data!$BR11","v":1302423221},null,{"$f":"(Data!$AQ11*('Blad 8 Periodisering'!$B$46/100+1)*('Blad 8 Periodisering'!$C$46/100+1))/Data!$E11","v":238089.4816160679},{"$f":"U111/'Blad 3 Inkomstutjämning'!$B$16","v":0.91247195247757196},null,{"$f":"IF(V111>'Blad 2 Indata'!$B$55,ROUND(Data!$E11*'Blad 3 Inkomstutjämning'!$B$16*'Blad 2 Indata'!$B$55,0)-(U111*Data!$E11),0)","v":0},{"$f":"(Data!$C11*('Blad 3 Inkomstutjämning'!$B$10/100+1)*('Blad 3 Inkomstutjämning'!$C$10/100+1))/Data!$F11","v":245957.34003359749},{"$f":"Y111/'Blad 3 Inkomstutjämning'!$C$16","v":0.90841962982348301},null,{"$f":"IF(Z111>'Blad 2 Indata'!$C$55,ROUND(Data!$F11*'Blad 3 Inkomstutjämning'!$C$16*'Blad 2 Indata'!$C$55,0)-(Y111*Data!$F11),0)","v":0},{"$f":"IF('Blad 3 Inkomstutjämning'!$C$11<>0,((Data!$C11*$C60*('Blad 3 Inkomstutjämning'!$C$11/100+1)*('Blad 3 Inkomstutjämning'!$D$11/100+1))/Data!$R11),((Data!$C11*$C60*('Blad 3 Inkomstutjämning'!$C$12/100+1)*('Blad 3 Inkomstutjämning'!$D$12/100+1))/Data!$R11))","v":256257.61436246763},{"$f":"(Data!$C11*C60*('Blad 3 Inkomstutjämning'!$C$12/100+1)*('Blad 3 Inkomstutjämning'!$D$12/100+1))/Data!R11","v":256257.61436246763},{"$f":"IF('Blad 3 Inkomstutjämning'!$C$11<>0,AC111/'Blad 3 Inkomstutjämning'!$D$16,'Blad 8 Periodisering'!AC111/'Blad 3 Inkomstutjämning'!$D$17)","v":0.90843468278391992},{"$f":"AD111/('Blad 3 Inkomstutjämning'!$D$19/'Blad 2 Indata'!$D$55)","v":0.90843468278391992},null,null,{"$f":"IF(AE111>'Blad 2 Indata'!$D$55,ROUND(Data!$R11*'Blad 3 Inkomstutjämning'!$D$16*'Blad 2 Indata'!$D$55,0)-('Blad 8 Periodisering'!AC111*Data!$R11),0)","v":0},{"$f":"IF(AF111>'Blad 2 Indata'!$D$55,ROUND(Data!$R11*('Blad 3 Inkomstutjämning'!$D$19/'Blad 2 Indata'!$D$55)*'Blad 2 Indata'!$D$55,0)-('Blad 8 Periodisering'!AD111*Data!$R11),0)","v":0},{"$f":"(Data!$C11*$C60*$E60*('Blad 3 Inkomstutjämning'!$D$12/100+1)*('Blad 3 Inkomstutjämning'!$E$12/100+1))/Data!S11","v":265411.17314849776},{"$f":"AK111/'Blad 3 Inkomstutjämning'!$E$17","v":0.90792562147354761},null,{"$f":"IF(AL111>'Blad 2 Indata'!$E$55,ROUND(Data!$S11*'Blad 3 Inkomstutjämning'!$E$17*'Blad 2 Indata'!$E$55,0)-('Blad 8 Periodisering'!AK111*Data!$S11),0)","v":0},{"$f":"(Data!$C11*$C60*$E60*$G60*('Blad 3 Inkomstutjämning'!$E$12/100+1)*('Blad 3 Inkomstutjämning'!$F$12/100+1))/Data!T11","v":274657.13252100605},{"$f":"AO111/'Blad 3 Inkomstutjämning'!$F$17","v":0.90767540837229443},null,{"$f":"IF(AP111>'Blad 2 Indata'!$F$55,ROUND(Data!$T11*'Blad 3 Inkomstutjämning'!$F$17*'Blad 2 Indata'!$F$55,0)-('Blad 8 Periodisering'!AO111*Data!$T11),0)","v":0},{"$f":"(Data!$C11*$C60*$E60*$G60*$I60*('Blad 3 Inkomstutjämning'!$F$12/100+1)*('Blad 3 Inkomstutjämning'!$G$12/100+1))/Data!U11","v":284555.1737952187},{"$f":"AS111/'Blad 3 Inkomstutjämning'!$G$17","v":0.90742886689122748},null,{"$f":"IF(AT111>'Blad 2 Indata'!$G$55,ROUND(Data!$U11*'Blad 3 Inkomstutjämning'!$G$17*'Blad 2 Indata'!$G$55,0)-('Blad 8 Periodisering'!AS111*Data!$U11),0)","v":0},{"$f":"(Data!$C11*$C60*$E60*$G60*$I60*$K60*('Blad 3 Inkomstutjämning'!$G$12/100+1)*('Blad 3 Inkomstutjämning'!$H$12/100+1))/Data!BP11","v":294804.32998485293},{"$f":"AW111/'Blad 3 Inkomstutjämning'!$H$17","v":0.90718515163079505},null,{"$f":"IF(AX111>'Blad 2 Indata'!$H$55,ROUND(Data!$BP11*'Blad 3 Inkomstutjämning'!$H$17*'Blad 2 Indata'!$H$55,0)-('Blad 8 Periodisering'!AW111*Data!$BP11),0)","v":0},{"$f":"(Data!$C11*$C60*$E60*$G60*$I60*$K60*$M60*('Blad 3 Inkomstutjämning'!$H$12/100+1)*('Blad 3 Inkomstutjämning'!$I$12/100+1))/Data!BQ11","v":305118.64533462003},{"$f":"BA111/'Blad 3 Inkomstutjämning'!$I$17","v":0.90693863849994216},null,{"$f":"IF(BB111>'Blad 2 Indata'!$I$55,ROUND(Data!$BQ11*'Blad 3 Inkomstutjämning'!$I$17*'Blad 2 Indata'!$I$55,0)-('Blad 8 Periodisering'!BA111*Data!$BQ11),0)","v":0},{"$f":"(Data!$C11*$C60*$E60*$G60*$I60*$K60*$M60*$O60*('Blad 3 Inkomstutjämning'!$I$12/100+1)*('Blad 3 Inkomstutjämning'!$J$12/100+1))/Data!$BR11","v":314838.59687159053},{"$f":"BE111/'Blad 3 Inkomstutjämning'!$J$17","v":0.90669656998416226},null,{"$f":"IF(BF111>'Blad 2 Indata'!$J$55,ROUND(Data!$BR11*'Blad 3 Inkomstutjämning'!$J$17*'Blad 2 Indata'!$J$55,0)-('Blad 8 Periodisering'!BE111*Data!$BR11),0)","v":0}]
[12,{"$f":"IF((ROUND('Blad 3 Inkomstutjämning'!B$16*'Blad 2 Indata'!B$55*Data!E12,0)-ROUND((Data!AQ12*($B$46/100+1)*($C$46/100+1)),0))<0,ROUND((ROUND(#REF!*Data!AT12/100/Data!E12,0)+ROUND('Blad 8 Periodisering'!T112*Data!AS12/100/Data!E12,0)),0),ROUND((ROUND('Blad 3 Inkomstutjämning'!B$16*'Blad 2 Indata'!B$55*Data!E12,0)-ROUND((Data!AQ12*('Blad 8 Periodisering'!$B$46/100+1)*('Blad 8 Periodisering'!$C$46/100+1)),0))*Data!AR12/100/Data!E12,0))*Data!E12","v":7699872920},{"$f":"IF((ROUND('Blad 3 Inkomstutjämning'!C$16*'Blad 2 Indata'!C$55*Data!F12,0)-ROUND((Data!C12*('Blad 2 Indata'!B$7/100+1)*('Blad 2 Indata'!C$7/100+1)),0))<0,ROUND((ROUND('Blad 8 Periodisering'!AB112*Data!N12/100/Data!F12,0)),0),ROUND((ROUND('Blad 3 Inkomstutjämning'!C$16*'Blad 2 Indata'!C$55*Data!F12,0)-ROUND((Data!C12*('Blad 2 Indata'!B$7/100+1)*('Blad 2 Indata'!C$7/100+1)),0))*Data!M12/100/Data!F12,0))*Data!F12","v":8181000576},{"$f":"IF('Blad 2 Indata'!D$8<>0,'Blad 8 Periodisering'!L112,'Blad 8 Periodisering'!M112)","v":8607754678},{"$f":"'Blad 8 Periodisering'!N112","v":8982937376},{"$f":"'Blad 8 Periodisering'!O112","v":9373365750},9787103536,10217485512,10657140465,11080986588,null,{"$f":"IF($AI112>=0,ROUND((('Blad 3 Inkomstutjämning'!$D$19-$AC112)*Data!$R12)*Data!$AN12/100/Data!$R12,0),ROUND('Blad 8 Periodisering'!$AI112*Data!$AO12/100/Data!$R12,0))*Data!$R12","v":8607754678},{"$f":"IF($AJ112>=0,ROUND((('Blad 3 Inkomstutjämning'!$D$19-$AD112)*Data!$R12)*Data!$AN12/100/Data!$R12,0),ROUND('Blad 8 Periodisering'!$AJ112*Data!$AO12/100/Data!$R12,0))*Data!$R12","v":8607754678},{"$f":"IF($AN112>=0,ROUND((('Blad 3 Inkomstutjämning'!$E$19-$AK112)*Data!$S12)*Data!$AN12/100/Data!$S12,0),ROUND('Blad 8 Periodisering'!$AN112*Data!$AO12/100/Data!$S12,0))*Data!$S12","v":8982937376},{"$f":"IF($AR112>=0,ROUND((('Blad 3 Inkomstutjämning'!$F$19-$AO112)*Data!$T12)*Data!$AN12/100/Data!$T12,0),ROUND('Blad 8 Periodisering'!$AR112*Data!$AO12/100/Data!$T12,0))*Data!$T12","v":9373365750},{"$f":"IF($AV112>=0,ROUND((('Blad 3 Inkomstutjämning'!$G$19-$AS112)*Data!$U12)*Data!$AN12/100/Data!$U12,0),ROUND('Blad 8 Periodisering'!$AV112*Data!$AO12/100/Data!$U12,0))*Data!$U12","v":9787103536},{"$f":"IF($AZ112>=0,ROUND((('Blad 3 Inkomstutjämning'!$H$19-$AW112)*Data!$BP12)*Data!$AN12/100/Data!$BP12,0),ROUND('Blad 8 Periodisering'!$AZ112*Data!$AO12/100/Data!$BP12,0))*Data!$BP12","v":10217485512},{"$f":"IF($BD112>=0,ROUND((('Blad 3 Inkomstutjämning'!$I$19-$BA112)*Data!$BQ12)*Data!$AN12/100/Data!$BQ12,0),ROUND('Blad 8 Periodisering'!$BD112*Data!$AO12/100/Data!$BQ12,0))*Data!$BQ12","v":10657140465},{"$f":"IF($BH112>=0,ROUND((('Blad 3 Inkomstutjämning'!$J$19-$BE112)*Data!$BR12)*Data!$AN12/100/Data!$BR12,0),ROUND('Blad 8 Periodisering'!$BH112*Data!$AO12/100/Data!$BR12,0))*Data!$BR12","v":11080986588},null,{"$f":"(Data!$AQ12*('Blad 8 Periodisering'!$B$46/100+1)*('Blad 8 Periodisering'!$C$46/100+1))/Data!$E12","v":241979.77051107367},{"$f":"U112/'Blad 3 Inkomstutjämning'!$B$16","v":0.92738138686179206},null,{"$f":"IF(V112>'Blad 2 Indata'!$B$55,ROUND(Data!$E12*'Blad 3 Inkomstutjämning'!$B$16*'Blad 2 Indata'!$B$55,0)-(U112*Data!$E12),0)","v":0},{"$f":"(Data!$C12*('Blad 3 Inkomstutjämning'!$B$10/100+1)*('Blad 3 Inkomstutjämning'!$C$10/100+1))/Data!$F12","v":250043.43518929384},{"$f":"Y112/'Blad 3 Inkomstutjämning'!$C$16","v":0.92351122679820297},null,{"$f":"IF(Z112>'Blad 2 Indata'!$C$55,ROUND(Data!$F12*'Blad 3 Inkomstutjämning'!$C$16*'Blad 2 Indata'!$C$55,0)-(Y112*Data!$F12),0)","v":0},{"$f":"IF('Blad 3 Inkomstutjämning'!$C$11<>0,((Data!$C12*$C61*('Blad 3 Inkomstutjämning'!$C$11/100+1)*('Blad 3 Inkomstutjämning'!$D$11/100+1))/Data!$R12),((Data!$C12*$C61*('Blad 3 Inkomstutjämning'!$C$12/100+1)*('Blad 3 Inkomstutjämning'!$D$12/100+1))/Data!$R12))","v":260355.66310667607},{"$f":"(Data!$C12*C61*('Blad 3 Inkomstutjämning'!$C$12/100+1)*('Blad 3 Inkomstutjämning'!$D$12/100+1))/Data!R12","v":260355.66310667607},{"$f":"IF('Blad 3 Inkomstutjämning'!$C$11<>0,AC112/'Blad 3 Inkomstutjämning'!$D$16,'Blad 8 Periodisering'!AC112/'Blad 3 Inkomstutjämning'!$D$17)","v":0.92296228860839413},{"$f":"AD112/('Blad 3 Inkomstutjämning'!$D$19/'Blad 2 Indata'!$D$55)","v":0.92296228860839413},null,null,{"$f":"IF(AE112>'Blad 2 Indata'!$D$55,ROUND(Data!$R12*'Blad 3 Inkomstutjämning'!$D$16*'Blad 2 Indata'!$D$55,0)-('Blad 8 Periodisering'!AC112*Data!$R12),0)","v":0},{"$f":"IF(AF112>'Blad 2 Indata'!$D$55,ROUND(Data!$R12*('Blad 3 Inkomstutjämning'!$D$19/'Blad 2 Indata'!$D$55)*'Blad 2 Indata'!$D$55,0)-('Blad 8 Periodisering'!AD112*Data!$R12),0)","v":0},{"$f":"(Data!$C12*$C61*$E61*('Blad 3 Inkomstutjämning'!$D$12/100+1)*('Blad 3 Inkomstutjämning'!$E$12/100+1))/Data!S12","v":269819.5676126802},{"$f":"AK112/'Blad 3 Inkomstutjämning'!$E$17","v":0.92300597485925073},null,{"$f":"IF(AL112>'Blad 2 Indata'!$E$55,ROUND(Data!$S12*'Blad 3 Inkomstutjämning'!$E$17*'Blad 2 Indata'!$E$55,0)-('Blad 8 Periodisering'!AK112*Data!$S12),0)","v":0},{"$f":"(Data!$C12*$C61*$E61*$G61*('Blad 3 Inkomstutjämning'!$E$12/100+1)*('Blad 3 Inkomstutjämning'!$F$12/100+1))/Data!T12","v":279220.86071619898},{"$f":"AO112/'Blad 3 Inkomstutjämning'!$F$17","v":0.92275742650614012},null,{"$f":"IF(AP112>'Blad 2 Indata'!$F$55,ROUND(Data!$T12*'Blad 3 Inkomstutjämning'!$F$17*'Blad 2 Indata'!$F$55,0)-('Blad 8 Periodisering'!AO112*Data!$T12),0)","v":0},{"$f":"(Data!$C12*$C61*$E61*$G61*$I61*('Blad 3 Inkomstutjämning'!$F$12/100+1)*('Blad 3 Inkomstutjämning'!$G$12/100+1))/Data!U12","v":289283.21056017594},{"$f":"AS112/'Blad 3 Inkomstutjämning'!$G$17","v":0.92250628399464241},null,{"$f":"IF(AT112>'Blad 2 Indata'!$G$55,ROUND(Data!$U12*'Blad 3 Inkomstutjämning'!$G$17*'Blad 2 Indata'!$G$55,0)-('Blad 8 Periodisering'!AS112*Data!$U12),0)","v":0},{"$f":"(Data!$C12*$C61*$E61*$G61*$I61*$K61*('Blad 3 Inkomstutjämning'!$G$12/100+1)*('Blad 3 Inkomstutjämning'!$H$12/100+1))/Data!BP12","v":299702.20798914356},{"$f":"AW112/'Blad 3 Inkomstutjämning'!$H$17","v":0.92225712225015399},null,{"$f":"IF(AX112>'Blad 2 Indata'!$H$55,ROUND(Data!$BP12*'Blad 3 Inkomstutjämning'!$H$17*'Blad 2 Indata'!$H$55,0)-('Blad 8 Periodisering'!AW112*Data!$BP12),0)","v":0},{"$f":"(Data!$C12*$C61*$E61*$G61*$I61*$K61*$M61*('Blad 3 Inkomstutjämning'!$H$12/100+1)*('Blad 3 Inkomstutjämning'!$I$12/100+1))/Data!BQ12","v":310188.20165050734},{"$f":"BA112/'Blad 3 Inkomstutjämning'!$I$17","v":0.92200745377305426},null,{"$f":"IF(BB112>'Blad 2 Indata'!$I$55,ROUND(Data!$BQ12*'Blad 3 Inkomstutjämning'!$I$17*'Blad 2 Indata'!$I$55,0)-('Blad 8 Periodisering'!BA112*Data!$BQ12),0)","v":0},{"$f":"(Data!$C12*$C61*$E61*$G61*$I61*$K61*$M61*$O61*('Blad 3 Inkomstutjämning'!$I$12/100+1)*('Blad 3 Inkomstutjämning'!$J$12/100+1))/Data!$BR12","v":320068.20714189706},{"$f":"BE112/'Blad 3 Inkomstutjämning'!$J$17","v":0.92175720658195137},null,{"$f":"IF(BF112>'Blad 2 Indata'!$J$55,ROUND(Data!$BR12*'Blad 3 Inkomstutjämning'!$J$17*'Blad 2 Indata'!$J$55,0)-('Blad 8 Periodisering'!BE112*Data!$BR12),0)","v":0}]
[13,{"$f":"IF((ROUND('Blad 3 Inkomstutjämning'!B$16*'Blad 2 Indata'!B$55*Data!E13,0)-ROUND((Data!AQ13*($B$46/100+1)*($C$46/100+1)),0))<0,ROUND((ROUND(#REF!*Data!AT13/100/Data!E13,0)+ROUND('Blad 8 Periodisering'!T113*Data!AS13/100/Data!E13,0)),0),ROUND((ROUND('Blad 3 Inkomstutjämning'!B$16*'Blad 2 Indata'!B$55*Data!E13,0)-ROUND((Data!AQ13*('Blad 8 Periodisering'!$B$46/100+1)*('Blad 8 Periodisering'!$C$46/100+1)),0))*Data!AR13/100/Data!E13,0))*Data!E13","v":1459380422},{"$f":"IF((ROUND('Blad 3 Inkomstutjämning'!C$16*'Blad 2 Indata'!C$55*Data!F13,0)-ROUND((Data!C13*('Blad 2 Indata'!B$7/100+1)*('Blad 2 Indata'!C$7/100+1)),0))<0,ROUND((ROUND('Blad 8 Periodisering'!AB113*Data!N13/100/Data!F13,0)),0),ROUND((ROUND('Blad 3 Inkomstutjämning'!C$16*'Blad 2 Indata'!C$55*Data!F13,0)-ROUND((Data!C13*('Blad 2 Indata'!B$7/100+1)*('Blad 2 Indata'!C$7/100+1)),0))*Data!M13/100/Data!F13,0))*Data!F13","v":1509767721},{"$f":"IF('Blad 2 Indata'!D$8<>0,'Blad 8 Periodisering'!L113,'Blad 8 Periodisering'!M113)","v":1577864880},{"$f":"'Blad 8 Periodisering'!N113","v":1654230364},{"$f":"'Blad 8 Periodisering'!O113","v":1724243064},1798243304,1875380490,1953875678,2029493984,null,{"$f":"IF($AI113>=0,ROUND((('Blad 3 Inkomstutjämning'!$D$19-$AC113)*Data!$R13)*Data!$AN13/100/Data!$R13,0),ROUND('Blad 8 Periodisering'!$AI113*Data!$AO13/100/Data!$R13,0))*Data!$R13","v":1577864880},{"$f":"IF($AJ113>=0,ROUND((('Blad 3 Inkomstutjämning'!$D$19-$AD113)*Data!$R13)*Data!$AN13/100/Data!$R13,0),ROUND('Blad 8 Periodisering'!$AJ113*Data!$AO13/100/Data!$R13,0))*Data!$R13","v":1577864880},{"$f":"IF($AN113>=0,ROUND((('Blad 3 Inkomstutjämning'!$E$19-$AK113)*Data!$S13)*Data!$AN13/100/Data!$S13,0),ROUND('Blad 8 Periodisering'!$AN113*Data!$AO13/100/Data!$S13,0))*Data!$S13","v":1654230364},{"$f":"IF($AR113>=0,ROUND((('Blad 3 Inkomstutjämning'!$F$19-$AO113)*Data!$T13)*Data!$AN13/100/Data!$T13,0),ROUND('Blad 8 Periodisering'!$AR113*Data!$AO13/100/Data!$T13,0))*Data!$T13","v":1724243064},{"$f":"IF($AV113>=0,ROUND((('Blad 3 Inkomstutjämning'!$G$19-$AS113)*Data!$U13)*Data!$AN13/100/Data!$U13,0),ROUND('Blad 8 Periodisering'!$AV113*Data!$AO13/100/Data!$U13,0))*Data!$U13","v":1798243304},{"$f":"IF($AZ113>=0,ROUND((('Blad 3 Inkomstutjämning'!$H$19-$AW113)*Data!$BP13)*Data!$AN13/100/Data!$BP13,0),ROUND('Blad 8 Periodisering'!$AZ113*Data!$AO13/100/Data!$BP13,0))*Data!$BP13","v":1875380490},{"$f":"IF($BD113>=0,ROUND((('Blad 3 Inkomstutjämning'!$I$19-$BA113)*Data!$BQ13)*Data!$AN13/100/Data!$BQ13,0),ROUND('Blad 8 Periodisering'!$BD113*Data!$AO13/100/Data!$BQ13,0))*Data!$BQ13","v":1953875678},{"$f":"IF($BH113>=0,ROUND((('Blad 3 Inkomstutjämning'!$J$19-$BE113)*Data!$BR13)*Data!$AN13/100/Data!$BR13,0),ROUND('Blad 8 Periodisering'!$BH113*Data!$AO13/100/Data!$BR13,0))*Data!$BR13","v":2029493984},null,{"$f":"(Data!$AQ13*('Blad 8 Periodisering'!$B$46/100+1)*('Blad 8 Periodisering'!$C$46/100+1))/Data!$E13","v":256603.59719145502},{"$f":"U113/'Blad 3 Inkomstutjämning'!$B$16","v":0.98342683495621408},null,{"$f":"IF(V113>'Blad 2 Indata'!$B$55,ROUND(Data!$E13*'Blad 3 Inkomstutjämning'!$B$16*'Blad 2 Indata'!$B$55,0)-(U113*Data!$E13),0)","v":0},{"$f":"(Data!$C13*('Blad 3 Inkomstutjämning'!$B$10/100+1)*('Blad 3 Inkomstutjämning'!$C$10/100+1))/Data!$F13","v":266584.00164444442},{"$f":"Y113/'Blad 3 Inkomstutjämning'!$C$16","v":0.98460220808059162},null,{"$f":"IF(Z113>'Blad 2 Indata'!$C$55,ROUND(Data!$F13*'Blad 3 Inkomstutjämning'!$C$16*'Blad 2 Indata'!$C$55,0)-(Y113*Data!$F13),0)","v":0},{"$f":"IF('Blad 3 Inkomstutjämning'!$C$11<>0,((Data!$C13*$C62*('Blad 3 Inkomstutjämning'!$C$11/100+1)*('Blad 3 Inkomstutjämning'!$D$11/100+1))/Data!$R13),((Data!$C13*$C62*('Blad 3 Inkomstutjämning'!$C$12/100+1)*('Blad 3 Inkomstutjämning'!$D$12/100+1))/Data!$R13))","v":277868.19480619224},{"$f":"(Data!$C13*C62*('Blad 3 Inkomstutjämning'!$C$12/100+1)*('Blad 3 Inkomstutjämning'!$D$12/100+1))/Data!R13","v":277868.19480619224},{"$f":"IF('Blad 3 Inkomstutjämning'!$C$11<>0,AC113/'Blad 3 Inkomstutjämning'!$D$16,'Blad 8 Periodisering'!AC113/'Blad 3 Inkomstutjämning'!$D$17)","v":0.98504431188318586},{"$f":"AD113/('Blad 3 Inkomstutjämning'!$D$19/'Blad 2 Indata'!$D$55)","v":0.98504431188318586},null,null,{"$f":"IF(AE113>'Blad 2 Indata'!$D$55,ROUND(Data!$R13*'Blad 3 Inkomstutjämning'!$D$16*'Blad 2 Indata'!$D$55,0)-('Blad 8 Periodisering'!AC113*Data!$R13),0)","v":0},{"$f":"IF(AF113>'Blad 2 Indata'!$D$55,ROUND(Data!$R13*('Blad 3 Inkomstutjämning'!$D$19/'Blad 2 Indata'!$D$55)*'Blad 2 Indata'!$D$55,0)-('Blad 8 Periodisering'!AD113*Data!$R13),0)","v":0},{"$f":"(Data!$C13*$C62*$E62*('Blad 3 Inkomstutjämning'!$D$12/100+1)*('Blad 3 Inkomstutjämning'!$E$12/100+1))/Data!S13","v":287668.84615381161},{"$f":"AK113/'Blad 3 Inkomstutjämning'!$E$17","v":0.98406526305750619},null,{"$f":"IF(AL113>'Blad 2 Indata'!$E$55,ROUND(Data!$S13*'Blad 3 Inkomstutjämning'!$E$17*'Blad 2 Indata'!$E$55,0)-('Blad 8 Periodisering'!AK113*Data!$S13),0)","v":0},{"$f":"(Data!$C13*$C62*$E62*$G62*('Blad 3 Inkomstutjämning'!$E$12/100+1)*('Blad 3 Inkomstutjämning'!$F$12/100+1))/Data!T13","v":297691.99870683788},{"$f":"AO113/'Blad 3 Inkomstutjämning'!$F$17","v":0.98380007107489864},null,{"$f":"IF(AP113>'Blad 2 Indata'!$F$55,ROUND(Data!$T13*'Blad 3 Inkomstutjämning'!$F$17*'Blad 2 Indata'!$F$55,0)-('Blad 8 Periodisering'!AO113*Data!$T13),0)","v":0},{"$f":"(Data!$C13*$C62*$E62*$G62*$I62*('Blad 3 Inkomstutjämning'!$F$12/100+1)*('Blad 3 Inkomstutjämning'!$G$12/100+1))/Data!U13","v":308419.61369228805},{"$f":"AS113/'Blad 3 Inkomstutjämning'!$G$17","v":0.98353109116628412},null,{"$f":"IF(AT113>'Blad 2 Indata'!$G$55,ROUND(Data!$U13*'Blad 3 Inkomstutjämning'!$G$17*'Blad 2 Indata'!$G$55,0)-('Blad 8 Periodisering'!AS113*Data!$U13),0)","v":0},{"$f":"(Data!$C13*$C62*$E62*$G62*$I62*$K62*('Blad 3 Inkomstutjämning'!$G$12/100+1)*('Blad 3 Inkomstutjämning'!$H$12/100+1))/Data!BP13","v":319527.84820110997},{"$f":"AW113/'Blad 3 Inkomstutjämning'!$H$17","v":0.98326547454536772},null,{"$f":"IF(AX113>'Blad 2 Indata'!$H$55,ROUND(Data!$BP13*'Blad 3 Inkomstutjämning'!$H$17*'Blad 2 Indata'!$H$55,0)-('Blad 8 Periodisering'!AW113*Data!$BP13),0)","v":0},{"$f":"(Data!$C13*$C62*$E62*$G62*$I62*$K62*$M62*('Blad 3 Inkomstutjämning'!$H$12/100+1)*('Blad 3 Inkomstutjämning'!$I$12/100+1))/Data!BQ13","v":330707.85886505741},{"$f":"BA113/'Blad 3 Inkomstutjämning'!$I$17","v":0.98300035034363298},null,{"$f":"IF(BB113>'Blad 2 Indata'!$I$55,ROUND(Data!$BQ13*'Blad 3 Inkomstutjämning'!$I$17*'Blad 2 Indata'!$I$55,0)-('Blad 8 Periodisering'!BA113*Data!$BQ13),0)","v":0},{"$f":"(Data!$C13*$C62*$E62*$G62*$I62*$K62*$M62*$O62*('Blad 3 Inkomstutjämning'!$I$12/100+1)*('Blad 3 Inkomstutjämning'!$J$12/100+1))/Data!$BR13","v":341241.14227721572},{"$f":"BE113/'Blad 3 Inkomstutjämning'!$J$17","v":0.98273266465617348},null,{"$f":"IF(BF113>'Blad 2 Indata'!$J$55,ROUND(Data!$BR13*'Blad 3 Inkomstutjämning'!$J$17*'Blad 2 Indata'!$J$55,0)-('Blad 8 Periodisering'!BE113*Data!$BR13),0)","v":0}]
[14,{"$f":"IF((ROUND('Blad 3 Inkomstutjämning'!B$16*'Blad 2 Indata'!B$55*Data!E14,0)-ROUND((Data!AQ14*($B$46/100+1)*($C$46/100+1)),0))<0,ROUND((ROUND(#REF!*Data!AT14/100/Data!E14,0)+ROUND('Blad 8 Periodisering'!T114*Data!AS14/100/Data!E14,0)),0),ROUND((ROUND('Blad 3 Inkomstutjämning'!B$16*'Blad 2 Indata'!B$55*Data!E14,0)-ROUND((Data!AQ14*('Blad 8 Periodisering'!$B$46/100+1)*('Blad 8 Periodisering'!$C$46/100+1)),0))*Data!AR14/100/Data!E14,0))*Data!E14","v":7055258375},{"$f":"IF((ROUND('Blad 3 Inkomstutjämning'!C$16*'Blad 2 Indata'!C$55*Data!F14,0)-ROUND((Data!C14*('Blad 2 Indata'!B$7/100+1)*('Blad 2 Indata'!C$7/100+1)),0))<0,ROUND((ROUND('Blad 8 Periodisering'!AB114*Data!N14/100/Data!F14,0)),0),ROUND((ROUND('Blad 3 Inkomstutjämning'!C$16*'Blad 2 Indata'!C$55*Data!F14,0)-ROUND((Data!C14*('Blad 2 Indata'!B$7/100+1)*('Blad 2 Indata'!C$7/100+1)),0))*Data!M14/100/Data!F14,0))*Data!F14","v":7367527688},{"$f":"IF('Blad 2 Indata'!D$8<>0,'Blad 8 Periodisering'!L114,'Blad 8 Periodisering'!M114)","v":7758135123},{"$f":"'Blad 8 Periodisering'!N114","v":8088654105},{"$f":"'Blad 8 Periodisering'!O114","v":8440508274},8811855540,9199940920,9593800468,9975169568,null,{"$f":"IF($AI114>=0,ROUND((('Blad 3 Inkomstutjämning'!$D$19-$AC114)*Data!$R14)*Data!$AN14/100/Data!$R14,0),ROUND('Blad 8 Periodisering'!$AI114*Data!$AO14/100/Data!$R14,0))*Data!$R14","v":7758135123},{"$f":"IF($AJ114>=0,ROUND((('Blad 3 Inkomstutjämning'!$D$19-$AD114)*Data!$R14)*Data!$AN14/100/Data!$R14,0),ROUND('Blad 8 Periodisering'!$AJ114*Data!$AO14/100/Data!$R14,0))*Data!$R14","v":7758135123},{"$f":"IF($AN114>=0,ROUND((('Blad 3 Inkomstutjämning'!$E$19-$AK114)*Data!$S14)*Data!$AN14/100/Data!$S14,0),ROUND('Blad 8 Periodisering'!$AN114*Data!$AO14/100/Data!$S14,0))*Data!$S14","v":8088654105},{"$f":"IF($AR114>=0,ROUND((('Blad 3 Inkomstutjämning'!$F$19-$AO114)*Data!$T14)*Data!$AN14/100/Data!$T14,0),ROUND('Blad 8 Periodisering'!$AR114*Data!$AO14/100/Data!$T14,0))*Data!$T14","v":8440508274},{"$f":"IF($AV114>=0,ROUND((('Blad 3 Inkomstutjämning'!$G$19-$AS114)*Data!$U14)*Data!$AN14/100/Data!$U14,0),ROUND('Blad 8 Periodisering'!$AV114*Data!$AO14/100/Data!$U14,0))*Data!$U14","v":8811855540},{"$f":"IF($AZ114>=0,ROUND((('Blad 3 Inkomstutjämning'!$H$19-$AW114)*Data!$BP14)*Data!$AN14/100/Data!$BP14,0),ROUND('Blad 8 Periodisering'!$AZ114*Data!$AO14/100/Data!$BP14,0))*Data!$BP14","v":9199940920},{"$f":"IF($BD114>=0,ROUND((('Blad 3 Inkomstutjämning'!$I$19-$BA114)*Data!$BQ14)*Data!$AN14/100/Data!$BQ14,0),ROUND('Blad 8 Periodisering'!$BD114*Data!$AO14/100/Data!$BQ14,0))*Data!$BQ14","v":9593800468},{"$f":"IF($BH114>=0,ROUND((('Blad 3 Inkomstutjämning'!$J$19-$BE114)*Data!$BR14)*Data!$AN14/100/Data!$BR14,0),ROUND('Blad 8 Periodisering'!$BH114*Data!$AO14/100/Data!$BR14,0))*Data!$BR14","v":9975169568},null,{"$f":"(Data!$AQ14*('Blad 8 Periodisering'!$B$46/100+1)*('Blad 8 Periodisering'!$C$46/100+1))/Data!$E14","v":258546.25397439531},{"$f":"U114/'Blad 3 Inkomstutjämning'!$B$16","v":0.99087201823643034},null,{"$f":"IF(V114>'Blad 2 Indata'!$B$55,ROUND(Data!$E14*'Blad 3 Inkomstutjämning'!$B$16*'Blad 2 Indata'!$B$55,0)-(U114*Data!$E14),0)","v":0},{"$f":"(Data!$C14*('Blad 3 Inkomstutjämning'!$B$10/100+1)*('Blad 3 Inkomstutjämning'!$C$10/100+1))/Data!$F14","v":268264.79175551311},{"$f":"Y114/'Blad 3 Inkomstutjämning'!$C$16","v":0.99081004367638814},null,{"$f":"IF(Z114>'Blad 2 Indata'!$C$55,ROUND(Data!$F14*'Blad 3 Inkomstutjämning'!$C$16*'Blad 2 Indata'!$C$55,0)-(Y114*Data!$F14),0)","v":0},{"$f":"IF('Blad 3 Inkomstutjämning'!$C$11<>0,((Data!$C14*$C63*('Blad 3 Inkomstutjämning'!$C$11/100+1)*('Blad 3 Inkomstutjämning'!$D$11/100+1))/Data!$R14),((Data!$C14*$C63*('Blad 3 Inkomstutjämning'!$C$12/100+1)*('Blad 3 Inkomstutjämning'!$D$12/100+1))/Data!$R14))","v":279319.21403024439},{"$f":"(Data!$C14*C63*('Blad 3 Inkomstutjämning'!$C$12/100+1)*('Blad 3 Inkomstutjämning'!$D$12/100+1))/Data!R14","v":279319.21403024439},{"$f":"IF('Blad 3 Inkomstutjämning'!$C$11<>0,AC114/'Blad 3 Inkomstutjämning'!$D$16,'Blad 8 Periodisering'!AC114/'Blad 3 Inkomstutjämning'!$D$17)","v":0.99018818318548674},{"$f":"AD114/('Blad 3 Inkomstutjämning'!$D$19/'Blad 2 Indata'!$D$55)","v":0.99018818318548674},null,null,{"$f":"IF(AE114>'Blad 2 Indata'!$D$55,ROUND(Data!$R14*'Blad 3 Inkomstutjämning'!$D$16*'Blad 2 Indata'!$D$55,0)-('Blad 8 Periodisering'!AC114*Data!$R14),0)","v":0},{"$f":"IF(AF114>'Blad 2 Indata'!$D$55,ROUND(Data!$R14*('Blad 3 Inkomstutjämning'!$D$19/'Blad 2 Indata'!$D$55)*'Blad 2 Indata'!$D$55,0)-('Blad 8 Periodisering'!AD114*Data!$R14),0)","v":0},{"$f":"(Data!$C14*$C63*$E63*('Blad 3 Inkomstutjämning'!$D$12/100+1)*('Blad 3 Inkomstutjämning'!$E$12/100+1))/Data!S14","v":289482.03795381094},{"$f":"AK114/'Blad 3 Inkomstutjämning'!$E$17","v":0.99026787793741577},null,{"$f":"IF(AL114>'Blad 2 Indata'!$E$55,ROUND(Data!$S14*'Blad 3 Inkomstutjämning'!$E$17*'Blad 2 Indata'!$E$55,0)-('Blad 8 Periodisering'!AK114*Data!$S14),0)","v":0},{"$f":"(Data!$C14*$C63*$E63*$G63*('Blad 3 Inkomstutjämning'!$E$12/100+1)*('Blad 3 Inkomstutjämning'!$F$12/100+1))/Data!T14","v":299568.48387787835},{"$f":"AO114/'Blad 3 Inkomstutjämning'!$F$17","v":0.99000140081389043},null,{"$f":"IF(AP114>'Blad 2 Indata'!$F$55,ROUND(Data!$T14*'Blad 3 Inkomstutjämning'!$F$17*'Blad 2 Indata'!$F$55,0)-('Blad 8 Periodisering'!AO114*Data!$T14),0)","v":0},{"$f":"(Data!$C14*$C63*$E63*$G63*$I63*('Blad 3 Inkomstutjämning'!$F$12/100+1)*('Blad 3 Inkomstutjämning'!$G$12/100+1))/Data!U14","v":310364.10064013163},{"$f":"AS114/'Blad 3 Inkomstutjämning'!$G$17","v":0.98973193989531238},null,{"$f":"IF(AT114>'Blad 2 Indata'!$G$55,ROUND(Data!$U14*'Blad 3 Inkomstutjämning'!$G$17*'Blad 2 Indata'!$G$55,0)-('Blad 8 Periodisering'!AS114*Data!$U14),0)","v":0},{"$f":"(Data!$C14*$C63*$E63*$G63*$I63*$K63*('Blad 3 Inkomstutjämning'!$G$12/100+1)*('Blad 3 Inkomstutjämning'!$H$12/100+1))/Data!BP14","v":321542.37691174552},{"$f":"AW114/'Blad 3 Inkomstutjämning'!$H$17","v":0.98946467295577234},null,{"$f":"IF(AX114>'Blad 2 Indata'!$H$55,ROUND(Data!$BP14*'Blad 3 Inkomstutjämning'!$H$17*'Blad 2 Indata'!$H$55,0)-('Blad 8 Periodisering'!AW114*Data!$BP14),0)","v":0},{"$f":"(Data!$C14*$C63*$E63*$G63*$I63*$K63*$M63*('Blad 3 Inkomstutjämning'!$H$12/100+1)*('Blad 3 Inkomstutjämning'!$I$12/100+1))/Data!BQ14","v":332792.42652292078},{"$f":"BA114/'Blad 3 Inkomstutjämning'!$I$17","v":0.98919654642142507},null,{"$f":"IF(BB114>'Blad 2 Indata'!$I$55,ROUND(Data!$BQ14*'Blad 3 Inkomstutjämning'!$I$17*'Blad 2 Indata'!$I$55,0)-('Blad 8 Periodisering'!BA114*Data!$BQ14),0)","v":0},{"$f":"(Data!$C14*$C63*$E63*$G63*$I63*$K63*$M63*$O63*('Blad 3 Inkomstutjämning'!$I$12/100+1)*('Blad 3 Inkomstutjämning'!$J$12/100+1))/Data!$BR14","v":343392.36313555046},{"$f":"BE114/'Blad 3 Inkomstutjämning'!$J$17","v":0.98892791705823535},null,{"$f":"IF(BF114>'Blad 2 Indata'!$J$55,ROUND(Data!$BR14*'Blad 3 Inkomstutjämning'!$J$17*'Blad 2 Indata'!$J$55,0)-('Blad 8 Periodisering'!BE114*Data!$BR14),0)","v":0}]
[17,{"$f":"IF((ROUND('Blad 3 Inkomstutjämning'!B$16*'Blad 2 Indata'!B$55*Data!E15,0)-ROUND((Data!AQ15*($B$46/100+1)*($C$46/100+1)),0))<0,ROUND((ROUND(#REF!*Data!AT15/100/Data!E15,0)+ROUND('Blad 8 Periodisering'!T115*Data!AS15/100/Data!E15,0)),0),ROUND((ROUND('Blad 3 Inkomstutjämning'!B$16*'Blad 2 Indata'!B$55*Data!E15,0)-ROUND((Data!AQ15*('Blad 8 Periodisering'!$B$46/100+1)*('Blad 8 Periodisering'!$C$46/100+1)),0))*Data!AR15/100/Data!E15,0))*Data!E15","v":1791162908},{"$f":"IF((ROUND('Blad 3 Inkomstutjämning'!C$16*'Blad 2 Indata'!C$55*Data!F15,0)-ROUND((Data!C15*('Blad 2 Indata'!B$7/100+1)*('Blad 2 Indata'!C$7/100+1)),0))<0,ROUND((ROUND('Blad 8 Periodisering'!AB115*Data!N15/100/Data!F15,0)),0),ROUND((ROUND('Blad 3 Inkomstutjämning'!C$16*'Blad 2 Indata'!C$55*Data!F15,0)-ROUND((Data!C15*('Blad 2 Indata'!B$7/100+1)*('Blad 2 Indata'!C$7/100+1)),0))*Data!M15/100/Data!F15,0))*Data!F15","v":1857695889},{"$f":"IF('Blad 2 Indata'!D$8<>0,'Blad 8 Periodisering'!L115,'Blad 8 Periodisering'!M115)","v":1935527930},{"$f":"'Blad 8 Periodisering'!N115","v":2012033100},{"$f":"'Blad 8 Periodisering'!O115","v":2084870459},2161731880,2241658608,2322043418,2397807044,null,{"$f":"IF($AI115>=0,ROUND((('Blad 3 Inkomstutjämning'!$D$19-$AC115)*Data!$R15)*Data!$AN15/100/Data!$R15,0),ROUND('Blad 8 Periodisering'!$AI115*Data!$AO15/100/Data!$R15,0))*Data!$R15","v":1935527930},{"$f":"IF($AJ115>=0,ROUND((('Blad 3 Inkomstutjämning'!$D$19-$AD115)*Data!$R15)*Data!$AN15/100/Data!$R15,0),ROUND('Blad 8 Periodisering'!$AJ115*Data!$AO15/100/Data!$R15,0))*Data!$R15","v":1935527930},{"$f":"IF($AN115>=0,ROUND((('Blad 3 Inkomstutjämning'!$E$19-$AK115)*Data!$S15)*Data!$AN15/100/Data!$S15,0),ROUND('Blad 8 Periodisering'!$AN115*Data!$AO15/100/Data!$S15,0))*Data!$S15","v":2012033100},{"$f":"IF($AR115>=0,ROUND((('Blad 3 Inkomstutjämning'!$F$19-$AO115)*Data!$T15)*Data!$AN15/100/Data!$T15,0),ROUND('Blad 8 Periodisering'!$AR115*Data!$AO15/100/Data!$T15,0))*Data!$T15","v":2084870459},{"$f":"IF($AV115>=0,ROUND((('Blad 3 Inkomstutjämning'!$G$19-$AS115)*Data!$U15)*Data!$AN15/100/Data!$U15,0),ROUND('Blad 8 Periodisering'!$AV115*Data!$AO15/100/Data!$U15,0))*Data!$U15","v":2161731880},{"$f":"IF($AZ115>=0,ROUND((('Blad 3 Inkomstutjämning'!$H$19-$AW115)*Data!$BP15)*Data!$AN15/100/Data!$BP15,0),ROUND('Blad 8 Periodisering'!$AZ115*Data!$AO15/100/Data!$BP15,0))*Data!$BP15","v":2241658608},{"$f":"IF($BD115>=0,ROUND((('Blad 3 Inkomstutjämning'!$I$19-$BA115)*Data!$BQ15)*Data!$AN15/100/Data!$BQ15,0),ROUND('Blad 8 Periodisering'!$BD115*Data!$AO15/100/Data!$BQ15,0))*Data!$BQ15","v":2322043418},{"$f":"IF($BH115>=0,ROUND((('Blad 3 Inkomstutjämning'!$J$19-$BE115)*Data!$BR15)*Data!$AN15/100/Data!$BR15,0),ROUND('Blad 8 Periodisering'!$BH115*Data!$AO15/100/Data!$BR15,0))*Data!$BR15","v":2397807044},null,{"$f":"(Data!$AQ15*('Blad 8 Periodisering'!$B$46/100+1)*('Blad 8 Periodisering'!$C$46/100+1))/Data!$E15","v":230825.98840415705},{"$f":"U115/'Blad 3 Inkomstutjämning'!$B$16","v":0.88463479735466122},null,{"$f":"IF(V115>'Blad 2 Indata'!$B$55,ROUND(Data!$E15*'Blad 3 Inkomstutjämning'!$B$16*'Blad 2 Indata'!$B$55,0)-(U115*Data!$E15),0)","v":0},{"$f":"(Data!$C15*('Blad 3 Inkomstutjämning'!$B$10/100+1)*('Blad 3 Inkomstutjämning'!$C$10/100+1))/Data!$F15","v":239478.47403246973},{"$f":"Y115/'Blad 3 Inkomstutjämning'!$C$16","v":0.88449056532141745},null,{"$f":"IF(Z115>'Blad 2 Indata'!$C$55,ROUND(Data!$F15*'Blad 3 Inkomstutjämning'!$C$16*'Blad 2 Indata'!$C$55,0)-(Y115*Data!$F15),0)","v":0},{"$f":"IF('Blad 3 Inkomstutjämning'!$C$11<>0,((Data!$C15*$C64*('Blad 3 Inkomstutjämning'!$C$11/100+1)*('Blad 3 Inkomstutjämning'!$D$11/100+1))/Data!$R15),((Data!$C15*$C64*('Blad 3 Inkomstutjämning'!$C$12/100+1)*('Blad 3 Inkomstutjämning'!$D$12/100+1))/Data!$R15))","v":249563.26126933744},{"$f":"(Data!$C15*C64*('Blad 3 Inkomstutjämning'!$C$12/100+1)*('Blad 3 Inkomstutjämning'!$D$12/100+1))/Data!R15","v":249563.26126933744},{"$f":"IF('Blad 3 Inkomstutjämning'!$C$11<>0,AC115/'Blad 3 Inkomstutjämning'!$D$16,'Blad 8 Periodisering'!AC115/'Blad 3 Inkomstutjämning'!$D$17)","v":0.88470316345431532},{"$f":"AD115/('Blad 3 Inkomstutjämning'!$D$19/'Blad 2 Indata'!$D$55)","v":0.88470316345431532},null,null,{"$f":"IF(AE115>'Blad 2 Indata'!$D$55,ROUND(Data!$R15*'Blad 3 Inkomstutjämning'!$D$16*'Blad 2 Indata'!$D$55,0)-('Blad 8 Periodisering'!AC115*Data!$R15),0)","v":0},{"$f":"IF(AF115>'Blad 2 Indata'!$D$55,ROUND(Data!$R15*('Blad 3 Inkomstutjämning'!$D$19/'Blad 2 Indata'!$D$55)*'Blad 2 Indata'!$D$55,0)-('Blad 8 Periodisering'!AD115*Data!$R15),0)","v":0},{"$f":"(Data!$C15*$C64*$E64*('Blad 3 Inkomstutjämning'!$D$12/100+1)*('Blad 3 Inkomstutjämning'!$E$12/100+1))/Data!S15","v":258419.28036900019},{"$f":"AK115/'Blad 3 Inkomstutjämning'!$E$17","v":0.8840075681308952},null,{"$f":"IF(AL115>'Blad 2 Indata'!$E$55,ROUND(Data!$S15*'Blad 3 Inkomstutjämning'!$E$17*'Blad 2 Indata'!$E$55,0)-('Blad 8 Periodisering'!AK115*Data!$S15),0)","v":0},{"$f":"(Data!$C15*$C64*$E64*$G64*('Blad 3 Inkomstutjämning'!$E$12/100+1)*('Blad 3 Inkomstutjämning'!$F$12/100+1))/Data!T15","v":267423.08006213245},{"$f":"AO115/'Blad 3 Inkomstutjämning'!$F$17","v":0.88376861425584263},null,{"$f":"IF(AP115>'Blad 2 Indata'!$F$55,ROUND(Data!$T15*'Blad 3 Inkomstutjämning'!$F$17*'Blad 2 Indata'!$F$55,0)-('Blad 8 Periodisering'!AO115*Data!$T15),0)","v":0},{"$f":"(Data!$C15*$C64*$E64*$G64*$I64*('Blad 3 Inkomstutjämning'!$F$12/100+1)*('Blad 3 Inkomstutjämning'!$G$12/100+1))/Data!U15","v":277059.71259096003},{"$f":"AS115/'Blad 3 Inkomstutjämning'!$G$17","v":0.88352630424690048},null,{"$f":"IF(AT115>'Blad 2 Indata'!$G$55,ROUND(Data!$U15*'Blad 3 Inkomstutjämning'!$G$17*'Blad 2 Indata'!$G$55,0)-('Blad 8 Periodisering'!AS115*Data!$U15),0)","v":0},{"$f":"(Data!$C15*$C64*$E64*$G64*$I64*$K64*('Blad 3 Inkomstutjämning'!$G$12/100+1)*('Blad 3 Inkomstutjämning'!$H$12/100+1))/Data!BP15","v":287038.75478429534},{"$f":"AW115/'Blad 3 Inkomstutjämning'!$H$17","v":0.88328857414097273},null,{"$f":"IF(AX115>'Blad 2 Indata'!$H$55,ROUND(Data!$BP15*'Blad 3 Inkomstutjämning'!$H$17*'Blad 2 Indata'!$H$55,0)-('Blad 8 Periodisering'!AW115*Data!$BP15),0)","v":0},{"$f":"(Data!$C15*$C64*$E64*$G64*$I64*$K64*$M64*('Blad 3 Inkomstutjämning'!$H$12/100+1)*('Blad 3 Inkomstutjämning'!$I$12/100+1))/Data!BQ15","v":297081.95323169767},{"$f":"BA115/'Blad 3 Inkomstutjämning'!$I$17","v":0.88305027013794279},null,{"$f":"IF(BB115>'Blad 2 Indata'!$I$55,ROUND(Data!$BQ15*'Blad 3 Inkomstutjämning'!$I$17*'Blad 2 Indata'!$I$55,0)-('Blad 8 Periodisering'!BA115*Data!$BQ15),0)","v":0},{"$f":"(Data!$C15*$C64*$E64*$G64*$I64*$K64*$M64*$O64*('Blad 3 Inkomstutjämning'!$I$12/100+1)*('Blad 3 Inkomstutjämning'!$J$12/100+1))/Data!$BR15","v":306544.65327085403},{"$f":"BE115/'Blad 3 Inkomstutjämning'!$J$17","v":0.88281102898266606},null,{"$f":"IF(BF115>'Blad 2 Indata'!$J$55,ROUND(Data!$BR15*'Blad 3 Inkomstutjämning'!$J$17*'Blad 2 Indata'!$J$55,0)-('Blad 8 Periodisering'!BE115*Data!$BR15),0)","v":0}]
[18,{"$f":"IF((ROUND('Blad 3 Inkomstutjämning'!B$16*'Blad 2 Indata'!B$55*Data!E16,0)-ROUND((Data!AQ16*($B$46/100+1)*($C$46/100+1)),0))<0,ROUND((ROUND(#REF!*Data!AT16/100/Data!E16,0)+ROUND('Blad 8 Periodisering'!T116*Data!AS16/100/Data!E16,0)),0),ROUND((ROUND('Blad 3 Inkomstutjämning'!B$16*'Blad 2 Indata'!B$55*Data!E16,0)-ROUND((Data!AQ16*('Blad 8 Periodisering'!$B$46/100+1)*('Blad 8 Periodisering'!$C$46/100+1)),0))*Data!AR16/100/Data!E16,0))*Data!E16","v":1942847640},{"$f":"IF((ROUND('Blad 3 Inkomstutjämning'!C$16*'Blad 2 Indata'!C$55*Data!F16,0)-ROUND((Data!C16*('Blad 2 Indata'!B$7/100+1)*('Blad 2 Indata'!C$7/100+1)),0))<0,ROUND((ROUND('Blad 8 Periodisering'!AB116*Data!N16/100/Data!F16,0)),0),ROUND((ROUND('Blad 3 Inkomstutjämning'!C$16*'Blad 2 Indata'!C$55*Data!F16,0)-ROUND((Data!C16*('Blad 2 Indata'!B$7/100+1)*('Blad 2 Indata'!C$7/100+1)),0))*Data!M16/100/Data!F16,0))*Data!F16","v":2044778190},{"$f":"IF('Blad 2 Indata'!D$8<>0,'Blad 8 Periodisering'!L116,'Blad 8 Periodisering'!M116)","v":2146538955},{"$f":"'Blad 8 Periodisering'!N116","v":2223687384},{"$f":"'Blad 8 Periodisering'!O116","v":2309210110},2399136120,2492768652,2587256672,2677324706,null,{"$f":"IF($AI116>=0,ROUND((('Blad 3 Inkomstutjämning'!$D$19-$AC116)*Data!$R16)*Data!$AN16/100/Data!$R16,0),ROUND('Blad 8 Periodisering'!$AI116*Data!$AO16/100/Data!$R16,0))*Data!$R16","v":2146538955},{"$f":"IF($AJ116>=0,ROUND((('Blad 3 Inkomstutjämning'!$D$19-$AD116)*Data!$R16)*Data!$AN16/100/Data!$R16,0),ROUND('Blad 8 Periodisering'!$AJ116*Data!$AO16/100/Data!$R16,0))*Data!$R16","v":2146538955},{"$f":"IF($AN116>=0,ROUND((('Blad 3 Inkomstutjämning'!$E$19-$AK116)*Data!$S16)*Data!$AN16/100/Data!$S16,0),ROUND('Blad 8 Periodisering'!$AN116*Data!$AO16/100/Data!$S16,0))*Data!$S16","v":2223687384},{"$f":"IF($AR116>=0,ROUND((('Blad 3 Inkomstutjämning'!$F$19-$AO116)*Data!$T16)*Data!$AN16/100/Data!$T16,0),ROUND('Blad 8 Periodisering'!$AR116*Data!$AO16/100/Data!$T16,0))*Data!$T16","v":2309210110},{"$f":"IF($AV116>=0,ROUND((('Blad 3 Inkomstutjämning'!$G$19-$AS116)*Data!$U16)*Data!$AN16/100/Data!$U16,0),ROUND('Blad 8 Periodisering'!$AV116*Data!$AO16/100/Data!$U16,0))*Data!$U16","v":2399136120},{"$f":"IF($AZ116>=0,ROUND((('Blad 3 Inkomstutjämning'!$H$19-$AW116)*Data!$BP16)*Data!$AN16/100/Data!$BP16,0),ROUND('Blad 8 Periodisering'!$AZ116*Data!$AO16/100/Data!$BP16,0))*Data!$BP16","v":2492768652},{"$f":"IF($BD116>=0,ROUND((('Blad 3 Inkomstutjämning'!$I$19-$BA116)*Data!$BQ16)*Data!$AN16/100/Data!$BQ16,0),ROUND('Blad 8 Periodisering'!$BD116*Data!$AO16/100/Data!$BQ16,0))*Data!$BQ16","v":2587256672},{"$f":"IF($BH116>=0,ROUND((('Blad 3 Inkomstutjämning'!$J$19-$BE116)*Data!$BR16)*Data!$AN16/100/Data!$BR16,0),ROUND('Blad 8 Periodisering'!$BH116*Data!$AO16/100/Data!$BR16,0))*Data!$BR16","v":2677324706},null,{"$f":"(Data!$AQ16*('Blad 8 Periodisering'!$B$46/100+1)*('Blad 8 Periodisering'!$C$46/100+1))/Data!$E16","v":237418.7070827522},{"$f":"U116/'Blad 3 Inkomstutjämning'!$B$16","v":0.90990122594260558},null,{"$f":"IF(V116>'Blad 2 Indata'!$B$55,ROUND(Data!$E16*'Blad 3 Inkomstutjämning'!$B$16*'Blad 2 Indata'!$B$55,0)-(U116*Data!$E16),0)","v":0},{"$f":"(Data!$C16*('Blad 3 Inkomstutjämning'!$B$10/100+1)*('Blad 3 Inkomstutjämning'!$C$10/100+1))/Data!$F16","v":245590.6304715203},{"$f":"Y116/'Blad 3 Inkomstutjämning'!$C$16","v":0.90706522354884456},null,{"$f":"IF(Z116>'Blad 2 Indata'!$C$55,ROUND(Data!$F16*'Blad 3 Inkomstutjämning'!$C$16*'Blad 2 Indata'!$C$55,0)-(Y116*Data!$F16),0)","v":0},{"$f":"IF('Blad 3 Inkomstutjämning'!$C$11<>0,((Data!$C16*$C65*('Blad 3 Inkomstutjämning'!$C$11/100+1)*('Blad 3 Inkomstutjämning'!$D$11/100+1))/Data!$R16),((Data!$C16*$C65*('Blad 3 Inkomstutjämning'!$C$12/100+1)*('Blad 3 Inkomstutjämning'!$D$12/100+1))/Data!$R16))","v":255538.08549082436},{"$f":"(Data!$C16*C65*('Blad 3 Inkomstutjämning'!$C$12/100+1)*('Blad 3 Inkomstutjämning'!$D$12/100+1))/Data!R16","v":255538.08549082436},{"$f":"IF('Blad 3 Inkomstutjämning'!$C$11<>0,AC116/'Blad 3 Inkomstutjämning'!$D$16,'Blad 8 Periodisering'!AC116/'Blad 3 Inkomstutjämning'!$D$17)","v":0.90588394889103141},{"$f":"AD116/('Blad 3 Inkomstutjämning'!$D$19/'Blad 2 Indata'!$D$55)","v":0.90588394889103141},null,null,{"$f":"IF(AE116>'Blad 2 Indata'!$D$55,ROUND(Data!$R16*'Blad 3 Inkomstutjämning'!$D$16*'Blad 2 Indata'!$D$55,0)-('Blad 8 Periodisering'!AC116*Data!$R16),0)","v":0},{"$f":"IF(AF116>'Blad 2 Indata'!$D$55,ROUND(Data!$R16*('Blad 3 Inkomstutjämning'!$D$19/'Blad 2 Indata'!$D$55)*'Blad 2 Indata'!$D$55,0)-('Blad 8 Periodisering'!AD116*Data!$R16),0)","v":0},{"$f":"(Data!$C16*$C65*$E65*('Blad 3 Inkomstutjämning'!$D$12/100+1)*('Blad 3 Inkomstutjämning'!$E$12/100+1))/Data!S16","v":265014.05545741261},{"$f":"AK116/'Blad 3 Inkomstutjämning'!$E$17","v":0.9065671506819849},null,{"$f":"IF(AL116>'Blad 2 Indata'!$E$55,ROUND(Data!$S16*'Blad 3 Inkomstutjämning'!$E$17*'Blad 2 Indata'!$E$55,0)-('Blad 8 Periodisering'!AK116*Data!$S16),0)","v":0},{"$f":"(Data!$C16*$C65*$E65*$G65*('Blad 3 Inkomstutjämning'!$E$12/100+1)*('Blad 3 Inkomstutjämning'!$F$12/100+1))/Data!T16","v":274247.90790548659},{"$f":"AO116/'Blad 3 Inkomstutjämning'!$F$17","v":0.90632301997226183},null,{"$f":"IF(AP116>'Blad 2 Indata'!$F$55,ROUND(Data!$T16*'Blad 3 Inkomstutjämning'!$F$17*'Blad 2 Indata'!$F$55,0)-('Blad 8 Periodisering'!AO116*Data!$T16),0)","v":0},{"$f":"(Data!$C16*$C65*$E65*$G65*$I65*('Blad 3 Inkomstutjämning'!$F$12/100+1)*('Blad 3 Inkomstutjämning'!$G$12/100+1))/Data!U16","v":284131.59579461685},{"$f":"AS116/'Blad 3 Inkomstutjämning'!$G$17","v":0.90607810281971291},null,{"$f":"IF(AT116>'Blad 2 Indata'!$G$55,ROUND(Data!$U16*'Blad 3 Inkomstutjämning'!$G$17*'Blad 2 Indata'!$G$55,0)-('Blad 8 Periodisering'!AS116*Data!$U16),0)","v":0},{"$f":"(Data!$C16*$C65*$E65*$G65*$I65*$K65*('Blad 3 Inkomstutjämning'!$G$12/100+1)*('Blad 3 Inkomstutjämning'!$H$12/100+1))/Data!BP16","v":294365.3631223602},{"$f":"AW116/'Blad 3 Inkomstutjämning'!$H$17","v":0.90583434304622701},null,{"$f":"IF(AX116>'Blad 2 Indata'!$H$55,ROUND(Data!$BP16*'Blad 3 Inkomstutjämning'!$H$17*'Blad 2 Indata'!$H$55,0)-('Blad 8 Periodisering'!AW116*Data!$BP16),0)","v":0},{"$f":"(Data!$C16*$C65*$E65*$G65*$I65*$K65*$M65*('Blad 3 Inkomstutjämning'!$H$12/100+1)*('Blad 3 Inkomstutjämning'!$I$12/100+1))/Data!BQ16","v":304664.67620045523},{"$f":"BA116/'Blad 3 Inkomstutjämning'!$I$17","v":0.90558925472823293},null,{"$f":"IF(BB116>'Blad 2 Indata'!$I$55,ROUND(Data!$BQ16*'Blad 3 Inkomstutjämning'!$I$17*'Blad 2 Indata'!$I$55,0)-('Blad 8 Periodisering'!BA116*Data!$BQ16),0)","v":0},{"$f":"(Data!$C16*$C65*$E65*$G65*$I65*$K65*$M65*$O65*('Blad 3 Inkomstutjämning'!$I$12/100+1)*('Blad 3 Inkomstutjämning'!$J$12/100+1))/Data!$BR16","v":314368.41892918217},{"$f":"BE116/'Blad 3 Inkomstutjämning'!$J$17","v":0.90534251513860031},null,{"$f":"IF(BF116>'Blad 2 Indata'!$J$55,ROUND(Data!$BR16*'Blad 3 Inkomstutjämning'!$J$17*'Blad 2 Indata'!$J$55,0)-('Blad 8 Periodisering'!BE116*Data!$BR16),0)","v":0}]
[19,{"$f":"IF((ROUND('Blad 3 Inkomstutjämning'!B$16*'Blad 2 Indata'!B$55*Data!E17,0)-ROUND((Data!AQ17*($B$46/100+1)*($C$46/100+1)),0))<0,ROUND((ROUND(#REF!*Data!AT17/100/Data!E17,0)+ROUND('Blad 8 Periodisering'!T117*Data!AS17/100/Data!E17,0)),0),ROUND((ROUND('Blad 3 Inkomstutjämning'!B$16*'Blad 2 Indata'!B$55*Data!E17,0)-ROUND((Data!AQ17*('Blad 8 Periodisering'!$B$46/100+1)*('Blad 8 Periodisering'!$C$46/100+1)),0))*Data!AR17/100/Data!E17,0))*Data!E17","v":1403481168},{"$f":"IF((ROUND('Blad 3 Inkomstutjämning'!C$16*'Blad 2 Indata'!C$55*Data!F17,0)-ROUND((Data!C17*('Blad 2 Indata'!B$7/100+1)*('Blad 2 Indata'!C$7/100+1)),0))<0,ROUND((ROUND('Blad 8 Periodisering'!AB117*Data!N17/100/Data!F17,0)),0),ROUND((ROUND('Blad 3 Inkomstutjämning'!C$16*'Blad 2 Indata'!C$55*Data!F17,0)-ROUND((Data!C17*('Blad 2 Indata'!B$7/100+1)*('Blad 2 Indata'!C$7/100+1)),0))*Data!M17/100/Data!F17,0))*Data!F17","v":1455679665},{"$f":"IF('Blad 2 Indata'!D$8<>0,'Blad 8 Periodisering'!L117,'Blad 8 Periodisering'!M117)","v":1516137000},{"$f":"'Blad 8 Periodisering'!N117","v":1587336093},{"$f":"'Blad 8 Periodisering'!O117","v":1650585495},1717342563,1786747005,1857341800,1924561600,null,{"$f":"IF($AI117>=0,ROUND((('Blad 3 Inkomstutjämning'!$D$19-$AC117)*Data!$R17)*Data!$AN17/100/Data!$R17,0),ROUND('Blad 8 Periodisering'!$AI117*Data!$AO17/100/Data!$R17,0))*Data!$R17","v":1516137000},{"$f":"IF($AJ117>=0,ROUND((('Blad 3 Inkomstutjämning'!$D$19-$AD117)*Data!$R17)*Data!$AN17/100/Data!$R17,0),ROUND('Blad 8 Periodisering'!$AJ117*Data!$AO17/100/Data!$R17,0))*Data!$R17","v":1516137000},{"$f":"IF($AN117>=0,ROUND((('Blad 3 Inkomstutjämning'!$E$19-$AK117)*Data!$S17)*Data!$AN17/100/Data!$S17,0),ROUND('Blad 8 Periodisering'!$AN117*Data!$AO17/100/Data!$S17,0))*Data!$S17","v":1587336093},{"$f":"IF($AR117>=0,ROUND((('Blad 3 Inkomstutjämning'!$F$19-$AO117)*Data!$T17)*Data!$AN17/100/Data!$T17,0),ROUND('Blad 8 Periodisering'!$AR117*Data!$AO17/100/Data!$T17,0))*Data!$T17","v":1650585495},{"$f":"IF($AV117>=0,ROUND((('Blad 3 Inkomstutjämning'!$G$19-$AS117)*Data!$U17)*Data!$AN17/100/Data!$U17,0),ROUND('Blad 8 Periodisering'!$AV117*Data!$AO17/100/Data!$U17,0))*Data!$U17","v":1717342563},{"$f":"IF($AZ117>=0,ROUND((('Blad 3 Inkomstutjämning'!$H$19-$AW117)*Data!$BP17)*Data!$AN17/100/Data!$BP17,0),ROUND('Blad 8 Periodisering'!$AZ117*Data!$AO17/100/Data!$BP17,0))*Data!$BP17","v":1786747005},{"$f":"IF($BD117>=0,ROUND((('Blad 3 Inkomstutjämning'!$I$19-$BA117)*Data!$BQ17)*Data!$AN17/100/Data!$BQ17,0),ROUND('Blad 8 Periodisering'!$BD117*Data!$AO17/100/Data!$BQ17,0))*Data!$BQ17","v":1857341800},{"$f":"IF($BH117>=0,ROUND((('Blad 3 Inkomstutjämning'!$J$19-$BE117)*Data!$BR17)*Data!$AN17/100/Data!$BR17,0),ROUND('Blad 8 Periodisering'!$BH117*Data!$AO17/100/Data!$BR17,0))*Data!$BR17","v":1924561600},null,{"$f":"(Data!$AQ17*('Blad 8 Periodisering'!$B$46/100+1)*('Blad 8 Periodisering'!$C$46/100+1))/Data!$E17","v":243806.85319958086},{"$f":"U117/'Blad 3 Inkomstutjämning'!$B$16","v":0.93438363533074587},null,{"$f":"IF(V117>'Blad 2 Indata'!$B$55,ROUND(Data!$E17*'Blad 3 Inkomstutjämning'!$B$16*'Blad 2 Indata'!$B$55,0)-(U117*Data!$E17),0)","v":0},{"$f":"(Data!$C17*('Blad 3 Inkomstutjämning'!$B$10/100+1)*('Blad 3 Inkomstutjämning'!$C$10/100+1))/Data!$F17","v":253083.37586435748},{"$f":"Y117/'Blad 3 Inkomstutjämning'!$C$16","v":0.93473895345335967},null,{"$f":"IF(Z117>'Blad 2 Indata'!$C$55,ROUND(Data!$F17*'Blad 3 Inkomstutjämning'!$C$16*'Blad 2 Indata'!$C$55,0)-(Y117*Data!$F17),0)","v":0},{"$f":"IF('Blad 3 Inkomstutjämning'!$C$11<>0,((Data!$C17*$C66*('Blad 3 Inkomstutjämning'!$C$11/100+1)*('Blad 3 Inkomstutjämning'!$D$11/100+1))/Data!$R17),((Data!$C17*$C66*('Blad 3 Inkomstutjämning'!$C$12/100+1)*('Blad 3 Inkomstutjämning'!$D$12/100+1))/Data!$R17))","v":263941.91636484175},{"$f":"(Data!$C17*C66*('Blad 3 Inkomstutjämning'!$C$12/100+1)*('Blad 3 Inkomstutjämning'!$D$12/100+1))/Data!R17","v":263941.91636484175},{"$f":"IF('Blad 3 Inkomstutjämning'!$C$11<>0,AC117/'Blad 3 Inkomstutjämning'!$D$16,'Blad 8 Periodisering'!AC117/'Blad 3 Inkomstutjämning'!$D$17)","v":0.93567557655915279},{"$f":"AD117/('Blad 3 Inkomstutjämning'!$D$19/'Blad 2 Indata'!$D$55)","v":0.93567557655915279},null,null,{"$f":"IF(AE117>'Blad 2 Indata'!$D$55,ROUND(Data!$R17*'Blad 3 Inkomstutjämning'!$D$16*'Blad 2 Indata'!$D$55,0)-('Blad 8 Periodisering'!AC117*Data!$R17),0)","v":0},{"$f":"IF(AF117>'Blad 2 Indata'!$D$55,ROUND(Data!$R17*('Blad 3 Inkomstutjämning'!$D$19/'Blad 2 Indata'!$D$55)*'Blad 2 Indata'!$D$55,0)-('Blad 8 Periodisering'!AD117*Data!$R17),0)","v":0},{"$f":"(Data!$C17*$C66*$E66*('Blad 3 Inkomstutjämning'!$D$12/100+1)*('Blad 3 Inkomstutjämning'!$E$12/100+1))/Data!S17","v":273099.86467849644},{"$f":"AK117/'Blad 3 Inkomstutjämning'!$E$17","v":0.93422730257039699},null,{"$f":"IF(AL117>'Blad 2 Indata'!$E$55,ROUND(Data!$S17*'Blad 3 Inkomstutjämning'!$E$17*'Blad 2 Indata'!$E$55,0)-('Blad 8 Periodisering'!AK117*Data!$S17),0)","v":0},{"$f":"(Data!$C17*$C66*$E66*$G66*('Blad 3 Inkomstutjämning'!$E$12/100+1)*('Blad 3 Inkomstutjämning'!$F$12/100+1))/Data!T17","v":282616.29814900382},{"$f":"AO117/'Blad 3 Inkomstutjämning'!$F$17","v":0.93397852617369748},null,{"$f":"IF(AP117>'Blad 2 Indata'!$F$55,ROUND(Data!$T17*'Blad 3 Inkomstutjämning'!$F$17*'Blad 2 Indata'!$F$55,0)-('Blad 8 Periodisering'!AO117*Data!$T17),0)","v":0},{"$f":"(Data!$C17*$C66*$E66*$G66*$I66*('Blad 3 Inkomstutjämning'!$F$12/100+1)*('Blad 3 Inkomstutjämning'!$G$12/100+1))/Data!U17","v":292800.82070015458},{"$f":"AS117/'Blad 3 Inkomstutjämning'!$G$17","v":0.93372372538188997},null,{"$f":"IF(AT117>'Blad 2 Indata'!$G$55,ROUND(Data!$U17*'Blad 3 Inkomstutjämning'!$G$17*'Blad 2 Indata'!$G$55,0)-('Blad 8 Periodisering'!AS117*Data!$U17),0)","v":0},{"$f":"(Data!$C17*$C66*$E66*$G66*$I66*$K66*('Blad 3 Inkomstutjämning'!$G$12/100+1)*('Blad 3 Inkomstutjämning'!$H$12/100+1))/Data!BP17","v":303345.68949161511},{"$f":"AW117/'Blad 3 Inkomstutjämning'!$H$17","v":0.93346900750113893},null,{"$f":"IF(AX117>'Blad 2 Indata'!$H$55,ROUND(Data!$BP17*'Blad 3 Inkomstutjämning'!$H$17*'Blad 2 Indata'!$H$55,0)-('Blad 8 Periodisering'!AW117*Data!$BP17),0)","v":0},{"$f":"(Data!$C17*$C66*$E66*$G66*$I66*$K66*$M66*('Blad 3 Inkomstutjämning'!$H$12/100+1)*('Blad 3 Inkomstutjämning'!$I$12/100+1))/Data!BQ17","v":313958.79434293084},{"$f":"BA117/'Blad 3 Inkomstutjämning'!$I$17","v":0.93321521264027807},null,{"$f":"IF(BB117>'Blad 2 Indata'!$I$55,ROUND(Data!$BQ17*'Blad 3 Inkomstutjämning'!$I$17*'Blad 2 Indata'!$I$55,0)-('Blad 8 Periodisering'!BA117*Data!$BQ17),0)","v":0},{"$f":"(Data!$C17*$C66*$E66*$G66*$I66*$K66*$M66*$O66*('Blad 3 Inkomstutjämning'!$I$12/100+1)*('Blad 3 Inkomstutjämning'!$J$12/100+1))/Data!$BR17","v":323959.43790207279},{"$f":"BE117/'Blad 3 Inkomstutjämning'!$J$17","v":0.93296347423250636},null,{"$f":"IF(BF117>'Blad 2 Indata'!$J$55,ROUND(Data!$BR17*'Blad 3 Inkomstutjämning'!$J$17*'Blad 2 Indata'!$J$55,0)-('Blad 8 Periodisering'!BE117*Data!$BR17),0)","v":0}]
[20,{"$f":"IF((ROUND('Blad 3 Inkomstutjämning'!B$16*'Blad 2 Indata'!B$55*Data!E18,0)-ROUND((Data!AQ18*($B$46/100+1)*($C$46/100+1)),0))<0,ROUND((ROUND(#REF!*Data!AT18/100/Data!E18,0)+ROUND('Blad 8 Periodisering'!T118*Data!AS18/100/Data!E18,0)),0),ROUND((ROUND('Blad 3 Inkomstutjämning'!B$16*'Blad 2 Indata'!B$55*Data!E18,0)-ROUND((Data!AQ18*('Blad 8 Periodisering'!$B$46/100+1)*('Blad 8 Periodisering'!$C$46/100+1)),0))*Data!AR18/100/Data!E18,0))*Data!E18","v":1806180552},{"$f":"IF((ROUND('Blad 3 Inkomstutjämning'!C$16*'Blad 2 Indata'!C$55*Data!F18,0)-ROUND((Data!C18*('Blad 2 Indata'!B$7/100+1)*('Blad 2 Indata'!C$7/100+1)),0))<0,ROUND((ROUND('Blad 8 Periodisering'!AB118*Data!N18/100/Data!F18,0)),0),ROUND((ROUND('Blad 3 Inkomstutjämning'!C$16*'Blad 2 Indata'!C$55*Data!F18,0)-ROUND((Data!C18*('Blad 2 Indata'!B$7/100+1)*('Blad 2 Indata'!C$7/100+1)),0))*Data!M18/100/Data!F18,0))*Data!F18","v":1887690717},{"$f":"IF('Blad 2 Indata'!D$8<>0,'Blad 8 Periodisering'!L118,'Blad 8 Periodisering'!M118)","v":1962718101},{"$f":"'Blad 8 Periodisering'!N118","v":2036077440},{"$f":"'Blad 8 Periodisering'!O118","v":2105709743},2178792315,2254633920,2330607446,2401922641,null,{"$f":"IF($AI118>=0,ROUND((('Blad 3 Inkomstutjämning'!$D$19-$AC118)*Data!$R18)*Data!$AN18/100/Data!$R18,0),ROUND('Blad 8 Periodisering'!$AI118*Data!$AO18/100/Data!$R18,0))*Data!$R18","v":1962718101},{"$f":"IF($AJ118>=0,ROUND((('Blad 3 Inkomstutjämning'!$D$19-$AD118)*Data!$R18)*Data!$AN18/100/Data!$R18,0),ROUND('Blad 8 Periodisering'!$AJ118*Data!$AO18/100/Data!$R18,0))*Data!$R18","v":1962718101},{"$f":"IF($AN118>=0,ROUND((('Blad 3 Inkomstutjämning'!$E$19-$AK118)*Data!$S18)*Data!$AN18/100/Data!$S18,0),ROUND('Blad 8 Periodisering'!$AN118*Data!$AO18/100/Data!$S18,0))*Data!$S18","v":2036077440},{"$f":"IF($AR118>=0,ROUND((('Blad 3 Inkomstutjämning'!$F$19-$AO118)*Data!$T18)*Data!$AN18/100/Data!$T18,0),ROUND('Blad 8 Periodisering'!$AR118*Data!$AO18/100/Data!$T18,0))*Data!$T18","v":2105709743},{"$f":"IF($AV118>=0,ROUND((('Blad 3 Inkomstutjämning'!$G$19-$AS118)*Data!$U18)*Data!$AN18/100/Data!$U18,0),ROUND('Blad 8 Periodisering'!$AV118*Data!$AO18/100/Data!$U18,0))*Data!$U18","v":2178792315},{"$f":"IF($AZ118>=0,ROUND((('Blad 3 Inkomstutjämning'!$H$19-$AW118)*Data!$BP18)*Data!$AN18/100/Data!$BP18,0),ROUND('Blad 8 Periodisering'!$AZ118*Data!$AO18/100/Data!$BP18,0))*Data!$BP18","v":2254633920},{"$f":"IF($BD118>=0,ROUND((('Blad 3 Inkomstutjämning'!$I$19-$BA118)*Data!$BQ18)*Data!$AN18/100/Data!$BQ18,0),ROUND('Blad 8 Periodisering'!$BD118*Data!$AO18/100/Data!$BQ18,0))*Data!$BQ18","v":2330607446},{"$f":"IF($BH118>=0,ROUND((('Blad 3 Inkomstutjämning'!$J$19-$BE118)*Data!$BR18)*Data!$AN18/100/Data!$BR18,0),ROUND('Blad 8 Periodisering'!$BH118*Data!$AO18/100/Data!$BR18,0))*Data!$BR18","v":2401922641},null,{"$f":"(Data!$AQ18*('Blad 8 Periodisering'!$B$46/100+1)*('Blad 8 Periodisering'!$C$46/100+1))/Data!$E18","v":234541.7435820672},{"$f":"U118/'Blad 3 Inkomstutjämning'!$B$16","v":0.89887533565607058},null,{"$f":"IF(V118>'Blad 2 Indata'!$B$55,ROUND(Data!$E18*'Blad 3 Inkomstutjämning'!$B$16*'Blad 2 Indata'!$B$55,0)-(U118*Data!$E18),0)","v":0},{"$f":"(Data!$C18*('Blad 3 Inkomstutjämning'!$B$10/100+1)*('Blad 3 Inkomstutjämning'!$C$10/100+1))/Data!$F18","v":242744.71063634288},{"$f":"Y118/'Blad 3 Inkomstutjämning'!$C$16","v":0.8965540940870198},null,{"$f":"IF(Z118>'Blad 2 Indata'!$C$55,ROUND(Data!$F18*'Blad 3 Inkomstutjämning'!$C$16*'Blad 2 Indata'!$C$55,0)-(Y118*Data!$F18),0)","v":0},{"$f":"IF('Blad 3 Inkomstutjämning'!$C$11<>0,((Data!$C18*$C67*('Blad 3 Inkomstutjämning'!$C$11/100+1)*('Blad 3 Inkomstutjämning'!$D$11/100+1))/Data!$R18),((Data!$C18*$C67*('Blad 3 Inkomstutjämning'!$C$12/100+1)*('Blad 3 Inkomstutjämning'!$D$12/100+1))/Data!$R18))","v":252959.05557627894},{"$f":"(Data!$C18*C67*('Blad 3 Inkomstutjämning'!$C$12/100+1)*('Blad 3 Inkomstutjämning'!$D$12/100+1))/Data!R18","v":252959.05557627894},{"$f":"IF('Blad 3 Inkomstutjämning'!$C$11<>0,AC118/'Blad 3 Inkomstutjämning'!$D$16,'Blad 8 Periodisering'!AC118/'Blad 3 Inkomstutjämning'!$D$17)","v":0.89674127335282716},{"$f":"AD118/('Blad 3 Inkomstutjämning'!$D$19/'Blad 2 Indata'!$D$55)","v":0.89674127335282716},null,null,{"$f":"IF(AE118>'Blad 2 Indata'!$D$55,ROUND(Data!$R18*'Blad 3 Inkomstutjämning'!$D$16*'Blad 2 Indata'!$D$55,0)-('Blad 8 Periodisering'!AC118*Data!$R18),0)","v":0},{"$f":"IF(AF118>'Blad 2 Indata'!$D$55,ROUND(Data!$R18*('Blad 3 Inkomstutjämning'!$D$19/'Blad 2 Indata'!$D$55)*'Blad 2 Indata'!$D$55,0)-('Blad 8 Periodisering'!AD118*Data!$R18),0)","v":0},{"$f":"(Data!$C18*$C67*$E67*('Blad 3 Inkomstutjämning'!$D$12/100+1)*('Blad 3 Inkomstutjämning'!$E$12/100+1))/Data!S18","v":261943.60917346302},{"$f":"AK118/'Blad 3 Inkomstutjämning'!$E$17","v":0.89606368612363219},null,{"$f":"IF(AL118>'Blad 2 Indata'!$E$55,ROUND(Data!$S18*'Blad 3 Inkomstutjämning'!$E$17*'Blad 2 Indata'!$E$55,0)-('Blad 8 Periodisering'!AK118*Data!$S18),0)","v":0},{"$f":"(Data!$C18*$C67*$E67*$G67*('Blad 3 Inkomstutjämning'!$E$12/100+1)*('Blad 3 Inkomstutjämning'!$F$12/100+1))/Data!T18","v":271070.8131431471},{"$f":"AO118/'Blad 3 Inkomstutjämning'!$F$17","v":0.89582349003333539},null,{"$f":"IF(AP118>'Blad 2 Indata'!$F$55,ROUND(Data!$T18*'Blad 3 Inkomstutjämning'!$F$17*'Blad 2 Indata'!$F$55,0)-('Blad 8 Periodisering'!AO118*Data!$T18),0)","v":0},{"$f":"(Data!$C18*$C67*$E67*$G67*$I67*('Blad 3 Inkomstutjämning'!$F$12/100+1)*('Blad 3 Inkomstutjämning'!$G$12/100+1))/Data!U18","v":280839.29560464347},{"$f":"AS118/'Blad 3 Inkomstutjämning'!$G$17","v":0.89557916094138568},null,{"$f":"IF(AT118>'Blad 2 Indata'!$G$55,ROUND(Data!$U18*'Blad 3 Inkomstutjämning'!$G$17*'Blad 2 Indata'!$G$55,0)-('Blad 8 Periodisering'!AS118*Data!$U18),0)","v":0},{"$f":"(Data!$C18*$C67*$E67*$G67*$I67*$K67*('Blad 3 Inkomstutjämning'!$G$12/100+1)*('Blad 3 Inkomstutjämning'!$H$12/100+1))/Data!BP18","v":290954.43868629175},{"$f":"AW118/'Blad 3 Inkomstutjämning'!$H$17","v":0.89533809286599753},null,{"$f":"IF(AX118>'Blad 2 Indata'!$H$55,ROUND(Data!$BP18*'Blad 3 Inkomstutjämning'!$H$17*'Blad 2 Indata'!$H$55,0)-('Blad 8 Periodisering'!AW118*Data!$BP18),0)","v":0},{"$f":"(Data!$C18*$C67*$E67*$G67*$I67*$K67*$M67*('Blad 3 Inkomstutjämning'!$H$12/100+1)*('Blad 3 Inkomstutjämning'!$I$12/100+1))/Data!BQ18","v":301133.90200657136},{"$f":"BA118/'Blad 3 Inkomstutjämning'!$I$17","v":0.89509433549201267},null,{"$f":"IF(BB118>'Blad 2 Indata'!$I$55,ROUND(Data!$BQ18*'Blad 3 Inkomstutjämning'!$I$17*'Blad 2 Indata'!$I$55,0)-('Blad 8 Periodisering'!BA118*Data!$BQ18),0)","v":0},{"$f":"(Data!$C18*$C67*$E67*$G67*$I67*$K67*$M67*$O67*('Blad 3 Inkomstutjämning'!$I$12/100+1)*('Blad 3 Inkomstutjämning'!$J$12/100+1))/Data!$BR18","v":310724.93144120526},{"$f":"BE118/'Blad 3 Inkomstutjämning'!$J$17","v":0.89484971774668387},null,{"$f":"IF(BF118>'Blad 2 Indata'!$J$55,ROUND(Data!$BR18*'Blad 3 Inkomstutjämning'!$J$17*'Blad 2 Indata'!$J$55,0)-('Blad 8 Periodisering'!BE118*Data!$BR18),0)","v":0}]
[21,{"$f":"IF((ROUND('Blad 3 Inkomstutjämning'!B$16*'Blad 2 Indata'!B$55*Data!E19,0)-ROUND((Data!AQ19*($B$46/100+1)*($C$46/100+1)),0))<0,ROUND((ROUND(#REF!*Data!AT19/100/Data!E19,0)+ROUND('Blad 8 Periodisering'!T119*Data!AS19/100/Data!E19,0)),0),ROUND((ROUND('Blad 3 Inkomstutjämning'!B$16*'Blad 2 Indata'!B$55*Data!E19,0)-ROUND((Data!AQ19*('Blad 8 Periodisering'!$B$46/100+1)*('Blad 8 Periodisering'!$C$46/100+1)),0))*Data!AR19/100/Data!E19,0))*Data!E19","v":1747005618},{"$f":"IF((ROUND('Blad 3 Inkomstutjämning'!C$16*'Blad 2 Indata'!C$55*Data!F19,0)-ROUND((Data!C19*('Blad 2 Indata'!B$7/100+1)*('Blad 2 Indata'!C$7/100+1)),0))<0,ROUND((ROUND('Blad 8 Periodisering'!AB119*Data!N19/100/Data!F19,0)),0),ROUND((ROUND('Blad 3 Inkomstutjämning'!C$16*'Blad 2 Indata'!C$55*Data!F19,0)-ROUND((Data!C19*('Blad 2 Indata'!B$7/100+1)*('Blad 2 Indata'!C$7/100+1)),0))*Data!M19/100/Data!F19,0))*Data!F19","v":1835521360},{"$f":"IF('Blad 2 Indata'!D$8<>0,'Blad 8 Periodisering'!L119,'Blad 8 Periodisering'!M119)","v":1906951851},{"$f":"'Blad 8 Periodisering'!N119","v":1972777560},{"$f":"'Blad 8 Periodisering'!O119","v":2036381458},2103181290,2172447720,2241588765,2305890898,null,{"$f":"IF($AI119>=0,ROUND((('Blad 3 Inkomstutjämning'!$D$19-$AC119)*Data!$R19)*Data!$AN19/100/Data!$R19,0),ROUND('Blad 8 Periodisering'!$AI119*Data!$AO19/100/Data!$R19,0))*Data!$R19","v":1906951851},{"$f":"IF($AJ119>=0,ROUND((('Blad 3 Inkomstutjämning'!$D$19-$AD119)*Data!$R19)*Data!$AN19/100/Data!$R19,0),ROUND('Blad 8 Periodisering'!$AJ119*Data!$AO19/100/Data!$R19,0))*Data!$R19","v":1906951851},{"$f":"IF($AN119>=0,ROUND((('Blad 3 Inkomstutjämning'!$E$19-$AK119)*Data!$S19)*Data!$AN19/100/Data!$S19,0),ROUND('Blad 8 Periodisering'!$AN119*Data!$AO19/100/Data!$S19,0))*Data!$S19","v":1972777560},{"$f":"IF($AR119>=0,ROUND((('Blad 3 Inkomstutjämning'!$F$19-$AO119)*Data!$T19)*Data!$AN19/100/Data!$T19,0),ROUND('Blad 8 Periodisering'!$AR119*Data!$AO19/100/Data!$T19,0))*Data!$T19","v":2036381458},{"$f":"IF($AV119>=0,ROUND((('Blad 3 Inkomstutjämning'!$G$19-$AS119)*Data!$U19)*Data!$AN19/100/Data!$U19,0),ROUND('Blad 8 Periodisering'!$AV119*Data!$AO19/100/Data!$U19,0))*Data!$U19","v":2103181290},{"$f":"IF($AZ119>=0,ROUND((('Blad 3 Inkomstutjämning'!$H$19-$AW119)*Data!$BP19)*Data!$AN19/100/Data!$BP19,0),ROUND('Blad 8 Periodisering'!$AZ119*Data!$AO19/100/Data!$BP19,0))*Data!$BP19","v":2172447720},{"$f":"IF($BD119>=0,ROUND((('Blad 3 Inkomstutjämning'!$I$19-$BA119)*Data!$BQ19)*Data!$AN19/100/Data!$BQ19,0),ROUND('Blad 8 Periodisering'!$BD119*Data!$AO19/100/Data!$BQ19,0))*Data!$BQ19","v":2241588765},{"$f":"IF($BH119>=0,ROUND((('Blad 3 Inkomstutjämning'!$J$19-$BE119)*Data!$BR19)*Data!$AN19/100/Data!$BR19,0),ROUND('Blad 8 Periodisering'!$BH119*Data!$AO19/100/Data!$BR19,0))*Data!$BR19","v":2305890898},null,{"$f":"(Data!$AQ19*('Blad 8 Periodisering'!$B$46/100+1)*('Blad 8 Periodisering'!$C$46/100+1))/Data!$E19","v":237854.00378062492},{"$f":"U119/'Blad 3 Inkomstutjämning'!$B$16","v":0.91156948959339323},null,{"$f":"IF(V119>'Blad 2 Indata'!$B$55,ROUND(Data!$E19*'Blad 3 Inkomstutjämning'!$B$16*'Blad 2 Indata'!$B$55,0)-(U119*Data!$E19),0)","v":0},{"$f":"(Data!$C19*('Blad 3 Inkomstutjämning'!$B$10/100+1)*('Blad 3 Inkomstutjämning'!$C$10/100+1))/Data!$F19","v":245693.34965623991},{"$f":"Y119/'Blad 3 Inkomstutjämning'!$C$16","v":0.90744460691567552},null,{"$f":"IF(Z119>'Blad 2 Indata'!$C$55,ROUND(Data!$F19*'Blad 3 Inkomstutjämning'!$C$16*'Blad 2 Indata'!$C$55,0)-(Y119*Data!$F19),0)","v":0},{"$f":"IF('Blad 3 Inkomstutjämning'!$C$11<>0,((Data!$C19*$C68*('Blad 3 Inkomstutjämning'!$C$11/100+1)*('Blad 3 Inkomstutjämning'!$D$11/100+1))/Data!$R19),((Data!$C19*$C68*('Blad 3 Inkomstutjämning'!$C$12/100+1)*('Blad 3 Inkomstutjämning'!$D$12/100+1))/Data!$R19))","v":255959.96816045334},{"$f":"(Data!$C19*C68*('Blad 3 Inkomstutjämning'!$C$12/100+1)*('Blad 3 Inkomstutjämning'!$D$12/100+1))/Data!R19","v":255959.96816045334},{"$f":"IF('Blad 3 Inkomstutjämning'!$C$11<>0,AC119/'Blad 3 Inkomstutjämning'!$D$16,'Blad 8 Periodisering'!AC119/'Blad 3 Inkomstutjämning'!$D$17)","v":0.90737952532535471},{"$f":"AD119/('Blad 3 Inkomstutjämning'!$D$19/'Blad 2 Indata'!$D$55)","v":0.90737952532535471},null,null,{"$f":"IF(AE119>'Blad 2 Indata'!$D$55,ROUND(Data!$R19*'Blad 3 Inkomstutjämning'!$D$16*'Blad 2 Indata'!$D$55,0)-('Blad 8 Periodisering'!AC119*Data!$R19),0)","v":0},{"$f":"IF(AF119>'Blad 2 Indata'!$D$55,ROUND(Data!$R19*('Blad 3 Inkomstutjämning'!$D$19/'Blad 2 Indata'!$D$55)*'Blad 2 Indata'!$D$55,0)-('Blad 8 Periodisering'!AD119*Data!$R19),0)","v":0},{"$f":"(Data!$C19*$C68*$E68*('Blad 3 Inkomstutjämning'!$D$12/100+1)*('Blad 3 Inkomstutjämning'!$E$12/100+1))/Data!S19","v":265124.93783363205},{"$f":"AK119/'Blad 3 Inkomstutjämning'!$E$17","v":0.90694646007256274},null,{"$f":"IF(AL119>'Blad 2 Indata'!$E$55,ROUND(Data!$S19*'Blad 3 Inkomstutjämning'!$E$17*'Blad 2 Indata'!$E$55,0)-('Blad 8 Periodisering'!AK119*Data!$S19),0)","v":0},{"$f":"(Data!$C19*$C68*$E68*$G68*('Blad 3 Inkomstutjämning'!$E$12/100+1)*('Blad 3 Inkomstutjämning'!$F$12/100+1))/Data!T19","v":274362.72648105153},{"$f":"AO119/'Blad 3 Inkomstutjämning'!$F$17","v":0.90670246760032103},null,{"$f":"IF(AP119>'Blad 2 Indata'!$F$55,ROUND(Data!$T19*'Blad 3 Inkomstutjämning'!$F$17*'Blad 2 Indata'!$F$55,0)-('Blad 8 Periodisering'!AO119*Data!$T19),0)","v":0},{"$f":"(Data!$C19*$C68*$E68*$G68*$I68*('Blad 3 Inkomstutjämning'!$F$12/100+1)*('Blad 3 Inkomstutjämning'!$G$12/100+1))/Data!U19","v":284250.24607651198},{"$f":"AS119/'Blad 3 Inkomstutjämning'!$G$17","v":0.90645647123741002},null,{"$f":"IF(AT119>'Blad 2 Indata'!$G$55,ROUND(Data!$U19*'Blad 3 Inkomstutjämning'!$G$17*'Blad 2 Indata'!$G$55,0)-('Blad 8 Periodisering'!AS119*Data!$U19),0)","v":0},{"$f":"(Data!$C19*$C68*$E68*$G68*$I68*$K68*('Blad 3 Inkomstutjämning'!$G$12/100+1)*('Blad 3 Inkomstutjämning'!$H$12/100+1))/Data!BP19","v":294488.63103531115},{"$f":"AW119/'Blad 3 Inkomstutjämning'!$H$17","v":0.90621366861552022},null,{"$f":"IF(AX119>'Blad 2 Indata'!$H$55,ROUND(Data!$BP19*'Blad 3 Inkomstutjämning'!$H$17*'Blad 2 Indata'!$H$55,0)-('Blad 8 Periodisering'!AW119*Data!$BP19),0)","v":0},{"$f":"(Data!$C19*$C68*$E68*$G68*$I68*$K68*$M68*('Blad 3 Inkomstutjämning'!$H$12/100+1)*('Blad 3 Inkomstutjämning'!$I$12/100+1))/Data!BQ19","v":304791.94049338397},{"$f":"BA119/'Blad 3 Inkomstutjämning'!$I$17","v":0.90596753677137676},null,{"$f":"IF(BB119>'Blad 2 Indata'!$I$55,ROUND(Data!$BQ19*'Blad 3 Inkomstutjämning'!$I$17*'Blad 2 Indata'!$I$55,0)-('Blad 8 Periodisering'!BA119*Data!$BQ19),0)","v":0},{"$f":"(Data!$C19*$C68*$E68*$G68*$I68*$K68*$M68*$O68*('Blad 3 Inkomstutjämning'!$I$12/100+1)*('Blad 3 Inkomstutjämning'!$J$12/100+1))/Data!$BR19","v":314499.72019731341},{"$f":"BE119/'Blad 3 Inkomstutjämning'!$J$17","v":0.90572064669753916},null,{"$f":"IF(BF119>'Blad 2 Indata'!$J$55,ROUND(Data!$BR19*'Blad 3 Inkomstutjämning'!$J$17*'Blad 2 Indata'!$J$55,0)-('Blad 8 Periodisering'!BE119*Data!$BR19),0)","v":0}]
[22,{"$f":"IF((ROUND('Blad 3 Inkomstutjämning'!B$16*'Blad 2 Indata'!B$55*Data!E20,0)-ROUND((Data!AQ20*($B$46/100+1)*($C$46/100+1)),0))<0,ROUND((ROUND(#REF!*Data!AT20/100/Data!E20,0)+ROUND('Blad 8 Periodisering'!T120*Data!AS20/100/Data!E20,0)),0),ROUND((ROUND('Blad 3 Inkomstutjämning'!B$16*'Blad 2 Indata'!B$55*Data!E20,0)-ROUND((Data!AQ20*('Blad 8 Periodisering'!$B$46/100+1)*('Blad 8 Periodisering'!$C$46/100+1)),0))*Data!AR20/100/Data!E20,0))*Data!E20","v":1075049612},{"$f":"IF((ROUND('Blad 3 Inkomstutjämning'!C$16*'Blad 2 Indata'!C$55*Data!F20,0)-ROUND((Data!C20*('Blad 2 Indata'!B$7/100+1)*('Blad 2 Indata'!C$7/100+1)),0))<0,ROUND((ROUND('Blad 8 Periodisering'!AB120*Data!N20/100/Data!F20,0)),0),ROUND((ROUND('Blad 3 Inkomstutjämning'!C$16*'Blad 2 Indata'!C$55*Data!F20,0)-ROUND((Data!C20*('Blad 2 Indata'!B$7/100+1)*('Blad 2 Indata'!C$7/100+1)),0))*Data!M20/100/Data!F20,0))*Data!F20","v":1144101303},{"$f":"IF('Blad 2 Indata'!D$8<>0,'Blad 8 Periodisering'!L120,'Blad 8 Periodisering'!M120)","v":1194634161},{"$f":"'Blad 8 Periodisering'!N120","v":1228040112},{"$f":"'Blad 8 Periodisering'!O120","v":1266987600},1307978556,1350176100,1392120411,1431241504,null,{"$f":"IF($AI120>=0,ROUND((('Blad 3 Inkomstutjämning'!$D$19-$AC120)*Data!$R20)*Data!$AN20/100/Data!$R20,0),ROUND('Blad 8 Periodisering'!$AI120*Data!$AO20/100/Data!$R20,0))*Data!$R20","v":1194634161},{"$f":"IF($AJ120>=0,ROUND((('Blad 3 Inkomstutjämning'!$D$19-$AD120)*Data!$R20)*Data!$AN20/100/Data!$R20,0),ROUND('Blad 8 Periodisering'!$AJ120*Data!$AO20/100/Data!$R20,0))*Data!$R20","v":1194634161},{"$f":"IF($AN120>=0,ROUND((('Blad 3 Inkomstutjämning'!$E$19-$AK120)*Data!$S20)*Data!$AN20/100/Data!$S20,0),ROUND('Blad 8 Periodisering'!$AN120*Data!$AO20/100/Data!$S20,0))*Data!$S20","v":1228040112},{"$f":"IF($AR120>=0,ROUND((('Blad 3 Inkomstutjämning'!$F$19-$AO120)*Data!$T20)*Data!$AN20/100/Data!$T20,0),ROUND('Blad 8 Periodisering'!$AR120*Data!$AO20/100/Data!$T20,0))*Data!$T20","v":1266987600},{"$f":"IF($AV120>=0,ROUND((('Blad 3 Inkomstutjämning'!$G$19-$AS120)*Data!$U20)*Data!$AN20/100/Data!$U20,0),ROUND('Blad 8 Periodisering'!$AV120*Data!$AO20/100/Data!$U20,0))*Data!$U20","v":1307978556},{"$f":"IF($AZ120>=0,ROUND((('Blad 3 Inkomstutjämning'!$H$19-$AW120)*Data!$BP20)*Data!$AN20/100/Data!$BP20,0),ROUND('Blad 8 Periodisering'!$AZ120*Data!$AO20/100/Data!$BP20,0))*Data!$BP20","v":1350176100},{"$f":"IF($BD120>=0,ROUND((('Blad 3 Inkomstutjämning'!$I$19-$BA120)*Data!$BQ20)*Data!$AN20/100/Data!$BQ20,0),ROUND('Blad 8 Periodisering'!$BD120*Data!$AO20/100/Data!$BQ20,0))*Data!$BQ20","v":1392120411},{"$f":"IF($BH120>=0,ROUND((('Blad 3 Inkomstutjämning'!$J$19-$BE120)*Data!$BR20)*Data!$AN20/100/Data!$BR20,0),ROUND('Blad 8 Periodisering'!$BH120*Data!$AO20/100/Data!$BR20,0))*Data!$BR20","v":1431241504},null,{"$f":"(Data!$AQ20*('Blad 8 Periodisering'!$B$46/100+1)*('Blad 8 Periodisering'!$C$46/100+1))/Data!$E20","v":245114.65396955953},{"$f":"U120/'Blad 3 Inkomstutjämning'!$B$16","v":0.9393957489022241},null,{"$f":"IF(V120>'Blad 2 Indata'!$B$55,ROUND(Data!$E20*'Blad 3 Inkomstutjämning'!$B$16*'Blad 2 Indata'!$B$55,0)-(U120*Data!$E20),0)","v":0},{"$f":"(Data!$C20*('Blad 3 Inkomstutjämning'!$B$10/100+1)*('Blad 3 Inkomstutjämning'!$C$10/100+1))/Data!$F20","v":252644.91898903126},{"$f":"Y120/'Blad 3 Inkomstutjämning'!$C$16","v":0.9331195554214774},null,{"$f":"IF(Z120>'Blad 2 Indata'!$C$55,ROUND(Data!$F20*'Blad 3 Inkomstutjämning'!$C$16*'Blad 2 Indata'!$C$55,0)-(Y120*Data!$F20),0)","v":0},{"$f":"IF('Blad 3 Inkomstutjämning'!$C$11<>0,((Data!$C20*$C69*('Blad 3 Inkomstutjämning'!$C$11/100+1)*('Blad 3 Inkomstutjämning'!$D$11/100+1))/Data!$R20),((Data!$C20*$C69*('Blad 3 Inkomstutjämning'!$C$12/100+1)*('Blad 3 Inkomstutjämning'!$D$12/100+1))/Data!$R20))","v":262844.62299760745},{"$f":"(Data!$C20*C69*('Blad 3 Inkomstutjämning'!$C$12/100+1)*('Blad 3 Inkomstutjämning'!$D$12/100+1))/Data!R20","v":262844.62299760745},{"$f":"IF('Blad 3 Inkomstutjämning'!$C$11<>0,AC120/'Blad 3 Inkomstutjämning'!$D$16,'Blad 8 Periodisering'!AC120/'Blad 3 Inkomstutjämning'!$D$17)","v":0.93178566540679808},{"$f":"AD120/('Blad 3 Inkomstutjämning'!$D$19/'Blad 2 Indata'!$D$55)","v":0.93178566540679808},null,null,{"$f":"IF(AE120>'Blad 2 Indata'!$D$55,ROUND(Data!$R20*'Blad 3 Inkomstutjämning'!$D$16*'Blad 2 Indata'!$D$55,0)-('Blad 8 Periodisering'!AC120*Data!$R20),0)","v":0},{"$f":"IF(AF120>'Blad 2 Indata'!$D$55,ROUND(Data!$R20*('Blad 3 Inkomstutjämning'!$D$19/'Blad 2 Indata'!$D$55)*'Blad 2 Indata'!$D$55,0)-('Blad 8 Periodisering'!AD120*Data!$R20),0)","v":0},{"$f":"(Data!$C20*$C69*$E69*('Blad 3 Inkomstutjämning'!$D$12/100+1)*('Blad 3 Inkomstutjämning'!$E$12/100+1))/Data!S20","v":272627.56423067424},{"$f":"AK120/'Blad 3 Inkomstutjämning'!$E$17","v":0.93261164459893964},null,{"$f":"IF(AL120>'Blad 2 Indata'!$E$55,ROUND(Data!$S20*'Blad 3 Inkomstutjämning'!$E$17*'Blad 2 Indata'!$E$55,0)-('Blad 8 Periodisering'!AK120*Data!$S20),0)","v":0},{"$f":"(Data!$C20*$C69*$E69*$G69*('Blad 3 Inkomstutjämning'!$E$12/100+1)*('Blad 3 Inkomstutjämning'!$F$12/100+1))/Data!T20","v":282126.43836599425},{"$f":"AO120/'Blad 3 Inkomstutjämning'!$F$17","v":0.93235965804343202},null,{"$f":"IF(AP120>'Blad 2 Indata'!$F$55,ROUND(Data!$T20*'Blad 3 Inkomstutjämning'!$F$17*'Blad 2 Indata'!$F$55,0)-('Blad 8 Periodisering'!AO120*Data!$T20),0)","v":0},{"$f":"(Data!$C20*$C69*$E69*$G69*$I69*('Blad 3 Inkomstutjämning'!$F$12/100+1)*('Blad 3 Inkomstutjämning'!$G$12/100+1))/Data!U20","v":292293.13917202997},{"$f":"AS120/'Blad 3 Inkomstutjämning'!$G$17","v":0.9321047603577669},null,{"$f":"IF(AT120>'Blad 2 Indata'!$G$55,ROUND(Data!$U20*'Blad 3 Inkomstutjämning'!$G$17*'Blad 2 Indata'!$G$55,0)-('Blad 8 Periodisering'!AS120*Data!$U20),0)","v":0},{"$f":"(Data!$C20*$C69*$E69*$G69*$I69*$K69*('Blad 3 Inkomstutjämning'!$G$12/100+1)*('Blad 3 Inkomstutjämning'!$H$12/100+1))/Data!BP20","v":302820.73118224682},{"$f":"AW120/'Blad 3 Inkomstutjämning'!$H$17","v":0.93185358216627834},null,{"$f":"IF(AX120>'Blad 2 Indata'!$H$55,ROUND(Data!$BP20*'Blad 3 Inkomstutjämning'!$H$17*'Blad 2 Indata'!$H$55,0)-('Blad 8 Periodisering'!AW120*Data!$BP20),0)","v":0},{"$f":"(Data!$C20*$C69*$E69*$G69*$I69*$K69*$M69*('Blad 3 Inkomstutjämning'!$H$12/100+1)*('Blad 3 Inkomstutjämning'!$I$12/100+1))/Data!BQ20","v":313415.37981291371},{"$f":"BA120/'Blad 3 Inkomstutjämning'!$I$17","v":0.93159996020805025},null,{"$f":"IF(BB120>'Blad 2 Indata'!$I$55,ROUND(Data!$BQ20*'Blad 3 Inkomstutjämning'!$I$17*'Blad 2 Indata'!$I$55,0)-('Blad 8 Periodisering'!BA120*Data!$BQ20),0)","v":0},{"$f":"(Data!$C20*$C69*$E69*$G69*$I69*$K69*$M69*$O69*('Blad 3 Inkomstutjämning'!$I$12/100+1)*('Blad 3 Inkomstutjämning'!$J$12/100+1))/Data!$BR20","v":323398.05337953591},{"$f":"BE120/'Blad 3 Inkomstutjämning'!$J$17","v":0.93134675561514446},null,{"$f":"IF(BF120>'Blad 2 Indata'!$J$55,ROUND(Data!$BR20*'Blad 3 Inkomstutjämning'!$J$17*'Blad 2 Indata'!$J$55,0)-('Blad 8 Periodisering'!BE120*Data!$BR20),0)","v":0}]
[23,{"$f":"IF((ROUND('Blad 3 Inkomstutjämning'!B$16*'Blad 2 Indata'!B$55*Data!E21,0)-ROUND((Data!AQ21*($B$46/100+1)*($C$46/100+1)),0))<0,ROUND((ROUND(#REF!*Data!AT21/100/Data!E21,0)+ROUND('Blad 8 Periodisering'!T121*Data!AS21/100/Data!E21,0)),0),ROUND((ROUND('Blad 3 Inkomstutjämning'!B$16*'Blad 2 Indata'!B$55*Data!E21,0)-ROUND((Data!AQ21*('Blad 8 Periodisering'!$B$46/100+1)*('Blad 8 Periodisering'!$C$46/100+1)),0))*Data!AR21/100/Data!E21,0))*Data!E21","v":835046652},{"$f":"IF((ROUND('Blad 3 Inkomstutjämning'!C$16*'Blad 2 Indata'!C$55*Data!F21,0)-ROUND((Data!C21*('Blad 2 Indata'!B$7/100+1)*('Blad 2 Indata'!C$7/100+1)),0))<0,ROUND((ROUND('Blad 8 Periodisering'!AB121*Data!N21/100/Data!F21,0)),0),ROUND((ROUND('Blad 3 Inkomstutjämning'!C$16*'Blad 2 Indata'!C$55*Data!F21,0)-ROUND((Data!C21*('Blad 2 Indata'!B$7/100+1)*('Blad 2 Indata'!C$7/100+1)),0))*Data!M21/100/Data!F21,0))*Data!F21","v":844868148},{"$f":"IF('Blad 2 Indata'!D$8<>0,'Blad 8 Periodisering'!L121,'Blad 8 Periodisering'!M121)","v":880278624},{"$f":"'Blad 8 Periodisering'!N121","v":917291040},{"$f":"'Blad 8 Periodisering'!O121","v":951608756},988048952,1025746030,1063751904,1099943376,null,{"$f":"IF($AI121>=0,ROUND((('Blad 3 Inkomstutjämning'!$D$19-$AC121)*Data!$R21)*Data!$AN21/100/Data!$R21,0),ROUND('Blad 8 Periodisering'!$AI121*Data!$AO21/100/Data!$R21,0))*Data!$R21","v":880278624},{"$f":"IF($AJ121>=0,ROUND((('Blad 3 Inkomstutjämning'!$D$19-$AD121)*Data!$R21)*Data!$AN21/100/Data!$R21,0),ROUND('Blad 8 Periodisering'!$AJ121*Data!$AO21/100/Data!$R21,0))*Data!$R21","v":880278624},{"$f":"IF($AN121>=0,ROUND((('Blad 3 Inkomstutjämning'!$E$19-$AK121)*Data!$S21)*Data!$AN21/100/Data!$S21,0),ROUND('Blad 8 Periodisering'!$AN121*Data!$AO21/100/Data!$S21,0))*Data!$S21","v":917291040},{"$f":"IF($AR121>=0,ROUND((('Blad 3 Inkomstutjämning'!$F$19-$AO121)*Data!$T21)*Data!$AN21/100/Data!$T21,0),ROUND('Blad 8 Periodisering'!$AR121*Data!$AO21/100/Data!$T21,0))*Data!$T21","v":951608756},{"$f":"IF($AV121>=0,ROUND((('Blad 3 Inkomstutjämning'!$G$19-$AS121)*Data!$U21)*Data!$AN21/100/Data!$U21,0),ROUND('Blad 8 Periodisering'!$AV121*Data!$AO21/100/Data!$U21,0))*Data!$U21","v":988048952},{"$f":"IF($AZ121>=0,ROUND((('Blad 3 Inkomstutjämning'!$H$19-$AW121)*Data!$BP21)*Data!$AN21/100/Data!$BP21,0),ROUND('Blad 8 Periodisering'!$AZ121*Data!$AO21/100/Data!$BP21,0))*Data!$BP21","v":1025746030},{"$f":"IF($BD121>=0,ROUND((('Blad 3 Inkomstutjämning'!$I$19-$BA121)*Data!$BQ21)*Data!$AN21/100/Data!$BQ21,0),ROUND('Blad 8 Periodisering'!$BD121*Data!$AO21/100/Data!$BQ21,0))*Data!$BQ21","v":1063751904},{"$f":"IF($BH121>=0,ROUND((('Blad 3 Inkomstutjämning'!$J$19-$BE121)*Data!$BR21)*Data!$AN21/100/Data!$BR21,0),ROUND('Blad 8 Periodisering'!$BH121*Data!$AO21/100/Data!$BR21,0))*Data!$BR21","v":1099943376},null,{"$f":"(Data!$AQ21*('Blad 8 Periodisering'!$B$46/100+1)*('Blad 8 Periodisering'!$C$46/100+1))/Data!$E21","v":229328.72279534434},{"$f":"U121/'Blad 3 Inkomstutjämning'!$B$16","v":0.87889656455169374},null,{"$f":"IF(V121>'Blad 2 Indata'!$B$55,ROUND(Data!$E21*'Blad 3 Inkomstutjämning'!$B$16*'Blad 2 Indata'!$B$55,0)-(U121*Data!$E21),0)","v":0},{"$f":"(Data!$C21*('Blad 3 Inkomstutjämning'!$B$10/100+1)*('Blad 3 Inkomstutjämning'!$C$10/100+1))/Data!$F21","v":239784.4930534809},{"$f":"Y121/'Blad 3 Inkomstutjämning'!$C$16","v":0.88562081695671291},null,{"$f":"IF(Z121>'Blad 2 Indata'!$C$55,ROUND(Data!$F21*'Blad 3 Inkomstutjämning'!$C$16*'Blad 2 Indata'!$C$55,0)-(Y121*Data!$F21),0)","v":0},{"$f":"IF('Blad 3 Inkomstutjämning'!$C$11<>0,((Data!$C21*$C70*('Blad 3 Inkomstutjämning'!$C$11/100+1)*('Blad 3 Inkomstutjämning'!$D$11/100+1))/Data!$R21),((Data!$C21*$C70*('Blad 3 Inkomstutjämning'!$C$12/100+1)*('Blad 3 Inkomstutjämning'!$D$12/100+1))/Data!$R21))","v":249966.44346749823},{"$f":"(Data!$C21*C70*('Blad 3 Inkomstutjämning'!$C$12/100+1)*('Blad 3 Inkomstutjämning'!$D$12/100+1))/Data!R21","v":249966.44346749823},{"$f":"IF('Blad 3 Inkomstutjämning'!$C$11<>0,AC121/'Blad 3 Inkomstutjämning'!$D$16,'Blad 8 Periodisering'!AC121/'Blad 3 Inkomstutjämning'!$D$17)","v":0.88613244661220913},{"$f":"AD121/('Blad 3 Inkomstutjämning'!$D$19/'Blad 2 Indata'!$D$55)","v":0.88613244661220913},null,null,{"$f":"IF(AE121>'Blad 2 Indata'!$D$55,ROUND(Data!$R21*'Blad 3 Inkomstutjämning'!$D$16*'Blad 2 Indata'!$D$55,0)-('Blad 8 Periodisering'!AC121*Data!$R21),0)","v":0},{"$f":"IF(AF121>'Blad 2 Indata'!$D$55,ROUND(Data!$R21*('Blad 3 Inkomstutjämning'!$D$19/'Blad 2 Indata'!$D$55)*'Blad 2 Indata'!$D$55,0)-('Blad 8 Periodisering'!AD121*Data!$R21),0)","v":0},{"$f":"(Data!$C21*$C70*$E70*('Blad 3 Inkomstutjämning'!$D$12/100+1)*('Blad 3 Inkomstutjämning'!$E$12/100+1))/Data!S21","v":258749.4822695883},{"$f":"AK121/'Blad 3 Inkomstutjämning'!$E$17","v":0.88513713160121477},null,{"$f":"IF(AL121>'Blad 2 Indata'!$E$55,ROUND(Data!$S21*'Blad 3 Inkomstutjämning'!$E$17*'Blad 2 Indata'!$E$55,0)-('Blad 8 Periodisering'!AK121*Data!$S21),0)","v":0},{"$f":"(Data!$C21*$C70*$E70*$G70*('Blad 3 Inkomstutjämning'!$E$12/100+1)*('Blad 3 Inkomstutjämning'!$F$12/100+1))/Data!T21","v":267765.02016646846},{"$f":"AO121/'Blad 3 Inkomstutjämning'!$F$17","v":0.88489864361642478},null,{"$f":"IF(AP121>'Blad 2 Indata'!$F$55,ROUND(Data!$T21*'Blad 3 Inkomstutjämning'!$F$17*'Blad 2 Indata'!$F$55,0)-('Blad 8 Periodisering'!AO121*Data!$T21),0)","v":0},{"$f":"(Data!$C21*$C70*$E70*$G70*$I70*('Blad 3 Inkomstutjämning'!$F$12/100+1)*('Blad 3 Inkomstutjämning'!$G$12/100+1))/Data!U21","v":277414.53165643866},{"$f":"AS121/'Blad 3 Inkomstutjämning'!$G$17","v":0.8846578003228438},null,{"$f":"IF(AT121>'Blad 2 Indata'!$G$55,ROUND(Data!$U21*'Blad 3 Inkomstutjämning'!$G$17*'Blad 2 Indata'!$G$55,0)-('Blad 8 Periodisering'!AS121*Data!$U21),0)","v":0},{"$f":"(Data!$C21*$C70*$E70*$G70*$I70*$K70*('Blad 3 Inkomstutjämning'!$G$12/100+1)*('Blad 3 Inkomstutjämning'!$H$12/100+1))/Data!BP21","v":287406.1430529615},{"$f":"AW121/'Blad 3 Inkomstutjämning'!$H$17","v":0.88441911785528793},null,{"$f":"IF(AX121>'Blad 2 Indata'!$H$55,ROUND(Data!$BP21*'Blad 3 Inkomstutjämning'!$H$17*'Blad 2 Indata'!$H$55,0)-('Blad 8 Periodisering'!AW121*Data!$BP21),0)","v":0},{"$f":"(Data!$C21*$C70*$E70*$G70*$I70*$K70*$M70*('Blad 3 Inkomstutjämning'!$H$12/100+1)*('Blad 3 Inkomstutjämning'!$I$12/100+1))/Data!BQ21","v":297463.14188958408},{"$f":"BA121/'Blad 3 Inkomstutjämning'!$I$17","v":0.88418332027329583},null,{"$f":"IF(BB121>'Blad 2 Indata'!$I$55,ROUND(Data!$BQ21*'Blad 3 Inkomstutjämning'!$I$17*'Blad 2 Indata'!$I$55,0)-('Blad 8 Periodisering'!BA121*Data!$BQ21),0)","v":0},{"$f":"(Data!$C21*$C70*$E70*$G70*$I70*$K70*$M70*$O70*('Blad 3 Inkomstutjämning'!$I$12/100+1)*('Blad 3 Inkomstutjämning'!$J$12/100+1))/Data!$BR21","v":306936.76804130909},{"$f":"BE121/'Blad 3 Inkomstutjämning'!$J$17","v":0.88394027146101684},null,{"$f":"IF(BF121>'Blad 2 Indata'!$J$55,ROUND(Data!$BR21*'Blad 3 Inkomstutjämning'!$J$17*'Blad 2 Indata'!$J$55,0)-('Blad 8 Periodisering'!BE121*Data!$BR21),0)","v":0}]
[24,{"$f":"IF((ROUND('Blad 3 Inkomstutjämning'!B$16*'Blad 2 Indata'!B$55*Data!E22,0)-ROUND((Data!AQ22*($B$46/100+1)*($C$46/100+1)),0))<0,ROUND((ROUND(#REF!*Data!AT22/100/Data!E22,0)+ROUND('Blad 8 Periodisering'!T122*Data!AS22/100/Data!E22,0)),0),ROUND((ROUND('Blad 3 Inkomstutjämning'!B$16*'Blad 2 Indata'!B$55*Data!E22,0)-ROUND((Data!AQ22*('Blad 8 Periodisering'!$B$46/100+1)*('Blad 8 Periodisering'!$C$46/100+1)),0))*Data!AR22/100/Data!E22,0))*Data!E22","v":1322139168},{"$f":"IF((ROUND('Blad 3 Inkomstutjämning'!C$16*'Blad 2 Indata'!C$55*Data!F22,0)-ROUND((Data!C22*('Blad 2 Indata'!B$7/100+1)*('Blad 2 Indata'!C$7/100+1)),0))<0,ROUND((ROUND('Blad 8 Periodisering'!AB122*Data!N22/100/Data!F22,0)),0),ROUND((ROUND('Blad 3 Inkomstutjämning'!C$16*'Blad 2 Indata'!C$55*Data!F22,0)-ROUND((Data!C22*('Blad 2 Indata'!B$7/100+1)*('Blad 2 Indata'!C$7/100+1)),0))*Data!M22/100/Data!F22,0))*Data!F22","v":1389247784},{"$f":"IF('Blad 2 Indata'!D$8<>0,'Blad 8 Periodisering'!L122,'Blad 8 Periodisering'!M122)","v":1476885150},{"$f":"'Blad 8 Periodisering'!N122","v":1524573334},{"$f":"'Blad 8 Periodisering'!O122","v":1590284696},1659944000,1732679950,1806765626,1878169050,null,{"$f":"IF($AI122>=0,ROUND((('Blad 3 Inkomstutjämning'!$D$19-$AC122)*Data!$R22)*Data!$AN22/100/Data!$R22,0),ROUND('Blad 8 Periodisering'!$AI122*Data!$AO22/100/Data!$R22,0))*Data!$R22","v":1476885150},{"$f":"IF($AJ122>=0,ROUND((('Blad 3 Inkomstutjämning'!$D$19-$AD122)*Data!$R22)*Data!$AN22/100/Data!$R22,0),ROUND('Blad 8 Periodisering'!$AJ122*Data!$AO22/100/Data!$R22,0))*Data!$R22","v":1476885150},{"$f":"IF($AN122>=0,ROUND((('Blad 3 Inkomstutjämning'!$E$19-$AK122)*Data!$S22)*Data!$AN22/100/Data!$S22,0),ROUND('Blad 8 Periodisering'!$AN122*Data!$AO22/100/Data!$S22,0))*Data!$S22","v":1524573334},{"$f":"IF($AR122>=0,ROUND((('Blad 3 Inkomstutjämning'!$F$19-$AO122)*Data!$T22)*Data!$AN22/100/Data!$T22,0),ROUND('Blad 8 Periodisering'!$AR122*Data!$AO22/100/Data!$T22,0))*Data!$T22","v":1590284696},{"$f":"IF($AV122>=0,ROUND((('Blad 3 Inkomstutjämning'!$G$19-$AS122)*Data!$U22)*Data!$AN22/100/Data!$U22,0),ROUND('Blad 8 Periodisering'!$AV122*Data!$AO22/100/Data!$U22,0))*Data!$U22","v":1659944000},{"$f":"IF($AZ122>=0,ROUND((('Blad 3 Inkomstutjämning'!$H$19-$AW122)*Data!$BP22)*Data!$AN22/100/Data!$BP22,0),ROUND('Blad 8 Periodisering'!$AZ122*Data!$AO22/100/Data!$BP22,0))*Data!$BP22","v":1732679950},{"$f":"IF($BD122>=0,ROUND((('Blad 3 Inkomstutjämning'!$I$19-$BA122)*Data!$BQ22)*Data!$AN22/100/Data!$BQ22,0),ROUND('Blad 8 Periodisering'!$BD122*Data!$AO22/100/Data!$BQ22,0))*Data!$BQ22","v":1806765626},{"$f":"IF($BH122>=0,ROUND((('Blad 3 Inkomstutjämning'!$J$19-$BE122)*Data!$BR22)*Data!$AN22/100/Data!$BR22,0),ROUND('Blad 8 Periodisering'!$BH122*Data!$AO22/100/Data!$BR22,0))*Data!$BR22","v":1878169050},null,{"$f":"(Data!$AQ22*('Blad 8 Periodisering'!$B$46/100+1)*('Blad 8 Periodisering'!$C$46/100+1))/Data!$E22","v":243932.5653987774},{"$f":"U122/'Blad 3 Inkomstutjämning'!$B$16","v":0.93486542417363183},null,{"$f":"IF(V122>'Blad 2 Indata'!$B$55,ROUND(Data!$E22*'Blad 3 Inkomstutjämning'!$B$16*'Blad 2 Indata'!$B$55,0)-(U122*Data!$E22),0)","v":0},{"$f":"(Data!$C22*('Blad 3 Inkomstutjämning'!$B$10/100+1)*('Blad 3 Inkomstutjämning'!$C$10/100+1))/Data!$F22","v":252887.60725905682},{"$f":"Y122/'Blad 3 Inkomstutjämning'!$C$16","v":0.93401590105763121},null,{"$f":"IF(Z122>'Blad 2 Indata'!$C$55,ROUND(Data!$F22*'Blad 3 Inkomstutjämning'!$C$16*'Blad 2 Indata'!$C$55,0)-(Y122*Data!$F22),0)","v":0},{"$f":"IF('Blad 3 Inkomstutjämning'!$C$11<>0,((Data!$C22*$C71*('Blad 3 Inkomstutjämning'!$C$11/100+1)*('Blad 3 Inkomstutjämning'!$D$11/100+1))/Data!$R22),((Data!$C22*$C71*('Blad 3 Inkomstutjämning'!$C$12/100+1)*('Blad 3 Inkomstutjämning'!$D$12/100+1))/Data!$R22))","v":262675.90160286124},{"$f":"(Data!$C22*C71*('Blad 3 Inkomstutjämning'!$C$12/100+1)*('Blad 3 Inkomstutjämning'!$D$12/100+1))/Data!R22","v":262675.90160286124},{"$f":"IF('Blad 3 Inkomstutjämning'!$C$11<>0,AC122/'Blad 3 Inkomstutjämning'!$D$16,'Blad 8 Periodisering'!AC122/'Blad 3 Inkomstutjämning'!$D$17)","v":0.93118754711440521},{"$f":"AD122/('Blad 3 Inkomstutjämning'!$D$19/'Blad 2 Indata'!$D$55)","v":0.93118754711440521},null,null,{"$f":"IF(AE122>'Blad 2 Indata'!$D$55,ROUND(Data!$R22*'Blad 3 Inkomstutjämning'!$D$16*'Blad 2 Indata'!$D$55,0)-('Blad 8 Periodisering'!AC122*Data!$R22),0)","v":0},{"$f":"IF(AF122>'Blad 2 Indata'!$D$55,ROUND(Data!$R22*('Blad 3 Inkomstutjämning'!$D$19/'Blad 2 Indata'!$D$55)*'Blad 2 Indata'!$D$55,0)-('Blad 8 Periodisering'!AD122*Data!$R22),0)","v":0},{"$f":"(Data!$C22*$C71*$E71*('Blad 3 Inkomstutjämning'!$D$12/100+1)*('Blad 3 Inkomstutjämning'!$E$12/100+1))/Data!S22","v":272888.68912819208},{"$f":"AK122/'Blad 3 Inkomstutjämning'!$E$17","v":0.93350490761439098},null,{"$f":"IF(AL122>'Blad 2 Indata'!$E$55,ROUND(Data!$S22*'Blad 3 Inkomstutjämning'!$E$17*'Blad 2 Indata'!$E$55,0)-('Blad 8 Periodisering'!AK122*Data!$S22),0)","v":0},{"$f":"(Data!$C22*$C71*$E71*$G71*('Blad 3 Inkomstutjämning'!$E$12/100+1)*('Blad 3 Inkomstutjämning'!$F$12/100+1))/Data!T22","v":282397.21809808136},{"$f":"AO122/'Blad 3 Inkomstutjämning'!$F$17","v":0.93325451958096117},null,{"$f":"IF(AP122>'Blad 2 Indata'!$F$55,ROUND(Data!$T22*'Blad 3 Inkomstutjämning'!$F$17*'Blad 2 Indata'!$F$55,0)-('Blad 8 Periodisering'!AO122*Data!$T22),0)","v":0},{"$f":"(Data!$C22*$C71*$E71*$G71*$I71*('Blad 3 Inkomstutjämning'!$F$12/100+1)*('Blad 3 Inkomstutjämning'!$G$12/100+1))/Data!U22","v":292573.58900591929},{"$f":"AS122/'Blad 3 Inkomstutjämning'!$G$17","v":0.9329990975493625},null,{"$f":"IF(AT122>'Blad 2 Indata'!$G$55,ROUND(Data!$U22*'Blad 3 Inkomstutjämning'!$G$17*'Blad 2 Indata'!$G$55,0)-('Blad 8 Periodisering'!AS122*Data!$U22),0)","v":0},{"$f":"(Data!$C22*$C71*$E71*$G71*$I71*$K71*('Blad 3 Inkomstutjämning'!$G$12/100+1)*('Blad 3 Inkomstutjämning'!$H$12/100+1))/Data!BP22","v":303110.76159029192},{"$f":"AW122/'Blad 3 Inkomstutjämning'!$H$17","v":0.93274607679047017},null,{"$f":"IF(AX122>'Blad 2 Indata'!$H$55,ROUND(Data!$BP22*'Blad 3 Inkomstutjämning'!$H$17*'Blad 2 Indata'!$H$55,0)-('Blad 8 Periodisering'!AW122*Data!$BP22),0)","v":0},{"$f":"(Data!$C22*$C71*$E71*$G71*$I71*$K71*$M71*('Blad 3 Inkomstutjämning'!$H$12/100+1)*('Blad 3 Inkomstutjämning'!$I$12/100+1))/Data!BQ22","v":313716.90111679578},{"$f":"BA122/'Blad 3 Inkomstutjämning'!$I$17","v":0.93249620606192662},null,{"$f":"IF(BB122>'Blad 2 Indata'!$I$55,ROUND(Data!$BQ22*'Blad 3 Inkomstutjämning'!$I$17*'Blad 2 Indata'!$I$55,0)-('Blad 8 Periodisering'!BA122*Data!$BQ22),0)","v":0},{"$f":"(Data!$C22*$C71*$E71*$G71*$I71*$K71*$M71*$O71*('Blad 3 Inkomstutjämning'!$I$12/100+1)*('Blad 3 Inkomstutjämning'!$J$12/100+1))/Data!$BR22","v":323708.90321450308},{"$f":"BE122/'Blad 3 Inkomstutjämning'!$J$17","v":0.93224196503973678},null,{"$f":"IF(BF122>'Blad 2 Indata'!$J$55,ROUND(Data!$BR22*'Blad 3 Inkomstutjämning'!$J$17*'Blad 2 Indata'!$J$55,0)-('Blad 8 Periodisering'!BE122*Data!$BR22),0)","v":0}]
[25,{"$f":"IF((ROUND('Blad 3 Inkomstutjämning'!B$16*'Blad 2 Indata'!B$55*Data!E23,0)-ROUND((Data!AQ23*($B$46/100+1)*($C$46/100+1)),0))<0,ROUND((ROUND(#REF!*Data!AT23/100/Data!E23,0)+ROUND('Blad 8 Periodisering'!T123*Data!AS23/100/Data!E23,0)),0),ROUND((ROUND('Blad 3 Inkomstutjämning'!B$16*'Blad 2 Indata'!B$55*Data!E23,0)-ROUND((Data!AQ23*('Blad 8 Periodisering'!$B$46/100+1)*('Blad 8 Periodisering'!$C$46/100+1)),0))*Data!AR23/100/Data!E23,0))*Data!E23","v":852803985},{"$f":"IF((ROUND('Blad 3 Inkomstutjämning'!C$16*'Blad 2 Indata'!C$55*Data!F23,0)-ROUND((Data!C23*('Blad 2 Indata'!B$7/100+1)*('Blad 2 Indata'!C$7/100+1)),0))<0,ROUND((ROUND('Blad 8 Periodisering'!AB123*Data!N23/100/Data!F23,0)),0),ROUND((ROUND('Blad 3 Inkomstutjämning'!C$16*'Blad 2 Indata'!C$55*Data!F23,0)-ROUND((Data!C23*('Blad 2 Indata'!B$7/100+1)*('Blad 2 Indata'!C$7/100+1)),0))*Data!M23/100/Data!F23,0))*Data!F23","v":873269336},{"$f":"IF('Blad 2 Indata'!D$8<>0,'Blad 8 Periodisering'!L123,'Blad 8 Periodisering'!M123)","v":915685426},{"$f":"'Blad 8 Periodisering'!N123","v":941783282},{"$f":"'Blad 8 Periodisering'!O123","v":973620256},1007452300,1042265698,1077294119,1110110912,null,{"$f":"IF($AI123>=0,ROUND((('Blad 3 Inkomstutjämning'!$D$19-$AC123)*Data!$R23)*Data!$AN23/100/Data!$R23,0),ROUND('Blad 8 Periodisering'!$AI123*Data!$AO23/100/Data!$R23,0))*Data!$R23","v":915685426},{"$f":"IF($AJ123>=0,ROUND((('Blad 3 Inkomstutjämning'!$D$19-$AD123)*Data!$R23)*Data!$AN23/100/Data!$R23,0),ROUND('Blad 8 Periodisering'!$AJ123*Data!$AO23/100/Data!$R23,0))*Data!$R23","v":915685426},{"$f":"IF($AN123>=0,ROUND((('Blad 3 Inkomstutjämning'!$E$19-$AK123)*Data!$S23)*Data!$AN23/100/Data!$S23,0),ROUND('Blad 8 Periodisering'!$AN123*Data!$AO23/100/Data!$S23,0))*Data!$S23","v":941783282},{"$f":"IF($AR123>=0,ROUND((('Blad 3 Inkomstutjämning'!$F$19-$AO123)*Data!$T23)*Data!$AN23/100/Data!$T23,0),ROUND('Blad 8 Periodisering'!$AR123*Data!$AO23/100/Data!$T23,0))*Data!$T23","v":973620256},{"$f":"IF($AV123>=0,ROUND((('Blad 3 Inkomstutjämning'!$G$19-$AS123)*Data!$U23)*Data!$AN23/100/Data!$U23,0),ROUND('Blad 8 Periodisering'!$AV123*Data!$AO23/100/Data!$U23,0))*Data!$U23","v":1007452300},{"$f":"IF($AZ123>=0,ROUND((('Blad 3 Inkomstutjämning'!$H$19-$AW123)*Data!$BP23)*Data!$AN23/100/Data!$BP23,0),ROUND('Blad 8 Periodisering'!$AZ123*Data!$AO23/100/Data!$BP23,0))*Data!$BP23","v":1042265698},{"$f":"IF($BD123>=0,ROUND((('Blad 3 Inkomstutjämning'!$I$19-$BA123)*Data!$BQ23)*Data!$AN23/100/Data!$BQ23,0),ROUND('Blad 8 Periodisering'!$BD123*Data!$AO23/100/Data!$BQ23,0))*Data!$BQ23","v":1077294119},{"$f":"IF($BH123>=0,ROUND((('Blad 3 Inkomstutjämning'!$J$19-$BE123)*Data!$BR23)*Data!$AN23/100/Data!$BR23,0),ROUND('Blad 8 Periodisering'!$BH123*Data!$AO23/100/Data!$BR23,0))*Data!$BR23","v":1110110912},null,{"$f":"(Data!$AQ23*('Blad 8 Periodisering'!$B$46/100+1)*('Blad 8 Periodisering'!$C$46/100+1))/Data!$E23","v":260425.62605771224},{"$f":"U123/'Blad 3 Inkomstutjämning'!$B$16","v":0.99807466449638305},null,{"$f":"IF(V123>'Blad 2 Indata'!$B$55,ROUND(Data!$E23*'Blad 3 Inkomstutjämning'!$B$16*'Blad 2 Indata'!$B$55,0)-(U123*Data!$E23),0)","v":0},{"$f":"(Data!$C23*('Blad 3 Inkomstutjämning'!$B$10/100+1)*('Blad 3 Inkomstutjämning'!$C$10/100+1))/Data!$F23","v":270671.4928487048},{"$f":"Y123/'Blad 3 Inkomstutjämning'!$C$16","v":0.99969896122556279},null,{"$f":"IF(Z123>'Blad 2 Indata'!$C$55,ROUND(Data!$F23*'Blad 3 Inkomstutjämning'!$C$16*'Blad 2 Indata'!$C$55,0)-(Y123*Data!$F23),0)","v":0},{"$f":"IF('Blad 3 Inkomstutjämning'!$C$11<>0,((Data!$C23*$C72*('Blad 3 Inkomstutjämning'!$C$11/100+1)*('Blad 3 Inkomstutjämning'!$D$11/100+1))/Data!$R23),((Data!$C23*$C72*('Blad 3 Inkomstutjämning'!$C$12/100+1)*('Blad 3 Inkomstutjämning'!$D$12/100+1))/Data!$R23))","v":281630.98096162197},{"$f":"(Data!$C23*C72*('Blad 3 Inkomstutjämning'!$C$12/100+1)*('Blad 3 Inkomstutjämning'!$D$12/100+1))/Data!R23","v":281630.98096162197},{"$f":"IF('Blad 3 Inkomstutjämning'!$C$11<>0,AC123/'Blad 3 Inkomstutjämning'!$D$16,'Blad 8 Periodisering'!AC123/'Blad 3 Inkomstutjämning'!$D$17)","v":0.99838340994665464},{"$f":"AD123/('Blad 3 Inkomstutjämning'!$D$19/'Blad 2 Indata'!$D$55)","v":0.99838340994665464},null,null,{"$f":"IF(AE123>'Blad 2 Indata'!$D$55,ROUND(Data!$R23*'Blad 3 Inkomstutjämning'!$D$16*'Blad 2 Indata'!$D$55,0)-('Blad 8 Periodisering'!AC123*Data!$R23),0)","v":0},{"$f":"IF(AF123>'Blad 2 Indata'!$D$55,ROUND(Data!$R23*('Blad 3 Inkomstutjämning'!$D$19/'Blad 2 Indata'!$D$55)*'Blad 2 Indata'!$D$55,0)-('Blad 8 Periodisering'!AD123*Data!$R23),0)","v":0},{"$f":"(Data!$C23*$C72*$E72*('Blad 3 Inkomstutjämning'!$D$12/100+1)*('Blad 3 Inkomstutjämning'!$E$12/100+1))/Data!S23","v":292078.91350424674},{"$f":"AK123/'Blad 3 Inkomstutjämning'!$E$17","v":0.99915133909713005},null,{"$f":"IF(AL123>'Blad 2 Indata'!$E$55,ROUND(Data!$S23*'Blad 3 Inkomstutjämning'!$E$17*'Blad 2 Indata'!$E$55,0)-('Blad 8 Periodisering'!AK123*Data!$S23),0)","v":0},{"$f":"(Data!$C23*$C72*$E72*$G72*('Blad 3 Inkomstutjämning'!$E$12/100+1)*('Blad 3 Inkomstutjämning'!$F$12/100+1))/Data!T23","v":302256.1930874922},{"$f":"AO123/'Blad 3 Inkomstutjämning'!$F$17","v":0.99888362983896639},null,{"$f":"IF(AP123>'Blad 2 Indata'!$F$55,ROUND(Data!$T23*'Blad 3 Inkomstutjämning'!$F$17*'Blad 2 Indata'!$F$55,0)-('Blad 8 Periodisering'!AO123*Data!$T23),0)","v":0},{"$f":"(Data!$C23*$C72*$E72*$G72*$I72*('Blad 3 Inkomstutjämning'!$F$12/100+1)*('Blad 3 Inkomstutjämning'!$G$12/100+1))/Data!U23","v":313148.52107928065},{"$f":"AS123/'Blad 3 Inkomstutjämning'!$G$17","v":0.99861128462957505},null,{"$f":"IF(AT123>'Blad 2 Indata'!$G$55,ROUND(Data!$U23*'Blad 3 Inkomstutjämning'!$G$17*'Blad 2 Indata'!$G$55,0)-('Blad 8 Periodisering'!AS123*Data!$U23),0)","v":0},{"$f":"(Data!$C23*$C72*$E72*$G72*$I72*$K72*('Blad 3 Inkomstutjämning'!$G$12/100+1)*('Blad 3 Inkomstutjämning'!$H$12/100+1))/Data!BP23","v":324426.99368347478},{"$f":"AW123/'Blad 3 Inkomstutjämning'!$H$17","v":0.99834134550529829},null,{"$f":"IF(AX123>'Blad 2 Indata'!$H$55,ROUND(Data!$BP23*'Blad 3 Inkomstutjämning'!$H$17*'Blad 2 Indata'!$H$55,0)-('Blad 8 Periodisering'!AW123*Data!$BP23),0)","v":0},{"$f":"(Data!$C23*$C72*$E72*$G72*$I72*$K72*$M72*('Blad 3 Inkomstutjämning'!$H$12/100+1)*('Blad 3 Inkomstutjämning'!$I$12/100+1))/Data!BQ23","v":335777.98880334414},{"$f":"BA123/'Blad 3 Inkomstutjämning'!$I$17","v":0.99807087065944211},null,{"$f":"IF(BB123>'Blad 2 Indata'!$I$55,ROUND(Data!$BQ23*'Blad 3 Inkomstutjämning'!$I$17*'Blad 2 Indata'!$I$55,0)-('Blad 8 Periodisering'!BA123*Data!$BQ23),0)","v":0},{"$f":"(Data!$C23*$C72*$E72*$G72*$I72*$K72*$M72*$O72*('Blad 3 Inkomstutjämning'!$I$12/100+1)*('Blad 3 Inkomstutjämning'!$J$12/100+1))/Data!$BR23","v":346473.29076903412},{"$f":"BE123/'Blad 3 Inkomstutjämning'!$J$17","v":0.99780061102081319},null,{"$f":"IF(BF123>'Blad 2 Indata'!$J$55,ROUND(Data!$BR23*'Blad 3 Inkomstutjämning'!$J$17*'Blad 2 Indata'!$J$55,0)-('Blad 8 Periodisering'!BE123*Data!$BR23),0)","v":0}]
[]
[]
["Beräkningar för att räkna ut strukturbidrag"]
[]
[null,{"$f":"B102","v":2023},2024,2025,2026,2027,2028,2029,2030,2031]
[1,{"$f":"Data!$BB3","v":0},{"$f":"Data!$BB3","v":0},{"$f":"Data!$BB3","v":0},{"$f":"Data!$BB3","v":0},{"$f":"Data!$BB3","v":0},{"$f":"Data!$BB3","v":0},{"$f":"Data!$BB3","v":0},{"$f":"Data!$BB3","v":0},{"$f":"Data!$BB3","v":0}]
[3,{"$f":"Data!$BB4","v":0},{"$f":"Data!$BB4","v":0},{"$f":"Data!$BB4","v":0},{"$f":"Data!$BB4","v":0},{"$f":"Data!$BB4","v":0},{"$f":"Data!$BB4","v":0},{"$f":"Data!$BB4","v":0},{"$f":"Data!$BB4","v":0},{"$f":"Data!$BB4","v":0}]
[4,{"$f":"Data!$BB5","v":0},{"$f":"Data!$BB5","v":0},{"$f":"Data!$BB5","v":0},{"$f":"Data!$BB5","v":0},{"$f":"Data!$BB5","v":0},{"$f":"Data!$BB5","v":0},{"$f":"Data!$BB5","v":0},{"$f":"Data!$BB5","v":0},{"$f":"Data!$BB5","v":0}]
[5,{"$f":"Data!$BB6","v":0},{"$f":"Data!$BB6","v":0},{"$f":"Data!$BB6","v":0},{"$f":"Data!$BB6","v":0},{"$f":"Data!$BB6","v":0},{"$f":"Data!$BB6","v":0},{"$f":"Data!$BB6","v":0},{"$f":"Data!$BB6","v":0},{"$f":"Data!$BB6","v":0}]
[6,{"$f":"Data!$BB7","v":0},{"$f":"Data!$BB7","v":0},{"$f":"Data!$BB7","v":0},{"$f":"Data!$BB7","v":0},{"$f":"Data!$BB7","v":0},{"$f":"Data!$BB7","v":0},{"$f":"Data!$BB7","v":0},{"$f":"Data!$BB7","v":0},{"$f":"Data!$BB7","v":0}]
[7,{"$f":"Data!$BB8","v":230},{"$f":"Data!$BB8","v":230},{"$f":"Data!$BB8","v":230},{"$f":"Data!$BB8","v":230},{"$f":"Data!$BB8","v":230},{"$f":"Data!$BB8","v":230},{"$f":"Data!$BB8","v":230},{"$f":"Data!$BB8","v":230},{"$f":"Data!$BB8","v":230}]
[8,{"$f":"Data!$BB9","v":0},{"$f":"Data!$BB9","v":0},{"$f":"Data!$BB9","v":0},{"$f":"Data!$BB9","v":0},{"$f":"Data!$BB9","v":0},{"$f":"Data!$BB9","v":0},{"$f":"Data!$BB9","v":0},{"$f":"Data!$BB9","v":0},{"$f":"Data!$BB9","v":0}]
[9,{"$f":"Data!$BB10","v":1426},{"$f":"Data!$BB10","v":1426},{"$f":"Data!$BB10","v":1426},{"$f":"Data!$BB10","v":1426},{"$f":"Data!$BB10","v":1426},{"$f":"Data!$BB10","v":1426},{"$f":"Data!$BB10","v":1426},{"$f":"Data!$BB10","v":1426},{"$f":"Data!$BB10","v":1426}]
[10,{"$f":"Data!$BB11","v":501},{"$f":"Data!$BB11","v":501},{"$f":"Data!$BB11","v":501},{"$f":"Data!$BB11","v":501},{"$f":"Data!$BB11","v":501},{"$f":"Data!$BB11","v":501},{"$f":"Data!$BB11","v":501},{"$f":"Data!$BB11","v":501},{"$f":"Data!$BB11","v":501}]
[12,{"$f":"Data!$BB12","v":0},{"$f":"Data!$BB12","v":0},{"$f":"Data!$BB12","v":0},{"$f":"Data!$BB12","v":0},{"$f":"Data!$BB12","v":0},{"$f":"Data!$BB12","v":0},{"$f":"Data!$BB12","v":0},{"$f":"Data!$BB12","v":0},{"$f":"Data!$BB12","v":0}]
[13,{"$f":"Data!$BB13","v":0},{"$f":"Data!$BB13","v":0},{"$f":"Data!$BB13","v":0},{"$f":"Data!$BB13","v":0},{"$f":"Data!$BB13","v":0},{"$f":"Data!$BB13","v":0},{"$f":"Data!$BB13","v":0},{"$f":"Data!$BB13","v":0},{"$f":"Data!$BB13","v":0}]
[14,{"$f":"Data!$BB14","v":0},{"$f":"Data!$BB14","v":0},{"$f":"Data!$BB14","v":0},{"$f":"Data!$BB14","v":0},{"$f":"Data!$BB14","v":0},{"$f":"Data!$BB14","v":0},{"$f":"Data!$BB14","v":0},{"$f":"Data!$BB14","v":0},{"$f":"Data!$BB14","v":0}]
[17,{"$f":"Data!$BB15","v":0},{"$f":"Data!$BB15","v":0},{"$f":"Data!$BB15","v":0},{"$f":"Data!$BB15","v":0},{"$f":"Data!$BB15","v":0},{"$f":"Data!$BB15","v":0},{"$f":"Data!$BB15","v":0},{"$f":"Data!$BB15","v":0},{"$f":"Data!$BB15","v":0}]
[18,{"$f":"Data!$BB16","v":0},{"$f":"Data!$BB16","v":0},{"$f":"Data!$BB16","v":0},{"$f":"Data!$BB16","v":0},{"$f":"Data!$BB16","v":0},{"$f":"Data!$BB16","v":0},{"$f":"Data!$BB16","v":0},{"$f":"Data!$BB16","v":0},{"$f":"Data!$BB16","v":0}]
[19,{"$f":"Data!$BB17","v":0},{"$f":"Data!$BB17","v":0},{"$f":"Data!$BB17","v":0},{"$f":"Data!$BB17","v":0},{"$f":"Data!$BB17","v":0},{"$f":"Data!$BB17","v":0},{"$f":"Data!$BB17","v":0},{"$f":"Data!$BB17","v":0},{"$f":"Data!$BB17","v":0}]
[20,{"$f":"Data!$BB18","v":0},{"$f":"Data!$BB18","v":0},{"$f":"Data!$BB18","v":0},{"$f":"Data!$BB18","v":0},{"$f":"Data!$BB18","v":0},{"$f":"Data!$BB18","v":0},{"$f":"Data!$BB18","v":0},{"$f":"Data!$BB18","v":0},{"$f":"Data!$BB18","v":0}]
[21,{"$f":"Data!$BB19","v":0},{"$f":"Data!$BB19","v":0},{"$f":"Data!$BB19","v":0},{"$f":"Data!$BB19","v":0},{"$f":"Data!$BB19","v":0},{"$f":"Data!$BB19","v":0},{"$f":"Data!$BB19","v":0},{"$f":"Data!$BB19","v":0},{"$f":"Data!$BB19","v":0}]
[22,{"$f":"Data!$BB20","v":0},{"$f":"Data!$BB20","v":0},{"$f":"Data!$BB20","v":0},{"$f":"Data!$BB20","v":0},{"$f":"Data!$BB20","v":0},{"$f":"Data!$BB20","v":0},{"$f":"Data!$BB20","v":0},{"$f":"Data!$BB20","v":0},{"$f":"Data!$BB20","v":0}]
[23,{"$f":"Data!$BB21","v":784},{"$f":"Data!$BB21","v":784},{"$f":"Data!$BB21","v":784},{"$f":"Data!$BB21","v":784},{"$f":"Data!$BB21","v":784},{"$f":"Data!$BB21","v":784},{"$f":"Data!$BB21","v":784},{"$f":"Data!$BB21","v":784},{"$f":"Data!$BB21","v":784}]
[24,{"$f":"Data!$BB22","v":242},{"$f":"Data!$BB22","v":242},{"$f":"Data!$BB22","v":242},{"$f":"Data!$BB22","v":242},{"$f":"Data!$BB22","v":242},{"$f":"Data!$BB22","v":242},{"$f":"Data!$BB22","v":242},{"$f":"Data!$BB22","v":242},{"$f":"Data!$BB22","v":242}]
[25,{"$f":"Data!$BB23","v":652},{"$f":"Data!$BB23","v":652},{"$f":"Data!$BB23","v":652},{"$f":"Data!$BB23","v":652},{"$f":"Data!$BB23","v":652},{"$f":"Data!$BB23","v":652},{"$f":"Data!$BB23","v":652},{"$f":"Data!$BB23","v":652},{"$f":"Data!$BB23","v":652}]
[]
[]
[]
["Beräkningar för att räkna ut Införandebidrag"]
[null,"OBS ändra länkning en kolumn"]
[null,{"$f":"B128","v":2023},2024,2025,2026,2027,2028,2029,2030,2031]
[1,{"$f":"Data!BC3","v":0},{"$f":"Data!BD3","v":0},{"$f":"Data!BE3","v":0},{"$f":"Data!BF3","v":0},{"$f":"Data!BG3","v":0},{"$f":"Data!BH3","v":0},{"$f":"Data!BI3","v":0},{"$f":"Data!BI3","v":0}]
[3,{"$f":"Data!BC4","v":0},{"$f":"Data!BD4","v":0},{"$f":"Data!BE4","v":0},{"$f":"Data!BF4","v":0},{"$f":"Data!BG4","v":0},{"$f":"Data!BH4","v":0},{"$f":"Data!BI4","v":0},{"$f":"Data!BI4","v":0}]
[4,{"$f":"Data!BC5","v":0},{"$f":"Data!BD5","v":0},{"$f":"Data!BE5","v":0},{"$f":"Data!BF5","v":0},{"$f":"Data!BG5","v":0},{"$f":"Data!BH5","v":0},{"$f":"Data!BI5","v":0},{"$f":"Data!BI5","v":0}]
[5,{"$f":"Data!BC6","v":0},{"$f":"Data!BD6","v":0},{"$f":"Data!BE6","v":0},{"$f":"Data!BF6","v":0},{"$f":"Data!BG6","v":0},{"$f":"Data!BH6","v":0},{"$f":"Data!BI6","v":0},{"$f":"Data!BI6","v":0}]
[6,{"$f":"Data!BC7","v":0},{"$f":"Data!BD7","v":0},{"$f":"Data!BE7","v":0},{"$f":"Data!BF7","v":0},{"$f":"Data!BG7","v":0},{"$f":"Data!BH7","v":0},{"$f":"Data!BI7","v":0},{"$f":"Data!BI7","v":0}]
[7,{"$f":"Data!BC8","v":0},{"$f":"Data!BD8","v":0},{"$f":"Data!BE8","v":0},{"$f":"Data!BF8","v":0},{"$f":"Data!BG8","v":0},{"$f":"Data!BH8","v":0},{"$f":"Data!BI8","v":0},{"$f":"Data!BI8","v":0}]
[8,{"$f":"Data!BC9","v":0},{"$f":"Data!BD9","v":0},{"$f":"Data!BE9","v":0},{"$f":"Data!BF9","v":0},{"$f":"Data!BG9","v":0},{"$f":"Data!BH9","v":0},{"$f":"Data!BI9","v":0},{"$f":"Data!BI9","v":0}]
[9,{"$f":"Data!BC10","v":0},{"$f":"Data!BD10","v":0},{"$f":"Data!BE10","v":0},{"$f":"Data!BF10","v":0},{"$f":"Data!BG10","v":0},{"$f":"Data!BH10","v":0},{"$f":"Data!BI10","v":0},{"$f":"Data!BI10","v":0}]
[10,{"$f":"Data!BC11","v":0},{"$f":"Data!BD11","v":0},{"$f":"Data!BE11","v":0},{"$f":"Data!BF11","v":0},{"$f":"Data!BG11","v":0},{"$f":"Data!BH11","v":0},{"$f":"Data!BI11","v":0},{"$f":"Data!BI11","v":0}]
[12,{"$f":"Data!BC12","v":0},{"$f":"Data!BD12","v":0},{"$f":"Data!BE12","v":0},{"$f":"Data!BF12","v":0},{"$f":"Data!BG12","v":0},{"$f":"Data!BH12","v":0},{"$f":"Data!BI12","v":0},{"$f":"Data!BI12","v":0}]
[13,{"$f":"Data!BC13","v":0},{"$f":"Data!BD13","v":0},{"$f":"Data!BE13","v":0},{"$f":"Data!BF13","v":0},{"$f":"Data!BG13","v":0},{"$f":"Data!BH13","v":0},{"$f":"Data!BI13","v":0},{"$f":"Data!BI13","v":0}]
[14,{"$f":"Data!BC14","v":0},{"$f":"Data!BD14","v":0},{"$f":"Data!BE14","v":0},{"$f":"Data!BF14","v":0},{"$f":"Data!BG14","v":0},{"$f":"Data!BH14","v":0},{"$f":"Data!BI14","v":0},{"$f":"Data!BI14","v":0}]
[17,{"$f":"Data!BC15","v":0},{"$f":"Data!BD15","v":0},{"$f":"Data!BE15","v":0},{"$f":"Data!BF15","v":0},{"$f":"Data!BG15","v":0},{"$f":"Data!BH15","v":0},{"$f":"Data!BI15","v":0},{"$f":"Data!BI15","v":0}]
[18,{"$f":"Data!BC16","v":0},{"$f":"Data!BD16","v":0},{"$f":"Data!BE16","v":0},{"$f":"Data!BF16","v":0},{"$f":"Data!BG16","v":0},{"$f":"Data!BH16","v":0},{"$f":"Data!BI16","v":0},{"$f":"Data!BI16","v":0}]
[19,{"$f":"Data!BC17","v":0},{"$f":"Data!BD17","v":0},{"$f":"Data!BE17","v":0},{"$f":"Data!BF17","v":0},{"$f":"Data!BG17","v":0},{"$f":"Data!BH17","v":0},{"$f":"Data!BI17","v":0},{"$f":"Data!BI17","v":0}]
[20,{"$f":"Data!BC18","v":0},{"$f":"Data!BD18","v":0},{"$f":"Data!BE18","v":0},{"$f":"Data!BF18","v":0},{"$f":"Data!BG18","v":0},{"$f":"Data!BH18","v":0},{"$f":"Data!BI18","v":0},{"$f":"Data!BI18","v":0}]
[21,{"$f":"Data!BC19","v":0},{"$f":"Data!BD19","v":0},{"$f":"Data!BE19","v":0},{"$f":"Data!BF19","v":0},{"$f":"Data!BG19","v":0},{"$f":"Data!BH19","v":0},{"$f":"Data!BI19","v":0},{"$f":"Data!BI19","v":0}]
[22,{"$f":"Data!BC20","v":0},{"$f":"Data!BD20","v":0},{"$f":"Data!BE20","v":0},{"$f":"Data!BF20","v":0},{"$f":"Data!BG20","v":0},{"$f":"Data!BH20","v":0},{"$f":"Data!BI20","v":0},{"$f":"Data!BI20","v":0}]
[23,{"$f":"Data!BC21","v":0},{"$f":"Data!BD21","v":0},{"$f":"Data!BE21","v":0},{"$f":"Data!BF21","v":0},{"$f":"Data!BG21","v":0},{"$f":"Data!BH21","v":0},{"$f":"Data!BI21","v":0},{"$f":"Data!BI21","v":0}]
[24,{"$f":"Data!BC22","v":0},{"$f":"Data!BD22","v":0},{"$f":"Data!BE22","v":0},{"$f":"Data!BF22","v":0},{"$f":"Data!BG22","v":0},{"$f":"Data!BH22","v":0},{"$f":"Data!BI22","v":0},{"$f":"Data!BI22","v":0}]
[25,{"$f":"Data!BC23","v":0},{"$f":"Data!BD23","v":0},{"$f":"Data!BE23","v":0},{"$f":"Data!BF23","v":0},{"$f":"Data!BG23","v":0},{"$f":"Data!BH23","v":0},{"$f":"Data!BI23","v":0},{"$f":"Data!BI23","v":0}]
[]
[]
[]
["Beräkningar för att räkna ut nettot på kostnadsutjämningen"]
[]
[null,{"$f":"C155","v":2024},{"$f":"D155","v":2025},{"$f":"E155","v":2026},{"$f":"F155","v":2027},{"$f":"G155","v":2028}]
[1,{"$f":"IF(Data!AB3>0,Data!AB3+Data!P3,Data!P3)*Data!F3","v":-2242249482},{"$f":"IF(Data!Q3<>0,IF(Data!AL3>0,Data!AL3+Data!Q3,Data!Q3),Data!P3)*Data!R3","v":-2909227178},{"$f":"IF(Data!AL3<>0,C183-Data!AL3*Data!R3,C183/Data!R3*Data!S3)","v":-2934579708},{"$f":"D183*(Data!T3/Data!S3)","v":-2959271276.0000005},{"$f":"E183*(Data!U3/Data!T3)","v":-2982626832.0000005}]
[3,{"$f":"IF(Data!AB4>0,Data!AB4+Data!P4,Data!P4)*Data!F4","v":-286942226},{"$f":"IF(Data!Q4<>0,IF(Data!AL4>0,Data!AL4+Data!Q4,Data!Q4),Data!P4)*Data!R4","v":-498231405},{"$f":"IF(Data!AL4<>0,C184-Data!AL4*Data!R4,C184/Data!R4*Data!S4)","v":-504673335},{"$f":"D184*(Data!T4/Data!S4)","v":-511046009.99999994},{"$f":"E184*(Data!U4/Data!T4)","v":-517231574.99999994}]
[4,{"$f":"IF(Data!AB5>0,Data!AB5+Data!P5,Data!P5)*Data!F5","v":299286900},{"$f":"IF(Data!Q5<>0,IF(Data!AL5>0,Data!AL5+Data!Q5,Data!Q5),Data!P5)*Data!R5","v":299723490},{"$f":"IF(Data!AL5<>0,C185-Data!AL5*Data!R5,C185/Data!R5*Data!S5)","v":300071970},{"$f":"D185*(Data!T5/Data!S5)","v":300331350},{"$f":"E185*(Data!U5/Data!T5)","v":300436290}]
[5,{"$f":"IF(Data!AB6>0,Data!AB6+Data!P6,Data!P6)*Data!F6","v":-174884200},{"$f":"IF(Data!Q6<>0,IF(Data!AL6>0,Data!AL6+Data!Q6,Data!Q6),Data!P6)*Data!R6","v":-175468060},{"$f":"IF(Data!AL6<>0,C186-Data!AL6*Data!R6,C186/Data!R6*Data!S6)","v":-176001970},{"$f":"D186*(Data!T6/Data!S6)","v":-176485190},{"$f":"E186*(Data!U6/Data!T6)","v":-176878130},"Används ej, "]
[6,{"$f":"IF(Data!AB7>0,Data!AB7+Data!P7,Data!P7)*Data!F7","v":-24367266},{"$f":"IF(Data!Q7<>0,IF(Data!AL7>0,Data!AL7+Data!Q7,Data!Q7),Data!P7)*Data!R7","v":-24443628},{"$f":"IF(Data!AL7<>0,C187-Data!AL7*Data!R7,C187/Data!R7*Data!S7)","v":-24512994},{"$f":"D187*(Data!T7/Data!S7)","v":-24575232},{"$f":"E187*(Data!U7/Data!T7)","v":-24624864}]
[7,{"$f":"IF(Data!AB8>0,Data!AB8+Data!P8,Data!P8)*Data!F8","v":17750436},{"$f":"IF(Data!Q8<>0,IF(Data!AL8>0,Data!AL8+Data!Q8,Data!Q8),Data!P8)*Data!R8","v":17783322},{"$f":"IF(Data!AL8<>0,C188-Data!AL8*Data!R8,C188/Data!R8*Data!S8)","v":17810988},{"$f":"D188*(Data!T8/Data!S8)","v":17833347},{"$f":"E188*(Data!U8/Data!T8)","v":17846484}]
[8,{"$f":"IF(Data!AB9>0,Data!AB9+Data!P9,Data!P9)*Data!F9","v":557868254},{"$f":"IF(Data!Q9<>0,IF(Data!AL9>0,Data!AL9+Data!Q9,Data!Q9),Data!P9)*Data!R9","v":557908898},{"$f":"IF(Data!AL9<>0,C189-Data!AL9*Data!R9,C189/Data!R9*Data!S9)","v":557784708},{"$f":"D189*(Data!T9/Data!S9)","v":557493426},{"$f":"E189*(Data!U9/Data!T9)","v":556913120}]
[9,{"$f":"IF(Data!AB10>0,Data!AB10+Data!P10,Data!P10)*Data!F10","v":184134302},{"$f":"IF(Data!Q10<>0,IF(Data!AL10>0,Data!AL10+Data!Q10,Data!Q10),Data!P10)*Data!R10","v":184303086},{"$f":"IF(Data!AL10<>0,C190-Data!AL10*Data!R10,C190/Data!R10*Data!S10)","v":184417618},{"$f":"D190*(Data!T10/Data!S10)","v":184477898},{"$f":"E190*(Data!U10/Data!T10)","v":184441730}]
[10,{"$f":"IF(Data!AB11>0,Data!AB11+Data!P11,Data!P11)*Data!F11","v":225155598},{"$f":"IF(Data!Q11<>0,IF(Data!AL11>0,Data!AL11+Data!Q11,Data!Q11),Data!P11)*Data!R11","v":224589244},{"$f":"IF(Data!AL11<>0,C191-Data!AL11*Data!R11,C191/Data!R11*Data!S11)","v":223958855},{"$f":"D191*(Data!T11/Data!S11)","v":223264431},{"$f":"E191*(Data!U11/Data!T11)","v":222456167}]
[12,{"$f":"IF(Data!AB12>0,Data!AB12+Data!P12,Data!P12)*Data!F12","v":-600205536},{"$f":"IF(Data!Q12<>0,IF(Data!AL12>0,Data!AL12+Data!Q12,Data!Q12),Data!P12)*Data!R12","v":-604706588},{"$f":"IF(Data!AL12<>0,C192-Data!AL12*Data!R12,C192/Data!R12*Data!S12)","v":-609061628},{"$f":"D192*(Data!T12/Data!S12)","v":-613265170},{"$f":"E192*(Data!U12/Data!T12)","v":-617178376}]
[13,{"$f":"IF(Data!AB13>0,Data!AB13+Data!P13,Data!P13)*Data!F13","v":-24767208},{"$f":"IF(Data!Q13<>0,IF(Data!AL13>0,Data!AL13+Data!Q13,Data!Q13),Data!P13)*Data!R13","v":-46367082},{"$f":"IF(Data!AL13<>0,C193-Data!AL13*Data!R13,C193/Data!R13*Data!S13)","v":-46627444},{"$f":"D193*(Data!T13/Data!S13)","v":-46875344},{"$f":"E193*(Data!U13/Data!T13)","v":-47100195.999999993}]
[14,{"$f":"IF(Data!AB14>0,Data!AB14+Data!P14,Data!P14)*Data!F14","v":-696450554},{"$f":"IF(Data!Q14<>0,IF(Data!AL14>0,Data!AL14+Data!Q14,Data!Q14),Data!P14)*Data!R14","v":-701240018},{"$f":"IF(Data!AL14<>0,C194-Data!AL14*Data!R14,C194/Data!R14*Data!S14)","v":-705853758},{"$f":"D194*(Data!T14/Data!S14)","v":-710286258},{"$f":"E194*(Data!U14/Data!T14)","v":-714376765.99999988}]
[17,{"$f":"IF(Data!AB15>0,Data!AB15+Data!P15,Data!P15)*Data!F15","v":572995220},{"$f":"IF(Data!Q15<>0,IF(Data!AL15>0,Data!AL15+Data!Q15,Data!Q15),Data!P15)*Data!R15","v":573447700},{"$f":"IF(Data!AL15<>0,C195-Data!AL15*Data!R15,C195/Data!R15*Data!S15)","v":573730500},{"$f":"D195*(Data!T15/Data!S15)","v":573843620},{"$f":"E195*(Data!U15/Data!T15)","v":573659800}]
[18,{"$f":"IF(Data!AB16>0,Data!AB16+Data!P16,Data!P16)*Data!F16","v":76794837},{"$f":"IF(Data!Q16<>0,IF(Data!AL16>0,Data!AL16+Data!Q16,Data!Q16),Data!P16)*Data!R16","v":77004495},{"$f":"IF(Data!AL16<>0,C196-Data!AL16*Data!R16,C196/Data!R16*Data!S16)","v":77191992},{"$f":"D196*(Data!T16/Data!S16)","v":77356830},{"$f":"E196*(Data!U16/Data!T16)","v":77481828}]
[19,{"$f":"IF(Data!AB17>0,Data!AB17+Data!P17,Data!P17)*Data!F17","v":81760815},{"$f":"IF(Data!Q17<>0,IF(Data!AL17>0,Data!AL17+Data!Q17,Data!Q17),Data!P17)*Data!R17","v":82082952},{"$f":"IF(Data!AL17<>0,C197-Data!AL17*Data!R17,C197/Data!R17*Data!S17)","v":82381809},{"$f":"D197*(Data!T17/Data!S17)","v":82657095},{"$f":"E197*(Data!U17/Data!T17)","v":82890477}]
[20,{"$f":"IF(Data!AB18>0,Data!AB18+Data!P18,Data!P18)*Data!F18","v":717765147},{"$f":"IF(Data!Q18<>0,IF(Data!AL18>0,Data!AL18+Data!Q18,Data!Q18),Data!P18)*Data!R18","v":716821281},{"$f":"IF(Data!AL18<>0,C198-Data!AL18*Data!R18,C198/Data!R18*Data!S18)","v":715665170},{"$f":"D198*(Data!T18/Data!S18)","v":714299311},{"$f":"E198*(Data!U18/Data!T18)","v":712566393}]
[21,{"$f":"IF(Data!AB19>0,Data!AB19+Data!P19,Data!P19)*Data!F19","v":503223515},{"$f":"IF(Data!Q19<>0,IF(Data!AL19>0,Data!AL19+Data!Q19,Data!Q19),Data!P19)*Data!R19","v":501619307},{"$f":"IF(Data!AL19<>0,C199-Data!AL19*Data!R19,C199/Data!R19*Data!S19)","v":499872620},{"$f":"D199*(Data!T19/Data!S19)","v":497983454},{"$f":"E199*(Data!U19/Data!T19)","v":495844510}]
[22,{"$f":"IF(Data!AB20>0,Data!AB20+Data!P20,Data!P20)*Data!F20","v":434036313},{"$f":"IF(Data!Q20<>0,IF(Data!AL20>0,Data!AL20+Data!Q20,Data!Q20),Data!P20)*Data!R20","v":432327699},{"$f":"IF(Data!AL20<>0,C200-Data!AL20*Data!R20,C200/Data!R20*Data!S20)","v":430499088},{"$f":"D200*(Data!T20/Data!S20)","v":428550480},{"$f":"E200*(Data!U20/Data!T20)","v":426390534}]
[23,{"$f":"IF(Data!AB21>0,Data!AB21+Data!P21,Data!P21)*Data!F21","v":304936732},{"$f":"IF(Data!Q21<>0,IF(Data!AL21>0,Data!AL21+Data!Q21,Data!Q21),Data!P21)*Data!R21","v":305549064},{"$f":"IF(Data!AL21<>0,C201-Data!AL21*Data!R21,C201/Data!R21*Data!S21)","v":306073920},{"$f":"D201*(Data!T21/Data!S21)","v":306506696},{"$f":"E201*(Data!U21/Data!T21)","v":306782936}]
[24,{"$f":"IF(Data!AB22>0,Data!AB22+Data!P22,Data!P22)*Data!F22","v":137030856},{"$f":"IF(Data!Q22<>0,IF(Data!AL22>0,Data!AL22+Data!Q22,Data!Q22),Data!P22)*Data!R22","v":138010920},{"$f":"IF(Data!AL22<>0,C202-Data!AL22*Data!R22,C202/Data!R22*Data!S22)","v":138957036},{"$f":"D202*(Data!T22/Data!S22)","v":139867728},{"$f":"E202*(Data!U22/Data!T22)","v":140712000}]
[25,{"$f":"IF(Data!AB23>0,Data!AB23+Data!P23,Data!P23)*Data!F23","v":760629527},{"$f":"IF(Data!Q23<>0,IF(Data!AL23>0,Data!AL23+Data!Q23,Data!Q23),Data!P23)*Data!R23","v":758895074},{"$f":"IF(Data!AL23<>0,C203-Data!AL23*Data!R23,C203/Data!R23*Data!S23)","v":756940373},{"$f":"D203*(Data!T23/Data!S23)","v":754765424},{"$f":"E203*(Data!U23/Data!T23)","v":752208100}]
[]
[]
[]
[]
[]
[]
[null,{"$f":"'Blad 3 Inkomstutjämning'!B7","v":2023},{"$f":"'Blad 3 Inkomstutjämning'!C7","v":2024},{"$f":"'Blad 3 Inkomstutjämning'!D7","v":2025},{"$f":"'Blad 3 Inkomstutjämning'!E7","v":2026},{"$f":"'Blad 3 Inkomstutjämning'!F7","v":2027},{"$f":"'Blad 3 Inkomstutjämning'!G7","v":2028},{"$f":"'Blad 3 Inkomstutjämning'!H7","v":2029},{"$f":"'Blad 3 Inkomstutjämning'!I7","v":2030},{"$f":"'Blad 3 Inkomstutjämning'!J7","v":2031}]
["Riksuppräkning",{"$f":"'Blad 3 Inkomstutjämning'!B12/100+1","v":1.0506268510602517},{"$f":"'Blad 3 Inkomstutjämning'!C12/100+1","v":1.027300901209028},{"$f":"'Blad 3 Inkomstutjämning'!D12/100+1","v":1.0486778705681639},{"$f":"'Blad 3 Inkomstutjämning'!E12/100+1","v":1.0416218361225769},{"$f":"'Blad 3 Inkomstutjämning'!F12/100+1","v":1.0401490337047212},{"$f":"'Blad 3 Inkomstutjämning'!G12/100+1","v":1.0408276112358172},{"$f":"'Blad 3 Inkomstutjämning'!H12/100+1","v":1.0408207998306271},{"$f":"'Blad 3 Inkomstutjämning'!I12/100+1","v":1.0397783873419768},{"$f":"'Blad 3 Inkomstutjämning'!J12/100+1","v":1.0366333134304033}]
[]
[]
[]
["Beräkningar för att räkna egen skatteunderlagstillväxt"]
[{"$f":"'Blad 2 Indata'!B1","v":0},{"$f":"'Blad 2 Indata'!D33","v":0},null,{"$f":"'Blad 2 Indata'!E33","v":0},null,{"$f":"'Blad 2 Indata'!F33","v":0},null,{"$f":"'Blad 2 Indata'!G33","v":0},null,{"$f":"'Blad 2 Indata'!H33","v":0},null,{"$f":"'Blad 2 Indata'!I33","v":0},null,{"$f":"'Blad 2 Indata'!J33","v":0}]
[null,{"$f":"D210","v":2025},{"$f":"B217","v":2025},{"$f":"B217+1","v":2026},2026,2027,2027,2028,2028,{"$f":"H217+1","v":2029},{"$f":"J217","v":2029},{"$f":"J217+1","v":2030},{"$f":"L217","v":2030},{"$f":"L217+1","v":2031},{"$f":"N217","v":2031}]
[1,{"$f":"IF($A$216=$A218,(((1+('Blad 2 Indata'!D$15/100))*(B$216/Data!F3)/('Blad 2 Indata'!D$28/'Blad 2 Indata'!C$28)-1)+1)*E52*C52*Data!C3,(((1+('Blad 2 Indata'!D$15/100))*(Data!R3/Data!F3)/('Blad 2 Indata'!D$28/'Blad 2 Indata'!C$28)-1)+1)*E52*C52*Data!C3)","v":844656609135.29468},{"$f":"IF($A$216=$A218,(((1+('Blad 2 Indata'!D$15/100))*(B$216/Data!F3)/('Blad 2 Indata'!D$28/'Blad 2 Indata'!C$28)-1)+1)*$B$239,(((1+('Blad 2 Indata'!D$15/100))*(Data!R3/Data!F3)/('Blad 2 Indata'!D$28/'Blad 2 Indata'!C$28)-1)+1)*$B$239)","v":1.0521064791152379},{"$f":"IF($A$216=A218,(((1+('Blad 2 Indata'!E$15/100))*($D$216/$B$216)/('Blad 2 Indata'!E$28/'Blad 2 Indata'!D$28)-1)+1)*C218*E52*C52*Data!C3,(((1+('Blad 2 Indata'!E$15/100))*(Data!S3/Data!R3)/('Blad 2 Indata'!E$28/'Blad 2 Indata'!D$28)-1)+1)*C218*E52*C52*Data!C3)","v":882674808746.94336},{"$f":"IF($A$216=A218,(((1+('Blad 2 Indata'!E$15/100))*($D$216/$B$216)/('Blad 2 Indata'!E$28/'Blad 2 Indata'!D$28)-1)+1)*$D$239,(((1+('Blad 2 Indata'!E$15/100))*(Data!S3/Data!R3)/('Blad 2 Indata'!E$28/'Blad 2 Indata'!D$28)-1)+1)*$D$239)","v":1.045010790212064},{"$f":"IF($A$216=A218,(((1+('Blad 2 Indata'!F$15/100))*($F$216/$D$216)/('Blad 2 Indata'!F$28/'Blad 2 Indata'!E$28)-1)+1)*C218*E218*E52*C52*Data!C3,(((1+('Blad 2 Indata'!F$15/100))*(Data!T3/Data!S3)/('Blad 2 Indata'!F$28/'Blad 2 Indata'!E$28)-1)+1)*C218*E218*E52*C52*Data!C3)","v":921085010820.08374},{"$f":"IF($A$216=A218,(((1+('Blad 2 Indata'!F$15/100))*(F$216/D$216)/('Blad 2 Indata'!F$28/'Blad 2 Indata'!E$28)-1)+1)*$F$239,(((1+('Blad 2 Indata'!F$15/100))*(Data!T3/Data!S3)/('Blad 2 Indata'!F$28/'Blad 2 Indata'!E$28)-1)+1)*$F$239)","v":1.0435164498288469},{"$f":"IF($A$216=A218,(((1+('Blad 2 Indata'!G$15/100))*($H$216/$F$216)/('Blad 2 Indata'!G$28/'Blad 2 Indata'!F$28)-1)+1)*C218*E218*G218*E52*C52*Data!C3,(((1+('Blad 2 Indata'!G$15/100))*(Data!U3/Data!T3)/('Blad 2 Indata'!G$28/'Blad 2 Indata'!F$28)-1)+1)*C218*E218*G218*E52*C52*Data!C3)","v":961778801131.4928},{"$f":"IF($A$216=A218,(((1+('Blad 2 Indata'!G$15/100))*(H$216/F$216)/('Blad 2 Indata'!G$28/'Blad 2 Indata'!F$28)-1)+1)*$H$239,(((1+('Blad 2 Indata'!G$15/100))*(Data!U3/Data!T3)/('Blad 2 Indata'!G$28/'Blad 2 Indata'!F$28)-1)+1)*$H$239)","v":1.0441804601384732},{"$f":"IF($A$216=$A218,(((1+('Blad 2 Indata'!H$15/100))*(J$216/H$216)/('Blad 2 Indata'!H$28/'Blad 2 Indata'!G$28)-1)+1)*$C218*$E218*$G218*$I218*$E52*$C52*Data!$C3,(((1+('Blad 2 Indata'!H$15/100))*(Data!BP3/Data!U3)/('Blad 2 Indata'!H$28/'Blad 2 Indata'!G$28)-1)+1)*$C218*$E218*$G218*$I218*$E52*$C52*Data!$C3)","v":1004247283848.1776},{"$f":"IF($A$216=$A218,(((1+('Blad 2 Indata'!H$15/100))*(J$216/H$216)/('Blad 2 Indata'!H$28/'Blad 2 Indata'!G$28)-1)+1)*$J$239,(((1+('Blad 2 Indata'!H$15/100))*(Data!BP3/Data!U3)/('Blad 2 Indata'!H$28/'Blad 2 Indata'!G$28)-1)+1)*J$239)","v":1.0441570528354869},{"$f":"IF($A$216=$A218,(((1+('Blad 2 Indata'!I$15/100))*(L$216/J$216)/('Blad 2 Indata'!I$28/'Blad 2 Indata'!H$28)-1)+1)*$C218*$E218*$G218*$I218*$K218*$E52*$C52*Data!$C3,(((1+('Blad 2 Indata'!I$15/100))*(Data!BQ3/Data!BP3)/('Blad 2 Indata'!I$28/'Blad 2 Indata'!H$28)-1)+1)*$C218*$E218*$G218*$I218*$K218*$E52*$C52*Data!$C3)","v":1047524542643.86},{"$f":"IF($A$216=$A218,(((1+('Blad 2 Indata'!I$15/100))*(L$216/J$216)/('Blad 2 Indata'!I$28/'Blad 2 Indata'!H$28)-1)+1)*L$239,(((1+('Blad 2 Indata'!I$15/100))*(Data!BQ3/Data!BP3)/('Blad 2 Indata'!I$28/'Blad 2 Indata'!H$28)-1)+1)*L$239)","v":1.0430946201186886},{"$f":"IF($A$216=$A218,(((1+('Blad 2 Indata'!J$15/100))*(N$216/L$216)/('Blad 2 Indata'!J$28/'Blad 2 Indata'!I$28)-1)+1)*$C218*$E218*$G218*$I218*$K218*$M218*$E52*$C52*Data!$C3,(((1+('Blad 2 Indata'!J$15/100))*(Data!BR3/Data!BQ3)/('Blad 2 Indata'!J$28/'Blad 2 Indata'!I$28)-1)+1)*$C218*$E218*$G218*$I218*$K218*$M218*$E52*$C52*Data!$C3)","v":1089344253437.9502},{"$f":"IF($A$216=$A218,(((1+('Blad 2 Indata'!J$15/100))*(N$216/L$216)/('Blad 2 Indata'!J$28/'Blad 2 Indata'!I$28)-1)+1)*N$239,(((1+('Blad 2 Indata'!J$15/100))*(Data!BR3/Data!BQ3)/('Blad 2 Indata'!J$28/'Blad 2 Indata'!I$28)-1)+1)*N$239)","v":1.03992301508486}]
[3,{"$f":"IF($A$216=$A219,(((1+('Blad 2 Indata'!D$15/100))*(B$216/Data!F4)/('Blad 2 Indata'!D$28/'Blad 2 Indata'!C$28)-1)+1)*E53*C53*Data!C4,(((1+('Blad 2 Indata'!D$15/100))*(Data!R4/Data!F4)/('Blad 2 Indata'!D$28/'Blad 2 Indata'!C$28)-1)+1)*E53*C53*Data!C4)","v":113517882507.00748},{"$f":"IF($A$216=$A219,(((1+('Blad 2 Indata'!D$15/100))*(B$216/Data!F4)/('Blad 2 Indata'!D$28/'Blad 2 Indata'!C$28)-1)+1)*$B$239,(((1+('Blad 2 Indata'!D$15/100))*(Data!R4/Data!F4)/('Blad 2 Indata'!D$28/'Blad 2 Indata'!C$28)-1)+1)*$B$239)","v":1.0565009789851494},{"$f":"IF($A$216=A219,(((1+('Blad 2 Indata'!E$15/100))*($D$216/$B$216)/('Blad 2 Indata'!E$28/'Blad 2 Indata'!D$28)-1)+1)*C219*E53*C53*Data!C4,(((1+('Blad 2 Indata'!E$15/100))*(Data!S4/Data!R4)/('Blad 2 Indata'!E$28/'Blad 2 Indata'!D$28)-1)+1)*C219*E53*C53*Data!C4)","v":119123052858.99834},{"$f":"IF($A$216=A219,(((1+('Blad 2 Indata'!E$15/100))*($D$216/$B$216)/('Blad 2 Indata'!E$28/'Blad 2 Indata'!D$28)-1)+1)*$D$239,(((1+('Blad 2 Indata'!E$15/100))*(Data!S4/Data!R4)/('Blad 2 Indata'!E$28/'Blad 2 Indata'!D$28)-1)+1)*$D$239)","v":1.0493775302573503},{"$f":"IF($A$216=A219,(((1+('Blad 2 Indata'!F$15/100))*($F$216/$D$216)/('Blad 2 Indata'!F$28/'Blad 2 Indata'!E$28)-1)+1)*C219*E219*E53*C53*Data!C4,(((1+('Blad 2 Indata'!F$15/100))*(Data!T4/Data!S4)/('Blad 2 Indata'!F$28/'Blad 2 Indata'!E$28)-1)+1)*C219*E219*E53*C53*Data!C4)","v":124826148933.81975},{"$f":"IF($A$216=A219,(((1+('Blad 2 Indata'!F$15/100))*(F$216/D$216)/('Blad 2 Indata'!F$28/'Blad 2 Indata'!E$28)-1)+1)*$F$239,(((1+('Blad 2 Indata'!F$15/100))*(Data!T4/Data!S4)/('Blad 2 Indata'!F$28/'Blad 2 Indata'!E$28)-1)+1)*$F$239)","v":1.0478764353503061},{"$f":"IF($A$216=A219,(((1+('Blad 2 Indata'!G$15/100))*($H$216/$F$216)/('Blad 2 Indata'!G$28/'Blad 2 Indata'!F$28)-1)+1)*C219*E219*G219*E53*C53*Data!C4,(((1+('Blad 2 Indata'!G$15/100))*(Data!U4/Data!T4)/('Blad 2 Indata'!G$28/'Blad 2 Indata'!F$28)-1)+1)*C219*E219*G219*E53*C53*Data!C4)","v":130885622531.55583},{"$f":"IF($A$216=A219,(((1+('Blad 2 Indata'!G$15/100))*(H$216/F$216)/('Blad 2 Indata'!G$28/'Blad 2 Indata'!F$28)-1)+1)*$H$239,(((1+('Blad 2 Indata'!G$15/100))*(Data!U4/Data!T4)/('Blad 2 Indata'!G$28/'Blad 2 Indata'!F$28)-1)+1)*$H$239)","v":1.0485434877877047},{"$f":"IF($A$216=$A219,(((1+('Blad 2 Indata'!H$15/100))*(J$216/H$216)/('Blad 2 Indata'!H$28/'Blad 2 Indata'!G$28)-1)+1)*$C219*$E219*$G219*$I219*$E53*$C53*Data!$C4,(((1+('Blad 2 Indata'!H$15/100))*(Data!BP4/Data!U4)/('Blad 2 Indata'!H$28/'Blad 2 Indata'!G$28)-1)+1)*$C219*$E219*$G219*$I219*$E53*$C53*Data!$C4)","v":137235936283.42139},{"$f":"IF($A$216=$A219,(((1+('Blad 2 Indata'!H$15/100))*(J$216/H$216)/('Blad 2 Indata'!H$28/'Blad 2 Indata'!G$28)-1)+1)*$J$239,(((1+('Blad 2 Indata'!H$15/100))*(Data!BP4/Data!U4)/('Blad 2 Indata'!H$28/'Blad 2 Indata'!G$28)-1)+1)*J$239)","v":1.0485189105158816},{"$f":"IF($A$216=$A219,(((1+('Blad 2 Indata'!I$15/100))*(L$216/J$216)/('Blad 2 Indata'!I$28/'Blad 2 Indata'!H$28)-1)+1)*$C219*$E219*$G219*$I219*$K219*$E53*$C53*Data!$C4,(((1+('Blad 2 Indata'!I$15/100))*(Data!BQ4/Data!BP4)/('Blad 2 Indata'!I$28/'Blad 2 Indata'!H$28)-1)+1)*$C219*$E219*$G219*$I219*$K219*$E53*$C53*Data!$C4)","v":143748175257.58273},{"$f":"IF($A$216=$A219,(((1+('Blad 2 Indata'!I$15/100))*(L$216/J$216)/('Blad 2 Indata'!I$28/'Blad 2 Indata'!H$28)-1)+1)*L$239,(((1+('Blad 2 Indata'!I$15/100))*(Data!BQ4/Data!BP4)/('Blad 2 Indata'!I$28/'Blad 2 Indata'!H$28)-1)+1)*L$239)","v":1.0474532658725251},{"$f":"IF($A$216=$A219,(((1+('Blad 2 Indata'!J$15/100))*(N$216/L$216)/('Blad 2 Indata'!J$28/'Blad 2 Indata'!I$28)-1)+1)*$C219*$E219*$G219*$I219*$K219*$M219*$E53*$C53*Data!$C4,(((1+('Blad 2 Indata'!J$15/100))*(Data!BR4/Data!BQ4)/('Blad 2 Indata'!J$28/'Blad 2 Indata'!I$28)-1)+1)*$C219*$E219*$G219*$I219*$K219*$M219*$E53*$C53*Data!$C4)","v":150111470608.1619},{"$f":"IF($A$216=$A219,(((1+('Blad 2 Indata'!J$15/100))*(N$216/L$216)/('Blad 2 Indata'!J$28/'Blad 2 Indata'!I$28)-1)+1)*N$239,(((1+('Blad 2 Indata'!J$15/100))*(Data!BR4/Data!BQ4)/('Blad 2 Indata'!J$28/'Blad 2 Indata'!I$28)-1)+1)*N$239)","v":1.0442675657223333}]
[4,{"$f":"IF($A$216=$A220,(((1+('Blad 2 Indata'!D$15/100))*(B$216/Data!F5)/('Blad 2 Indata'!D$28/'Blad 2 Indata'!C$28)-1)+1)*E54*C54*Data!C5,(((1+('Blad 2 Indata'!D$15/100))*(Data!R5/Data!F5)/('Blad 2 Indata'!D$28/'Blad 2 Indata'!C$28)-1)+1)*E54*C54*Data!C5)","v":75905282091.855743},{"$f":"IF($A$216=$A220,(((1+('Blad 2 Indata'!D$15/100))*(B$216/Data!F5)/('Blad 2 Indata'!D$28/'Blad 2 Indata'!C$28)-1)+1)*$B$239,(((1+('Blad 2 Indata'!D$15/100))*(Data!R5/Data!F5)/('Blad 2 Indata'!D$28/'Blad 2 Indata'!C$28)-1)+1)*$B$239)","v":1.0442305235191451},{"$f":"IF($A$216=A220,(((1+('Blad 2 Indata'!E$15/100))*($D$216/$B$216)/('Blad 2 Indata'!E$28/'Blad 2 Indata'!D$28)-1)+1)*C220*E54*C54*Data!C5,(((1+('Blad 2 Indata'!E$15/100))*(Data!S5/Data!R5)/('Blad 2 Indata'!E$28/'Blad 2 Indata'!D$28)-1)+1)*C220*E54*C54*Data!C5)","v":78727945949.229706},{"$f":"IF($A$216=A220,(((1+('Blad 2 Indata'!E$15/100))*($D$216/$B$216)/('Blad 2 Indata'!E$28/'Blad 2 Indata'!D$28)-1)+1)*$D$239,(((1+('Blad 2 Indata'!E$15/100))*(Data!S5/Data!R5)/('Blad 2 Indata'!E$28/'Blad 2 Indata'!D$28)-1)+1)*$D$239)","v":1.0371872018751638},{"$f":"IF($A$216=A220,(((1+('Blad 2 Indata'!F$15/100))*($F$216/$D$216)/('Blad 2 Indata'!F$28/'Blad 2 Indata'!E$28)-1)+1)*C220*E220*E54*C54*Data!C5,(((1+('Blad 2 Indata'!F$15/100))*(Data!T5/Data!S5)/('Blad 2 Indata'!F$28/'Blad 2 Indata'!E$28)-1)+1)*C220*E220*E54*C54*Data!C5)","v":81538792110.406311},{"$f":"IF($A$216=A220,(((1+('Blad 2 Indata'!F$15/100))*(F$216/D$216)/('Blad 2 Indata'!F$28/'Blad 2 Indata'!E$28)-1)+1)*$F$239,(((1+('Blad 2 Indata'!F$15/100))*(Data!T5/Data!S5)/('Blad 2 Indata'!F$28/'Blad 2 Indata'!E$28)-1)+1)*$F$239)","v":1.035704038916293},{"$f":"IF($A$216=A220,(((1+('Blad 2 Indata'!G$15/100))*($H$216/$F$216)/('Blad 2 Indata'!G$28/'Blad 2 Indata'!F$28)-1)+1)*C220*E220*G220*E54*C54*Data!C5,(((1+('Blad 2 Indata'!G$15/100))*(Data!U5/Data!T5)/('Blad 2 Indata'!G$28/'Blad 2 Indata'!F$28)-1)+1)*C220*E220*G220*E54*C54*Data!C5)","v":84504014144.555557},{"$f":"IF($A$216=A220,(((1+('Blad 2 Indata'!G$15/100))*(H$216/F$216)/('Blad 2 Indata'!G$28/'Blad 2 Indata'!F$28)-1)+1)*$H$239,(((1+('Blad 2 Indata'!G$15/100))*(Data!U5/Data!T5)/('Blad 2 Indata'!G$28/'Blad 2 Indata'!F$28)-1)+1)*$H$239)","v":1.0363659655960547},{"$f":"IF($A$216=$A220,(((1+('Blad 2 Indata'!H$15/100))*(J$216/H$216)/('Blad 2 Indata'!H$28/'Blad 2 Indata'!G$28)-1)+1)*$C220*$E220*$G220*$I220*$E54*$C54*Data!$C5,(((1+('Blad 2 Indata'!H$15/100))*(Data!BP5/Data!U5)/('Blad 2 Indata'!H$28/'Blad 2 Indata'!G$28)-1)+1)*$C220*$E220*$G220*$I220*$E54*$C54*Data!$C5)","v":87574988812.986694},{"$f":"IF($A$216=$A220,(((1+('Blad 2 Indata'!H$15/100))*(J$216/H$216)/('Blad 2 Indata'!H$28/'Blad 2 Indata'!G$28)-1)+1)*$J$239,(((1+('Blad 2 Indata'!H$15/100))*(Data!BP5/Data!U5)/('Blad 2 Indata'!H$28/'Blad 2 Indata'!G$28)-1)+1)*J$239)","v":1.0363420304030426},{"$f":"IF($A$216=$A220,(((1+('Blad 2 Indata'!I$15/100))*(L$216/J$216)/('Blad 2 Indata'!I$28/'Blad 2 Indata'!H$28)-1)+1)*$C220*$E220*$G220*$I220*$K220*$E54*$C54*Data!$C5,(((1+('Blad 2 Indata'!I$15/100))*(Data!BQ5/Data!BP5)/('Blad 2 Indata'!I$28/'Blad 2 Indata'!H$28)-1)+1)*$C220*$E220*$G220*$I220*$K220*$E54*$C54*Data!$C5)","v":90665115192.693832},{"$f":"IF($A$216=$A220,(((1+('Blad 2 Indata'!I$15/100))*(L$216/J$216)/('Blad 2 Indata'!I$28/'Blad 2 Indata'!H$28)-1)+1)*L$239,(((1+('Blad 2 Indata'!I$15/100))*(Data!BQ5/Data!BP5)/('Blad 2 Indata'!I$28/'Blad 2 Indata'!H$28)-1)+1)*L$239)","v":1.0352858816349528},{"$f":"IF($A$216=$A220,(((1+('Blad 2 Indata'!J$15/100))*(N$216/L$216)/('Blad 2 Indata'!J$28/'Blad 2 Indata'!I$28)-1)+1)*$C220*$E220*$G220*$I220*$K220*$M220*$E54*$C54*Data!$C5,(((1+('Blad 2 Indata'!J$15/100))*(Data!BR5/Data!BQ5)/('Blad 2 Indata'!J$28/'Blad 2 Indata'!I$28)-1)+1)*$C220*$E220*$G220*$I220*$K220*$M220*$E54*$C54*Data!$C5)","v":93578873766.699203},{"$f":"IF($A$216=$A220,(((1+('Blad 2 Indata'!J$15/100))*(N$216/L$216)/('Blad 2 Indata'!J$28/'Blad 2 Indata'!I$28)-1)+1)*N$239,(((1+('Blad 2 Indata'!J$15/100))*(Data!BR5/Data!BQ5)/('Blad 2 Indata'!J$28/'Blad 2 Indata'!I$28)-1)+1)*N$239)","v":1.0321381874090538}]
[5,{"$f":"IF($A$216=$A221,(((1+('Blad 2 Indata'!D$15/100))*(B$216/Data!F6)/('Blad 2 Indata'!D$28/'Blad 2 Indata'!C$28)-1)+1)*E55*C55*Data!C6,(((1+('Blad 2 Indata'!D$15/100))*(Data!R6/Data!F6)/('Blad 2 Indata'!D$28/'Blad 2 Indata'!C$28)-1)+1)*E55*C55*Data!C6)","v":124251907093.40149},{"$f":"IF($A$216=$A221,(((1+('Blad 2 Indata'!D$15/100))*(B$216/Data!F6)/('Blad 2 Indata'!D$28/'Blad 2 Indata'!C$28)-1)+1)*$B$239,(((1+('Blad 2 Indata'!D$15/100))*(Data!R6/Data!F6)/('Blad 2 Indata'!D$28/'Blad 2 Indata'!C$28)-1)+1)*$B$239)","v":1.0461905926225041},{"$f":"IF($A$216=A221,(((1+('Blad 2 Indata'!E$15/100))*($D$216/$B$216)/('Blad 2 Indata'!E$28/'Blad 2 Indata'!D$28)-1)+1)*C221*E55*C55*Data!C6,(((1+('Blad 2 Indata'!E$15/100))*(Data!S6/Data!R6)/('Blad 2 Indata'!E$28/'Blad 2 Indata'!D$28)-1)+1)*C221*E55*C55*Data!C6)","v":129114432636.86563},{"$f":"IF($A$216=A221,(((1+('Blad 2 Indata'!E$15/100))*($D$216/$B$216)/('Blad 2 Indata'!E$28/'Blad 2 Indata'!D$28)-1)+1)*$D$239,(((1+('Blad 2 Indata'!E$15/100))*(Data!S6/Data!R6)/('Blad 2 Indata'!E$28/'Blad 2 Indata'!D$28)-1)+1)*$D$239)","v":1.0391349574508948},{"$f":"IF($A$216=A221,(((1+('Blad 2 Indata'!F$15/100))*($F$216/$D$216)/('Blad 2 Indata'!F$28/'Blad 2 Indata'!E$28)-1)+1)*C221*E221*E55*C55*Data!C6,(((1+('Blad 2 Indata'!F$15/100))*(Data!T6/Data!S6)/('Blad 2 Indata'!F$28/'Blad 2 Indata'!E$28)-1)+1)*C221*E221*E55*C55*Data!C6)","v":133975579219.2256},{"$f":"IF($A$216=A221,(((1+('Blad 2 Indata'!F$15/100))*(F$216/D$216)/('Blad 2 Indata'!F$28/'Blad 2 Indata'!E$28)-1)+1)*$F$239,(((1+('Blad 2 Indata'!F$15/100))*(Data!T6/Data!S6)/('Blad 2 Indata'!F$28/'Blad 2 Indata'!E$28)-1)+1)*$F$239)","v":1.0376506655526816},{"$f":"IF($A$216=A221,(((1+('Blad 2 Indata'!G$15/100))*($H$216/$F$216)/('Blad 2 Indata'!G$28/'Blad 2 Indata'!F$28)-1)+1)*C221*E221*G221*E55*C55*Data!C6,(((1+('Blad 2 Indata'!G$15/100))*(Data!U6/Data!T6)/('Blad 2 Indata'!G$28/'Blad 2 Indata'!F$28)-1)+1)*C221*E221*G221*E55*C55*Data!C6)","v":139108240760.70276},{"$f":"IF($A$216=A221,(((1+('Blad 2 Indata'!G$15/100))*(H$216/F$216)/('Blad 2 Indata'!G$28/'Blad 2 Indata'!F$28)-1)+1)*$H$239,(((1+('Blad 2 Indata'!G$15/100))*(Data!U6/Data!T6)/('Blad 2 Indata'!G$28/'Blad 2 Indata'!F$28)-1)+1)*$H$239)","v":1.0383106089733789},{"$f":"IF($A$216=$A221,(((1+('Blad 2 Indata'!H$15/100))*(J$216/H$216)/('Blad 2 Indata'!H$28/'Blad 2 Indata'!G$28)-1)+1)*$C221*$E221*$G221*$I221*$E55*$C55*Data!$C6,(((1+('Blad 2 Indata'!H$15/100))*(Data!BP6/Data!U6)/('Blad 2 Indata'!H$28/'Blad 2 Indata'!G$28)-1)+1)*$C221*$E221*$G221*$I221*$E55*$C55*Data!$C6)","v":144434188356.3653},{"$f":"IF($A$216=$A221,(((1+('Blad 2 Indata'!H$15/100))*(J$216/H$216)/('Blad 2 Indata'!H$28/'Blad 2 Indata'!G$28)-1)+1)*$J$239,(((1+('Blad 2 Indata'!H$15/100))*(Data!BP6/Data!U6)/('Blad 2 Indata'!H$28/'Blad 2 Indata'!G$28)-1)+1)*J$239)","v":1.0382872186758938},{"$f":"IF($A$216=$A221,(((1+('Blad 2 Indata'!I$15/100))*(L$216/J$216)/('Blad 2 Indata'!I$28/'Blad 2 Indata'!H$28)-1)+1)*$C221*$E221*$G221*$I221*$K221*$E55*$C55*Data!$C6,(((1+('Blad 2 Indata'!I$15/100))*(Data!BQ6/Data!BP6)/('Blad 2 Indata'!I$28/'Blad 2 Indata'!H$28)-1)+1)*$C221*$E221*$G221*$I221*$K221*$E55*$C55*Data!$C6)","v":149811391801.77805},{"$f":"IF($A$216=$A221,(((1+('Blad 2 Indata'!I$15/100))*(L$216/J$216)/('Blad 2 Indata'!I$28/'Blad 2 Indata'!H$28)-1)+1)*L$239,(((1+('Blad 2 Indata'!I$15/100))*(Data!BQ6/Data!BP6)/('Blad 2 Indata'!I$28/'Blad 2 Indata'!H$28)-1)+1)*L$239)","v":1.0372298290219508},{"$f":"IF($A$216=$A221,(((1+('Blad 2 Indata'!J$15/100))*(N$216/L$216)/('Blad 2 Indata'!J$28/'Blad 2 Indata'!I$28)-1)+1)*$C221*$E221*$G221*$I221*$K221*$M221*$E55*$C55*Data!$C6,(((1+('Blad 2 Indata'!J$15/100))*(Data!BR6/Data!BQ6)/('Blad 2 Indata'!J$28/'Blad 2 Indata'!I$28)-1)+1)*$C221*$E221*$G221*$I221*$K221*$M221*$E55*$C55*Data!$C6)","v":154916466062.34534},{"$f":"IF($A$216=$A221,(((1+('Blad 2 Indata'!J$15/100))*(N$216/L$216)/('Blad 2 Indata'!J$28/'Blad 2 Indata'!I$28)-1)+1)*N$239,(((1+('Blad 2 Indata'!J$15/100))*(Data!BR6/Data!BQ6)/('Blad 2 Indata'!J$28/'Blad 2 Indata'!I$28)-1)+1)*N$239)","v":1.0340772715034203}]
[6,{"$f":"IF($A$216=$A222,(((1+('Blad 2 Indata'!D$15/100))*(B$216/Data!F7)/('Blad 2 Indata'!D$28/'Blad 2 Indata'!C$28)-1)+1)*E56*C56*Data!C7,(((1+('Blad 2 Indata'!D$15/100))*(Data!R7/Data!F7)/('Blad 2 Indata'!D$28/'Blad 2 Indata'!C$28)-1)+1)*E56*C56*Data!C7)","v":95889457134.473618},{"$f":"IF($A$216=$A222,(((1+('Blad 2 Indata'!D$15/100))*(B$216/Data!F7)/('Blad 2 Indata'!D$28/'Blad 2 Indata'!C$28)-1)+1)*$B$239,(((1+('Blad 2 Indata'!D$15/100))*(Data!R7/Data!F7)/('Blad 2 Indata'!D$28/'Blad 2 Indata'!C$28)-1)+1)*$B$239)","v":1.0459770898374661},{"$f":"IF($A$216=A222,(((1+('Blad 2 Indata'!E$15/100))*($D$216/$B$216)/('Blad 2 Indata'!E$28/'Blad 2 Indata'!D$28)-1)+1)*C222*E56*C56*Data!C7,(((1+('Blad 2 Indata'!E$15/100))*(Data!S7/Data!R7)/('Blad 2 Indata'!E$28/'Blad 2 Indata'!D$28)-1)+1)*C222*E56*C56*Data!C7)","v":99621672040.565613},{"$f":"IF($A$216=A222,(((1+('Blad 2 Indata'!E$15/100))*($D$216/$B$216)/('Blad 2 Indata'!E$28/'Blad 2 Indata'!D$28)-1)+1)*$D$239,(((1+('Blad 2 Indata'!E$15/100))*(Data!S7/Data!R7)/('Blad 2 Indata'!E$28/'Blad 2 Indata'!D$28)-1)+1)*$D$239)","v":1.0389226004670136},{"$f":"IF($A$216=A222,(((1+('Blad 2 Indata'!F$15/100))*($F$216/$D$216)/('Blad 2 Indata'!F$28/'Blad 2 Indata'!E$28)-1)+1)*C222*E222*E56*C56*Data!C7,(((1+('Blad 2 Indata'!F$15/100))*(Data!T7/Data!S7)/('Blad 2 Indata'!F$28/'Blad 2 Indata'!E$28)-1)+1)*C222*E222*E56*C56*Data!C7)","v":103351124996.85033},{"$f":"IF($A$216=A222,(((1+('Blad 2 Indata'!F$15/100))*(F$216/D$216)/('Blad 2 Indata'!F$28/'Blad 2 Indata'!E$28)-1)+1)*$F$239,(((1+('Blad 2 Indata'!F$15/100))*(Data!T7/Data!S7)/('Blad 2 Indata'!F$28/'Blad 2 Indata'!E$28)-1)+1)*$F$239)","v":1.0374369178652023},{"$f":"IF($A$216=A222,(((1+('Blad 2 Indata'!G$15/100))*($H$216/$F$216)/('Blad 2 Indata'!G$28/'Blad 2 Indata'!F$28)-1)+1)*C222*E222*G222*E56*C56*Data!C7,(((1+('Blad 2 Indata'!G$15/100))*(Data!U7/Data!T7)/('Blad 2 Indata'!G$28/'Blad 2 Indata'!F$28)-1)+1)*C222*E222*G222*E56*C56*Data!C7)","v":107288399405.64705},{"$f":"IF($A$216=A222,(((1+('Blad 2 Indata'!G$15/100))*(H$216/F$216)/('Blad 2 Indata'!G$28/'Blad 2 Indata'!F$28)-1)+1)*$H$239,(((1+('Blad 2 Indata'!G$15/100))*(Data!U7/Data!T7)/('Blad 2 Indata'!G$28/'Blad 2 Indata'!F$28)-1)+1)*$H$239)","v":1.0380962790093367},{"$f":"IF($A$216=$A222,(((1+('Blad 2 Indata'!H$15/100))*(J$216/H$216)/('Blad 2 Indata'!H$28/'Blad 2 Indata'!G$28)-1)+1)*$C222*$E222*$G222*$I222*$E56*$C56*Data!$C7,(((1+('Blad 2 Indata'!H$15/100))*(Data!BP7/Data!U7)/('Blad 2 Indata'!H$28/'Blad 2 Indata'!G$28)-1)+1)*$C222*$E222*$G222*$I222*$E56*$C56*Data!$C7)","v":111373249312.26909},{"$f":"IF($A$216=$A222,(((1+('Blad 2 Indata'!H$15/100))*(J$216/H$216)/('Blad 2 Indata'!H$28/'Blad 2 Indata'!G$28)-1)+1)*$J$239,(((1+('Blad 2 Indata'!H$15/100))*(Data!BP7/Data!U7)/('Blad 2 Indata'!H$28/'Blad 2 Indata'!G$28)-1)+1)*J$239)","v":1.0380744096338692},{"$f":"IF($A$216=$A222,(((1+('Blad 2 Indata'!I$15/100))*(L$216/J$216)/('Blad 2 Indata'!I$28/'Blad 2 Indata'!H$28)-1)+1)*$C222*$E222*$G222*$I222*$K222*$E56*$C56*Data!$C7,(((1+('Blad 2 Indata'!I$15/100))*(Data!BQ7/Data!BP7)/('Blad 2 Indata'!I$28/'Blad 2 Indata'!H$28)-1)+1)*$C222*$E222*$G222*$I222*$K222*$E56*$C56*Data!$C7)","v":115495974346.09763},{"$f":"IF($A$216=$A222,(((1+('Blad 2 Indata'!I$15/100))*(L$216/J$216)/('Blad 2 Indata'!I$28/'Blad 2 Indata'!H$28)-1)+1)*L$239,(((1+('Blad 2 Indata'!I$15/100))*(Data!BQ7/Data!BP7)/('Blad 2 Indata'!I$28/'Blad 2 Indata'!H$28)-1)+1)*L$239)","v":1.0370175851524099},{"$f":"IF($A$216=$A222,(((1+('Blad 2 Indata'!J$15/100))*(N$216/L$216)/('Blad 2 Indata'!J$28/'Blad 2 Indata'!I$28)-1)+1)*$C222*$E222*$G222*$I222*$K222*$M222*$E56*$C56*Data!$C7,(((1+('Blad 2 Indata'!J$15/100))*(Data!BR7/Data!BQ7)/('Blad 2 Indata'!J$28/'Blad 2 Indata'!I$28)-1)+1)*$C222*$E222*$G222*$I222*$K222*$M222*$E56*$C56*Data!$C7)","v":119407216445.49916},{"$f":"IF($A$216=$A222,(((1+('Blad 2 Indata'!J$15/100))*(N$216/L$216)/('Blad 2 Indata'!J$28/'Blad 2 Indata'!I$28)-1)+1)*N$239,(((1+('Blad 2 Indata'!J$15/100))*(Data!BR7/Data!BQ7)/('Blad 2 Indata'!J$28/'Blad 2 Indata'!I$28)-1)+1)*N$239)","v":1.0338653436615868}]
[7,{"$f":"IF($A$216=$A223,(((1+('Blad 2 Indata'!D$15/100))*(B$216/Data!F8)/('Blad 2 Indata'!D$28/'Blad 2 Indata'!C$28)-1)+1)*E57*C57*Data!C8,(((1+('Blad 2 Indata'!D$15/100))*(Data!R8/Data!F8)/('Blad 2 Indata'!D$28/'Blad 2 Indata'!C$28)-1)+1)*E57*C57*Data!C8)","v":51429429715.567673},{"$f":"IF($A$216=$A223,(((1+('Blad 2 Indata'!D$15/100))*(B$216/Data!F8)/('Blad 2 Indata'!D$28/'Blad 2 Indata'!C$28)-1)+1)*$B$239,(((1+('Blad 2 Indata'!D$15/100))*(Data!R8/Data!F8)/('Blad 2 Indata'!D$28/'Blad 2 Indata'!C$28)-1)+1)*$B$239)","v":1.0446412669968022},{"$f":"IF($A$216=A223,(((1+('Blad 2 Indata'!E$15/100))*($D$216/$B$216)/('Blad 2 Indata'!E$28/'Blad 2 Indata'!D$28)-1)+1)*C223*E57*C57*Data!C8,(((1+('Blad 2 Indata'!E$15/100))*(Data!S8/Data!R8)/('Blad 2 Indata'!E$28/'Blad 2 Indata'!D$28)-1)+1)*C223*E57*C57*Data!C8)","v":53362860387.765312},{"$f":"IF($A$216=A223,(((1+('Blad 2 Indata'!E$15/100))*($D$216/$B$216)/('Blad 2 Indata'!E$28/'Blad 2 Indata'!D$28)-1)+1)*$D$239,(((1+('Blad 2 Indata'!E$15/100))*(Data!S8/Data!R8)/('Blad 2 Indata'!E$28/'Blad 2 Indata'!D$28)-1)+1)*$D$239)","v":1.037594400770486},{"$f":"IF($A$216=A223,(((1+('Blad 2 Indata'!F$15/100))*($F$216/$D$216)/('Blad 2 Indata'!F$28/'Blad 2 Indata'!E$28)-1)+1)*C223*E223*E57*C57*Data!C8,(((1+('Blad 2 Indata'!F$15/100))*(Data!T8/Data!S8)/('Blad 2 Indata'!F$28/'Blad 2 Indata'!E$28)-1)+1)*C223*E223*E57*C57*Data!C8)","v":55289678444.069016},{"$f":"IF($A$216=A223,(((1+('Blad 2 Indata'!F$15/100))*(F$216/D$216)/('Blad 2 Indata'!F$28/'Blad 2 Indata'!E$28)-1)+1)*$F$239,(((1+('Blad 2 Indata'!F$15/100))*(Data!T8/Data!S8)/('Blad 2 Indata'!F$28/'Blad 2 Indata'!E$28)-1)+1)*$F$239)","v":1.0361086039549832},{"$f":"IF($A$216=A223,(((1+('Blad 2 Indata'!G$15/100))*($H$216/$F$216)/('Blad 2 Indata'!G$28/'Blad 2 Indata'!F$28)-1)+1)*C223*E223*G223*E57*C57*Data!C8,(((1+('Blad 2 Indata'!G$15/100))*(Data!U8/Data!T8)/('Blad 2 Indata'!G$28/'Blad 2 Indata'!F$28)-1)+1)*C223*E223*G223*E57*C57*Data!C8)","v":57322512107.132896},{"$f":"IF($A$216=A223,(((1+('Blad 2 Indata'!G$15/100))*(H$216/F$216)/('Blad 2 Indata'!G$28/'Blad 2 Indata'!F$28)-1)+1)*$H$239,(((1+('Blad 2 Indata'!G$15/100))*(Data!U8/Data!T8)/('Blad 2 Indata'!G$28/'Blad 2 Indata'!F$28)-1)+1)*$H$239)","v":1.0367671473272644},{"$f":"IF($A$216=$A223,(((1+('Blad 2 Indata'!H$15/100))*(J$216/H$216)/('Blad 2 Indata'!H$28/'Blad 2 Indata'!G$28)-1)+1)*$C223*$E223*$G223*$I223*$E57*$C57*Data!$C8,(((1+('Blad 2 Indata'!H$15/100))*(Data!BP8/Data!U8)/('Blad 2 Indata'!H$28/'Blad 2 Indata'!G$28)-1)+1)*$C223*$E223*$G223*$I223*$E57*$C57*Data!$C8)","v":59428846218.382195},{"$f":"IF($A$216=$A223,(((1+('Blad 2 Indata'!H$15/100))*(J$216/H$216)/('Blad 2 Indata'!H$28/'Blad 2 Indata'!G$28)-1)+1)*$J$239,(((1+('Blad 2 Indata'!H$15/100))*(Data!BP8/Data!U8)/('Blad 2 Indata'!H$28/'Blad 2 Indata'!G$28)-1)+1)*J$239)","v":1.0367461826881346},{"$f":"IF($A$216=$A223,(((1+('Blad 2 Indata'!I$15/100))*(L$216/J$216)/('Blad 2 Indata'!I$28/'Blad 2 Indata'!H$28)-1)+1)*$C223*$E223*$G223*$I223*$K223*$E57*$C57*Data!$C8,(((1+('Blad 2 Indata'!I$15/100))*(Data!BQ8/Data!BP8)/('Blad 2 Indata'!I$28/'Blad 2 Indata'!H$28)-1)+1)*$C223*$E223*$G223*$I223*$K223*$E57*$C57*Data!$C8)","v":61549913440.565666},{"$f":"IF($A$216=$A223,(((1+('Blad 2 Indata'!I$15/100))*(L$216/J$216)/('Blad 2 Indata'!I$28/'Blad 2 Indata'!H$28)-1)+1)*L$239,(((1+('Blad 2 Indata'!I$15/100))*(Data!BQ8/Data!BP8)/('Blad 2 Indata'!I$28/'Blad 2 Indata'!H$28)-1)+1)*L$239)","v":1.0356912618876786},{"$f":"IF($A$216=$A223,(((1+('Blad 2 Indata'!J$15/100))*(N$216/L$216)/('Blad 2 Indata'!J$28/'Blad 2 Indata'!I$28)-1)+1)*$C223*$E223*$G223*$I223*$K223*$M223*$E57*$C57*Data!$C8,(((1+('Blad 2 Indata'!J$15/100))*(Data!BR8/Data!BQ8)/('Blad 2 Indata'!J$28/'Blad 2 Indata'!I$28)-1)+1)*$C223*$E223*$G223*$I223*$K223*$M223*$E57*$C57*Data!$C8)","v":63552838484.294418},{"$f":"IF($A$216=$A223,(((1+('Blad 2 Indata'!J$15/100))*(N$216/L$216)/('Blad 2 Indata'!J$28/'Blad 2 Indata'!I$28)-1)+1)*N$239,(((1+('Blad 2 Indata'!J$15/100))*(Data!BR8/Data!BQ8)/('Blad 2 Indata'!J$28/'Blad 2 Indata'!I$28)-1)+1)*N$239)","v":1.0325420708188162}]
[8,{"$f":"IF($A$216=$A224,(((1+('Blad 2 Indata'!D$15/100))*(B$216/Data!F9)/('Blad 2 Indata'!D$28/'Blad 2 Indata'!C$28)-1)+1)*E58*C58*Data!C9,(((1+('Blad 2 Indata'!D$15/100))*(Data!R9/Data!F9)/('Blad 2 Indata'!D$28/'Blad 2 Indata'!C$28)-1)+1)*E58*C58*Data!C9)","v":61167676449.997925},{"$f":"IF($A$216=$A224,(((1+('Blad 2 Indata'!D$15/100))*(B$216/Data!F9)/('Blad 2 Indata'!D$28/'Blad 2 Indata'!C$28)-1)+1)*$B$239,(((1+('Blad 2 Indata'!D$15/100))*(Data!R9/Data!F9)/('Blad 2 Indata'!D$28/'Blad 2 Indata'!C$28)-1)+1)*$B$239)","v":1.0427854204148004},{"$f":"IF($A$216=A224,(((1+('Blad 2 Indata'!E$15/100))*($D$216/$B$216)/('Blad 2 Indata'!E$28/'Blad 2 Indata'!D$28)-1)+1)*C224*E58*C58*Data!C9,(((1+('Blad 2 Indata'!E$15/100))*(Data!S9/Data!R9)/('Blad 2 Indata'!E$28/'Blad 2 Indata'!D$28)-1)+1)*C224*E58*C58*Data!C9)","v":63354515294.630722},{"$f":"IF($A$216=A224,(((1+('Blad 2 Indata'!E$15/100))*($D$216/$B$216)/('Blad 2 Indata'!E$28/'Blad 2 Indata'!D$28)-1)+1)*$D$239,(((1+('Blad 2 Indata'!E$15/100))*(Data!S9/Data!R9)/('Blad 2 Indata'!E$28/'Blad 2 Indata'!D$28)-1)+1)*$D$239)","v":1.0357520854020157},{"$f":"IF($A$216=A224,(((1+('Blad 2 Indata'!F$15/100))*($F$216/$D$216)/('Blad 2 Indata'!F$28/'Blad 2 Indata'!E$28)-1)+1)*C224*E224*E58*C58*Data!C9,(((1+('Blad 2 Indata'!F$15/100))*(Data!T9/Data!S9)/('Blad 2 Indata'!F$28/'Blad 2 Indata'!E$28)-1)+1)*C224*E224*E58*C58*Data!C9)","v":65525573953.326424},{"$f":"IF($A$216=A224,(((1+('Blad 2 Indata'!F$15/100))*(F$216/D$216)/('Blad 2 Indata'!F$28/'Blad 2 Indata'!E$28)-1)+1)*$F$239,(((1+('Blad 2 Indata'!F$15/100))*(Data!T9/Data!S9)/('Blad 2 Indata'!F$28/'Blad 2 Indata'!E$28)-1)+1)*$F$239)","v":1.0342691669458726},{"$f":"IF($A$216=A224,(((1+('Blad 2 Indata'!G$15/100))*($H$216/$F$216)/('Blad 2 Indata'!G$28/'Blad 2 Indata'!F$28)-1)+1)*C224*E224*G224*E58*C58*Data!C9,(((1+('Blad 2 Indata'!G$15/100))*(Data!U9/Data!T9)/('Blad 2 Indata'!G$28/'Blad 2 Indata'!F$28)-1)+1)*C224*E224*G224*E58*C58*Data!C9)","v":67814080303.987885},{"$f":"IF($A$216=A224,(((1+('Blad 2 Indata'!G$15/100))*(H$216/F$216)/('Blad 2 Indata'!G$28/'Blad 2 Indata'!F$28)-1)+1)*$H$239,(((1+('Blad 2 Indata'!G$15/100))*(Data!U9/Data!T9)/('Blad 2 Indata'!G$28/'Blad 2 Indata'!F$28)-1)+1)*$H$239)","v":1.0349255740818732},{"$f":"IF($A$216=$A224,(((1+('Blad 2 Indata'!H$15/100))*(J$216/H$216)/('Blad 2 Indata'!H$28/'Blad 2 Indata'!G$28)-1)+1)*$C224*$E224*$G224*$I224*$E58*$C58*Data!$C9,(((1+('Blad 2 Indata'!H$15/100))*(Data!BP9/Data!U9)/('Blad 2 Indata'!H$28/'Blad 2 Indata'!G$28)-1)+1)*$C224*$E224*$G224*$I224*$E58*$C58*Data!$C9)","v":70181010317.747894},{"$f":"IF($A$216=$A224,(((1+('Blad 2 Indata'!H$15/100))*(J$216/H$216)/('Blad 2 Indata'!H$28/'Blad 2 Indata'!G$28)-1)+1)*$J$239,(((1+('Blad 2 Indata'!H$15/100))*(Data!BP9/Data!U9)/('Blad 2 Indata'!H$28/'Blad 2 Indata'!G$28)-1)+1)*J$239)","v":1.0349040837825887},{"$f":"IF($A$216=$A224,(((1+('Blad 2 Indata'!I$15/100))*(L$216/J$216)/('Blad 2 Indata'!I$28/'Blad 2 Indata'!H$28)-1)+1)*$C224*$E224*$G224*$I224*$K224*$E58*$C58*Data!$C9,(((1+('Blad 2 Indata'!I$15/100))*(Data!BQ9/Data!BP9)/('Blad 2 Indata'!I$28/'Blad 2 Indata'!H$28)-1)+1)*$C224*$E224*$G224*$I224*$K224*$E58*$C58*Data!$C9)","v":72556640344.295425},{"$f":"IF($A$216=$A224,(((1+('Blad 2 Indata'!I$15/100))*(L$216/J$216)/('Blad 2 Indata'!I$28/'Blad 2 Indata'!H$28)-1)+1)*L$239,(((1+('Blad 2 Indata'!I$15/100))*(Data!BQ9/Data!BP9)/('Blad 2 Indata'!I$28/'Blad 2 Indata'!H$28)-1)+1)*L$239)","v":1.0338504315179478},{"$f":"IF($A$216=$A224,(((1+('Blad 2 Indata'!J$15/100))*(N$216/L$216)/('Blad 2 Indata'!J$28/'Blad 2 Indata'!I$28)-1)+1)*$C224*$E224*$G224*$I224*$K224*$M224*$E58*$C58*Data!$C9,(((1+('Blad 2 Indata'!J$15/100))*(Data!BR9/Data!BQ9)/('Blad 2 Indata'!J$28/'Blad 2 Indata'!I$28)-1)+1)*$C224*$E224*$G224*$I224*$K224*$M224*$E58*$C58*Data!$C9)","v":74784653851.476578},{"$f":"IF($A$216=$A224,(((1+('Blad 2 Indata'!J$15/100))*(N$216/L$216)/('Blad 2 Indata'!J$28/'Blad 2 Indata'!I$28)-1)+1)*N$239,(((1+('Blad 2 Indata'!J$15/100))*(Data!BR9/Data!BQ9)/('Blad 2 Indata'!J$28/'Blad 2 Indata'!I$28)-1)+1)*N$239)","v":1.0307078244396493}]
[9,{"$f":"IF($A$216=$A225,(((1+('Blad 2 Indata'!D$15/100))*(B$216/Data!F10)/('Blad 2 Indata'!D$28/'Blad 2 Indata'!C$28)-1)+1)*E59*C59*Data!C10,(((1+('Blad 2 Indata'!D$15/100))*(Data!R10/Data!F10)/('Blad 2 Indata'!D$28/'Blad 2 Indata'!C$28)-1)+1)*E59*C59*Data!C10)","v":14792059991.221779},{"$f":"IF($A$216=$A225,(((1+('Blad 2 Indata'!D$15/100))*(B$216/Data!F10)/('Blad 2 Indata'!D$28/'Blad 2 Indata'!C$28)-1)+1)*$B$239,(((1+('Blad 2 Indata'!D$15/100))*(Data!R10/Data!F10)/('Blad 2 Indata'!D$28/'Blad 2 Indata'!C$28)-1)+1)*$B$239)","v":1.0436652371530546},{"$f":"IF($A$216=A225,(((1+('Blad 2 Indata'!E$15/100))*($D$216/$B$216)/('Blad 2 Indata'!E$28/'Blad 2 Indata'!D$28)-1)+1)*C225*E59*C59*Data!C10,(((1+('Blad 2 Indata'!E$15/100))*(Data!S10/Data!R10)/('Blad 2 Indata'!E$28/'Blad 2 Indata'!D$28)-1)+1)*C225*E59*C59*Data!C10)","v":15333833174.796759},{"$f":"IF($A$216=A225,(((1+('Blad 2 Indata'!E$15/100))*($D$216/$B$216)/('Blad 2 Indata'!E$28/'Blad 2 Indata'!D$28)-1)+1)*$D$239,(((1+('Blad 2 Indata'!E$15/100))*(Data!S10/Data!R10)/('Blad 2 Indata'!E$28/'Blad 2 Indata'!D$28)-1)+1)*$D$239)","v":1.0366264879060445},{"$f":"IF($A$216=A225,(((1+('Blad 2 Indata'!F$15/100))*($F$216/$D$216)/('Blad 2 Indata'!F$28/'Blad 2 Indata'!E$28)-1)+1)*C225*E225*E59*C59*Data!C10,(((1+('Blad 2 Indata'!F$15/100))*(Data!T10/Data!S10)/('Blad 2 Indata'!F$28/'Blad 2 Indata'!E$28)-1)+1)*C225*E225*E59*C59*Data!C10)","v":15872772128.523125},{"$f":"IF($A$216=A225,(((1+('Blad 2 Indata'!F$15/100))*(F$216/D$216)/('Blad 2 Indata'!F$28/'Blad 2 Indata'!E$28)-1)+1)*$F$239,(((1+('Blad 2 Indata'!F$15/100))*(Data!T10/Data!S10)/('Blad 2 Indata'!F$28/'Blad 2 Indata'!E$28)-1)+1)*$F$239)","v":1.0351478020666498},{"$f":"IF($A$216=A225,(((1+('Blad 2 Indata'!G$15/100))*($H$216/$F$216)/('Blad 2 Indata'!G$28/'Blad 2 Indata'!F$28)-1)+1)*C225*E225*G225*E59*C59*Data!C10,(((1+('Blad 2 Indata'!G$15/100))*(Data!U10/Data!T10)/('Blad 2 Indata'!G$28/'Blad 2 Indata'!F$28)-1)+1)*C225*E225*G225*E59*C59*Data!C10)","v":16441028070.647707},{"$f":"IF($A$216=A225,(((1+('Blad 2 Indata'!G$15/100))*(H$216/F$216)/('Blad 2 Indata'!G$28/'Blad 2 Indata'!F$28)-1)+1)*$H$239,(((1+('Blad 2 Indata'!G$15/100))*(Data!U10/Data!T10)/('Blad 2 Indata'!G$28/'Blad 2 Indata'!F$28)-1)+1)*$H$239)","v":1.0358008564282066},{"$f":"IF($A$216=$A225,(((1+('Blad 2 Indata'!H$15/100))*(J$216/H$216)/('Blad 2 Indata'!H$28/'Blad 2 Indata'!G$28)-1)+1)*$C225*$E225*$G225*$I225*$E59*$C59*Data!$C10,(((1+('Blad 2 Indata'!H$15/100))*(Data!BP10/Data!U10)/('Blad 2 Indata'!H$28/'Blad 2 Indata'!G$28)-1)+1)*$C225*$E225*$G225*$I225*$E59*$C59*Data!$C10)","v":17029281016.949093},{"$f":"IF($A$216=$A225,(((1+('Blad 2 Indata'!H$15/100))*(J$216/H$216)/('Blad 2 Indata'!H$28/'Blad 2 Indata'!G$28)-1)+1)*$J$239,(((1+('Blad 2 Indata'!H$15/100))*(Data!BP10/Data!U10)/('Blad 2 Indata'!H$28/'Blad 2 Indata'!G$28)-1)+1)*J$239)","v":1.0357804327476743},{"$f":"IF($A$216=$A225,(((1+('Blad 2 Indata'!I$15/100))*(L$216/J$216)/('Blad 2 Indata'!I$28/'Blad 2 Indata'!H$28)-1)+1)*$C225*$E225*$G225*$I225*$K225*$E59*$C59*Data!$C10,(((1+('Blad 2 Indata'!I$15/100))*(Data!BQ10/Data!BP10)/('Blad 2 Indata'!I$28/'Blad 2 Indata'!H$28)-1)+1)*$C225*$E225*$G225*$I225*$K225*$E59*$C59*Data!$C10)","v":17620503189.888527},{"$f":"IF($A$216=$A225,(((1+('Blad 2 Indata'!I$15/100))*(L$216/J$216)/('Blad 2 Indata'!I$28/'Blad 2 Indata'!H$28)-1)+1)*L$239,(((1+('Blad 2 Indata'!I$15/100))*(Data!BQ10/Data!BP10)/('Blad 2 Indata'!I$28/'Blad 2 Indata'!H$28)-1)+1)*L$239)","v":1.0347183677542189},{"$f":"IF($A$216=$A225,(((1+('Blad 2 Indata'!J$15/100))*(N$216/L$216)/('Blad 2 Indata'!J$28/'Blad 2 Indata'!I$28)-1)+1)*$C225*$E225*$G225*$I225*$K225*$M225*$E59*$C59*Data!$C10,(((1+('Blad 2 Indata'!J$15/100))*(Data!BR10/Data!BQ10)/('Blad 2 Indata'!J$28/'Blad 2 Indata'!I$28)-1)+1)*$C225*$E225*$G225*$I225*$K225*$M225*$E59*$C59*Data!$C10)","v":18176994696.197216},{"$f":"IF($A$216=$A225,(((1+('Blad 2 Indata'!J$15/100))*(N$216/L$216)/('Blad 2 Indata'!J$28/'Blad 2 Indata'!I$28)-1)+1)*N$239,(((1+('Blad 2 Indata'!J$15/100))*(Data!BR10/Data!BQ10)/('Blad 2 Indata'!J$28/'Blad 2 Indata'!I$28)-1)+1)*N$239)","v":1.0315826380181621}]
[10,{"$f":"IF($A$216=$A226,(((1+('Blad 2 Indata'!D$15/100))*(B$216/Data!F11)/('Blad 2 Indata'!D$28/'Blad 2 Indata'!C$28)-1)+1)*E60*C60*Data!C11,(((1+('Blad 2 Indata'!D$15/100))*(Data!R11/Data!F11)/('Blad 2 Indata'!D$28/'Blad 2 Indata'!C$28)-1)+1)*E60*C60*Data!C11)","v":39786194533.816368},{"$f":"IF($A$216=$A226,(((1+('Blad 2 Indata'!D$15/100))*(B$216/Data!F11)/('Blad 2 Indata'!D$28/'Blad 2 Indata'!C$28)-1)+1)*$B$239,(((1+('Blad 2 Indata'!D$15/100))*(Data!R11/Data!F11)/('Blad 2 Indata'!D$28/'Blad 2 Indata'!C$28)-1)+1)*$B$239)","v":1.0400866325835423},{"$f":"IF($A$216=A226,(((1+('Blad 2 Indata'!E$15/100))*($D$216/$B$216)/('Blad 2 Indata'!E$28/'Blad 2 Indata'!D$28)-1)+1)*C226*E60*C60*Data!C11,(((1+('Blad 2 Indata'!E$15/100))*(Data!S11/Data!R11)/('Blad 2 Indata'!E$28/'Blad 2 Indata'!D$28)-1)+1)*C226*E60*C60*Data!C11)","v":41102095167.352692},{"$f":"IF($A$216=A226,(((1+('Blad 2 Indata'!E$15/100))*($D$216/$B$216)/('Blad 2 Indata'!E$28/'Blad 2 Indata'!D$28)-1)+1)*$D$239,(((1+('Blad 2 Indata'!E$15/100))*(Data!S11/Data!R11)/('Blad 2 Indata'!E$28/'Blad 2 Indata'!D$28)-1)+1)*$D$239)","v":1.0330748430187899},{"$f":"IF($A$216=A226,(((1+('Blad 2 Indata'!F$15/100))*($F$216/$D$216)/('Blad 2 Indata'!F$28/'Blad 2 Indata'!E$28)-1)+1)*C226*E226*E60*C60*Data!C11,(((1+('Blad 2 Indata'!F$15/100))*(Data!T11/Data!S11)/('Blad 2 Indata'!F$28/'Blad 2 Indata'!E$28)-1)+1)*C226*E226*E60*C60*Data!C11)","v":42400929377.701736},{"$f":"IF($A$216=A226,(((1+('Blad 2 Indata'!F$15/100))*(F$216/D$216)/('Blad 2 Indata'!F$28/'Blad 2 Indata'!E$28)-1)+1)*$F$239,(((1+('Blad 2 Indata'!F$15/100))*(Data!T11/Data!S11)/('Blad 2 Indata'!F$28/'Blad 2 Indata'!E$28)-1)+1)*$F$239)","v":1.0316009472924992},{"$f":"IF($A$216=A226,(((1+('Blad 2 Indata'!G$15/100))*($H$216/$F$216)/('Blad 2 Indata'!G$28/'Blad 2 Indata'!F$28)-1)+1)*C226*E226*G226*E60*C60*Data!C11,(((1+('Blad 2 Indata'!G$15/100))*(Data!U11/Data!T11)/('Blad 2 Indata'!G$28/'Blad 2 Indata'!F$28)-1)+1)*C226*E226*G226*E60*C60*Data!C11)","v":43768496651.90078},{"$f":"IF($A$216=A226,(((1+('Blad 2 Indata'!G$15/100))*(H$216/F$216)/('Blad 2 Indata'!G$28/'Blad 2 Indata'!F$28)-1)+1)*$H$239,(((1+('Blad 2 Indata'!G$15/100))*(Data!U11/Data!T11)/('Blad 2 Indata'!G$28/'Blad 2 Indata'!F$28)-1)+1)*$H$239)","v":1.032253419876525},{"$f":"IF($A$216=$A226,(((1+('Blad 2 Indata'!H$15/100))*(J$216/H$216)/('Blad 2 Indata'!H$28/'Blad 2 Indata'!G$28)-1)+1)*$C226*$E226*$G226*$I226*$E60*$C60*Data!$C11,(((1+('Blad 2 Indata'!H$15/100))*(Data!BP11/Data!U11)/('Blad 2 Indata'!H$28/'Blad 2 Indata'!G$28)-1)+1)*$C226*$E226*$G226*$I226*$E60*$C60*Data!$C11)","v":45179237364.91433},{"$f":"IF($A$216=$A226,(((1+('Blad 2 Indata'!H$15/100))*(J$216/H$216)/('Blad 2 Indata'!H$28/'Blad 2 Indata'!G$28)-1)+1)*$J$239,(((1+('Blad 2 Indata'!H$15/100))*(Data!BP11/Data!U11)/('Blad 2 Indata'!H$28/'Blad 2 Indata'!G$28)-1)+1)*J$239)","v":1.0322327328784804},{"$f":"IF($A$216=$A226,(((1+('Blad 2 Indata'!I$15/100))*(L$216/J$216)/('Blad 2 Indata'!I$28/'Blad 2 Indata'!H$28)-1)+1)*$C226*$E226*$G226*$I226*$K226*$E60*$C60*Data!$C11,(((1+('Blad 2 Indata'!I$15/100))*(Data!BQ11/Data!BP11)/('Blad 2 Indata'!I$28/'Blad 2 Indata'!H$28)-1)+1)*$C226*$E226*$G226*$I226*$K226*$E60*$C60*Data!$C11)","v":46587960582.763382},{"$f":"IF($A$216=$A226,(((1+('Blad 2 Indata'!I$15/100))*(L$216/J$216)/('Blad 2 Indata'!I$28/'Blad 2 Indata'!H$28)-1)+1)*L$239,(((1+('Blad 2 Indata'!I$15/100))*(Data!BQ11/Data!BP11)/('Blad 2 Indata'!I$28/'Blad 2 Indata'!H$28)-1)+1)*L$239)","v":1.031181155990053},{"$f":"IF($A$216=$A226,(((1+('Blad 2 Indata'!J$15/100))*(N$216/L$216)/('Blad 2 Indata'!J$28/'Blad 2 Indata'!I$28)-1)+1)*$C226*$E226*$G226*$I226*$K226*$M226*$E60*$C60*Data!$C11,(((1+('Blad 2 Indata'!J$15/100))*(Data!BR11/Data!BQ11)/('Blad 2 Indata'!J$28/'Blad 2 Indata'!I$28)-1)+1)*$C226*$E226*$G226*$I226*$K226*$M226*$E60*$C60*Data!$C11)","v":47894372574.670296},{"$f":"IF($A$216=$A226,(((1+('Blad 2 Indata'!J$15/100))*(N$216/L$216)/('Blad 2 Indata'!J$28/'Blad 2 Indata'!I$28)-1)+1)*N$239,(((1+('Blad 2 Indata'!J$15/100))*(Data!BR11/Data!BQ11)/('Blad 2 Indata'!J$28/'Blad 2 Indata'!I$28)-1)+1)*N$239)","v":1.0280424289157022}]
[12,{"$f":"IF($A$216=$A227,(((1+('Blad 2 Indata'!D$15/100))*(B$216/Data!F12)/('Blad 2 Indata'!D$28/'Blad 2 Indata'!C$28)-1)+1)*E61*C61*Data!C12,(((1+('Blad 2 Indata'!D$15/100))*(Data!R12/Data!F12)/('Blad 2 Indata'!D$28/'Blad 2 Indata'!C$28)-1)+1)*E61*C61*Data!C12)","v":374636934391.7738},{"$f":"IF($A$216=$A227,(((1+('Blad 2 Indata'!D$15/100))*(B$216/Data!F12)/('Blad 2 Indata'!D$28/'Blad 2 Indata'!C$28)-1)+1)*$B$239,(((1+('Blad 2 Indata'!D$15/100))*(Data!R12/Data!F12)/('Blad 2 Indata'!D$28/'Blad 2 Indata'!C$28)-1)+1)*$B$239)","v":1.0505289233433883},{"$f":"IF($A$216=A227,(((1+('Blad 2 Indata'!E$15/100))*($D$216/$B$216)/('Blad 2 Indata'!E$28/'Blad 2 Indata'!D$28)-1)+1)*C227*E61*C61*Data!C12,(((1+('Blad 2 Indata'!E$15/100))*(Data!S12/Data!R12)/('Blad 2 Indata'!E$28/'Blad 2 Indata'!D$28)-1)+1)*C227*E61*C61*Data!C12)","v":390912360992.22449},{"$f":"IF($A$216=A227,(((1+('Blad 2 Indata'!E$15/100))*($D$216/$B$216)/('Blad 2 Indata'!E$28/'Blad 2 Indata'!D$28)-1)+1)*$D$239,(((1+('Blad 2 Indata'!E$15/100))*(Data!S12/Data!R12)/('Blad 2 Indata'!E$28/'Blad 2 Indata'!D$28)-1)+1)*$D$239)","v":1.0434437441565287},{"$f":"IF($A$216=A227,(((1+('Blad 2 Indata'!F$15/100))*($F$216/$D$216)/('Blad 2 Indata'!F$28/'Blad 2 Indata'!E$28)-1)+1)*C227*E227*E61*C61*Data!C12,(((1+('Blad 2 Indata'!F$15/100))*(Data!T12/Data!S12)/('Blad 2 Indata'!F$28/'Blad 2 Indata'!E$28)-1)+1)*C227*E227*E61*C61*Data!C12)","v":407311412272.01404},{"$f":"IF($A$216=A227,(((1+('Blad 2 Indata'!F$15/100))*(F$216/D$216)/('Blad 2 Indata'!F$28/'Blad 2 Indata'!E$28)-1)+1)*$F$239,(((1+('Blad 2 Indata'!F$15/100))*(Data!T12/Data!S12)/('Blad 2 Indata'!F$28/'Blad 2 Indata'!E$28)-1)+1)*$F$239)","v":1.0419514706136623},{"$f":"IF($A$216=A227,(((1+('Blad 2 Indata'!G$15/100))*($H$216/$F$216)/('Blad 2 Indata'!G$28/'Blad 2 Indata'!F$28)-1)+1)*C227*E227*G227*E61*C61*Data!C12,(((1+('Blad 2 Indata'!G$15/100))*(Data!U12/Data!T12)/('Blad 2 Indata'!G$28/'Blad 2 Indata'!F$28)-1)+1)*C227*E227*G227*E61*C61*Data!C12)","v":424668769412.47534},{"$f":"IF($A$216=A227,(((1+('Blad 2 Indata'!G$15/100))*(H$216/F$216)/('Blad 2 Indata'!G$28/'Blad 2 Indata'!F$28)-1)+1)*$H$239,(((1+('Blad 2 Indata'!G$15/100))*(Data!U12/Data!T12)/('Blad 2 Indata'!G$28/'Blad 2 Indata'!F$28)-1)+1)*$H$239)","v":1.0426146466023736},{"$f":"IF($A$216=$A227,(((1+('Blad 2 Indata'!H$15/100))*(J$216/H$216)/('Blad 2 Indata'!H$28/'Blad 2 Indata'!G$28)-1)+1)*$C227*$E227*$G227*$I227*$E61*$C61*Data!$C12,(((1+('Blad 2 Indata'!H$15/100))*(Data!BP12/Data!U12)/('Blad 2 Indata'!H$28/'Blad 2 Indata'!G$28)-1)+1)*$C227*$E227*$G227*$I227*$E61*$C61*Data!$C12)","v":442755543103.1283},{"$f":"IF($A$216=$A227,(((1+('Blad 2 Indata'!H$15/100))*(J$216/H$216)/('Blad 2 Indata'!H$28/'Blad 2 Indata'!G$28)-1)+1)*$J$239,(((1+('Blad 2 Indata'!H$15/100))*(Data!BP12/Data!U12)/('Blad 2 Indata'!H$28/'Blad 2 Indata'!G$28)-1)+1)*J$239)","v":1.0425911744954681},{"$f":"IF($A$216=$A227,(((1+('Blad 2 Indata'!I$15/100))*(L$216/J$216)/('Blad 2 Indata'!I$28/'Blad 2 Indata'!H$28)-1)+1)*$C227*$E227*$G227*$I227*$K227*$E61*$C61*Data!$C12,(((1+('Blad 2 Indata'!I$15/100))*(Data!BQ12/Data!BP12)/('Blad 2 Indata'!I$28/'Blad 2 Indata'!H$28)-1)+1)*$C227*$E227*$G227*$I227*$K227*$E61*$C61*Data!$C12)","v":461143253260.20721},{"$f":"IF($A$216=$A227,(((1+('Blad 2 Indata'!I$15/100))*(L$216/J$216)/('Blad 2 Indata'!I$28/'Blad 2 Indata'!H$28)-1)+1)*L$239,(((1+('Blad 2 Indata'!I$15/100))*(Data!BQ12/Data!BP12)/('Blad 2 Indata'!I$28/'Blad 2 Indata'!H$28)-1)+1)*L$239)","v":1.0415305577774163},{"$f":"IF($A$216=$A227,(((1+('Blad 2 Indata'!J$15/100))*(N$216/L$216)/('Blad 2 Indata'!J$28/'Blad 2 Indata'!I$28)-1)+1)*$C227*$E227*$G227*$I227*$K227*$M227*$E61*$C61*Data!$C12,(((1+('Blad 2 Indata'!J$15/100))*(Data!BR12/Data!BQ12)/('Blad 2 Indata'!J$28/'Blad 2 Indata'!I$28)-1)+1)*$C227*$E227*$G227*$I227*$K227*$M227*$E61*$C61*Data!$C12)","v":478834048280.32458},{"$f":"IF($A$216=$A227,(((1+('Blad 2 Indata'!J$15/100))*(N$216/L$216)/('Blad 2 Indata'!J$28/'Blad 2 Indata'!I$28)-1)+1)*N$239,(((1+('Blad 2 Indata'!J$15/100))*(Data!BR12/Data!BQ12)/('Blad 2 Indata'!J$28/'Blad 2 Indata'!I$28)-1)+1)*N$239)","v":1.0383635034070471}]
[13,{"$f":"IF($A$216=$A228,(((1+('Blad 2 Indata'!D$15/100))*(B$216/Data!F13)/('Blad 2 Indata'!D$28/'Blad 2 Indata'!C$28)-1)+1)*E62*C62*Data!C13,(((1+('Blad 2 Indata'!D$15/100))*(Data!R13/Data!F13)/('Blad 2 Indata'!D$28/'Blad 2 Indata'!C$28)-1)+1)*E62*C62*Data!C13)","v":96146551509.316971},{"$f":"IF($A$216=$A228,(((1+('Blad 2 Indata'!D$15/100))*(B$216/Data!F13)/('Blad 2 Indata'!D$28/'Blad 2 Indata'!C$28)-1)+1)*$B$239,(((1+('Blad 2 Indata'!D$15/100))*(Data!R13/Data!F13)/('Blad 2 Indata'!D$28/'Blad 2 Indata'!C$28)-1)+1)*$B$239)","v":1.0488749727739923},{"$f":"IF($A$216=A228,(((1+('Blad 2 Indata'!E$15/100))*($D$216/$B$216)/('Blad 2 Indata'!E$28/'Blad 2 Indata'!D$28)-1)+1)*C228*E62*C62*Data!C13,(((1+('Blad 2 Indata'!E$15/100))*(Data!S13/Data!R13)/('Blad 2 Indata'!E$28/'Blad 2 Indata'!D$28)-1)+1)*C228*E62*C62*Data!C13)","v":100165422944.3609},{"$f":"IF($A$216=A228,(((1+('Blad 2 Indata'!E$15/100))*($D$216/$B$216)/('Blad 2 Indata'!E$28/'Blad 2 Indata'!D$28)-1)+1)*$D$239,(((1+('Blad 2 Indata'!E$15/100))*(Data!S13/Data!R13)/('Blad 2 Indata'!E$28/'Blad 2 Indata'!D$28)-1)+1)*$D$239)","v":1.0417999790881918},{"$f":"IF($A$216=A228,(((1+('Blad 2 Indata'!F$15/100))*($F$216/$D$216)/('Blad 2 Indata'!F$28/'Blad 2 Indata'!E$28)-1)+1)*C228*E228*E62*C62*Data!C13,(((1+('Blad 2 Indata'!F$15/100))*(Data!T13/Data!S13)/('Blad 2 Indata'!F$28/'Blad 2 Indata'!E$28)-1)+1)*C228*E228*E62*C62*Data!C13)","v":104203139072.94881},{"$f":"IF($A$216=A228,(((1+('Blad 2 Indata'!F$15/100))*(F$216/D$216)/('Blad 2 Indata'!F$28/'Blad 2 Indata'!E$28)-1)+1)*$F$239,(((1+('Blad 2 Indata'!F$15/100))*(Data!T13/Data!S13)/('Blad 2 Indata'!F$28/'Blad 2 Indata'!E$28)-1)+1)*$F$239)","v":1.0403112374405947},{"$f":"IF($A$216=A228,(((1+('Blad 2 Indata'!G$15/100))*($H$216/$F$216)/('Blad 2 Indata'!G$28/'Blad 2 Indata'!F$28)-1)+1)*C228*E228*G228*E62*C62*Data!C13,(((1+('Blad 2 Indata'!G$15/100))*(Data!U13/Data!T13)/('Blad 2 Indata'!G$28/'Blad 2 Indata'!F$28)-1)+1)*C228*E228*G228*E62*C62*Data!C13)","v":108472685507.25375},{"$f":"IF($A$216=A228,(((1+('Blad 2 Indata'!G$15/100))*(H$216/F$216)/('Blad 2 Indata'!G$28/'Blad 2 Indata'!F$28)-1)+1)*$H$239,(((1+('Blad 2 Indata'!G$15/100))*(Data!U13/Data!T13)/('Blad 2 Indata'!G$28/'Blad 2 Indata'!F$28)-1)+1)*$H$239)","v":1.0409734828121373},{"$f":"IF($A$216=$A228,(((1+('Blad 2 Indata'!H$15/100))*(J$216/H$216)/('Blad 2 Indata'!H$28/'Blad 2 Indata'!G$28)-1)+1)*$C228*$E228*$G228*$I228*$E62*$C62*Data!$C13,(((1+('Blad 2 Indata'!H$15/100))*(Data!BP13/Data!U13)/('Blad 2 Indata'!H$28/'Blad 2 Indata'!G$28)-1)+1)*$C228*$E228*$G228*$I228*$E62*$C62*Data!$C13)","v":112914537858.40018},{"$f":"IF($A$216=$A228,(((1+('Blad 2 Indata'!H$15/100))*(J$216/H$216)/('Blad 2 Indata'!H$28/'Blad 2 Indata'!G$28)-1)+1)*$J$239,(((1+('Blad 2 Indata'!H$15/100))*(Data!BP13/Data!U13)/('Blad 2 Indata'!H$28/'Blad 2 Indata'!G$28)-1)+1)*J$239)","v":1.0409499052469879},{"$f":"IF($A$216=$A228,(((1+('Blad 2 Indata'!I$15/100))*(L$216/J$216)/('Blad 2 Indata'!I$28/'Blad 2 Indata'!H$28)-1)+1)*$C228*$E228*$G228*$I228*$K228*$E62*$C62*Data!$C13,(((1+('Blad 2 Indata'!I$15/100))*(Data!BQ13/Data!BP13)/('Blad 2 Indata'!I$28/'Blad 2 Indata'!H$28)-1)+1)*$C228*$E228*$G228*$I228*$K228*$E62*$C62*Data!$C13)","v":117418651963.15428},{"$f":"IF($A$216=$A228,(((1+('Blad 2 Indata'!I$15/100))*(L$216/J$216)/('Blad 2 Indata'!I$28/'Blad 2 Indata'!H$28)-1)+1)*L$239,(((1+('Blad 2 Indata'!I$15/100))*(Data!BQ13/Data!BP13)/('Blad 2 Indata'!I$28/'Blad 2 Indata'!H$28)-1)+1)*L$239)","v":1.0398899789527203},{"$f":"IF($A$216=$A228,(((1+('Blad 2 Indata'!J$15/100))*(N$216/L$216)/('Blad 2 Indata'!J$28/'Blad 2 Indata'!I$28)-1)+1)*$C228*$E228*$G228*$I228*$K228*$M228*$E62*$C62*Data!$C13,(((1+('Blad 2 Indata'!J$15/100))*(Data!BR13/Data!BQ13)/('Blad 2 Indata'!J$28/'Blad 2 Indata'!I$28)-1)+1)*$C228*$E228*$G228*$I228*$K228*$M228*$E62*$C62*Data!$C13)","v":121731348058.94464},{"$f":"IF($A$216=$A228,(((1+('Blad 2 Indata'!J$15/100))*(N$216/L$216)/('Blad 2 Indata'!J$28/'Blad 2 Indata'!I$28)-1)+1)*N$239,(((1+('Blad 2 Indata'!J$15/100))*(Data!BR13/Data!BQ13)/('Blad 2 Indata'!J$28/'Blad 2 Indata'!I$28)-1)+1)*N$239)","v":1.0367298220976557}]
[14,{"$f":"IF($A$216=$A229,(((1+('Blad 2 Indata'!D$15/100))*(B$216/Data!F14)/('Blad 2 Indata'!D$28/'Blad 2 Indata'!C$28)-1)+1)*E63*C63*Data!C14,(((1+('Blad 2 Indata'!D$15/100))*(Data!R14/Data!F14)/('Blad 2 Indata'!D$28/'Blad 2 Indata'!C$28)-1)+1)*E63*C63*Data!C14)","v":498609090973.63196},{"$f":"IF($A$216=$A229,(((1+('Blad 2 Indata'!D$15/100))*(B$216/Data!F14)/('Blad 2 Indata'!D$28/'Blad 2 Indata'!C$28)-1)+1)*$B$239,(((1+('Blad 2 Indata'!D$15/100))*(Data!R14/Data!F14)/('Blad 2 Indata'!D$28/'Blad 2 Indata'!C$28)-1)+1)*$B$239)","v":1.0498801261597379},{"$f":"IF($A$216=A229,(((1+('Blad 2 Indata'!E$15/100))*($D$216/$B$216)/('Blad 2 Indata'!E$28/'Blad 2 Indata'!D$28)-1)+1)*C229*E63*C63*Data!C14,(((1+('Blad 2 Indata'!E$15/100))*(Data!S14/Data!R14)/('Blad 2 Indata'!E$28/'Blad 2 Indata'!D$28)-1)+1)*C229*E63*C63*Data!C14)","v":519948710051.30408},{"$f":"IF($A$216=A229,(((1+('Blad 2 Indata'!E$15/100))*($D$216/$B$216)/('Blad 2 Indata'!E$28/'Blad 2 Indata'!D$28)-1)+1)*$D$239,(((1+('Blad 2 Indata'!E$15/100))*(Data!S14/Data!R14)/('Blad 2 Indata'!E$28/'Blad 2 Indata'!D$28)-1)+1)*$D$239)","v":1.0427988408270461},{"$f":"IF($A$216=A229,(((1+('Blad 2 Indata'!F$15/100))*($F$216/$D$216)/('Blad 2 Indata'!F$28/'Blad 2 Indata'!E$28)-1)+1)*C229*E229*E63*C63*Data!C14,(((1+('Blad 2 Indata'!F$15/100))*(Data!T14/Data!S14)/('Blad 2 Indata'!F$28/'Blad 2 Indata'!E$28)-1)+1)*C229*E229*E63*C63*Data!C14)","v":541426240776.3916},{"$f":"IF($A$216=A229,(((1+('Blad 2 Indata'!F$15/100))*(F$216/D$216)/('Blad 2 Indata'!F$28/'Blad 2 Indata'!E$28)-1)+1)*$F$239,(((1+('Blad 2 Indata'!F$15/100))*(Data!T14/Data!S14)/('Blad 2 Indata'!F$28/'Blad 2 Indata'!E$28)-1)+1)*$F$239)","v":1.0413077776619974},{"$f":"IF($A$216=A229,(((1+('Blad 2 Indata'!G$15/100))*($H$216/$F$216)/('Blad 2 Indata'!G$28/'Blad 2 Indata'!F$28)-1)+1)*C229*E229*G229*E63*C63*Data!C14,(((1+('Blad 2 Indata'!G$15/100))*(Data!U14/Data!T14)/('Blad 2 Indata'!G$28/'Blad 2 Indata'!F$28)-1)+1)*C229*E229*G229*E63*C63*Data!C14)","v":564149948893.84741},{"$f":"IF($A$216=A229,(((1+('Blad 2 Indata'!G$15/100))*(H$216/F$216)/('Blad 2 Indata'!G$28/'Blad 2 Indata'!F$28)-1)+1)*$H$239,(((1+('Blad 2 Indata'!G$15/100))*(Data!U14/Data!T14)/('Blad 2 Indata'!G$28/'Blad 2 Indata'!F$28)-1)+1)*$H$239)","v":1.041970273526293},{"$f":"IF($A$216=$A229,(((1+('Blad 2 Indata'!H$15/100))*(J$216/H$216)/('Blad 2 Indata'!H$28/'Blad 2 Indata'!G$28)-1)+1)*$C229*$E229*$G229*$I229*$E63*$C63*Data!$C14,(((1+('Blad 2 Indata'!H$15/100))*(Data!BP14/Data!U14)/('Blad 2 Indata'!H$28/'Blad 2 Indata'!G$28)-1)+1)*$C229*$E229*$G229*$I229*$E63*$C63*Data!$C14)","v":587813876137.48059},{"$f":"IF($A$216=$A229,(((1+('Blad 2 Indata'!H$15/100))*(J$216/H$216)/('Blad 2 Indata'!H$28/'Blad 2 Indata'!G$28)-1)+1)*$J$239,(((1+('Blad 2 Indata'!H$15/100))*(Data!BP14/Data!U14)/('Blad 2 Indata'!H$28/'Blad 2 Indata'!G$28)-1)+1)*J$239)","v":1.0419470316657562},{"$f":"IF($A$216=$A229,(((1+('Blad 2 Indata'!I$15/100))*(L$216/J$216)/('Blad 2 Indata'!I$28/'Blad 2 Indata'!H$28)-1)+1)*$C229*$E229*$G229*$I229*$K229*$E63*$C63*Data!$C14,(((1+('Blad 2 Indata'!I$15/100))*(Data!BQ14/Data!BP14)/('Blad 2 Indata'!I$28/'Blad 2 Indata'!H$28)-1)+1)*$C229*$E229*$G229*$I229*$K229*$E63*$C63*Data!$C14)","v":611847668435.42139},{"$f":"IF($A$216=$A229,(((1+('Blad 2 Indata'!I$15/100))*(L$216/J$216)/('Blad 2 Indata'!I$28/'Blad 2 Indata'!H$28)-1)+1)*L$239,(((1+('Blad 2 Indata'!I$15/100))*(Data!BQ14/Data!BP14)/('Blad 2 Indata'!I$28/'Blad 2 Indata'!H$28)-1)+1)*L$239)","v":1.0408871324931361},{"$f":"IF($A$216=$A229,(((1+('Blad 2 Indata'!J$15/100))*(N$216/L$216)/('Blad 2 Indata'!J$28/'Blad 2 Indata'!I$28)-1)+1)*$C229*$E229*$G229*$I229*$K229*$M229*$E63*$C63*Data!$C14,(((1+('Blad 2 Indata'!J$15/100))*(Data!BR14/Data!BQ14)/('Blad 2 Indata'!J$28/'Blad 2 Indata'!I$28)-1)+1)*$C229*$E229*$G229*$I229*$K229*$M229*$E63*$C63*Data!$C14)","v":634927497494.78442},{"$f":"IF($A$216=$A229,(((1+('Blad 2 Indata'!J$15/100))*(N$216/L$216)/('Blad 2 Indata'!J$28/'Blad 2 Indata'!I$28)-1)+1)*N$239,(((1+('Blad 2 Indata'!J$15/100))*(Data!BR14/Data!BQ14)/('Blad 2 Indata'!J$28/'Blad 2 Indata'!I$28)-1)+1)*N$239)","v":1.0377221257634424}]
[17,{"$f":"IF($A$216=$A230,(((1+('Blad 2 Indata'!D$15/100))*(B$216/Data!F15)/('Blad 2 Indata'!D$28/'Blad 2 Indata'!C$28)-1)+1)*E64*C64*Data!C15,(((1+('Blad 2 Indata'!D$15/100))*(Data!R15/Data!F15)/('Blad 2 Indata'!D$28/'Blad 2 Indata'!C$28)-1)+1)*E64*C64*Data!C15)","v":70140354273.386978},{"$f":"IF($A$216=$A230,(((1+('Blad 2 Indata'!D$15/100))*(B$216/Data!F15)/('Blad 2 Indata'!D$28/'Blad 2 Indata'!C$28)-1)+1)*$B$239,(((1+('Blad 2 Indata'!D$15/100))*(Data!R15/Data!F15)/('Blad 2 Indata'!D$28/'Blad 2 Indata'!C$28)-1)+1)*$B$239)","v":1.0435328544539977},{"$f":"IF($A$216=A230,(((1+('Blad 2 Indata'!E$15/100))*($D$216/$B$216)/('Blad 2 Indata'!E$28/'Blad 2 Indata'!D$28)-1)+1)*C230*E64*C64*Data!C15,(((1+('Blad 2 Indata'!E$15/100))*(Data!S15/Data!R15)/('Blad 2 Indata'!E$28/'Blad 2 Indata'!D$28)-1)+1)*C230*E64*C64*Data!C15)","v":72699990041.328308},{"$f":"IF($A$216=A230,(((1+('Blad 2 Indata'!E$15/100))*($D$216/$B$216)/('Blad 2 Indata'!E$28/'Blad 2 Indata'!D$28)-1)+1)*$D$239,(((1+('Blad 2 Indata'!E$15/100))*(Data!S15/Data!R15)/('Blad 2 Indata'!E$28/'Blad 2 Indata'!D$28)-1)+1)*$D$239)","v":1.0364935967567399},{"$f":"IF($A$216=A230,(((1+('Blad 2 Indata'!F$15/100))*($F$216/$D$216)/('Blad 2 Indata'!F$28/'Blad 2 Indata'!E$28)-1)+1)*C230*E230*E64*C64*Data!C15,(((1+('Blad 2 Indata'!F$15/100))*(Data!T15/Data!S15)/('Blad 2 Indata'!F$28/'Blad 2 Indata'!E$28)-1)+1)*C230*E230*E64*C64*Data!C15)","v":75245422512.425797},{"$f":"IF($A$216=A230,(((1+('Blad 2 Indata'!F$15/100))*(F$216/D$216)/('Blad 2 Indata'!F$28/'Blad 2 Indata'!E$28)-1)+1)*$F$239,(((1+('Blad 2 Indata'!F$15/100))*(Data!T15/Data!S15)/('Blad 2 Indata'!F$28/'Blad 2 Indata'!E$28)-1)+1)*$F$239)","v":1.0350135861539802},{"$f":"IF($A$216=A230,(((1+('Blad 2 Indata'!G$15/100))*($H$216/$F$216)/('Blad 2 Indata'!G$28/'Blad 2 Indata'!F$28)-1)+1)*C230*E230*G230*E64*C64*Data!C15,(((1+('Blad 2 Indata'!G$15/100))*(Data!U15/Data!T15)/('Blad 2 Indata'!G$28/'Blad 2 Indata'!F$28)-1)+1)*C230*E230*G230*E64*C64*Data!C15)","v":77929571547.93895},{"$f":"IF($A$216=A230,(((1+('Blad 2 Indata'!G$15/100))*(H$216/F$216)/('Blad 2 Indata'!G$28/'Blad 2 Indata'!F$28)-1)+1)*$H$239,(((1+('Blad 2 Indata'!G$15/100))*(Data!U15/Data!T15)/('Blad 2 Indata'!G$28/'Blad 2 Indata'!F$28)-1)+1)*$H$239)","v":1.0356721068622023},{"$f":"IF($A$216=$A230,(((1+('Blad 2 Indata'!H$15/100))*(J$216/H$216)/('Blad 2 Indata'!H$28/'Blad 2 Indata'!G$28)-1)+1)*$C230*$E230*$G230*$I230*$E64*$C64*Data!$C15,(((1+('Blad 2 Indata'!H$15/100))*(Data!BP15/Data!U15)/('Blad 2 Indata'!H$28/'Blad 2 Indata'!G$28)-1)+1)*$C230*$E230*$G230*$I230*$E64*$C64*Data!$C15)","v":80707535598.52533},{"$f":"IF($A$216=$A230,(((1+('Blad 2 Indata'!H$15/100))*(J$216/H$216)/('Blad 2 Indata'!H$28/'Blad 2 Indata'!G$28)-1)+1)*$J$239,(((1+('Blad 2 Indata'!H$15/100))*(Data!BP15/Data!U15)/('Blad 2 Indata'!H$28/'Blad 2 Indata'!G$28)-1)+1)*J$239)","v":1.0356479712478335},{"$f":"IF($A$216=$A230,(((1+('Blad 2 Indata'!I$15/100))*(L$216/J$216)/('Blad 2 Indata'!I$28/'Blad 2 Indata'!H$28)-1)+1)*$C230*$E230*$G230*$I230*$K230*$E64*$C64*Data!$C15,(((1+('Blad 2 Indata'!I$15/100))*(Data!BQ15/Data!BP15)/('Blad 2 Indata'!I$28/'Blad 2 Indata'!H$28)-1)+1)*$C230*$E230*$G230*$I230*$K230*$E64*$C64*Data!$C15)","v":83499523225.348221},{"$f":"IF($A$216=$A230,(((1+('Blad 2 Indata'!I$15/100))*(L$216/J$216)/('Blad 2 Indata'!I$28/'Blad 2 Indata'!H$28)-1)+1)*L$239,(((1+('Blad 2 Indata'!I$15/100))*(Data!BQ15/Data!BP15)/('Blad 2 Indata'!I$28/'Blad 2 Indata'!H$28)-1)+1)*L$239)","v":1.0345942817386937},{"$f":"IF($A$216=$A230,(((1+('Blad 2 Indata'!J$15/100))*(N$216/L$216)/('Blad 2 Indata'!J$28/'Blad 2 Indata'!I$28)-1)+1)*$C230*$E230*$G230*$I230*$K230*$M230*$E64*$C64*Data!$C15,(((1+('Blad 2 Indata'!J$15/100))*(Data!BR15/Data!BQ15)/('Blad 2 Indata'!J$28/'Blad 2 Indata'!I$28)-1)+1)*$C230*$E230*$G230*$I230*$K230*$M230*$E64*$C64*Data!$C15)","v":86125362405.08902},{"$f":"IF($A$216=$A230,(((1+('Blad 2 Indata'!J$15/100))*(N$216/L$216)/('Blad 2 Indata'!J$28/'Blad 2 Indata'!I$28)-1)+1)*N$239,(((1+('Blad 2 Indata'!J$15/100))*(Data!BR15/Data!BQ15)/('Blad 2 Indata'!J$28/'Blad 2 Indata'!I$28)-1)+1)*N$239)","v":1.0314479493481783}]
[18,{"$f":"IF($A$216=$A231,(((1+('Blad 2 Indata'!D$15/100))*(B$216/Data!F16)/('Blad 2 Indata'!D$28/'Blad 2 Indata'!C$28)-1)+1)*E65*C65*Data!C16,(((1+('Blad 2 Indata'!D$15/100))*(Data!R16/Data!F16)/('Blad 2 Indata'!D$28/'Blad 2 Indata'!C$28)-1)+1)*E65*C65*Data!C16)","v":78662821768.977783},{"$f":"IF($A$216=$A231,(((1+('Blad 2 Indata'!D$15/100))*(B$216/Data!F16)/('Blad 2 Indata'!D$28/'Blad 2 Indata'!C$28)-1)+1)*$B$239,(((1+('Blad 2 Indata'!D$15/100))*(Data!R16/Data!F16)/('Blad 2 Indata'!D$28/'Blad 2 Indata'!C$28)-1)+1)*$B$239)","v":1.0455561595864071},{"$f":"IF($A$216=A231,(((1+('Blad 2 Indata'!E$15/100))*($D$216/$B$216)/('Blad 2 Indata'!E$28/'Blad 2 Indata'!D$28)-1)+1)*C231*E65*C65*Data!C16,(((1+('Blad 2 Indata'!E$15/100))*(Data!S16/Data!R16)/('Blad 2 Indata'!E$28/'Blad 2 Indata'!D$28)-1)+1)*C231*E65*C65*Data!C16)","v":81691706058.782303},{"$f":"IF($A$216=A231,(((1+('Blad 2 Indata'!E$15/100))*($D$216/$B$216)/('Blad 2 Indata'!E$28/'Blad 2 Indata'!D$28)-1)+1)*$D$239,(((1+('Blad 2 Indata'!E$15/100))*(Data!S16/Data!R16)/('Blad 2 Indata'!E$28/'Blad 2 Indata'!D$28)-1)+1)*$D$239)","v":1.0385051916969501},{"$f":"IF($A$216=A231,(((1+('Blad 2 Indata'!F$15/100))*($F$216/$D$216)/('Blad 2 Indata'!F$28/'Blad 2 Indata'!E$28)-1)+1)*C231*E231*E65*C65*Data!C16,(((1+('Blad 2 Indata'!F$15/100))*(Data!T16/Data!S16)/('Blad 2 Indata'!F$28/'Blad 2 Indata'!E$28)-1)+1)*C231*E231*E65*C65*Data!C16)","v":84715815603.09758},{"$f":"IF($A$216=A231,(((1+('Blad 2 Indata'!F$15/100))*(F$216/D$216)/('Blad 2 Indata'!F$28/'Blad 2 Indata'!E$28)-1)+1)*$F$239,(((1+('Blad 2 Indata'!F$15/100))*(Data!T16/Data!S16)/('Blad 2 Indata'!F$28/'Blad 2 Indata'!E$28)-1)+1)*$F$239)","v":1.0370193192520649},{"$f":"IF($A$216=A231,(((1+('Blad 2 Indata'!G$15/100))*($H$216/$F$216)/('Blad 2 Indata'!G$28/'Blad 2 Indata'!F$28)-1)+1)*C231*E231*G231*E65*C65*Data!C16,(((1+('Blad 2 Indata'!G$15/100))*(Data!U16/Data!T16)/('Blad 2 Indata'!G$28/'Blad 2 Indata'!F$28)-1)+1)*C231*E231*G231*E65*C65*Data!C16)","v":87907723577.50679},{"$f":"IF($A$216=A231,(((1+('Blad 2 Indata'!G$15/100))*(H$216/F$216)/('Blad 2 Indata'!G$28/'Blad 2 Indata'!F$28)-1)+1)*$H$239,(((1+('Blad 2 Indata'!G$15/100))*(Data!U16/Data!T16)/('Blad 2 Indata'!G$28/'Blad 2 Indata'!F$28)-1)+1)*$H$239)","v":1.0376780111870696},{"$f":"IF($A$216=$A231,(((1+('Blad 2 Indata'!H$15/100))*(J$216/H$216)/('Blad 2 Indata'!H$28/'Blad 2 Indata'!G$28)-1)+1)*$C231*$E231*$G231*$I231*$E65*$C65*Data!$C16,(((1+('Blad 2 Indata'!H$15/100))*(Data!BP16/Data!U16)/('Blad 2 Indata'!H$28/'Blad 2 Indata'!G$28)-1)+1)*$C231*$E231*$G231*$I231*$E65*$C65*Data!$C16)","v":91217803410.469269},{"$f":"IF($A$216=$A231,(((1+('Blad 2 Indata'!H$15/100))*(J$216/H$216)/('Blad 2 Indata'!H$28/'Blad 2 Indata'!G$28)-1)+1)*$J$239,(((1+('Blad 2 Indata'!H$15/100))*(Data!BP16/Data!U16)/('Blad 2 Indata'!H$28/'Blad 2 Indata'!G$28)-1)+1)*J$239)","v":1.0376548897929774},{"$f":"IF($A$216=$A231,(((1+('Blad 2 Indata'!I$15/100))*(L$216/J$216)/('Blad 2 Indata'!I$28/'Blad 2 Indata'!H$28)-1)+1)*$C231*$E231*$G231*$I231*$K231*$E65*$C65*Data!$C16,(((1+('Blad 2 Indata'!I$15/100))*(Data!BQ16/Data!BP16)/('Blad 2 Indata'!I$28/'Blad 2 Indata'!H$28)-1)+1)*$C231*$E231*$G231*$I231*$K231*$E65*$C65*Data!$C16)","v":94556239046.203461},{"$f":"IF($A$216=$A231,(((1+('Blad 2 Indata'!I$15/100))*(L$216/J$216)/('Blad 2 Indata'!I$28/'Blad 2 Indata'!H$28)-1)+1)*L$239,(((1+('Blad 2 Indata'!I$15/100))*(Data!BQ16/Data!BP16)/('Blad 2 Indata'!I$28/'Blad 2 Indata'!H$28)-1)+1)*L$239)","v":1.0365989016741719},{"$f":"IF($A$216=$A231,(((1+('Blad 2 Indata'!J$15/100))*(N$216/L$216)/('Blad 2 Indata'!J$28/'Blad 2 Indata'!I$28)-1)+1)*$C231*$E231*$G231*$I231*$K231*$M231*$E65*$C65*Data!$C16,(((1+('Blad 2 Indata'!J$15/100))*(Data!BR16/Data!BQ16)/('Blad 2 Indata'!J$28/'Blad 2 Indata'!I$28)-1)+1)*$C231*$E231*$G231*$I231*$K231*$M231*$E65*$C65*Data!$C16)","v":97718929919.424271},{"$f":"IF($A$216=$A231,(((1+('Blad 2 Indata'!J$15/100))*(N$216/L$216)/('Blad 2 Indata'!J$28/'Blad 2 Indata'!I$28)-1)+1)*N$239,(((1+('Blad 2 Indata'!J$15/100))*(Data!BR16/Data!BQ16)/('Blad 2 Indata'!J$28/'Blad 2 Indata'!I$28)-1)+1)*N$239)","v":1.0334483179406242}]
[19,{"$f":"IF($A$216=$A232,(((1+('Blad 2 Indata'!D$15/100))*(B$216/Data!F17)/('Blad 2 Indata'!D$28/'Blad 2 Indata'!C$28)-1)+1)*E66*C66*Data!C17,(((1+('Blad 2 Indata'!D$15/100))*(Data!R17/Data!F17)/('Blad 2 Indata'!D$28/'Blad 2 Indata'!C$28)-1)+1)*E66*C66*Data!C17)","v":74115873757.947845},{"$f":"IF($A$216=$A232,(((1+('Blad 2 Indata'!D$15/100))*(B$216/Data!F17)/('Blad 2 Indata'!D$28/'Blad 2 Indata'!C$28)-1)+1)*$B$239,(((1+('Blad 2 Indata'!D$15/100))*(Data!R17/Data!F17)/('Blad 2 Indata'!D$28/'Blad 2 Indata'!C$28)-1)+1)*$B$239)","v":1.0468177203182845},{"$f":"IF($A$216=A232,(((1+('Blad 2 Indata'!E$15/100))*($D$216/$B$216)/('Blad 2 Indata'!E$28/'Blad 2 Indata'!D$28)-1)+1)*C232*E66*C66*Data!C17,(((1+('Blad 2 Indata'!E$15/100))*(Data!S17/Data!R17)/('Blad 2 Indata'!E$28/'Blad 2 Indata'!D$28)-1)+1)*C232*E66*C66*Data!C17)","v":77062281721.932449},{"$f":"IF($A$216=A232,(((1+('Blad 2 Indata'!E$15/100))*($D$216/$B$216)/('Blad 2 Indata'!E$28/'Blad 2 Indata'!D$28)-1)+1)*$D$239,(((1+('Blad 2 Indata'!E$15/100))*(Data!S17/Data!R17)/('Blad 2 Indata'!E$28/'Blad 2 Indata'!D$28)-1)+1)*$D$239)","v":1.039754618467887},{"$f":"IF($A$216=A232,(((1+('Blad 2 Indata'!F$15/100))*($F$216/$D$216)/('Blad 2 Indata'!F$28/'Blad 2 Indata'!E$28)-1)+1)*C232*E232*E66*C66*Data!C17,(((1+('Blad 2 Indata'!F$15/100))*(Data!T17/Data!S17)/('Blad 2 Indata'!F$28/'Blad 2 Indata'!E$28)-1)+1)*C232*E232*E66*C66*Data!C17)","v":80011201408.372864},{"$f":"IF($A$216=A232,(((1+('Blad 2 Indata'!F$15/100))*(F$216/D$216)/('Blad 2 Indata'!F$28/'Blad 2 Indata'!E$28)-1)+1)*$F$239,(((1+('Blad 2 Indata'!F$15/100))*(Data!T17/Data!S17)/('Blad 2 Indata'!F$28/'Blad 2 Indata'!E$28)-1)+1)*$F$239)","v":1.038267463549241},{"$f":"IF($A$216=A232,(((1+('Blad 2 Indata'!G$15/100))*($H$216/$F$216)/('Blad 2 Indata'!G$28/'Blad 2 Indata'!F$28)-1)+1)*C232*E232*G232*E66*C66*Data!C17,(((1+('Blad 2 Indata'!G$15/100))*(Data!U17/Data!T17)/('Blad 2 Indata'!G$28/'Blad 2 Indata'!F$28)-1)+1)*C232*E232*G232*E66*C66*Data!C17)","v":83125952804.314484},{"$f":"IF($A$216=A232,(((1+('Blad 2 Indata'!G$15/100))*(H$216/F$216)/('Blad 2 Indata'!G$28/'Blad 2 Indata'!F$28)-1)+1)*$H$239,(((1+('Blad 2 Indata'!G$15/100))*(Data!U17/Data!T17)/('Blad 2 Indata'!G$28/'Blad 2 Indata'!F$28)-1)+1)*$H$239)","v":1.0389291245854184},{"$f":"IF($A$216=$A232,(((1+('Blad 2 Indata'!H$15/100))*(J$216/H$216)/('Blad 2 Indata'!H$28/'Blad 2 Indata'!G$28)-1)+1)*$C232*$E232*$G232*$I232*$E66*$C66*Data!$C17,(((1+('Blad 2 Indata'!H$15/100))*(Data!BP17/Data!U17)/('Blad 2 Indata'!H$28/'Blad 2 Indata'!G$28)-1)+1)*$C232*$E232*$G232*$I232*$E66*$C66*Data!$C17)","v":86360122110.951782},{"$f":"IF($A$216=$A232,(((1+('Blad 2 Indata'!H$15/100))*(J$216/H$216)/('Blad 2 Indata'!H$28/'Blad 2 Indata'!G$28)-1)+1)*$J$239,(((1+('Blad 2 Indata'!H$15/100))*(Data!BP17/Data!U17)/('Blad 2 Indata'!H$28/'Blad 2 Indata'!G$28)-1)+1)*J$239)","v":1.0389077173933341},{"$f":"IF($A$216=$A232,(((1+('Blad 2 Indata'!I$15/100))*(L$216/J$216)/('Blad 2 Indata'!I$28/'Blad 2 Indata'!H$28)-1)+1)*$C232*$E232*$G232*$I232*$K232*$E66*$C66*Data!$C17,(((1+('Blad 2 Indata'!I$15/100))*(Data!BQ17/Data!BP17)/('Blad 2 Indata'!I$28/'Blad 2 Indata'!H$28)-1)+1)*$C232*$E232*$G232*$I232*$K232*$E66*$C66*Data!$C17)","v":89628825844.515121},{"$f":"IF($A$216=$A232,(((1+('Blad 2 Indata'!I$15/100))*(L$216/J$216)/('Blad 2 Indata'!I$28/'Blad 2 Indata'!H$28)-1)+1)*L$239,(((1+('Blad 2 Indata'!I$15/100))*(Data!BQ17/Data!BP17)/('Blad 2 Indata'!I$28/'Blad 2 Indata'!H$28)-1)+1)*L$239)","v":1.0378500813944971},{"$f":"IF($A$216=$A232,(((1+('Blad 2 Indata'!J$15/100))*(N$216/L$216)/('Blad 2 Indata'!J$28/'Blad 2 Indata'!I$28)-1)+1)*$C232*$E232*$G232*$I232*$K232*$M232*$E66*$C66*Data!$C17,(((1+('Blad 2 Indata'!J$15/100))*(Data!BR17/Data!BQ17)/('Blad 2 Indata'!J$28/'Blad 2 Indata'!I$28)-1)+1)*$C232*$E232*$G232*$I232*$K232*$M232*$E66*$C66*Data!$C17)","v":92738288844.693588},{"$f":"IF($A$216=$A232,(((1+('Blad 2 Indata'!J$15/100))*(N$216/L$216)/('Blad 2 Indata'!J$28/'Blad 2 Indata'!I$28)-1)+1)*N$239,(((1+('Blad 2 Indata'!J$15/100))*(Data!BR17/Data!BQ17)/('Blad 2 Indata'!J$28/'Blad 2 Indata'!I$28)-1)+1)*N$239)","v":1.0346932627570473}]
[20,{"$f":"IF($A$216=$A233,(((1+('Blad 2 Indata'!D$15/100))*(B$216/Data!F18)/('Blad 2 Indata'!D$28/'Blad 2 Indata'!C$28)-1)+1)*E67*C67*Data!C18,(((1+('Blad 2 Indata'!D$15/100))*(Data!R18/Data!F18)/('Blad 2 Indata'!D$28/'Blad 2 Indata'!C$28)-1)+1)*E67*C67*Data!C18)","v":71593126389.068115},{"$f":"IF($A$216=$A233,(((1+('Blad 2 Indata'!D$15/100))*(B$216/Data!F18)/('Blad 2 Indata'!D$28/'Blad 2 Indata'!C$28)-1)+1)*$B$239,(((1+('Blad 2 Indata'!D$15/100))*(Data!R18/Data!F18)/('Blad 2 Indata'!D$28/'Blad 2 Indata'!C$28)-1)+1)*$B$239)","v":1.0413382829178428},{"$f":"IF($A$216=A233,(((1+('Blad 2 Indata'!E$15/100))*($D$216/$B$216)/('Blad 2 Indata'!E$28/'Blad 2 Indata'!D$28)-1)+1)*C233*E67*C67*Data!C18,(((1+('Blad 2 Indata'!E$15/100))*(Data!S18/Data!R18)/('Blad 2 Indata'!E$28/'Blad 2 Indata'!D$28)-1)+1)*C233*E67*C67*Data!C18)","v":74049578829.031021},{"$f":"IF($A$216=A233,(((1+('Blad 2 Indata'!E$15/100))*($D$216/$B$216)/('Blad 2 Indata'!E$28/'Blad 2 Indata'!D$28)-1)+1)*$D$239,(((1+('Blad 2 Indata'!E$15/100))*(Data!S18/Data!R18)/('Blad 2 Indata'!E$28/'Blad 2 Indata'!D$28)-1)+1)*$D$239)","v":1.0343118300214573},{"$f":"IF($A$216=A233,(((1+('Blad 2 Indata'!F$15/100))*($F$216/$D$216)/('Blad 2 Indata'!F$28/'Blad 2 Indata'!E$28)-1)+1)*C233*E233*E67*C67*Data!C18,(((1+('Blad 2 Indata'!F$15/100))*(Data!T18/Data!S18)/('Blad 2 Indata'!F$28/'Blad 2 Indata'!E$28)-1)+1)*C233*E233*E67*C67*Data!C18)","v":76480911759.784729},{"$f":"IF($A$216=A233,(((1+('Blad 2 Indata'!F$15/100))*(F$216/D$216)/('Blad 2 Indata'!F$28/'Blad 2 Indata'!E$28)-1)+1)*$F$239,(((1+('Blad 2 Indata'!F$15/100))*(Data!T18/Data!S18)/('Blad 2 Indata'!F$28/'Blad 2 Indata'!E$28)-1)+1)*$F$239)","v":1.0328346057348805},{"$f":"IF($A$216=A233,(((1+('Blad 2 Indata'!G$15/100))*($H$216/$F$216)/('Blad 2 Indata'!G$28/'Blad 2 Indata'!F$28)-1)+1)*C233*E233*G233*E67*C67*Data!C18,(((1+('Blad 2 Indata'!G$15/100))*(Data!U18/Data!T18)/('Blad 2 Indata'!G$28/'Blad 2 Indata'!F$28)-1)+1)*C233*E233*G233*E67*C67*Data!C18)","v":79042288335.948486},{"$f":"IF($A$216=A233,(((1+('Blad 2 Indata'!G$15/100))*(H$216/F$216)/('Blad 2 Indata'!G$28/'Blad 2 Indata'!F$28)-1)+1)*$H$239,(((1+('Blad 2 Indata'!G$15/100))*(Data!U18/Data!T18)/('Blad 2 Indata'!G$28/'Blad 2 Indata'!F$28)-1)+1)*$H$239)","v":1.0334905851712635},{"$f":"IF($A$216=$A233,(((1+('Blad 2 Indata'!H$15/100))*(J$216/H$216)/('Blad 2 Indata'!H$28/'Blad 2 Indata'!G$28)-1)+1)*$C233*$E233*$G233*$I233*$E67*$C67*Data!$C18,(((1+('Blad 2 Indata'!H$15/100))*(Data!BP18/Data!U18)/('Blad 2 Indata'!H$28/'Blad 2 Indata'!G$28)-1)+1)*$C233*$E233*$G233*$I233*$E67*$C67*Data!$C18)","v":81687589163.990173},{"$f":"IF($A$216=$A233,(((1+('Blad 2 Indata'!H$15/100))*(J$216/H$216)/('Blad 2 Indata'!H$28/'Blad 2 Indata'!G$28)-1)+1)*$J$239,(((1+('Blad 2 Indata'!H$15/100))*(Data!BP18/Data!U18)/('Blad 2 Indata'!H$28/'Blad 2 Indata'!G$28)-1)+1)*J$239)","v":1.0334677648326995},{"$f":"IF($A$216=$A233,(((1+('Blad 2 Indata'!I$15/100))*(L$216/J$216)/('Blad 2 Indata'!I$28/'Blad 2 Indata'!H$28)-1)+1)*$C233*$E233*$G233*$I233*$K233*$E67*$C67*Data!$C18,(((1+('Blad 2 Indata'!I$15/100))*(Data!BQ18/Data!BP18)/('Blad 2 Indata'!I$28/'Blad 2 Indata'!H$28)-1)+1)*$C233*$E233*$G233*$I233*$K233*$E67*$C67*Data!$C18)","v":84335670451.984558},{"$f":"IF($A$216=$A233,(((1+('Blad 2 Indata'!I$15/100))*(L$216/J$216)/('Blad 2 Indata'!I$28/'Blad 2 Indata'!H$28)-1)+1)*L$239,(((1+('Blad 2 Indata'!I$15/100))*(Data!BQ18/Data!BP18)/('Blad 2 Indata'!I$28/'Blad 2 Indata'!H$28)-1)+1)*L$239)","v":1.0324175707671259},{"$f":"IF($A$216=$A233,(((1+('Blad 2 Indata'!J$15/100))*(N$216/L$216)/('Blad 2 Indata'!J$28/'Blad 2 Indata'!I$28)-1)+1)*$C233*$E233*$G233*$I233*$K233*$M233*$E67*$C67*Data!$C18,(((1+('Blad 2 Indata'!J$15/100))*(Data!BR18/Data!BQ18)/('Blad 2 Indata'!J$28/'Blad 2 Indata'!I$28)-1)+1)*$C233*$E233*$G233*$I233*$K233*$M233*$E67*$C67*Data!$C18)","v":86804885882.788315},{"$f":"IF($A$216=$A233,(((1+('Blad 2 Indata'!J$15/100))*(N$216/L$216)/('Blad 2 Indata'!J$28/'Blad 2 Indata'!I$28)-1)+1)*N$239,(((1+('Blad 2 Indata'!J$15/100))*(Data!BR18/Data!BQ18)/('Blad 2 Indata'!J$28/'Blad 2 Indata'!I$28)-1)+1)*N$239)","v":1.0292790157016136}]
[21,{"$f":"IF($A$216=$A234,(((1+('Blad 2 Indata'!D$15/100))*(B$216/Data!F19)/('Blad 2 Indata'!D$28/'Blad 2 Indata'!C$28)-1)+1)*E68*C68*Data!C19,(((1+('Blad 2 Indata'!D$15/100))*(Data!R19/Data!F19)/('Blad 2 Indata'!D$28/'Blad 2 Indata'!C$28)-1)+1)*E68*C68*Data!C19)","v":71713524000.263947},{"$f":"IF($A$216=$A234,(((1+('Blad 2 Indata'!D$15/100))*(B$216/Data!F19)/('Blad 2 Indata'!D$28/'Blad 2 Indata'!C$28)-1)+1)*$B$239,(((1+('Blad 2 Indata'!D$15/100))*(Data!R19/Data!F19)/('Blad 2 Indata'!D$28/'Blad 2 Indata'!C$28)-1)+1)*$B$239)","v":1.0393854372042179},{"$f":"IF($A$216=A234,(((1+('Blad 2 Indata'!E$15/100))*($D$216/$B$216)/('Blad 2 Indata'!E$28/'Blad 2 Indata'!D$28)-1)+1)*C234*E68*C68*Data!C19,(((1+('Blad 2 Indata'!E$15/100))*(Data!S19/Data!R19)/('Blad 2 Indata'!E$28/'Blad 2 Indata'!D$28)-1)+1)*C234*E68*C68*Data!C19)","v":74035232270.321869},{"$f":"IF($A$216=A234,(((1+('Blad 2 Indata'!E$15/100))*($D$216/$B$216)/('Blad 2 Indata'!E$28/'Blad 2 Indata'!D$28)-1)+1)*$D$239,(((1+('Blad 2 Indata'!E$15/100))*(Data!S19/Data!R19)/('Blad 2 Indata'!E$28/'Blad 2 Indata'!D$28)-1)+1)*$D$239)","v":1.0323753021249749},{"$f":"IF($A$216=A234,(((1+('Blad 2 Indata'!F$15/100))*($F$216/$D$216)/('Blad 2 Indata'!F$28/'Blad 2 Indata'!E$28)-1)+1)*C234*E234*E68*C68*Data!C19,(((1+('Blad 2 Indata'!F$15/100))*(Data!T19/Data!S19)/('Blad 2 Indata'!F$28/'Blad 2 Indata'!E$28)-1)+1)*C234*E234*E68*C68*Data!C19)","v":76322769523.134979},{"$f":"IF($A$216=A234,(((1+('Blad 2 Indata'!F$15/100))*(F$216/D$216)/('Blad 2 Indata'!F$28/'Blad 2 Indata'!E$28)-1)+1)*$F$239,(((1+('Blad 2 Indata'!F$15/100))*(Data!T19/Data!S19)/('Blad 2 Indata'!F$28/'Blad 2 Indata'!E$28)-1)+1)*$F$239)","v":1.0308987067673794},{"$f":"IF($A$216=A234,(((1+('Blad 2 Indata'!G$15/100))*($H$216/$F$216)/('Blad 2 Indata'!G$28/'Blad 2 Indata'!F$28)-1)+1)*C234*E234*G234*E68*C68*Data!C19,(((1+('Blad 2 Indata'!G$15/100))*(Data!U19/Data!T19)/('Blad 2 Indata'!G$28/'Blad 2 Indata'!F$28)-1)+1)*C234*E234*G234*E68*C68*Data!C19)","v":78731053156.960403},{"$f":"IF($A$216=A234,(((1+('Blad 2 Indata'!G$15/100))*(H$216/F$216)/('Blad 2 Indata'!G$28/'Blad 2 Indata'!F$28)-1)+1)*$H$239,(((1+('Blad 2 Indata'!G$15/100))*(Data!U19/Data!T19)/('Blad 2 Indata'!G$28/'Blad 2 Indata'!F$28)-1)+1)*$H$239)","v":1.0315541155960628},{"$f":"IF($A$216=$A234,(((1+('Blad 2 Indata'!H$15/100))*(J$216/H$216)/('Blad 2 Indata'!H$28/'Blad 2 Indata'!G$28)-1)+1)*$C234*$E234*$G234*$I234*$E68*$C68*Data!$C19,(((1+('Blad 2 Indata'!H$15/100))*(Data!BP19/Data!U19)/('Blad 2 Indata'!H$28/'Blad 2 Indata'!G$28)-1)+1)*$C234*$E234*$G234*$I234*$E68*$C68*Data!$C19)","v":81213322286.464325},{"$f":"IF($A$216=$A234,(((1+('Blad 2 Indata'!H$15/100))*(J$216/H$216)/('Blad 2 Indata'!H$28/'Blad 2 Indata'!G$28)-1)+1)*$J$239,(((1+('Blad 2 Indata'!H$15/100))*(Data!BP19/Data!U19)/('Blad 2 Indata'!H$28/'Blad 2 Indata'!G$28)-1)+1)*J$239)","v":1.0315293207144125},{"$f":"IF($A$216=$A234,(((1+('Blad 2 Indata'!I$15/100))*(L$216/J$216)/('Blad 2 Indata'!I$28/'Blad 2 Indata'!H$28)-1)+1)*$C234*$E234*$G234*$I234*$K234*$E68*$C68*Data!$C19,(((1+('Blad 2 Indata'!I$15/100))*(Data!BQ19/Data!BP19)/('Blad 2 Indata'!I$28/'Blad 2 Indata'!H$28)-1)+1)*$C234*$E234*$G234*$I234*$K234*$E68*$C68*Data!$C19)","v":83688871221.851822},{"$f":"IF($A$216=$A234,(((1+('Blad 2 Indata'!I$15/100))*(L$216/J$216)/('Blad 2 Indata'!I$28/'Blad 2 Indata'!H$28)-1)+1)*L$239,(((1+('Blad 2 Indata'!I$15/100))*(Data!BQ19/Data!BP19)/('Blad 2 Indata'!I$28/'Blad 2 Indata'!H$28)-1)+1)*L$239)","v":1.0304824446956751},{"$f":"IF($A$216=$A234,(((1+('Blad 2 Indata'!J$15/100))*(N$216/L$216)/('Blad 2 Indata'!J$28/'Blad 2 Indata'!I$28)-1)+1)*$C234*$E234*$G234*$I234*$K234*$M234*$E68*$C68*Data!$C19,(((1+('Blad 2 Indata'!J$15/100))*(Data!BR19/Data!BQ19)/('Blad 2 Indata'!J$28/'Blad 2 Indata'!I$28)-1)+1)*$C234*$E234*$G234*$I234*$K234*$M234*$E68*$C68*Data!$C19)","v":85977514432.252884},{"$f":"IF($A$216=$A234,(((1+('Blad 2 Indata'!J$15/100))*(N$216/L$216)/('Blad 2 Indata'!J$28/'Blad 2 Indata'!I$28)-1)+1)*N$239,(((1+('Blad 2 Indata'!J$15/100))*(Data!BR19/Data!BQ19)/('Blad 2 Indata'!J$28/'Blad 2 Indata'!I$28)-1)+1)*N$239)","v":1.0273476352242739}]
[22,{"$f":"IF($A$216=$A235,(((1+('Blad 2 Indata'!D$15/100))*(B$216/Data!F20)/('Blad 2 Indata'!D$28/'Blad 2 Indata'!C$28)-1)+1)*E69*C69*Data!C20,(((1+('Blad 2 Indata'!D$15/100))*(Data!R20/Data!F20)/('Blad 2 Indata'!D$28/'Blad 2 Indata'!C$28)-1)+1)*E69*C69*Data!C20)","v":62327121045.07592},{"$f":"IF($A$216=$A235,(((1+('Blad 2 Indata'!D$15/100))*(B$216/Data!F20)/('Blad 2 Indata'!D$28/'Blad 2 Indata'!C$28)-1)+1)*$B$239,(((1+('Blad 2 Indata'!D$15/100))*(Data!R20/Data!F20)/('Blad 2 Indata'!D$28/'Blad 2 Indata'!C$28)-1)+1)*$B$239)","v":1.0386047549061468},{"$f":"IF($A$216=A235,(((1+('Blad 2 Indata'!E$15/100))*($D$216/$B$216)/('Blad 2 Indata'!E$28/'Blad 2 Indata'!D$28)-1)+1)*C235*E69*C69*Data!C20,(((1+('Blad 2 Indata'!E$15/100))*(Data!S20/Data!R20)/('Blad 2 Indata'!E$28/'Blad 2 Indata'!D$28)-1)+1)*C235*E69*C69*Data!C20)","v":64296674994.580269},{"$f":"IF($A$216=A235,(((1+('Blad 2 Indata'!E$15/100))*($D$216/$B$216)/('Blad 2 Indata'!E$28/'Blad 2 Indata'!D$28)-1)+1)*$D$239,(((1+('Blad 2 Indata'!E$15/100))*(Data!S20/Data!R20)/('Blad 2 Indata'!E$28/'Blad 2 Indata'!D$28)-1)+1)*$D$239)","v":1.0316008112852944},{"$f":"IF($A$216=A235,(((1+('Blad 2 Indata'!F$15/100))*($F$216/$D$216)/('Blad 2 Indata'!F$28/'Blad 2 Indata'!E$28)-1)+1)*C235*E235*E69*C69*Data!C20,(((1+('Blad 2 Indata'!F$15/100))*(Data!T20/Data!S20)/('Blad 2 Indata'!F$28/'Blad 2 Indata'!E$28)-1)+1)*C235*E235*E69*C69*Data!C20)","v":66233602752.412254},{"$f":"IF($A$216=A235,(((1+('Blad 2 Indata'!F$15/100))*(F$216/D$216)/('Blad 2 Indata'!F$28/'Blad 2 Indata'!E$28)-1)+1)*$F$239,(((1+('Blad 2 Indata'!F$15/100))*(Data!T20/Data!S20)/('Blad 2 Indata'!F$28/'Blad 2 Indata'!E$28)-1)+1)*$F$239)","v":1.0301256025639369},{"$f":"IF($A$216=A235,(((1+('Blad 2 Indata'!G$15/100))*($H$216/$F$216)/('Blad 2 Indata'!G$28/'Blad 2 Indata'!F$28)-1)+1)*C235*E235*G235*E69*C69*Data!C20,(((1+('Blad 2 Indata'!G$15/100))*(Data!U20/Data!T20)/('Blad 2 Indata'!G$28/'Blad 2 Indata'!F$28)-1)+1)*C235*E235*G235*E69*C69*Data!C20)","v":68272419095.578339},{"$f":"IF($A$216=A235,(((1+('Blad 2 Indata'!G$15/100))*(H$216/F$216)/('Blad 2 Indata'!G$28/'Blad 2 Indata'!F$28)-1)+1)*$H$239,(((1+('Blad 2 Indata'!G$15/100))*(Data!U20/Data!T20)/('Blad 2 Indata'!G$28/'Blad 2 Indata'!F$28)-1)+1)*$H$239)","v":1.030782386520138},{"$f":"IF($A$216=$A235,(((1+('Blad 2 Indata'!H$15/100))*(J$216/H$216)/('Blad 2 Indata'!H$28/'Blad 2 Indata'!G$28)-1)+1)*$C235*$E235*$G235*$I235*$E69*$C69*Data!$C20,(((1+('Blad 2 Indata'!H$15/100))*(Data!BP20/Data!U20)/('Blad 2 Indata'!H$28/'Blad 2 Indata'!G$28)-1)+1)*$C235*$E235*$G235*$I235*$E69*$C69*Data!$C20)","v":70372243314.737793},{"$f":"IF($A$216=$A235,(((1+('Blad 2 Indata'!H$15/100))*(J$216/H$216)/('Blad 2 Indata'!H$28/'Blad 2 Indata'!G$28)-1)+1)*$J$239,(((1+('Blad 2 Indata'!H$15/100))*(Data!BP20/Data!U20)/('Blad 2 Indata'!H$28/'Blad 2 Indata'!G$28)-1)+1)*J$239)","v":1.0307574088148441},{"$f":"IF($A$216=$A235,(((1+('Blad 2 Indata'!I$15/100))*(L$216/J$216)/('Blad 2 Indata'!I$28/'Blad 2 Indata'!H$28)-1)+1)*$C235*$E235*$G235*$I235*$K235*$E69*$C69*Data!$C20,(((1+('Blad 2 Indata'!I$15/100))*(Data!BQ20/Data!BP20)/('Blad 2 Indata'!I$28/'Blad 2 Indata'!H$28)-1)+1)*$C235*$E235*$G235*$I235*$K235*$E69*$C69*Data!$C20)","v":72463122951.283142},{"$f":"IF($A$216=$A235,(((1+('Blad 2 Indata'!I$15/100))*(L$216/J$216)/('Blad 2 Indata'!I$28/'Blad 2 Indata'!H$28)-1)+1)*L$239,(((1+('Blad 2 Indata'!I$15/100))*(Data!BQ20/Data!BP20)/('Blad 2 Indata'!I$28/'Blad 2 Indata'!H$28)-1)+1)*L$239)","v":1.0297120989717277},{"$f":"IF($A$216=$A235,(((1+('Blad 2 Indata'!J$15/100))*(N$216/L$216)/('Blad 2 Indata'!J$28/'Blad 2 Indata'!I$28)-1)+1)*$C235*$E235*$G235*$I235*$K235*$M235*$E69*$C69*Data!$C20,(((1+('Blad 2 Indata'!J$15/100))*(Data!BR20/Data!BQ20)/('Blad 2 Indata'!J$28/'Blad 2 Indata'!I$28)-1)+1)*$C235*$E235*$G235*$I235*$K235*$M235*$E69*$C69*Data!$C20)","v":74389013201.89534},{"$f":"IF($A$216=$A235,(((1+('Blad 2 Indata'!J$15/100))*(N$216/L$216)/('Blad 2 Indata'!J$28/'Blad 2 Indata'!I$28)-1)+1)*N$239,(((1+('Blad 2 Indata'!J$15/100))*(Data!BR20/Data!BQ20)/('Blad 2 Indata'!J$28/'Blad 2 Indata'!I$28)-1)+1)*N$239)","v":1.0265781132633578}]
[23,{"$f":"IF($A$216=$A236,(((1+('Blad 2 Indata'!D$15/100))*(B$216/Data!F21)/('Blad 2 Indata'!D$28/'Blad 2 Indata'!C$28)-1)+1)*E70*C70*Data!C21,(((1+('Blad 2 Indata'!D$15/100))*(Data!R21/Data!F21)/('Blad 2 Indata'!D$28/'Blad 2 Indata'!C$28)-1)+1)*E70*C70*Data!C21)","v":32916630291.418198},{"$f":"IF($A$216=$A236,(((1+('Blad 2 Indata'!D$15/100))*(B$216/Data!F21)/('Blad 2 Indata'!D$28/'Blad 2 Indata'!C$28)-1)+1)*$B$239,(((1+('Blad 2 Indata'!D$15/100))*(Data!R21/Data!F21)/('Blad 2 Indata'!D$28/'Blad 2 Indata'!C$28)-1)+1)*$B$239)","v":1.044803278562062},{"$f":"IF($A$216=A236,(((1+('Blad 2 Indata'!E$15/100))*($D$216/$B$216)/('Blad 2 Indata'!E$28/'Blad 2 Indata'!D$28)-1)+1)*C236*E70*C70*Data!C21,(((1+('Blad 2 Indata'!E$15/100))*(Data!S21/Data!R21)/('Blad 2 Indata'!E$28/'Blad 2 Indata'!D$28)-1)+1)*C236*E70*C70*Data!C21)","v":34159618453.80653},{"$f":"IF($A$216=A236,(((1+('Blad 2 Indata'!E$15/100))*($D$216/$B$216)/('Blad 2 Indata'!E$28/'Blad 2 Indata'!D$28)-1)+1)*$D$239,(((1+('Blad 2 Indata'!E$15/100))*(Data!S21/Data!R21)/('Blad 2 Indata'!E$28/'Blad 2 Indata'!D$28)-1)+1)*$D$239)","v":1.0377622503884008},{"$f":"IF($A$216=A236,(((1+('Blad 2 Indata'!F$15/100))*($F$216/$D$216)/('Blad 2 Indata'!F$28/'Blad 2 Indata'!E$28)-1)+1)*C236*E236*E70*C70*Data!C21,(((1+('Blad 2 Indata'!F$15/100))*(Data!T21/Data!S21)/('Blad 2 Indata'!F$28/'Blad 2 Indata'!E$28)-1)+1)*C236*E236*E70*C70*Data!C21)","v":35398655435.643105},{"$f":"IF($A$216=A236,(((1+('Blad 2 Indata'!F$15/100))*(F$216/D$216)/('Blad 2 Indata'!F$28/'Blad 2 Indata'!E$28)-1)+1)*$F$239,(((1+('Blad 2 Indata'!F$15/100))*(Data!T21/Data!S21)/('Blad 2 Indata'!F$28/'Blad 2 Indata'!E$28)-1)+1)*$F$239)","v":1.036272735534391},{"$f":"IF($A$216=A236,(((1+('Blad 2 Indata'!G$15/100))*($H$216/$F$216)/('Blad 2 Indata'!G$28/'Blad 2 Indata'!F$28)-1)+1)*C236*E236*G236*E70*C70*Data!C21,(((1+('Blad 2 Indata'!G$15/100))*(Data!U21/Data!T21)/('Blad 2 Indata'!G$28/'Blad 2 Indata'!F$28)-1)+1)*C236*E236*G236*E70*C70*Data!C21)","v":36706192921.270638},{"$f":"IF($A$216=A236,(((1+('Blad 2 Indata'!G$15/100))*(H$216/F$216)/('Blad 2 Indata'!G$28/'Blad 2 Indata'!F$28)-1)+1)*$H$239,(((1+('Blad 2 Indata'!G$15/100))*(Data!U21/Data!T21)/('Blad 2 Indata'!G$28/'Blad 2 Indata'!F$28)-1)+1)*$H$239)","v":1.0369376726487753},{"$f":"IF($A$216=$A236,(((1+('Blad 2 Indata'!H$15/100))*(J$216/H$216)/('Blad 2 Indata'!H$28/'Blad 2 Indata'!G$28)-1)+1)*$C236*$E236*$G236*$I236*$E70*$C70*Data!$C21,(((1+('Blad 2 Indata'!H$15/100))*(Data!BP21/Data!U21)/('Blad 2 Indata'!H$28/'Blad 2 Indata'!G$28)-1)+1)*$C236*$E236*$G236*$I236*$E70*$C70*Data!$C21)","v":38060937390.408508},{"$f":"IF($A$216=$A236,(((1+('Blad 2 Indata'!H$15/100))*(J$216/H$216)/('Blad 2 Indata'!H$28/'Blad 2 Indata'!G$28)-1)+1)*$J$239,(((1+('Blad 2 Indata'!H$15/100))*(Data!BP21/Data!U21)/('Blad 2 Indata'!H$28/'Blad 2 Indata'!G$28)-1)+1)*J$239)","v":1.0369086520127024},{"$f":"IF($A$216=$A236,(((1+('Blad 2 Indata'!I$15/100))*(L$216/J$216)/('Blad 2 Indata'!I$28/'Blad 2 Indata'!H$28)-1)+1)*$C236*$E236*$G236*$I236*$K236*$E70*$C70*Data!$C21,(((1+('Blad 2 Indata'!I$15/100))*(Data!BQ21/Data!BP21)/('Blad 2 Indata'!I$28/'Blad 2 Indata'!H$28)-1)+1)*$C236*$E236*$G236*$I236*$K236*$E70*$C70*Data!$C21)","v":39425606391.406754},{"$f":"IF($A$216=$A236,(((1+('Blad 2 Indata'!I$15/100))*(L$216/J$216)/('Blad 2 Indata'!I$28/'Blad 2 Indata'!H$28)-1)+1)*L$239,(((1+('Blad 2 Indata'!I$15/100))*(Data!BQ21/Data!BP21)/('Blad 2 Indata'!I$28/'Blad 2 Indata'!H$28)-1)+1)*L$239)","v":1.0358552367363218},{"$f":"IF($A$216=$A236,(((1+('Blad 2 Indata'!J$15/100))*(N$216/L$216)/('Blad 2 Indata'!J$28/'Blad 2 Indata'!I$28)-1)+1)*$C236*$E236*$G236*$I236*$K236*$M236*$E70*$C70*Data!$C21,(((1+('Blad 2 Indata'!J$15/100))*(Data!BR21/Data!BQ21)/('Blad 2 Indata'!J$28/'Blad 2 Indata'!I$28)-1)+1)*$C236*$E236*$G236*$I236*$K236*$M236*$E70*$C70*Data!$C21)","v":40715100196.71019},{"$f":"IF($A$216=$A236,(((1+('Blad 2 Indata'!J$15/100))*(N$216/L$216)/('Blad 2 Indata'!J$28/'Blad 2 Indata'!I$28)-1)+1)*N$239,(((1+('Blad 2 Indata'!J$15/100))*(Data!BR21/Data!BQ21)/('Blad 2 Indata'!J$28/'Blad 2 Indata'!I$28)-1)+1)*N$239)","v":1.0327076073153343}]
[24,{"$f":"IF($A$216=$A237,(((1+('Blad 2 Indata'!D$15/100))*(B$216/Data!F22)/('Blad 2 Indata'!D$28/'Blad 2 Indata'!C$28)-1)+1)*E71*C71*Data!C22,(((1+('Blad 2 Indata'!D$15/100))*(Data!R22/Data!F22)/('Blad 2 Indata'!D$28/'Blad 2 Indata'!C$28)-1)+1)*E71*C71*Data!C22)","v":74120734146.409882},{"$f":"IF($A$216=$A237,(((1+('Blad 2 Indata'!D$15/100))*(B$216/Data!F22)/('Blad 2 Indata'!D$28/'Blad 2 Indata'!C$28)-1)+1)*$B$239,(((1+('Blad 2 Indata'!D$15/100))*(Data!R22/Data!F22)/('Blad 2 Indata'!D$28/'Blad 2 Indata'!C$28)-1)+1)*$B$239)","v":1.0501670578700402},{"$f":"IF($A$216=A237,(((1+('Blad 2 Indata'!E$15/100))*($D$216/$B$216)/('Blad 2 Indata'!E$28/'Blad 2 Indata'!D$28)-1)+1)*C237*E71*C71*Data!C22,(((1+('Blad 2 Indata'!E$15/100))*(Data!S22/Data!R22)/('Blad 2 Indata'!E$28/'Blad 2 Indata'!D$28)-1)+1)*C237*E71*C71*Data!C22)","v":77314166214.286041},{"$f":"IF($A$216=A237,(((1+('Blad 2 Indata'!E$15/100))*($D$216/$B$216)/('Blad 2 Indata'!E$28/'Blad 2 Indata'!D$28)-1)+1)*$D$239,(((1+('Blad 2 Indata'!E$15/100))*(Data!S22/Data!R22)/('Blad 2 Indata'!E$28/'Blad 2 Indata'!D$28)-1)+1)*$D$239)","v":1.0430847394607963},{"$f":"IF($A$216=A237,(((1+('Blad 2 Indata'!F$15/100))*($F$216/$D$216)/('Blad 2 Indata'!F$28/'Blad 2 Indata'!E$28)-1)+1)*C237*E237*E71*C71*Data!C22,(((1+('Blad 2 Indata'!F$15/100))*(Data!T22/Data!S22)/('Blad 2 Indata'!F$28/'Blad 2 Indata'!E$28)-1)+1)*C237*E237*E71*C71*Data!C22)","v":80529716332.482361},{"$f":"IF($A$216=A237,(((1+('Blad 2 Indata'!F$15/100))*(F$216/D$216)/('Blad 2 Indata'!F$28/'Blad 2 Indata'!E$28)-1)+1)*$F$239,(((1+('Blad 2 Indata'!F$15/100))*(Data!T22/Data!S22)/('Blad 2 Indata'!F$28/'Blad 2 Indata'!E$28)-1)+1)*$F$239)","v":1.041591457611142},{"$f":"IF($A$216=A237,(((1+('Blad 2 Indata'!G$15/100))*($H$216/$F$216)/('Blad 2 Indata'!G$28/'Blad 2 Indata'!F$28)-1)+1)*C237*E237*G237*E71*C71*Data!C22,(((1+('Blad 2 Indata'!G$15/100))*(Data!U22/Data!T22)/('Blad 2 Indata'!G$28/'Blad 2 Indata'!F$28)-1)+1)*C237*E237*G237*E71*C71*Data!C22)","v":83932687361.348053},{"$f":"IF($A$216=A237,(((1+('Blad 2 Indata'!G$15/100))*(H$216/F$216)/('Blad 2 Indata'!G$28/'Blad 2 Indata'!F$28)-1)+1)*$H$239,(((1+('Blad 2 Indata'!G$15/100))*(Data!U22/Data!T22)/('Blad 2 Indata'!G$28/'Blad 2 Indata'!F$28)-1)+1)*$H$239)","v":1.0422575163276617},{"$f":"IF($A$216=$A237,(((1+('Blad 2 Indata'!H$15/100))*(J$216/H$216)/('Blad 2 Indata'!H$28/'Blad 2 Indata'!G$28)-1)+1)*$C237*$E237*$G237*$I237*$E71*$C71*Data!$C22,(((1+('Blad 2 Indata'!H$15/100))*(Data!BP22/Data!U22)/('Blad 2 Indata'!H$28/'Blad 2 Indata'!G$28)-1)+1)*$C237*$E237*$G237*$I237*$E71*$C71*Data!$C22)","v":87477267110.753311},{"$f":"IF($A$216=$A237,(((1+('Blad 2 Indata'!H$15/100))*(J$216/H$216)/('Blad 2 Indata'!H$28/'Blad 2 Indata'!G$28)-1)+1)*$J$239,(((1+('Blad 2 Indata'!H$15/100))*(Data!BP22/Data!U22)/('Blad 2 Indata'!H$28/'Blad 2 Indata'!G$28)-1)+1)*J$239)","v":1.0422320857631855},{"$f":"IF($A$216=$A237,(((1+('Blad 2 Indata'!I$15/100))*(L$216/J$216)/('Blad 2 Indata'!I$28/'Blad 2 Indata'!H$28)-1)+1)*$C237*$E237*$G237*$I237*$K237*$E71*$C71*Data!$C22,(((1+('Blad 2 Indata'!I$15/100))*(Data!BQ22/Data!BP22)/('Blad 2 Indata'!I$28/'Blad 2 Indata'!H$28)-1)+1)*$C237*$E237*$G237*$I237*$K237*$E71*$C71*Data!$C22)","v":91078746456.127914},{"$f":"IF($A$216=$A237,(((1+('Blad 2 Indata'!I$15/100))*(L$216/J$216)/('Blad 2 Indata'!I$28/'Blad 2 Indata'!H$28)-1)+1)*L$239,(((1+('Blad 2 Indata'!I$15/100))*(Data!BQ22/Data!BP22)/('Blad 2 Indata'!I$28/'Blad 2 Indata'!H$28)-1)+1)*L$239)","v":1.0411708542183009},{"$f":"IF($A$216=$A237,(((1+('Blad 2 Indata'!J$15/100))*(N$216/L$216)/('Blad 2 Indata'!J$28/'Blad 2 Indata'!I$28)-1)+1)*$C237*$E237*$G237*$I237*$K237*$M237*$E71*$C71*Data!$C22,(((1+('Blad 2 Indata'!J$15/100))*(Data!BR22/Data!BQ22)/('Blad 2 Indata'!J$28/'Blad 2 Indata'!I$28)-1)+1)*$C237*$E237*$G237*$I237*$K237*$M237*$E71*$C71*Data!$C22)","v":94540335401.68457},{"$f":"IF($A$216=$A237,(((1+('Blad 2 Indata'!J$15/100))*(N$216/L$216)/('Blad 2 Indata'!J$28/'Blad 2 Indata'!I$28)-1)+1)*N$239,(((1+('Blad 2 Indata'!J$15/100))*(Data!BR22/Data!BQ22)/('Blad 2 Indata'!J$28/'Blad 2 Indata'!I$28)-1)+1)*N$239)","v":1.0380071479181427}]
[25,{"$f":"IF($A$216=$A238,(((1+('Blad 2 Indata'!D$15/100))*(B$216/Data!F23)/('Blad 2 Indata'!D$28/'Blad 2 Indata'!C$28)-1)+1)*E72*C72*Data!C23,(((1+('Blad 2 Indata'!D$15/100))*(Data!R23/Data!F23)/('Blad 2 Indata'!D$28/'Blad 2 Indata'!C$28)-1)+1)*E72*C72*Data!C23)","v":68854861411.398468},{"$f":"IF($A$216=$A238,(((1+('Blad 2 Indata'!D$15/100))*(B$216/Data!F23)/('Blad 2 Indata'!D$28/'Blad 2 Indata'!C$28)-1)+1)*$B$239,(((1+('Blad 2 Indata'!D$15/100))*(Data!R23/Data!F23)/('Blad 2 Indata'!D$28/'Blad 2 Indata'!C$28)-1)+1)*$B$239)","v":1.0403317769102873},{"$f":"IF($A$216=A238,(((1+('Blad 2 Indata'!E$15/100))*($D$216/$B$216)/('Blad 2 Indata'!E$28/'Blad 2 Indata'!D$28)-1)+1)*C238*E72*C72*Data!C23,(((1+('Blad 2 Indata'!E$15/100))*(Data!S23/Data!R23)/('Blad 2 Indata'!E$28/'Blad 2 Indata'!D$28)-1)+1)*C238*E72*C72*Data!C23)","v":71148675222.818481},{"$f":"IF($A$216=A238,(((1+('Blad 2 Indata'!E$15/100))*($D$216/$B$216)/('Blad 2 Indata'!E$28/'Blad 2 Indata'!D$28)-1)+1)*$D$239,(((1+('Blad 2 Indata'!E$15/100))*(Data!S23/Data!R23)/('Blad 2 Indata'!E$28/'Blad 2 Indata'!D$28)-1)+1)*$D$239)","v":1.0333142931381312},{"$f":"IF($A$216=A238,(((1+('Blad 2 Indata'!F$15/100))*($F$216/$D$216)/('Blad 2 Indata'!F$28/'Blad 2 Indata'!E$28)-1)+1)*C238*E238*E72*C72*Data!C23,(((1+('Blad 2 Indata'!F$15/100))*(Data!T23/Data!S23)/('Blad 2 Indata'!F$28/'Blad 2 Indata'!E$28)-1)+1)*C238*E238*E72*C72*Data!C23)","v":73413724749.810425},{"$f":"IF($A$216=A238,(((1+('Blad 2 Indata'!F$15/100))*(F$216/D$216)/('Blad 2 Indata'!F$28/'Blad 2 Indata'!E$28)-1)+1)*$F$239,(((1+('Blad 2 Indata'!F$15/100))*(Data!T23/Data!S23)/('Blad 2 Indata'!F$28/'Blad 2 Indata'!E$28)-1)+1)*$F$239)","v":1.031836194802396},{"$f":"IF($A$216=A238,(((1+('Blad 2 Indata'!G$15/100))*($H$216/$F$216)/('Blad 2 Indata'!G$28/'Blad 2 Indata'!F$28)-1)+1)*C238*E238*G238*E72*C72*Data!C23,(((1+('Blad 2 Indata'!G$15/100))*(Data!U23/Data!T23)/('Blad 2 Indata'!G$28/'Blad 2 Indata'!F$28)-1)+1)*C238*E238*G238*E72*C72*Data!C23)","v":75799198217.145233},{"$f":"IF($A$216=A238,(((1+('Blad 2 Indata'!G$15/100))*(H$216/F$216)/('Blad 2 Indata'!G$28/'Blad 2 Indata'!F$28)-1)+1)*$H$239,(((1+('Blad 2 Indata'!G$15/100))*(Data!U23/Data!T23)/('Blad 2 Indata'!G$28/'Blad 2 Indata'!F$28)-1)+1)*$H$239)","v":1.0324937444287914},{"$f":"IF($A$216=$A238,(((1+('Blad 2 Indata'!H$15/100))*(J$216/H$216)/('Blad 2 Indata'!H$28/'Blad 2 Indata'!G$28)-1)+1)*$C238*$E238*$G238*$I238*$E72*$C72*Data!$C23,(((1+('Blad 2 Indata'!H$15/100))*(Data!BP23/Data!U23)/('Blad 2 Indata'!H$28/'Blad 2 Indata'!G$28)-1)+1)*$C238*$E238*$G238*$I238*$E72*$C72*Data!$C23)","v":78260326928.923019},{"$f":"IF($A$216=$A238,(((1+('Blad 2 Indata'!H$15/100))*(J$216/H$216)/('Blad 2 Indata'!H$28/'Blad 2 Indata'!G$28)-1)+1)*$J$239,(((1+('Blad 2 Indata'!H$15/100))*(Data!BP23/Data!U23)/('Blad 2 Indata'!H$28/'Blad 2 Indata'!G$28)-1)+1)*J$239)","v":1.0324699180350752},{"$f":"IF($A$216=$A238,(((1+('Blad 2 Indata'!I$15/100))*(L$216/J$216)/('Blad 2 Indata'!I$28/'Blad 2 Indata'!H$28)-1)+1)*$C238*$E238*$G238*$I238*$K238*$E72*$C72*Data!$C23,(((1+('Blad 2 Indata'!I$15/100))*(Data!BQ23/Data!BP23)/('Blad 2 Indata'!I$28/'Blad 2 Indata'!H$28)-1)+1)*$C238*$E238*$G238*$I238*$K238*$E72*$C72*Data!$C23)","v":80719266795.684845},{"$f":"IF($A$216=$A238,(((1+('Blad 2 Indata'!I$15/100))*(L$216/J$216)/('Blad 2 Indata'!I$28/'Blad 2 Indata'!H$28)-1)+1)*L$239,(((1+('Blad 2 Indata'!I$15/100))*(Data!BQ23/Data!BP23)/('Blad 2 Indata'!I$28/'Blad 2 Indata'!H$28)-1)+1)*L$239)","v":1.0314203953555079},{"$f":"IF($A$216=$A238,(((1+('Blad 2 Indata'!J$15/100))*(N$216/L$216)/('Blad 2 Indata'!J$28/'Blad 2 Indata'!I$28)-1)+1)*$C238*$E238*$G238*$I238*$K238*$M238*$E72*$C72*Data!$C23,(((1+('Blad 2 Indata'!J$15/100))*(Data!BR23/Data!BQ23)/('Blad 2 Indata'!J$28/'Blad 2 Indata'!I$28)-1)+1)*$C238*$E238*$G238*$I238*$K238*$M238*$E72*$C72*Data!$C23)","v":83002172688.301559},{"$f":"IF($A$216=$A238,(((1+('Blad 2 Indata'!J$15/100))*(N$216/L$216)/('Blad 2 Indata'!J$28/'Blad 2 Indata'!I$28)-1)+1)*N$239,(((1+('Blad 2 Indata'!J$15/100))*(Data!BR23/Data!BQ23)/('Blad 2 Indata'!J$28/'Blad 2 Indata'!I$28)-1)+1)*N$239)","v":1.0282826366235769}]
[null,{"$f":"(1+('Blad 2 Indata'!D15/100))/(SUM(B218:B238)/SUMPRODUCT(E52:E72,C52:C72,Data!C3:C23))","v":0.99969489370846276},null,{"$f":"(1+('Blad 2 Indata'!E15/100))/(SUM(D218:D238)/SUMPRODUCT(Data!C3:C23,'Blad 8 Periodisering'!C52:C72,'Blad 8 Periodisering'!E52:E72,'Blad 8 Periodisering'!C218:C238))","v":0.9996954167577935},null,{"$f":"(1+('Blad 2 Indata'!F15/100))/(SUM(F218:F238)/SUMPRODUCT(E218:E238,C218:C238,E52:E72,C52:C72,Data!C3:C23))","v":0.99969614606313273},null,{"$f":"(1+('Blad 2 Indata'!G15/100))/(SUM(H218:H238)/SUMPRODUCT(E218:E238,C218:C238,G218:G238,E52:E72,C52:C72,Data!C3:C23))","v":0.99969632203065484},null,{"$f":"(1+('Blad 2 Indata'!H15/100))/(SUM(J218:J238)/SUMPRODUCT($C218:$C238,$E218:$E238,$G218:$G238,$I218:$I238,$C52:$C72,$E52:$E72,Data!$C3:$C23))","v":0.99969715286932126},null,{"$f":"(1+('Blad 2 Indata'!I15/100))/(SUM(L218:L238)/SUMPRODUCT($C218:$C238,$E218:$E238,$G218:$G238,$I218:$I238,$K218:$K238,$C52:$C72,$E52:$E72,Data!$C3:$C23))","v":0.99969753117733462},null,{"$f":"(1+('Blad 2 Indata'!J15/100))/(SUM(N218:N238)/SUMPRODUCT($C218:$C238,$E218:$E238,$G218:$G238,$I218:$I238,$K218:$K238,$M218:$M238,$C52:$C72,$E52:$E72,Data!$C3:$C23))","v":0.99969810687587424}]
[]
[]
[null,"OBS inskrivna värden, måste uppdateras manuellt vid nytt år"]
["Genomsnittlig skatteunderlagsförändring före slutlig taxering i nov"]
[null,"Inkomstår","Inkomstår","Inkomstår","Inkomstår","Inkomstår","Inkomstår","Inkomstår","Inkomstår","Inkomstår","Inkomstår","Inkomstår","Inkomstår",null,null,"Egen skatteunderlagstillväxt kalibrerad till riksprognos"]
[null,2020,2021,{"$f":"'Blad 2 Indata'!B3-1","v":2022},{"$f":"'Blad 2 Indata'!B3","v":2023},{"$f":"E245+1","v":2024},2025,2026,2027,2028,2029,2030,2031,null,"Snitt 2020-2022",{"$f":"B210","v":2023},2024,2025,2026,2027,2028,2029,2030,2031]
[1,654234538600,693346765800,{"$f":"Data!C3","v":738729512300},{"$f":"IF(Data!D3>0,Data!D3*$B$73,D246*(1+P246))","v":781324583973.32166},{"$f":"E246*(1+Q246)","v":808002919456.21899},{"$f":"F246*(1+R246)","v":852952952738.40076},{"$f":"G246*(1+S246)","v":894317054574.56934},{"$f":"H246*(1+T246)","v":936331866999.75256},{"$f":"I246*(1+U246)","v":980929368169.12146},{"$f":"J246*(1+V246)","v":1027612265420.3276},{"$f":"K246*(1+W246)","v":1075405223609.8734},{"$f":"L246*(1+X246)","v":1121982082429.415},null,{"$f":"(D246/B246)^(1/2)-1","v":6.2615119024091559E-2},{"$f":"IF(Data!D3>0,E246/D246-1,(1+$O246)*P$267-1)","v":5.7659902527386286E-2},{"$f":"(1+$O246)*Q$267-1","v":3.4145009679880101E-2},5.5631028304245378E-2,4.8495173975738437E-2,4.6979773236204059E-2,4.7630015319537033E-2,4.7590477730663272E-2,4.650874634120572E-2,4.3310984359174354E-2]
[3,87777093200,92547135500,{"$f":"Data!C4","v":98047898100},{"$f":"IF(Data!D4>0,Data!D4*$B$73,D247*(1+P247))","v":103142317088.48434},{"$f":"E247*(1+Q247)","v":106089128046.61897},111387275843.16965,116159457289.27931,120961014778.37881,126039278990.8618,131325785777.29282,136692732811.37506,141844258633.53302,null,{"$f":"(D247/B247)^(1/2)-1","v":5.6886977073228095E-2},{"$f":"IF(Data!D4>0,E247/D247-1,(1+$O247)*P$267-1)","v":5.1958472208027295E-2},2.8570338938639583E-2,4.9940534851247831E-2,4.2843147118785563E-2,4.1335915311156102E-2,4.1982652194074488E-2,4.194332773685816E-2,4.0867427537678802E-2,3.7686903438141517E-2]
[4,61199110500,64295809300,{"$f":"Data!C5","v":67899505600},{"$f":"IF(Data!D5>0,Data!D5*$B$73,D248*(1+P248))","v":71186462550.368027},72973237267.213608,76359050646.041611,79361837805.499466,82363495194.418747,85531770338.074829,88818567324.866638,92136431165.746384,95286182128.458252,null,5.3321020087033322E-2,{"$f":"IF(Data!D5>0,E248/D248-1,(1+$O248)*P$267-1)","v":4.8409144092030454E-2},2.5099922834083133E-2,4.6398015294700778E-2,3.9324574284941294E-2,3.7822427906417211E-2,3.8466982686654827E-2,3.8427790910913417E-2,3.7355520819697396E-2,3.4185727869638249E-2]
[5,100406146100,105061893900,{"$f":"Data!C6","v":110523421200},{"$f":"IF(Data!D6>0,Data!D6*$B$73,D249*(1+P249))","v":115417424760.78242},117848440734.99139,122830722922.17188,127158227034.17432,131447937355.48643,135966753709.29063,140635606672.80191,145314574153.71078,149690408492.13974,null,4.917277126241193E-2,{"$f":"IF(Data!D6>0,E249/D249-1,(1+$O249)*P$267-1)","v":4.4280239497168417E-2},2.1062815941765844E-2,4.2277031041795921E-2,3.5231447060231291E-2,3.3735216520117461E-2,3.4377232878014308E-2,3.4338195449556075E-2,3.3270148233475405E-2,3.0112838742522019E-2]
[6,77213059500,81094591800,{"$f":"Data!C7","v":85347087200},{"$f":"IF(Data!D7>0,Data!D7*$B$73,D250*(1+P250))","v":89311570031.660736},91382312701.415604,95443701182.423325,99011739052.587662,102564710969.6416,106311164095.70309,110190307799.93875,114093062834.50995,117773070854.71028,null,5.1353999580739274E-2,{"$f":"IF(Data!D7>0,E250/D250-1,(1+$O250)*P$267-1)","v":4.6451296250690666E-2},2.3185603713167247E-2,4.4443923128515861E-2,3.7383691390432183E-2,3.5884350189696823E-2,3.6527701298455506E-2,3.6488582711253104E-2,3.5418315026917169E-2,3.2254441495168873E-2]
[7,41685824500,43674905400,{"$f":"Data!C8","v":45951168000},{"$f":"IF(Data!D8>0,Data!D8*$B$73,D251*(1+P251))","v":48019837219.698135},49065950102.302917,51176484416.495155,53016978500.641129,54844281773.089462,56769801403.380669,58760706097.881081,60758627792.494858,62632511309.63932,null,4.9914852709990409E-2,{"$f":"IF(Data!D8>0,E251/D251-1,(1+$O251)*P$267-1)","v":4.5018860449817844E-2},2.1785015176512434E-2,4.3014235122152078E-2,3.5963667788652343E-2,3.4466378962472177E-2,3.5108849419485111E-2,3.5069784379796243E-2,3.4000981732345448E-2,3.0841439071735088E-2]
[8,50200679700,52443846400,{"$f":"Data!C9","v":54944361900},{"$f":"IF(Data!D9>0,Data!D9*$B$73,D252*(1+P252))","v":57213689071.404739},58252178222.207161,60541767245.982079,62496012350.667511,64420097309.558807,66444660508.682625,68530264254.433807,70608347314.021851,72527148623.922333,null,4.6180855261512388E-2,{"$f":"IF(Data!D9>0,E252/D252-1,(1+$O252)*P$267-1)","v":4.1302275482513862E-2},1.8151060832772847E-2,3.9304779557617797E-2,3.227928740080066E-2,3.0787323647070153E-2,3.1427509173032719E-2,3.1388583067237574E-2,3.0323581591232385E-2,2.7175275769688367E-2]
[9,11863818400,12461503100,{"$f":"Data!C10","v":13253562500},{"$f":"IF(Data!D10>0,Data!D10*$B$73,D253*(1+P253))","v":13943016766.016823},14342216348.327679,15059359316.45747,15705472646.882383,16355633926.715195,17043288422.130049,17759184330.96505,18486042902.8036,19183852018.745468,null,5.6949092160234471E-2,{"$f":"IF(Data!D10>0,E253/D253-1,(1+$O253)*P$267-1)","v":5.2020297638225355E-2},2.8630789807541523E-2,5.0002241683755555E-2,4.2904436825464076E-2,4.1397116435198278E-2,4.2043891327968819E-2,4.2004564559585678E-2,4.0928601127879105E-2,3.7747890103405402E-2]
[10,33069871600,34473909900,{"$f":"Data!C11","v":36016842000},{"$f":"IF(Data!D11>0,Data!D11*$B$73,D254*(1+P254))","v":37412113289.792458},37997432445.971664,39393717734.177422,40565232994.139763,41711214614.5513,42916207799.655853,44154345523.149841,45381294961.784355,46499815999.685486,null,4.3605984810416443E-2,{"$f":"IF(Data!D11>0,E254/D254-1,(1+$O254)*P$267-1)","v":3.873941223920907E-2},1.5645177583136105E-2,3.6746832570625054E-2,2.9738631623131839E-2,2.8250339905038668E-2,2.8888949800185859E-2,2.8850119499699067E-2,2.7787739215639151E-2,2.4647182034867932E-2]
[12,294585390800,311628985500,{"$f":"Data!C12","v":329132672800},{"$f":"IF(Data!D12>0,Data!D12*$B$73,D255*(1+P255))","v":346274843215.2243},356210147071.46002,374043694990.33887,390115026789.07996,406288823448.46106,423395963316.8999,441206762217.47754,459292049048.01819,476657698712.97101,null,5.7011946094012833E-2,{"$f":"IF(Data!D12>0,E255/D255-1,(1+$O255)*P$267-1)","v":5.2082858469784554E-2},2.8691959727667804E-2,5.0064682506928193E-2,4.296645556117773E-2,4.1459045534602446E-2,4.2105858889344816E-2,4.2066529782303963E-2,4.0990502365931825E-2,3.7809602193085823E-2]
[13,75992457900,80133784100,{"$f":"Data!C13","v":84868520600},{"$f":"IF(Data!D13>0,Data!D13*$B$73,D256*(1+P256))","v":89269838886.536484},91811751139.564438,96387895277.294708,100508088213.33524,104652927874.83327,109036372627.5865,113599132949.22163,118230617615.78809,122674929586.27406,null,5.6788479256185687E-2,{"$f":"IF(Data!D13>0,E256/D256-1,(1+$O256)*P$267-1)","v":5.1860433708755815E-2},{"$f":"(1+$O256)*Q$267-1","v":2.847448012378262E-2},4.9842684416006922E-2,4.2745958132889061E-2,4.1238866793489537E-2,4.1885543403008318E-2,4.1846222610680828E-2,4.0770422681277951E-2,3.7590194994401305E-2]
[14,393522198700,414054642800,{"$f":"Data!C14","v":438859736500},{"$f":"IF(Data!D14>0,Data!D14*$B$73,D257*(1+P257))","v":461289998044.16803},474086663991.44135,497361479211.56549,518251827243.90033,539239123016.49445,561424791843.70203,584501175580.67407,607897715791.67139,630298903319.25952,null,5.6034851154357357E-2,{"$f":"IF(Data!D14>0,E257/D257-1,(1+$O257)*P$267-1)","v":5.1110319946537253E-2},2.774104359845242E-2,4.9094009572360209E-2,4.2002344181240048E-2,4.0496327594648385E-2,4.1142543039350166E-2,4.1103250287878978E-2,4.0028217544223033E-2,3.6850257774722506E-2]
[17,57121584600,59733799800,{"$f":"Data!C15","v":62868645800},{"$f":"IF(Data!D15>0,Data!D15*$B$73,D258*(1+P258))","v":65647937221.019409},67026024911.035156,69854847572.560822,72310926135.919479,74745173470.737976,77309350676.225708,79958475741.99408,82612983683.357529,85094800830.560745,null,4.9100102667102963E-2,{"$f":"IF(Data!D15>0,E258/D258-1,(1+$O258)*P$267-1)","v":4.4207909772082443E-2},2.0992094319370436E-2,4.2204840064443916E-2,3.5159744079427568E-2,3.3663617172361437E-2,3.4305589062437303E-2,3.4266554337818667E-2,3.3198581097629631E-2,3.0041490290625861E-2]
[18,63576531700,66569050200,{"$f":"Data!C16","v":70099103500},{"$f":"IF(Data!D16>0,Data!D16*$B$73,D259*(1+P259))","v":73263949822.246262},74869269262.889435,78099376440.475281,80918128044.71666,83717440830.55896,86667386755.514984,89717893646.055237,92779869275.422775,95653168625.461212,null,5.0044769240088716E-2,{"$f":"IF(Data!D16>0,E259/D259-1,(1+$O259)*P$267-1)","v":4.5148171149524963E-2},2.1911450918739916E-2,4.3143297769394851E-2,3.6091857998248322E-2,3.4594383897454506E-2,3.5236933853802332E-2,3.5197863980202859E-2,3.4128929079045189E-2,3.0968995456426729E-2]
[19,59673716800,62344887700,{"$f":"Data!C17","v":65808779400},{"$f":"IF(Data!D17>0,Data!D17*$B$73,D260*(1+P260))","v":68786665677.319046},70300769931.473938,73340963488.686249,75995421739.068512,78632141509.754105,81410874336.934631,84284622068.08165,87169707509.486542,89878072723.943192,null,5.0147670713571513E-2,{"$f":"IF(Data!D17>0,E260/D260-1,(1+$O260)*P$267-1)","v":4.5250592769983111E-2},2.2011595405098117E-2,4.3245522917825241E-2,3.619339212514916E-2,3.4695771276048948E-2,3.5338384200509498E-2,3.52993104981707E-2,3.4230270844359145E-2,3.1070027557014601E-2]
[20,59269549500,61634176500,{"$f":"Data!C18","v":64577554300},{"$f":"IF(Data!D18>0,Data!D18*$B$73,D261*(1+P261))","v":67092909547.375679},68156465300.052261,70675387588.55423,72791995872.726791,74863635209.929352,77042051201.929932,79280863554.767715,81500491356.193146,83526253046.578156,null,4.3818484995218343E-2,{"$f":"IF(Data!D18>0,E261/D261-1,(1+$O261)*P$267-1)","v":3.895092148721524E-2},1.5851984357983184E-2,3.6957936087393284E-2,2.9948308122407008E-2,2.8459713356736582E-2,2.9098453286324766E-2,2.9059615079169987E-2,2.7997018472081914E-2,2.4855821807644451E-2]
[21,59354405300,62306894800,{"$f":"Data!C19","v":65051375300},{"$f":"IF(Data!D19>0,Data!D19*$B$73,D262*(1+P262))","v":67784171817.122025},69061420412.424652,71824634559.829483,74193461300.138153,76529644435.706848,78988415118.563965,81523105229.209213,84052250779.688431,86395057699.981781,null,4.6891713906514365E-2,{"$f":"IF(Data!D19>0,E262/D262-1,(1+$O262)*P$267-1)","v":4.2009819231631607E-2},1.884287380169769E-2,4.0010966048820373E-2,3.2980700212758451E-2,3.1487722699956366E-2,3.2128343218982947E-2,3.208939066368921E-2,3.1023665540809597E-2,2.7873220509396557E-2]
[22,52389871500,54358079800,{"$f":"Data!C20","v":56664236600},{"$f":"IF(Data!D20>0,Data!D20*$B$73,D263*(1+P263))","v":58655662683.229935},59367156761.079247,61335690763.265594,62941133550.597343,64495247749.618431,66128780191.955986,67801127749.917503,69443986448.543243,70909314531.029907,null,3.9994049640222684E-2,{"$f":"IF(Data!D20>0,E263/D263-1,(1+$O263)*P$267-1)","v":3.5144320345964708E-2},1.213001516480583E-2,3.3158637023980031E-2,2.6174691559734731E-2,2.4691550840465259E-2,2.5327950497674001E-2,2.5289254589410115E-2,2.4230551218637153E-2,2.1100863550977733E-2]
[23,26522130200,27689423900,{"$f":"Data!C21","v":29396356800},{"$f":"IF(Data!D21>0,Data!D21*$B$73,D264*(1+P264))","v":30803928931.884289},31561244246.306362,33009034835.84082,34289868898.67897,35568920033.469437,36918595833.091583,38318039400.553612,39729463901.815712,41067006551.342468,null,5.2791945450465283E-2,{"$f":"IF(Data!D21>0,E264/D264-1,(1+$O264)*P$267-1)","v":4.7882536651082219E-2},2.4585023426612285E-2,4.5872418027495643E-2,3.8802529949995224E-2,3.7301138087458385E-2,3.7945369113038474E-2,3.7906197023009458E-2,3.6834465524395066E-2,3.3666264735719986E-2]
[24,58301750700,61388192800,{"$f":"Data!C22","v":65185171000},{"$f":"IF(Data!D22>0,Data!D22*$B$73,D265*(1+P265))","v":68604478091.010178},70597857465.858292,74158559262.844009,77372269416.268692,80608574800.349197,84032404609.496735,87598354676.182892,91221335720.002747,94703890985.576645,null,5.7386123149195445E-2,{"$f":"IF(Data!D22>0,E265/D265-1,(1+$O265)*P$267-1)","v":5.2455290652074549E-2},2.9056111646293958E-2,5.0436400264805448E-2,4.3335660581459878E-2,4.1827716939113468E-2,4.2474759262617567E-2,4.2435416233265411E-2,4.1359007908454481E-2,3.8176981712516822E-2]
[25,56662782400,59165957800,{"$f":"Data!C23","v":62287975500},{"$f":"IF(Data!D23>0,Data!D23*$B$73,D266*(1+P266))","v":65002105490.508347},66326340087.59494,69083661754.682419,71469205406.685181,73830262731.114716,76316688142.312042,78883873180.067078,81453219963.505661,83849254521.94426,null,4.8463122106013889E-2,{"$f":"IF(Data!D23>0,E266/D266-1,(1+$O266)*P$267-1)","v":4.3573899596533572E-2},2.0372180056228428E-2,4.1572046089773274E-2,3.4531227665289155E-2,3.3036009159389312E-2,3.3677591264340112E-2,3.363858024037758E-2,3.2571255439924673E-2,2.9416081519086923E-2]
[null,{"$f":"SUM(B246:B266)","v":2374622512200},{"$f":"SUM(C246:C266)","v":2500408236800},{"$f":"SUM(D246:D266)","v":2645513486900},2779447504179.1733,2855328925906.4482,2994320257791.2578,3118949364859.5552,3244172168032.6201,3376623968091.1147,3514460459195.8599,3654260028639.8149,3788127681625.1714,null,null,{"$f":"(B$211*D$267)/SUMPRODUCT(1+$O$246:$O$266,D$246:D$266)","v":0.99533677207486371},0.9732075058650036,0.99342745026415546,0.98671207966500518,0.98528597466009415,0.98589790090854634,0.98586069309156177,0.9848427032567747,0.98183337097382339]
[]
[]
["Genomsnittlig skatteunderlagsförändring efter slutlig taxering i nov"]
[null,null,{"$f":"C244","v":"Inkomstår"},"Inkomstår","Inkomstår","Inkomstår","Inkomstår","Inkomstår","Inkomstår","Inkomstår","Inkomstår","Inkomstår","Inkomstår",null,null,null,"Egen skatteunderlagstillväxt kalibrerad till riksprognos"]
[null,null,{"$f":"C245","v":2021},2022,2023,2024,2025,2026,2027,2028,2029,2030,2031,null,"Snitt tre år",null,{"$f":"Q245","v":2024},2025,2026,2027,2028,2029,2030,2031]
[1,null,{"$f":"C246","v":693346765800},738729512300,{"$f":"Data!D3","v":0},{"$f":"E273*(1+Q273)","v":{"$error":"#DIV/0!"}},{"$f":"F273*(1+R273)","v":{"$error":"#DIV/0!"}},{"$f":"G273*(1+S273)","v":{"$error":"#DIV/0!"}},{"$f":"H273*(1+T273)","v":{"$error":"#DIV/0!"}},{"$f":"I273*(1+U273)","v":{"$error":"#DIV/0!"}},{"$f":"J273*(1+V273)","v":{"$error":"#DIV/0!"}},{"$f":"K273*(1+W273)","v":{"$error":"#DIV/0!"}},{"$f":"L273*(1+X273)","v":{"$error":"#DIV/0!"}},null,{"$f":"(E273/C273)^(1/2)-1","v":-1},null,{"$f":"(1+$O273)*Q$294-1","v":{"$error":"#DIV/0!"}},{"$error":"#DIV/0!"},{"$error":"#DIV/0!"},{"$error":"#DIV/0!"},{"$error":"#DIV/0!"},{"$error":"#DIV/0!"},{"$error":"#DIV/0!"},{"$error":"#DIV/0!"}]
[3,null,92547135500,98047898100,{"$f":"Data!D4","v":0},{"$error":"#DIV/0!"},{"$error":"#DIV/0!"},{"$error":"#DIV/0!"},{"$error":"#DIV/0!"},{"$error":"#DIV/0!"},{"$error":"#DIV/0!"},{"$error":"#DIV/0!"},{"$error":"#DIV/0!"},null,-1,null,{"$error":"#DIV/0!"},{"$error":"#DIV/0!"},{"$error":"#DIV/0!"},{"$error":"#DIV/0!"},{"$error":"#DIV/0!"},{"$error":"#DIV/0!"},{"$error":"#DIV/0!"},{"$error":"#DIV/0!"}]
[4,null,64295809300,67899505600,{"$f":"Data!D5","v":0},{"$error":"#DIV/0!"},{"$error":"#DIV/0!"},{"$error":"#DIV/0!"},{"$error":"#DIV/0!"},{"$error":"#DIV/0!"},{"$error":"#DIV/0!"},{"$error":"#DIV/0!"},{"$error":"#DIV/0!"},null,-1,null,{"$error":"#DIV/0!"},{"$error":"#DIV/0!"},{"$error":"#DIV/0!"},{"$error":"#DIV/0!"},{"$error":"#DIV/0!"},{"$error":"#DIV/0!"},{"$error":"#DIV/0!"},{"$error":"#DIV/0!"}]
[5,null,105061893900,110523421200,{"$f":"Data!D6","v":0},{"$error":"#DIV/0!"},{"$error":"#DIV/0!"},{"$error":"#DIV/0!"},{"$error":"#DIV/0!"},{"$error":"#DIV/0!"},{"$error":"#DIV/0!"},{"$error":"#DIV/0!"},{"$error":"#DIV/0!"},null,-1,null,{"$error":"#DIV/0!"},{"$error":"#DIV/0!"},{"$error":"#DIV/0!"},{"$error":"#DIV/0!"},{"$error":"#DIV/0!"},{"$error":"#DIV/0!"},{"$error":"#DIV/0!"},{"$error":"#DIV/0!"}]
[6,null,81094591800,85347087200,{"$f":"Data!D7","v":0},{"$error":"#DIV/0!"},{"$error":"#DIV/0!"},{"$error":"#DIV/0!"},{"$error":"#DIV/0!"},{"$error":"#DIV/0!"},{"$error":"#DIV/0!"},{"$error":"#DIV/0!"},{"$error":"#DIV/0!"},null,-1,null,{"$error":"#DIV/0!"},{"$error":"#DIV/0!"},{"$error":"#DIV/0!"},{"$error":"#DIV/0!"},{"$error":"#DIV/0!"},{"$error":"#DIV/0!"},{"$error":"#DIV/0!"},{"$error":"#DIV/0!"}]
[7,null,43674905400,45951168000,{"$f":"Data!D8","v":0},{"$error":"#DIV/0!"},{"$error":"#DIV/0!"},{"$error":"#DIV/0!"},{"$error":"#DIV/0!"},{"$error":"#DIV/0!"},{"$error":"#DIV/0!"},{"$error":"#DIV/0!"},{"$error":"#DIV/0!"},null,-1,null,{"$error":"#DIV/0!"},{"$error":"#DIV/0!"},{"$error":"#DIV/0!"},{"$error":"#DIV/0!"},{"$error":"#DIV/0!"},{"$error":"#DIV/0!"},{"$error":"#DIV/0!"},{"$error":"#DIV/0!"}]
[8,null,52443846400,54944361900,{"$f":"Data!D9","v":0},{"$error":"#DIV/0!"},{"$error":"#DIV/0!"},{"$error":"#DIV/0!"},{"$error":"#DIV/0!"},{"$error":"#DIV/0!"},{"$error":"#DIV/0!"},{"$error":"#DIV/0!"},{"$error":"#DIV/0!"},null,-1,null,{"$error":"#DIV/0!"},{"$error":"#DIV/0!"},{"$error":"#DIV/0!"},{"$error":"#DIV/0!"},{"$error":"#DIV/0!"},{"$error":"#DIV/0!"},{"$error":"#DIV/0!"},{"$error":"#DIV/0!"}]
[9,null,12461503100,13253562500,{"$f":"Data!D10","v":0},{"$error":"#DIV/0!"},{"$error":"#DIV/0!"},{"$error":"#DIV/0!"},{"$error":"#DIV/0!"},{"$error":"#DIV/0!"},{"$error":"#DIV/0!"},{"$error":"#DIV/0!"},{"$error":"#DIV/0!"},null,-1,null,{"$error":"#DIV/0!"},{"$error":"#DIV/0!"},{"$error":"#DIV/0!"},{"$error":"#DIV/0!"},{"$error":"#DIV/0!"},{"$error":"#DIV/0!"},{"$error":"#DIV/0!"},{"$error":"#DIV/0!"}]
[10,null,34473909900,36016842000,{"$f":"Data!D11","v":0},{"$error":"#DIV/0!"},{"$error":"#DIV/0!"},{"$error":"#DIV/0!"},{"$error":"#DIV/0!"},{"$error":"#DIV/0!"},{"$error":"#DIV/0!"},{"$error":"#DIV/0!"},{"$error":"#DIV/0!"},null,-1,null,{"$error":"#DIV/0!"},{"$error":"#DIV/0!"},{"$error":"#DIV/0!"},{"$error":"#DIV/0!"},{"$error":"#DIV/0!"},{"$error":"#DIV/0!"},{"$error":"#DIV/0!"},{"$error":"#DIV/0!"}]
[12,null,311628985500,329132672800,{"$f":"Data!D12","v":0},{"$error":"#DIV/0!"},{"$error":"#DIV/0!"},{"$error":"#DIV/0!"},{"$error":"#DIV/0!"},{"$error":"#DIV/0!"},{"$error":"#DIV/0!"},{"$error":"#DIV/0!"},{"$error":"#DIV/0!"},null,-1,null,{"$error":"#DIV/0!"},{"$error":"#DIV/0!"},{"$error":"#DIV/0!"},{"$error":"#DIV/0!"},{"$error":"#DIV/0!"},{"$error":"#DIV/0!"},{"$error":"#DIV/0!"},{"$error":"#DIV/0!"}]
[13,null,80133784100,84868520600,{"$f":"Data!D13","v":0},{"$error":"#DIV/0!"},{"$error":"#DIV/0!"},{"$error":"#DIV/0!"},{"$error":"#DIV/0!"},{"$error":"#DIV/0!"},{"$error":"#DIV/0!"},{"$error":"#DIV/0!"},{"$error":"#DIV/0!"},null,-1,null,{"$f":"(1+$O283)*Q$294-1","v":{"$error":"#DIV/0!"}},{"$error":"#DIV/0!"},{"$error":"#DIV/0!"},{"$error":"#DIV/0!"},{"$error":"#DIV/0!"},{"$error":"#DIV/0!"},{"$error":"#DIV/0!"},{"$error":"#DIV/0!"}]
[14,null,414054642800,438859736500,{"$f":"Data!D14","v":0},{"$error":"#DIV/0!"},{"$error":"#DIV/0!"},{"$error":"#DIV/0!"},{"$error":"#DIV/0!"},{"$error":"#DIV/0!"},{"$error":"#DIV/0!"},{"$error":"#DIV/0!"},{"$error":"#DIV/0!"},null,-1,null,{"$error":"#DIV/0!"},{"$error":"#DIV/0!"},{"$error":"#DIV/0!"},{"$error":"#DIV/0!"},{"$error":"#DIV/0!"},{"$error":"#DIV/0!"},{"$error":"#DIV/0!"},{"$error":"#DIV/0!"}]
[17,null,59733799800,62868645800,{"$f":"Data!D15","v":0},{"$error":"#DIV/0!"},{"$error":"#DIV/0!"},{"$error":"#DIV/0!"},{"$error":"#DIV/0!"},{"$error":"#DIV/0!"},{"$error":"#DIV/0!"},{"$error":"#DIV/0!"},{"$error":"#DIV/0!"},null,-1,null,{"$error":"#DIV/0!"},{"$error":"#DIV/0!"},{"$error":"#DIV/0!"},{"$error":"#DIV/0!"},{"$error":"#DIV/0!"},{"$error":"#DIV/0!"},{"$error":"#DIV/0!"},{"$error":"#DIV/0!"}]
[18,null,66569050200,70099103500,{"$f":"Data!D16","v":0},{"$error":"#DIV/0!"},{"$error":"#DIV/0!"},{"$error":"#DIV/0!"},{"$error":"#DIV/0!"},{"$error":"#DIV/0!"},{"$error":"#DIV/0!"},{"$error":"#DIV/0!"},{"$error":"#DIV/0!"},null,-1,null,{"$error":"#DIV/0!"},{"$error":"#DIV/0!"},{"$error":"#DIV/0!"},{"$error":"#DIV/0!"},{"$error":"#DIV/0!"},{"$error":"#DIV/0!"},{"$error":"#DIV/0!"},{"$error":"#DIV/0!"}]
[19,null,{"$f":"C260","v":62344887700},65808779400,{"$f":"Data!D17","v":0},{"$error":"#DIV/0!"},{"$error":"#DIV/0!"},{"$error":"#DIV/0!"},{"$error":"#DIV/0!"},{"$error":"#DIV/0!"},{"$error":"#DIV/0!"},{"$error":"#DIV/0!"},{"$error":"#DIV/0!"},null,-1,null,{"$error":"#DIV/0!"},{"$error":"#DIV/0!"},{"$error":"#DIV/0!"},{"$error":"#DIV/0!"},{"$error":"#DIV/0!"},{"$error":"#DIV/0!"},{"$error":"#DIV/0!"},{"$error":"#DIV/0!"}]
[20,null,61634176500,64577554300,{"$f":"Data!D18","v":0},{"$error":"#DIV/0!"},{"$error":"#DIV/0!"},{"$error":"#DIV/0!"},{"$error":"#DIV/0!"},{"$error":"#DIV/0!"},{"$error":"#DIV/0!"},{"$error":"#DIV/0!"},{"$error":"#DIV/0!"},null,-1,null,{"$error":"#DIV/0!"},{"$error":"#DIV/0!"},{"$error":"#DIV/0!"},{"$error":"#DIV/0!"},{"$error":"#DIV/0!"},{"$error":"#DIV/0!"},{"$error":"#DIV/0!"},{"$error":"#DIV/0!"}]
[21,null,62306894800,65051375300,{"$f":"Data!D19","v":0},{"$error":"#DIV/0!"},{"$error":"#DIV/0!"},{"$error":"#DIV/0!"},{"$error":"#DIV/0!"},{"$error":"#DIV/0!"},{"$error":"#DIV/0!"},{"$error":"#DIV/0!"},{"$error":"#DIV/0!"},null,-1,null,{"$error":"#DIV/0!"},{"$error":"#DIV/0!"},{"$error":"#DIV/0!"},{"$error":"#DIV/0!"},{"$error":"#DIV/0!"},{"$error":"#DIV/0!"},{"$error":"#DIV/0!"},{"$error":"#DIV/0!"}]
[22,null,54358079800,56664236600,{"$f":"Data!D20","v":0},{"$error":"#DIV/0!"},{"$error":"#DIV/0!"},{"$error":"#DIV/0!"},{"$error":"#DIV/0!"},{"$error":"#DIV/0!"},{"$error":"#DIV/0!"},{"$error":"#DIV/0!"},{"$error":"#DIV/0!"},null,-1,null,{"$error":"#DIV/0!"},{"$error":"#DIV/0!"},{"$error":"#DIV/0!"},{"$error":"#DIV/0!"},{"$error":"#DIV/0!"},{"$error":"#DIV/0!"},{"$error":"#DIV/0!"},{"$error":"#DIV/0!"}]
[23,null,27689423900,29396356800,{"$f":"Data!D21","v":0},{"$error":"#DIV/0!"},{"$error":"#DIV/0!"},{"$error":"#DIV/0!"},{"$error":"#DIV/0!"},{"$error":"#DIV/0!"},{"$error":"#DIV/0!"},{"$error":"#DIV/0!"},{"$error":"#DIV/0!"},null,-1,null,{"$error":"#DIV/0!"},{"$error":"#DIV/0!"},{"$error":"#DIV/0!"},{"$error":"#DIV/0!"},{"$error":"#DIV/0!"},{"$error":"#DIV/0!"},{"$error":"#DIV/0!"},{"$error":"#DIV/0!"}]
[24,null,61388192800,65185171000,{"$f":"Data!D22","v":0},{"$error":"#DIV/0!"},{"$error":"#DIV/0!"},{"$error":"#DIV/0!"},{"$error":"#DIV/0!"},{"$error":"#DIV/0!"},{"$error":"#DIV/0!"},{"$error":"#DIV/0!"},{"$error":"#DIV/0!"},null,-1,null,{"$error":"#DIV/0!"},{"$error":"#DIV/0!"},{"$error":"#DIV/0!"},{"$error":"#DIV/0!"},{"$error":"#DIV/0!"},{"$error":"#DIV/0!"},{"$error":"#DIV/0!"},{"$error":"#DIV/0!"}]
[25,null,59165957800,62287975500,{"$f":"Data!D23","v":0},{"$error":"#DIV/0!"},{"$error":"#DIV/0!"},{"$error":"#DIV/0!"},{"$error":"#DIV/0!"},{"$error":"#DIV/0!"},{"$error":"#DIV/0!"},{"$error":"#DIV/0!"},{"$error":"#DIV/0!"},null,-1,null,{"$error":"#DIV/0!"},{"$error":"#DIV/0!"},{"$error":"#DIV/0!"},{"$error":"#DIV/0!"},{"$error":"#DIV/0!"},{"$error":"#DIV/0!"},{"$error":"#DIV/0!"},{"$error":"#DIV/0!"}]
[null,null,{"$f":"SUM(C273:C293)","v":2500408236800},2645513486900,0,{"$error":"#DIV/0!"},{"$error":"#DIV/0!"},{"$error":"#DIV/0!"},{"$error":"#DIV/0!"},{"$error":"#DIV/0!"},{"$error":"#DIV/0!"},{"$error":"#DIV/0!"},{"$error":"#DIV/0!"},null,null,null,{"$f":"(C$211*E$294)/SUMPRODUCT(1+$O$273:$O$293,E$273:E$293)","v":{"$error":"#DIV/0!"}},{"$error":"#DIV/0!"},{"$error":"#DIV/0!"},{"$error":"#DIV/0!"},{"$error":"#DIV/0!"},{"$error":"#DIV/0!"},{"$error":"#DIV/0!"},{"$error":"#DIV/0!"}]

{"sheet":"Blad9 Egen uppräkningsfaktor","index":11,"n_rows":23,"n_cols":10,"rows_kept":23,"cut":false,"hidden":true,"merged":[]}
["Prognos egen uppräkning av regionens skatteunderlag byggt på historisk skatteunderlagstillväxt, kalibrerad till riksnivå"]
["Län",{"$f":"'Blad 1 Totala intäkter'!B9-1","v":2023},{"$f":"B2+1","v":2024},2025,2026,2027,2028,2029,2030,2031]
[1,{"$f":"IF('Blad 2 Indata'!$C$21>0,(('Blad 8 Periodisering'!E273/'Blad 8 Periodisering'!D273)-1),'Blad 8 Periodisering'!P246)*100","v":5.7659902527386286},{"$f":"IF('Blad 2 Indata'!$C$21>0,(('Blad 8 Periodisering'!F273/'Blad 8 Periodisering'!E273)-1),'Blad 8 Periodisering'!Q246)*100","v":3.4145009679880101},{"$f":"IF('Blad 2 Indata'!$C$21>0,(('Blad 8 Periodisering'!G273/'Blad 8 Periodisering'!F273)-1),'Blad 8 Periodisering'!R246)*100","v":5.5631028304245378},{"$f":"IF('Blad 2 Indata'!$C$21>0,(('Blad 8 Periodisering'!H273/'Blad 8 Periodisering'!G273)-1),'Blad 8 Periodisering'!S246)*100","v":4.8495173975738437},{"$f":"IF('Blad 2 Indata'!$C$21>0,(('Blad 8 Periodisering'!I273/'Blad 8 Periodisering'!H273)-1),'Blad 8 Periodisering'!T246)*100","v":4.6979773236204059},{"$f":"IF('Blad 2 Indata'!$C$21>0,(('Blad 8 Periodisering'!J273/'Blad 8 Periodisering'!I273)-1),'Blad 8 Periodisering'!U246)*100","v":4.7630015319537033},{"$f":"IF('Blad 2 Indata'!$C$21>0,(('Blad 8 Periodisering'!K273/'Blad 8 Periodisering'!J273)-1),'Blad 8 Periodisering'!V246)*100","v":4.7590477730663272},{"$f":"IF('Blad 2 Indata'!$C$21>0,(('Blad 8 Periodisering'!L273/'Blad 8 Periodisering'!K273)-1),'Blad 8 Periodisering'!W246)*100","v":4.650874634120572},{"$f":"IF('Blad 2 Indata'!$C$21>0,(('Blad 8 Periodisering'!M273/'Blad 8 Periodisering'!L273)-1),'Blad 8 Periodisering'!X246)*100","v":4.3310984359174354}]
[3,{"$f":"IF('Blad 2 Indata'!$C$21>0,(('Blad 8 Periodisering'!E274/'Blad 8 Periodisering'!D274)-1),'Blad 8 Periodisering'!P247)*100","v":5.1958472208027295},{"$f":"IF('Blad 2 Indata'!$C$21>0,(('Blad 8 Periodisering'!F274/'Blad 8 Periodisering'!E274)-1),'Blad 8 Periodisering'!Q247)*100","v":2.8570338938639583},{"$f":"IF('Blad 2 Indata'!$C$21>0,(('Blad 8 Periodisering'!G274/'Blad 8 Periodisering'!F274)-1),'Blad 8 Periodisering'!R247)*100","v":4.9940534851247831},{"$f":"IF('Blad 2 Indata'!$C$21>0,(('Blad 8 Periodisering'!H274/'Blad 8 Periodisering'!G274)-1),'Blad 8 Periodisering'!S247)*100","v":4.2843147118785563},{"$f":"IF('Blad 2 Indata'!$C$21>0,(('Blad 8 Periodisering'!I274/'Blad 8 Periodisering'!H274)-1),'Blad 8 Periodisering'!T247)*100","v":4.1335915311156102},{"$f":"IF('Blad 2 Indata'!$C$21>0,(('Blad 8 Periodisering'!J274/'Blad 8 Periodisering'!I274)-1),'Blad 8 Periodisering'!U247)*100","v":4.1982652194074488},{"$f":"IF('Blad 2 Indata'!$C$21>0,(('Blad 8 Periodisering'!K274/'Blad 8 Periodisering'!J274)-1),'Blad 8 Periodisering'!V247)*100","v":4.194332773685816},{"$f":"IF('Blad 2 Indata'!$C$21>0,(('Blad 8 Periodisering'!L274/'Blad 8 Periodisering'!K274)-1),'Blad 8 Periodisering'!W247)*100","v":4.0867427537678802},{"$f":"IF('Blad 2 Indata'!$C$21>0,(('Blad 8 Periodisering'!M274/'Blad 8 Periodisering'!L274)-1),'Blad 8 Periodisering'!X247)*100","v":3.7686903438141517}]
[4,{"$f":"IF('Blad 2 Indata'!$C$21>0,(('Blad 8 Periodisering'!E275/'Blad 8 Periodisering'!D275)-1),'Blad 8 Periodisering'!P248)*100","v":4.8409144092030454},{"$f":"IF('Blad 2 Indata'!$C$21>0,(('Blad 8 Periodisering'!F275/'Blad 8 Periodisering'!E275)-1),'Blad 8 Periodisering'!Q248)*100","v":2.5099922834083133},{"$f":"IF('Blad 2 Indata'!$C$21>0,(('Blad 8 Periodisering'!G275/'Blad 8 Periodisering'!F275)-1),'Blad 8 Periodisering'!R248)*100","v":4.6398015294700778},{"$f":"IF('Blad 2 Indata'!$C$21>0,(('Blad 8 Periodisering'!H275/'Blad 8 Periodisering'!G275)-1),'Blad 8 Periodisering'!S248)*100","v":3.9324574284941294},{"$f":"IF('Blad 2 Indata'!$C$21>0,(('Blad 8 Periodisering'!I275/'Blad 8 Periodisering'!H275)-1),'Blad 8 Periodisering'!T248)*100","v":3.7822427906417211},{"$f":"IF('Blad 2 Indata'!$C$21>0,(('Blad 8 Periodisering'!J275/'Blad 8 Periodisering'!I275)-1),'Blad 8 Periodisering'!U248)*100","v":3.8466982686654827},{"$f":"IF('Blad 2 Indata'!$C$21>0,(('Blad 8 Periodisering'!K275/'Blad 8 Periodisering'!J275)-1),'Blad 8 Periodisering'!V248)*100","v":3.8427790910913417},{"$f":"IF('Blad 2 Indata'!$C$21>0,(('Blad 8 Periodisering'!L275/'Blad 8 Periodisering'!K275)-1),'Blad 8 Periodisering'!W248)*100","v":3.7355520819697396},{"$f":"IF('Blad 2 Indata'!$C$21>0,(('Blad 8 Periodisering'!M275/'Blad 8 Periodisering'!L275)-1),'Blad 8 Periodisering'!X248)*100","v":3.4185727869638249}]
[5,{"$f":"IF('Blad 2 Indata'!$C$21>0,(('Blad 8 Periodisering'!E276/'Blad 8 Periodisering'!D276)-1),'Blad 8 Periodisering'!P249)*100","v":4.4280239497168417},{"$f":"IF('Blad 2 Indata'!$C$21>0,(('Blad 8 Periodisering'!F276/'Blad 8 Periodisering'!E276)-1),'Blad 8 Periodisering'!Q249)*100","v":2.1062815941765844},{"$f":"IF('Blad 2 Indata'!$C$21>0,(('Blad 8 Periodisering'!G276/'Blad 8 Periodisering'!F276)-1),'Blad 8 Periodisering'!R249)*100","v":4.2277031041795921},{"$f":"IF('Blad 2 Indata'!$C$21>0,(('Blad 8 Periodisering'!H276/'Blad 8 Periodisering'!G276)-1),'Blad 8 Periodisering'!S249)*100","v":3.5231447060231291},{"$f":"IF('Blad 2 Indata'!$C$21>0,(('Blad 8 Periodisering'!I276/'Blad 8 Periodisering'!H276)-1),'Blad 8 Periodisering'!T249)*100","v":3.3735216520117461},{"$f":"IF('Blad 2 Indata'!$C$21>0,(('Blad 8 Periodisering'!J276/'Blad 8 Periodisering'!I276)-1),'Blad 8 Periodisering'!U249)*100","v":3.4377232878014308},{"$f":"IF('Blad 2 Indata'!$C$21>0,(('Blad 8 Periodisering'!K276/'Blad 8 Periodisering'!J276)-1),'Blad 8 Periodisering'!V249)*100","v":3.4338195449556075},{"$f":"IF('Blad 2 Indata'!$C$21>0,(('Blad 8 Periodisering'!L276/'Blad 8 Periodisering'!K276)-1),'Blad 8 Periodisering'!W249)*100","v":3.3270148233475405},{"$f":"IF('Blad 2 Indata'!$C$21>0,(('Blad 8 Periodisering'!M276/'Blad 8 Periodisering'!L276)-1),'Blad 8 Periodisering'!X249)*100","v":3.0112838742522019}]
[6,{"$f":"IF('Blad 2 Indata'!$C$21>0,(('Blad 8 Periodisering'!E277/'Blad 8 Periodisering'!D277)-1),'Blad 8 Periodisering'!P250)*100","v":4.6451296250690666},{"$f":"IF('Blad 2 Indata'!$C$21>0,(('Blad 8 Periodisering'!F277/'Blad 8 Periodisering'!E277)-1),'Blad 8 Periodisering'!Q250)*100","v":2.3185603713167247},{"$f":"IF('Blad 2 Indata'!$C$21>0,(('Blad 8 Periodisering'!G277/'Blad 8 Periodisering'!F277)-1),'Blad 8 Periodisering'!R250)*100","v":4.4443923128515861},{"$f":"IF('Blad 2 Indata'!$C$21>0,(('Blad 8 Periodisering'!H277/'Blad 8 Periodisering'!G277)-1),'Blad 8 Periodisering'!S250)*100","v":3.7383691390432183},{"$f":"IF('Blad 2 Indata'!$C$21>0,(('Blad 8 Periodisering'!I277/'Blad 8 Periodisering'!H277)-1),'Blad 8 Periodisering'!T250)*100","v":3.5884350189696823},{"$f":"IF('Blad 2 Indata'!$C$21>0,(('Blad 8 Periodisering'!J277/'Blad 8 Periodisering'!I277)-1),'Blad 8 Periodisering'!U250)*100","v":3.6527701298455506},{"$f":"IF('Blad 2 Indata'!$C$21>0,(('Blad 8 Periodisering'!K277/'Blad 8 Periodisering'!J277)-1),'Blad 8 Periodisering'!V250)*100","v":3.6488582711253104},{"$f":"IF('Blad 2 Indata'!$C$21>0,(('Blad 8 Periodisering'!L277/'Blad 8 Periodisering'!K277)-1),'Blad 8 Periodisering'!W250)*100","v":3.5418315026917169},{"$f":"IF('Blad 2 Indata'!$C$21>0,(('Blad 8 Periodisering'!M277/'Blad 8 Periodisering'!L277)-1),'Blad 8 Periodisering'!X250)*100","v":3.2254441495168873}]
[7,{"$f":"IF('Blad 2 Indata'!$C$21>0,(('Blad 8 Periodisering'!E278/'Blad 8 Periodisering'!D278)-1),'Blad 8 Periodisering'!P251)*100","v":4.5018860449817844},{"$f":"IF('Blad 2 Indata'!$C$21>0,(('Blad 8 Periodisering'!F278/'Blad 8 Periodisering'!E278)-1),'Blad 8 Periodisering'!Q251)*100","v":2.1785015176512434},{"$f":"IF('Blad 2 Indata'!$C$21>0,(('Blad 8 Periodisering'!G278/'Blad 8 Periodisering'!F278)-1),'Blad 8 Periodisering'!R251)*100","v":4.3014235122152078},{"$f":"IF('Blad 2 Indata'!$C$21>0,(('Blad 8 Periodisering'!H278/'Blad 8 Periodisering'!G278)-1),'Blad 8 Periodisering'!S251)*100","v":3.5963667788652343},{"$f":"IF('Blad 2 Indata'!$C$21>0,(('Blad 8 Periodisering'!I278/'Blad 8 Periodisering'!H278)-1),'Blad 8 Periodisering'!T251)*100","v":3.4466378962472177},{"$f":"IF('Blad 2 Indata'!$C$21>0,(('Blad 8 Periodisering'!J278/'Blad 8 Periodisering'!I278)-1),'Blad 8 Periodisering'!U251)*100","v":3.5108849419485111},{"$f":"IF('Blad 2 Indata'!$C$21>0,(('Blad 8 Periodisering'!K278/'Blad 8 Periodisering'!J278)-1),'Blad 8 Periodisering'!V251)*100","v":3.5069784379796243},{"$f":"IF('Blad 2 Indata'!$C$21>0,(('Blad 8 Periodisering'!L278/'Blad 8 Periodisering'!K278)-1),'Blad 8 Periodisering'!W251)*100","v":3.4000981732345448},{"$f":"IF('Blad 2 Indata'!$C$21>0,(('Blad 8 Periodisering'!M278/'Blad 8 Periodisering'!L278)-1),'Blad 8 Periodisering'!X251)*100","v":3.0841439071735088}]
[8,{"$f":"IF('Blad 2 Indata'!$C$21>0,(('Blad 8 Periodisering'!E279/'Blad 8 Periodisering'!D279)-1),'Blad 8 Periodisering'!P252)*100","v":4.1302275482513862},{"$f":"IF('Blad 2 Indata'!$C$21>0,(('Blad 8 Periodisering'!F279/'Blad 8 Periodisering'!E279)-1),'Blad 8 Periodisering'!Q252)*100","v":1.8151060832772847},{"$f":"IF('Blad 2 Indata'!$C$21>0,(('Blad 8 Periodisering'!G279/'Blad 8 Periodisering'!F279)-1),'Blad 8 Periodisering'!R252)*100","v":3.9304779557617797},{"$f":"IF('Blad 2 Indata'!$C$21>0,(('Blad 8 Periodisering'!H279/'Blad 8 Periodisering'!G279)-1),'Blad 8 Periodisering'!S252)*100","v":3.227928740080066},{"$f":"IF('Blad 2 Indata'!$C$21>0,(('Blad 8 Periodisering'!I279/'Blad 8 Periodisering'!H279)-1),'Blad 8 Periodisering'!T252)*100","v":3.0787323647070153},{"$f":"IF('Blad 2 Indata'!$C$21>0,(('Blad 8 Periodisering'!J279/'Blad 8 Periodisering'!I279)-1),'Blad 8 Periodisering'!U252)*100","v":3.1427509173032719},{"$f":"IF('Blad 2 Indata'!$C$21>0,(('Blad 8 Periodisering'!K279/'Blad 8 Periodisering'!J279)-1),'Blad 8 Periodisering'!V252)*100","v":3.1388583067237574},{"$f":"IF('Blad 2 Indata'!$C$21>0,(('Blad 8 Periodisering'!L279/'Blad 8 Periodisering'!K279)-1),'Blad 8 Periodisering'!W252)*100","v":3.0323581591232385},{"$f":"IF('Blad 2 Indata'!$C$21>0,(('Blad 8 Periodisering'!M279/'Blad 8 Periodisering'!L279)-1),'Blad 8 Periodisering'!X252)*100","v":2.7175275769688367}]
[9,{"$f":"IF('Blad 2 Indata'!$C$21>0,(('Blad 8 Periodisering'!E280/'Blad 8 Periodisering'!D280)-1),'Blad 8 Periodisering'!P253)*100","v":5.2020297638225355},{"$f":"IF('Blad 2 Indata'!$C$21>0,(('Blad 8 Periodisering'!F280/'Blad 8 Periodisering'!E280)-1),'Blad 8 Periodisering'!Q253)*100","v":2.8630789807541523},{"$f":"IF('Blad 2 Indata'!$C$21>0,(('Blad 8 Periodisering'!G280/'Blad 8 Periodisering'!F280)-1),'Blad 8 Periodisering'!R253)*100","v":5.0002241683755555},{"$f":"IF('Blad 2 Indata'!$C$21>0,(('Blad 8 Periodisering'!H280/'Blad 8 Periodisering'!G280)-1),'Blad 8 Periodisering'!S253)*100","v":4.2904436825464076},{"$f":"IF('Blad 2 Indata'!$C$21>0,(('Blad 8 Periodisering'!I280/'Blad 8 Periodisering'!H280)-1),'Blad 8 Periodisering'!T253)*100","v":4.1397116435198278},{"$f":"IF('Blad 2 Indata'!$C$21>0,(('Blad 8 Periodisering'!J280/'Blad 8 Periodisering'!I280)-1),'Blad 8 Periodisering'!U253)*100","v":4.2043891327968819},{"$f":"IF('Blad 2 Indata'!$C$21>0,(('Blad 8 Periodisering'!K280/'Blad 8 Periodisering'!J280)-1),'Blad 8 Periodisering'!V253)*100","v":4.2004564559585678},{"$f":"IF('Blad 2 Indata'!$C$21>0,(('Blad 8 Periodisering'!L280/'Blad 8 Periodisering'!K280)-1),'Blad 8 Periodisering'!W253)*100","v":4.0928601127879105},{"$f":"IF('Blad 2 Indata'!$C$21>0,(('Blad 8 Periodisering'!M280/'Blad 8 Periodisering'!L280)-1),'Blad 8 Periodisering'!X253)*100","v":3.7747890103405402}]
[10,{"$f":"IF('Blad 2 Indata'!$C$21>0,(('Blad 8 Periodisering'!E281/'Blad 8 Periodisering'!D281)-1),'Blad 8 Periodisering'!P254)*100","v":3.873941223920907},{"$f":"IF('Blad 2 Indata'!$C$21>0,(('Blad 8 Periodisering'!F281/'Blad 8 Periodisering'!E281)-1),'Blad 8 Periodisering'!Q254)*100","v":1.5645177583136105},{"$f":"IF('Blad 2 Indata'!$C$21>0,(('Blad 8 Periodisering'!G281/'Blad 8 Periodisering'!F281)-1),'Blad 8 Periodisering'!R254)*100","v":3.6746832570625054},{"$f":"IF('Blad 2 Indata'!$C$21>0,(('Blad 8 Periodisering'!H281/'Blad 8 Periodisering'!G281)-1),'Blad 8 Periodisering'!S254)*100","v":2.9738631623131839},{"$f":"IF('Blad 2 Indata'!$C$21>0,(('Blad 8 Periodisering'!I281/'Blad 8 Periodisering'!H281)-1),'Blad 8 Periodisering'!T254)*100","v":2.8250339905038668},{"$f":"IF('Blad 2 Indata'!$C$21>0,(('Blad 8 Periodisering'!J281/'Blad 8 Periodisering'!I281)-1),'Blad 8 Periodisering'!U254)*100","v":2.8888949800185859},{"$f":"IF('Blad 2 Indata'!$C$21>0,(('Blad 8 Periodisering'!K281/'Blad 8 Periodisering'!J281)-1),'Blad 8 Periodisering'!V254)*100","v":2.8850119499699067},{"$f":"IF('Blad 2 Indata'!$C$21>0,(('Blad 8 Periodisering'!L281/'Blad 8 Periodisering'!K281)-1),'Blad 8 Periodisering'!W254)*100","v":2.7787739215639151},{"$f":"IF('Blad 2 Indata'!$C$21>0,(('Blad 8 Periodisering'!M281/'Blad 8 Periodisering'!L281)-1),'Blad 8 Periodisering'!X254)*100","v":2.4647182034867932}]
[12,{"$f":"IF('Blad 2 Indata'!$C$21>0,(('Blad 8 Periodisering'!E282/'Blad 8 Periodisering'!D282)-1),'Blad 8 Periodisering'!P255)*100","v":5.2082858469784554},{"$f":"IF('Blad 2 Indata'!$C$21>0,(('Blad 8 Periodisering'!F282/'Blad 8 Periodisering'!E282)-1),'Blad 8 Periodisering'!Q255)*100","v":2.8691959727667804},{"$f":"IF('Blad 2 Indata'!$C$21>0,(('Blad 8 Periodisering'!G282/'Blad 8 Periodisering'!F282)-1),'Blad 8 Periodisering'!R255)*100","v":5.0064682506928193},{"$f":"IF('Blad 2 Indata'!$C$21>0,(('Blad 8 Periodisering'!H282/'Blad 8 Periodisering'!G282)-1),'Blad 8 Periodisering'!S255)*100","v":4.296645556117773},{"$f":"IF('Blad 2 Indata'!$C$21>0,(('Blad 8 Periodisering'!I282/'Blad 8 Periodisering'!H282)-1),'Blad 8 Periodisering'!T255)*100","v":4.1459045534602446},{"$f":"IF('Blad 2 Indata'!$C$21>0,(('Blad 8 Periodisering'!J282/'Blad 8 Periodisering'!I282)-1),'Blad 8 Periodisering'!U255)*100","v":4.2105858889344816},{"$f":"IF('Blad 2 Indata'!$C$21>0,(('Blad 8 Periodisering'!K282/'Blad 8 Periodisering'!J282)-1),'Blad 8 Periodisering'!V255)*100","v":4.2066529782303963},{"$f":"IF('Blad 2 Indata'!$C$21>0,(('Blad 8 Periodisering'!L282/'Blad 8 Periodisering'!K282)-1),'Blad 8 Periodisering'!W255)*100","v":4.0990502365931825},{"$f":"IF('Blad 2 Indata'!$C$21>0,(('Blad 8 Periodisering'!M282/'Blad 8 Periodisering'!L282)-1),'Blad 8 Periodisering'!X255)*100","v":3.7809602193085823}]
[13,{"$f":"IF('Blad 2 Indata'!$C$21>0,(('Blad 8 Periodisering'!E283/'Blad 8 Periodisering'!D283)-1),'Blad 8 Periodisering'!P256)*100","v":5.1860433708755815},{"$f":"IF('Blad 2 Indata'!$C$21>0,(('Blad 8 Periodisering'!F283/'Blad 8 Periodisering'!E283)-1),'Blad 8 Periodisering'!Q256)*100","v":2.847448012378262},{"$f":"IF('Blad 2 Indata'!$C$21>0,(('Blad 8 Periodisering'!G283/'Blad 8 Periodisering'!F283)-1),'Blad 8 Periodisering'!R256)*100","v":4.9842684416006922},{"$f":"IF('Blad 2 Indata'!$C$21>0,(('Blad 8 Periodisering'!H283/'Blad 8 Periodisering'!G283)-1),'Blad 8 Periodisering'!S256)*100","v":4.2745958132889061},{"$f":"IF('Blad 2 Indata'!$C$21>0,(('Blad 8 Periodisering'!I283/'Blad 8 Periodisering'!H283)-1),'Blad 8 Periodisering'!T256)*100","v":4.1238866793489537},{"$f":"IF('Blad 2 Indata'!$C$21>0,(('Blad 8 Periodisering'!J283/'Blad 8 Periodisering'!I283)-1),'Blad 8 Periodisering'!U256)*100","v":4.1885543403008318},{"$f":"IF('Blad 2 Indata'!$C$21>0,(('Blad 8 Periodisering'!K283/'Blad 8 Periodisering'!J283)-1),'Blad 8 Periodisering'!V256)*100","v":4.1846222610680828},{"$f":"IF('Blad 2 Indata'!$C$21>0,(('Blad 8 Periodisering'!L283/'Blad 8 Periodisering'!K283)-1),'Blad 8 Periodisering'!W256)*100","v":4.0770422681277951},{"$f":"IF('Blad 2 Indata'!$C$21>0,(('Blad 8 Periodisering'!M283/'Blad 8 Periodisering'!L283)-1),'Blad 8 Periodisering'!X256)*100","v":3.7590194994401305}]
[14,{"$f":"IF('Blad 2 Indata'!$C$21>0,(('Blad 8 Periodisering'!E284/'Blad 8 Periodisering'!D284)-1),'Blad 8 Periodisering'!P257)*100","v":5.1110319946537253},{"$f":"IF('Blad 2 Indata'!$C$21>0,(('Blad 8 Periodisering'!F284/'Blad 8 Periodisering'!E284)-1),'Blad 8 Periodisering'!Q257)*100","v":2.774104359845242},{"$f":"IF('Blad 2 Indata'!$C$21>0,(('Blad 8 Periodisering'!G284/'Blad 8 Periodisering'!F284)-1),'Blad 8 Periodisering'!R257)*100","v":4.9094009572360209},{"$f":"IF('Blad 2 Indata'!$C$21>0,(('Blad 8 Periodisering'!H284/'Blad 8 Periodisering'!G284)-1),'Blad 8 Periodisering'!S257)*100","v":4.2002344181240048},{"$f":"IF('Blad 2 Indata'!$C$21>0,(('Blad 8 Periodisering'!I284/'Blad 8 Periodisering'!H284)-1),'Blad 8 Periodisering'!T257)*100","v":4.0496327594648385},{"$f":"IF('Blad 2 Indata'!$C$21>0,(('Blad 8 Periodisering'!J284/'Blad 8 Periodisering'!I284)-1),'Blad 8 Periodisering'!U257)*100","v":4.1142543039350166},{"$f":"IF('Blad 2 Indata'!$C$21>0,(('Blad 8 Periodisering'!K284/'Blad 8 Periodisering'!J284)-1),'Blad 8 Periodisering'!V257)*100","v":4.1103250287878978},{"$f":"IF('Blad 2 Indata'!$C$21>0,(('Blad 8 Periodisering'!L284/'Blad 8 Periodisering'!K284)-1),'Blad 8 Periodisering'!W257)*100","v":4.0028217544223033},{"$f":"IF('Blad 2 Indata'!$C$21>0,(('Blad 8 Periodisering'!M284/'Blad 8 Periodisering'!L284)-1),'Blad 8 Periodisering'!X257)*100","v":3.6850257774722506}]
[17,{"$f":"IF('Blad 2 Indata'!$C$21>0,(('Blad 8 Periodisering'!E285/'Blad 8 Periodisering'!D285)-1),'Blad 8 Periodisering'!P258)*100","v":4.4207909772082443},{"$f":"IF('Blad 2 Indata'!$C$21>0,(('Blad 8 Periodisering'!F285/'Blad 8 Periodisering'!E285)-1),'Blad 8 Periodisering'!Q258)*100","v":2.0992094319370436},{"$f":"IF('Blad 2 Indata'!$C$21>0,(('Blad 8 Periodisering'!G285/'Blad 8 Periodisering'!F285)-1),'Blad 8 Periodisering'!R258)*100","v":4.2204840064443916},{"$f":"IF('Blad 2 Indata'!$C$21>0,(('Blad 8 Periodisering'!H285/'Blad 8 Periodisering'!G285)-1),'Blad 8 Periodisering'!S258)*100","v":3.5159744079427568},{"$f":"IF('Blad 2 Indata'!$C$21>0,(('Blad 8 Periodisering'!I285/'Blad 8 Periodisering'!H285)-1),'Blad 8 Periodisering'!T258)*100","v":3.3663617172361437},{"$f":"IF('Blad 2 Indata'!$C$21>0,(('Blad 8 Periodisering'!J285/'Blad 8 Periodisering'!I285)-1),'Blad 8 Periodisering'!U258)*100","v":3.4305589062437303},{"$f":"IF('Blad 2 Indata'!$C$21>0,(('Blad 8 Periodisering'!K285/'Blad 8 Periodisering'!J285)-1),'Blad 8 Periodisering'!V258)*100","v":3.4266554337818667},{"$f":"IF('Blad 2 Indata'!$C$21>0,(('Blad 8 Periodisering'!L285/'Blad 8 Periodisering'!K285)-1),'Blad 8 Periodisering'!W258)*100","v":3.3198581097629631},{"$f":"IF('Blad 2 Indata'!$C$21>0,(('Blad 8 Periodisering'!M285/'Blad 8 Periodisering'!L285)-1),'Blad 8 Periodisering'!X258)*100","v":3.0041490290625861}]
[18,{"$f":"IF('Blad 2 Indata'!$C$21>0,(('Blad 8 Periodisering'!E286/'Blad 8 Periodisering'!D286)-1),'Blad 8 Periodisering'!P259)*100","v":4.5148171149524963},{"$f":"IF('Blad 2 Indata'!$C$21>0,(('Blad 8 Periodisering'!F286/'Blad 8 Periodisering'!E286)-1),'Blad 8 Periodisering'!Q259)*100","v":2.1911450918739916},{"$f":"IF('Blad 2 Indata'!$C$21>0,(('Blad 8 Periodisering'!G286/'Blad 8 Periodisering'!F286)-1),'Blad 8 Periodisering'!R259)*100","v":4.3143297769394851},{"$f":"IF('Blad 2 Indata'!$C$21>0,(('Blad 8 Periodisering'!H286/'Blad 8 Periodisering'!G286)-1),'Blad 8 Periodisering'!S259)*100","v":3.6091857998248322},{"$f":"IF('Blad 2 Indata'!$C$21>0,(('Blad 8 Periodisering'!I286/'Blad 8 Periodisering'!H286)-1),'Blad 8 Periodisering'!T259)*100","v":3.4594383897454506},{"$f":"IF('Blad 2 Indata'!$C$21>0,(('Blad 8 Periodisering'!J286/'Blad 8 Periodisering'!I286)-1),'Blad 8 Periodisering'!U259)*100","v":3.5236933853802332},{"$f":"IF('Blad 2 Indata'!$C$21>0,(('Blad 8 Periodisering'!K286/'Blad 8 Periodisering'!J286)-1),'Blad 8 Periodisering'!V259)*100","v":3.5197863980202859},{"$f":"IF('Blad 2 Indata'!$C$21>0,(('Blad 8 Periodisering'!L286/'Blad 8 Periodisering'!K286)-1),'Blad 8 Periodisering'!W259)*100","v":3.4128929079045189},{"$f":"IF('Blad 2 Indata'!$C$21>0,(('Blad 8 Periodisering'!M286/'Blad 8 Periodisering'!L286)-1),'Blad 8 Periodisering'!X259)*100","v":3.0968995456426729}]
[19,{"$f":"IF('Blad 2 Indata'!$C$21>0,(('Blad 8 Periodisering'!E287/'Blad 8 Periodisering'!D287)-1),'Blad 8 Periodisering'!P260)*100","v":4.5250592769983111},{"$f":"IF('Blad 2 Indata'!$C$21>0,(('Blad 8 Periodisering'!F287/'Blad 8 Periodisering'!E287)-1),'Blad 8 Periodisering'!Q260)*100","v":2.2011595405098117},{"$f":"IF('Blad 2 Indata'!$C$21>0,(('Blad 8 Periodisering'!G287/'Blad 8 Periodisering'!F287)-1),'Blad 8 Periodisering'!R260)*100","v":4.3245522917825241},{"$f":"IF('Blad 2 Indata'!$C$21>0,(('Blad 8 Periodisering'!H287/'Blad 8 Periodisering'!G287)-1),'Blad 8 Periodisering'!S260)*100","v":3.619339212514916},{"$f":"IF('Blad 2 Indata'!$C$21>0,(('Blad 8 Periodisering'!I287/'Blad 8 Periodisering'!H287)-1),'Blad 8 Periodisering'!T260)*100","v":3.4695771276048948},{"$f":"IF('Blad 2 Indata'!$C$21>0,(('Blad 8 Periodisering'!J287/'Blad 8 Periodisering'!I287)-1),'Blad 8 Periodisering'!U260)*100","v":3.5338384200509498},{"$f":"IF('Blad 2 Indata'!$C$21>0,(('Blad 8 Periodisering'!K287/'Blad 8 Periodisering'!J287)-1),'Blad 8 Periodisering'!V260)*100","v":3.52993104981707},{"$f":"IF('Blad 2 Indata'!$C$21>0,(('Blad 8 Periodisering'!L287/'Blad 8 Periodisering'!K287)-1),'Blad 8 Periodisering'!W260)*100","v":3.4230270844359145},{"$f":"IF('Blad 2 Indata'!$C$21>0,(('Blad 8 Periodisering'!M287/'Blad 8 Periodisering'!L287)-1),'Blad 8 Periodisering'!X260)*100","v":3.1070027557014601}]
[20,{"$f":"IF('Blad 2 Indata'!$C$21>0,(('Blad 8 Periodisering'!E288/'Blad 8 Periodisering'!D288)-1),'Blad 8 Periodisering'!P261)*100","v":3.895092148721524},{"$f":"IF('Blad 2 Indata'!$C$21>0,(('Blad 8 Periodisering'!F288/'Blad 8 Periodisering'!E288)-1),'Blad 8 Periodisering'!Q261)*100","v":1.5851984357983184},{"$f":"IF('Blad 2 Indata'!$C$21>0,(('Blad 8 Periodisering'!G288/'Blad 8 Periodisering'!F288)-1),'Blad 8 Periodisering'!R261)*100","v":3.6957936087393284},{"$f":"IF('Blad 2 Indata'!$C$21>0,(('Blad 8 Periodisering'!H288/'Blad 8 Periodisering'!G288)-1),'Blad 8 Periodisering'!S261)*100","v":2.9948308122407008},{"$f":"IF('Blad 2 Indata'!$C$21>0,(('Blad 8 Periodisering'!I288/'Blad 8 Periodisering'!H288)-1),'Blad 8 Periodisering'!T261)*100","v":2.8459713356736582},{"$f":"IF('Blad 2 Indata'!$C$21>0,(('Blad 8 Periodisering'!J288/'Blad 8 Periodisering'!I288)-1),'Blad 8 Periodisering'!U261)*100","v":2.9098453286324766},{"$f":"IF('Blad 2 Indata'!$C$21>0,(('Blad 8 Periodisering'!K288/'Blad 8 Periodisering'!J288)-1),'Blad 8 Periodisering'!V261)*100","v":2.9059615079169987},{"$f":"IF('Blad 2 Indata'!$C$21>0,(('Blad 8 Periodisering'!L288/'Blad 8 Periodisering'!K288)-1),'Blad 8 Periodisering'!W261)*100","v":2.7997018472081914},{"$f":"IF('Blad 2 Indata'!$C$21>0,(('Blad 8 Periodisering'!M288/'Blad 8 Periodisering'!L288)-1),'Blad 8 Periodisering'!X261)*100","v":2.4855821807644451}]
[21,{"$f":"IF('Blad 2 Indata'!$C$21>0,(('Blad 8 Periodisering'!E289/'Blad 8 Periodisering'!D289)-1),'Blad 8 Periodisering'!P262)*100","v":4.2009819231631607},{"$f":"IF('Blad 2 Indata'!$C$21>0,(('Blad 8 Periodisering'!F289/'Blad 8 Periodisering'!E289)-1),'Blad 8 Periodisering'!Q262)*100","v":1.884287380169769},{"$f":"IF('Blad 2 Indata'!$C$21>0,(('Blad 8 Periodisering'!G289/'Blad 8 Periodisering'!F289)-1),'Blad 8 Periodisering'!R262)*100","v":4.0010966048820373},{"$f":"IF('Blad 2 Indata'!$C$21>0,(('Blad 8 Periodisering'!H289/'Blad 8 Periodisering'!G289)-1),'Blad 8 Periodisering'!S262)*100","v":3.2980700212758451},{"$f":"IF('Blad 2 Indata'!$C$21>0,(('Blad 8 Periodisering'!I289/'Blad 8 Periodisering'!H289)-1),'Blad 8 Periodisering'!T262)*100","v":3.1487722699956366},{"$f":"IF('Blad 2 Indata'!$C$21>0,(('Blad 8 Periodisering'!J289/'Blad 8 Periodisering'!I289)-1),'Blad 8 Periodisering'!U262)*100","v":3.2128343218982947},{"$f":"IF('Blad 2 Indata'!$C$21>0,(('Blad 8 Periodisering'!K289/'Blad 8 Periodisering'!J289)-1),'Blad 8 Periodisering'!V262)*100","v":3.208939066368921},{"$f":"IF('Blad 2 Indata'!$C$21>0,(('Blad 8 Periodisering'!L289/'Blad 8 Periodisering'!K289)-1),'Blad 8 Periodisering'!W262)*100","v":3.1023665540809597},{"$f":"IF('Blad 2 Indata'!$C$21>0,(('Blad 8 Periodisering'!M289/'Blad 8 Periodisering'!L289)-1),'Blad 8 Periodisering'!X262)*100","v":2.7873220509396557}]
[22,{"$f":"IF('Blad 2 Indata'!$C$21>0,(('Blad 8 Periodisering'!E290/'Blad 8 Periodisering'!D290)-1),'Blad 8 Periodisering'!P263)*100","v":3.5144320345964708},{"$f":"IF('Blad 2 Indata'!$C$21>0,(('Blad 8 Periodisering'!F290/'Blad 8 Periodisering'!E290)-1),'Blad 8 Periodisering'!Q263)*100","v":1.213001516480583},{"$f":"IF('Blad 2 Indata'!$C$21>0,(('Blad 8 Periodisering'!G290/'Blad 8 Periodisering'!F290)-1),'Blad 8 Periodisering'!R263)*100","v":3.3158637023980031},{"$f":"IF('Blad 2 Indata'!$C$21>0,(('Blad 8 Periodisering'!H290/'Blad 8 Periodisering'!G290)-1),'Blad 8 Periodisering'!S263)*100","v":2.6174691559734731},{"$f":"IF('Blad 2 Indata'!$C$21>0,(('Blad 8 Periodisering'!I290/'Blad 8 Periodisering'!H290)-1),'Blad 8 Periodisering'!T263)*100","v":2.4691550840465259},{"$f":"IF('Blad 2 Indata'!$C$21>0,(('Blad 8 Periodisering'!J290/'Blad 8 Periodisering'!I290)-1),'Blad 8 Periodisering'!U263)*100","v":2.5327950497674001},{"$f":"IF('Blad 2 Indata'!$C$21>0,(('Blad 8 Periodisering'!K290/'Blad 8 Periodisering'!J290)-1),'Blad 8 Periodisering'!V263)*100","v":2.5289254589410115},{"$f":"IF('Blad 2 Indata'!$C$21>0,(('Blad 8 Periodisering'!L290/'Blad 8 Periodisering'!K290)-1),'Blad 8 Periodisering'!W263)*100","v":2.4230551218637153},{"$f":"IF('Blad 2 Indata'!$C$21>0,(('Blad 8 Periodisering'!M290/'Blad 8 Periodisering'!L290)-1),'Blad 8 Periodisering'!X263)*100","v":2.1100863550977733}]
[23,{"$f":"IF('Blad 2 Indata'!$C$21>0,(('Blad 8 Periodisering'!E291/'Blad 8 Periodisering'!D291)-1),'Blad 8 Periodisering'!P264)*100","v":4.7882536651082219},{"$f":"IF('Blad 2 Indata'!$C$21>0,(('Blad 8 Periodisering'!F291/'Blad 8 Periodisering'!E291)-1),'Blad 8 Periodisering'!Q264)*100","v":2.4585023426612285},{"$f":"IF('Blad 2 Indata'!$C$21>0,(('Blad 8 Periodisering'!G291/'Blad 8 Periodisering'!F291)-1),'Blad 8 Periodisering'!R264)*100","v":4.5872418027495643},{"$f":"IF('Blad 2 Indata'!$C$21>0,(('Blad 8 Periodisering'!H291/'Blad 8 Periodisering'!G291)-1),'Blad 8 Periodisering'!S264)*100","v":3.8802529949995224},{"$f":"IF('Blad 2 Indata'!$C$21>0,(('Blad 8 Periodisering'!I291/'Blad 8 Periodisering'!H291)-1),'Blad 8 Periodisering'!T264)*100","v":3.7301138087458385},{"$f":"IF('Blad 2 Indata'!$C$21>0,(('Blad 8 Periodisering'!J291/'Blad 8 Periodisering'!I291)-1),'Blad 8 Periodisering'!U264)*100","v":3.7945369113038474},{"$f":"IF('Blad 2 Indata'!$C$21>0,(('Blad 8 Periodisering'!K291/'Blad 8 Periodisering'!J291)-1),'Blad 8 Periodisering'!V264)*100","v":3.7906197023009458},{"$f":"IF('Blad 2 Indata'!$C$21>0,(('Blad 8 Periodisering'!L291/'Blad 8 Periodisering'!K291)-1),'Blad 8 Periodisering'!W264)*100","v":3.6834465524395066},{"$f":"IF('Blad 2 Indata'!$C$21>0,(('Blad 8 Periodisering'!M291/'Blad 8 Periodisering'!L291)-1),'Blad 8 Periodisering'!X264)*100","v":3.3666264735719986}]
[24,{"$f":"IF('Blad 2 Indata'!$C$21>0,(('Blad 8 Periodisering'!E292/'Blad 8 Periodisering'!D292)-1),'Blad 8 Periodisering'!P265)*100","v":5.2455290652074549},{"$f":"IF('Blad 2 Indata'!$C$21>0,(('Blad 8 Periodisering'!F292/'Blad 8 Periodisering'!E292)-1),'Blad 8 Periodisering'!Q265)*100","v":2.9056111646293958},{"$f":"IF('Blad 2 Indata'!$C$21>0,(('Blad 8 Periodisering'!G292/'Blad 8 Periodisering'!F292)-1),'Blad 8 Periodisering'!R265)*100","v":5.0436400264805448},{"$f":"IF('Blad 2 Indata'!$C$21>0,(('Blad 8 Periodisering'!H292/'Blad 8 Periodisering'!G292)-1),'Blad 8 Periodisering'!S265)*100","v":4.3335660581459878},{"$f":"IF('Blad 2 Indata'!$C$21>0,(('Blad 8 Periodisering'!I292/'Blad 8 Periodisering'!H292)-1),'Blad 8 Periodisering'!T265)*100","v":4.1827716939113468},{"$f":"IF('Blad 2 Indata'!$C$21>0,(('Blad 8 Periodisering'!J292/'Blad 8 Periodisering'!I292)-1),'Blad 8 Periodisering'!U265)*100","v":4.2474759262617567},{"$f":"IF('Blad 2 Indata'!$C$21>0,(('Blad 8 Periodisering'!K292/'Blad 8 Periodisering'!J292)-1),'Blad 8 Periodisering'!V265)*100","v":4.2435416233265411},{"$f":"IF('Blad 2 Indata'!$C$21>0,(('Blad 8 Periodisering'!L292/'Blad 8 Periodisering'!K292)-1),'Blad 8 Periodisering'!W265)*100","v":4.1359007908454481},{"$f":"IF('Blad 2 Indata'!$C$21>0,(('Blad 8 Periodisering'!M292/'Blad 8 Periodisering'!L292)-1),'Blad 8 Periodisering'!X265)*100","v":3.8176981712516822}]
[25,{"$f":"IF('Blad 2 Indata'!$C$21>0,(('Blad 8 Periodisering'!E293/'Blad 8 Periodisering'!D293)-1),'Blad 8 Periodisering'!P266)*100","v":4.3573899596533572},{"$f":"IF('Blad 2 Indata'!$C$21>0,(('Blad 8 Periodisering'!F293/'Blad 8 Periodisering'!E293)-1),'Blad 8 Periodisering'!Q266)*100","v":2.0372180056228428},{"$f":"IF('Blad 2 Indata'!$C$21>0,(('Blad 8 Periodisering'!G293/'Blad 8 Periodisering'!F293)-1),'Blad 8 Periodisering'!R266)*100","v":4.1572046089773274},{"$f":"IF('Blad 2 Indata'!$C$21>0,(('Blad 8 Periodisering'!H293/'Blad 8 Periodisering'!G293)-1),'Blad 8 Periodisering'!S266)*100","v":3.4531227665289155},{"$f":"IF('Blad 2 Indata'!$C$21>0,(('Blad 8 Periodisering'!I293/'Blad 8 Periodisering'!H293)-1),'Blad 8 Periodisering'!T266)*100","v":3.3036009159389312},{"$f":"IF('Blad 2 Indata'!$C$21>0,(('Blad 8 Periodisering'!J293/'Blad 8 Periodisering'!I293)-1),'Blad 8 Periodisering'!U266)*100","v":3.3677591264340112},{"$f":"IF('Blad 2 Indata'!$C$21>0,(('Blad 8 Periodisering'!K293/'Blad 8 Periodisering'!J293)-1),'Blad 8 Periodisering'!V266)*100","v":3.363858024037758},{"$f":"IF('Blad 2 Indata'!$C$21>0,(('Blad 8 Periodisering'!L293/'Blad 8 Periodisering'!K293)-1),'Blad 8 Periodisering'!W266)*100","v":3.2571255439924673},{"$f":"IF('Blad 2 Indata'!$C$21>0,(('Blad 8 Periodisering'!M293/'Blad 8 Periodisering'!L293)-1),'Blad 8 Periodisering'!X266)*100","v":2.9416081519086923}]

{"sheet":"Länskoder","index":12,"n_rows":21,"n_cols":2,"rows_kept":21,"cut":false,"hidden":false,"merged":[]}
[1,"Stockholm"]
[3,"Uppsala"]
[4,"Södermanland"]
[5,"Östergötland"]
[6,"Jönköping"]
[7,"Kronoberg"]
[8,"Kalmar"]
[9,"Gotland"]
[10,"Blekinge"]
[12,"Skåne"]
[13,"Halland"]
[14,"Västra Götaland"]
[17,"Värmland"]
[18,"Örebro"]
[19,"Västmanland"]
[20,"Dalarna"]
[21,"Gävleborg"]
[22,"Västernorrland"]
[23,"Jämtland"]
[24,"Västerbotten"]
[25,"Norrbotten"]